{"text_format":"1","workbook":"xlsx","n_sheets":7,"sheets":["Antrag","Anhang Grundstücksverzeichnis","Adressen","Anhang Vorpachtflächen","Anhang Abrundungen","Texte","Katastralgemeinden"],"not_rendered":{"charts":0,"images":2,"macros":1,"external_links":0,"defined_names":10,"comments":1,"pivot_tables":0},"unopened":[],"bounds":{"document_bytes":16777216,"sheet_cells":100000,"rows_first":2000,"rows_last":500,"rows_between":2000,"halvings":0,"cell_chars":16384,"cell_head_chars":4096},"cells_cut":0,"cells_raw":0,"read":"whole","date_system":"1900"}

{"sheet":"Antrag","index":0,"n_rows":34,"n_cols":3,"rows_kept":34,"cut":false,"hidden":false,"merged":[]}
["Antrag auf Anerkennung der Befugnis zur Eigenjagd"]
[null,null,{"$f":"IF(A2=\"2011 - 2019\",Texte!B19,IF(A2=\"2020 - 2028\",Texte!B20,IF(A2=\"2029 - 2037\",Texte!B21,\" \")))","v":" "}]
["(§ 12 NÖ Jagdgesetz 1974)"]
[{"$f":"\"An \"&VLOOKUP(A5,Adressen!A2:D27,4,FALSE)","v":"An "}]
["Bitte zuständige Behörde auswählen"]
[{"$f":"VLOOKUP(A5,Adressen!A2:D27,2,FALSE)","v":"Adresse wird autom. eingetragen"}]
[{"$f":"VLOOKUP(A5,Adressen!A2:D27,3,FALSE)","v":"PLZ und Ort wird autom. eingetragen"}]
["Datum"]
[]
[]
["Bitte Auswählen, ob Antrag von einzelner Person oder mehreren Personen gestellt wird:"]
["Bitte Name(n) und Adresse(n) eingeben:"]
[]
["vertreten durch (Vertretungsfunktion, Name und Adresse):"]
[]
["Antrag auf Anerkennung der Befugnis zur Eigenjagd:"]
[{"$f":"IF(Texte!A1=1,Texte!A7,IF(Texte!A1=2,Texte!A6,\"Text wird automatisch eingetragen, nachdem oben ausgewählt wurde, ob Antrag von einzelner Person oder mehreren Personen gestellt wird\"))","v":"Text wird automatisch eingetragen, nachdem oben ausgewählt wurde, ob Antrag von einzelner Person oder mehreren Personen gestellt wird"}]
["Neue Eigenjagd/Erweiterung Eigenjagd - Bitte Auswählen und darunter Namen eintragen!"]
[]
[]
[null,null,false]
["Begründung:"]
["Das Eigentum an den als „Eigengrundflächen“ ausgewiesenen Grundstücken ist sowohl räumlich als auch rechtlich ungeteilt.\nDie Grundstücksflächen bilden eine zusammenhängende Grundfläche, die eine für die zweckmäßige Ausübung der Jagd geeignete Gestaltung, insbesondere auch Breite, besitzt. Das Eigenjagdgebiet weist in seinem für die Bildung erforderlichen Grundstückszusammenhang keinen Längenzug auf. Der Zusammenhang der Flächen ist derart gestaltet, dass man von einem Eigenjagdgebietsteil zum anderen gelangen kann, ohne fremden Grund zu betreten."]
["Beweise:"]
["Beiliegende Grundbuchsauszüge, Katasterpläne, denen die Grundstücksnummern deutlich lesbar entnommen werden können und in denen die beantragten Eigenjagdgebietsflächen (-grenzen) farblich ausgewiesen sind."]
["Rechtsgrundlagen:"]
["§§ 6 Abs. 1, 9 und 12 NÖ Jagdgesetz 1974"]
[null,null,false]
[null,null,false]
["Beilagen, die nachgesendet werden:"]
["Bitte hier die Anzahl der Grundbuchsauszüge eintragen"]
["Bitte hier die Anzahl der Katasterpläne eintragen"]
[]
[{"$f":"IF(Texte!A1=2,Texte!A15,Texte!A16)","v":"Der/Die Grundeigentümer/in"}]

{"sheet":"Anhang Grundstücksverzeichnis","index":1,"n_rows":2010,"n_cols":16,"rows_kept":2010,"cut":false,"hidden":false,"merged":[]}
["4. Anhang"]
["Tabelle (Grundstücksverzeichnis):"]
[null,null,null,null,{"$f":"\"Summe \"&Texte!A25&\":\"","v":"Summe Eigengrundfläche:"},{"$f":"SUM(M11:M2010)","v":0},"m²"]
[null,null,null,null,{"$f":"\"Summe \"&Texte!A28&\": \"","v":"Summe Abrundung -: "},{"$f":"SUM(P11:P2010)","v":0},"m²"]
[null,null,null,null,{"$f":"\"Summe \"&Texte!A26&\":\"","v":"Summe Vorpachtfläche:"},{"$f":"SUM(N11:N2010)","v":0},"m²"]
[null,null,null,null,{"$f":"\"Summe \"&Texte!A27&\":\"","v":"Summe Abrundung +:"},{"$f":"SUM(O11:O2010)","v":0},"m²"]
[]
[null,null,null,null,"Jagdgebietsfläche (=\"Eigengrundfläche\" + VP + (AR+) - (AR-):",{"$f":"F3+F5+F6-F4","v":0},"m²"]
[]
["lfd. Nr.\n","KG Name\n","KGNr.\n","Einlagezahl\n","GrundstücksNr.\n","Größe (m²)\n","Art der Fläche\n","Grundstück ist Teilfläche","Bemerkung\n",null,"Art der Fläche",null,"Eigentumsfläche","Vorpachtfläche","Abrundung plus","Abrundung minus"]
[1,{"$f":"IF(C11<>\"\",IF(ISNA(VLOOKUP(C11,Katastralgemeinden!$A$2:$B$3041,2,FALSE)),\"Ungültige KG-Nummer!\",VLOOKUP(C11,Katastralgemeinden!A$2:$B$3041,2,\"falsch\")),\"\")","v":""},null,null,null,null,null,null,null,null,{"$f":"IF(G11<>\"\",IF(G11=\"Eigengrundfläche\",0,IF(G11=\"Vorpachtfläche\",1,IF(G11=\"Abrundung +\",3,IF(G11=\"Abrundung -\",4,5)))),\"\")","v":""},{"$f":"IF(OR(LOWER(H11)=\"x\",LOWER(H11)=\"j\"),1,0)","v":0},{"$f":"IF('Anhang Grundstücksverzeichnis'!G11=Texte!$A$25,F11,0)","v":0},{"$f":"IF('Anhang Grundstücksverzeichnis'!G11=Texte!$A$26,F11,0)","v":0},{"$f":"IF('Anhang Grundstücksverzeichnis'!G11=Texte!$A$27,F11,0)","v":0},{"$f":"IF('Anhang Grundstücksverzeichnis'!G11=Texte!$A$28,F11,0)","v":0}]
[2,{"$f":"IF(C12<>\"\",IF(ISNA(VLOOKUP(C12,Katastralgemeinden!$A$2:$B$3041,2,FALSE)),\"Ungültige KG-Nummer!\",VLOOKUP(C12,Katastralgemeinden!A$2:$B$3041,2,\"falsch\")),\"\")","v":""},null,null,null,null,null,null,null,null,{"$f":"IF(G12<>\"\",IF(G12=\"Eigengrundfläche\",0,IF(G12=\"Vorpachtfläche\",1,IF(G12=\"Abrundung +\",3,IF(G12=\"Abrundung -\",4,5)))),\"\")","v":""},{"$f":"IF(OR(LOWER(H12)=\"x\",LOWER(H12)=\"j\"),1,0)","v":0},{"$f":"IF('Anhang Grundstücksverzeichnis'!G12=Texte!$A$25,F12,0)","v":0},{"$f":"IF('Anhang Grundstücksverzeichnis'!G12=Texte!$A$26,F12,0)","v":0},{"$f":"IF('Anhang Grundstücksverzeichnis'!G12=Texte!$A$27,F12,0)","v":0},{"$f":"IF('Anhang Grundstücksverzeichnis'!G12=Texte!$A$28,F12,0)","v":0}]
[3,{"$f":"IF(C13<>\"\",IF(ISNA(VLOOKUP(C13,Katastralgemeinden!$A$2:$B$3041,2,FALSE)),\"Ungültige KG-Nummer!\",VLOOKUP(C13,Katastralgemeinden!A$2:$B$3041,2,\"falsch\")),\"\")","v":""},null,null,null,null,null,null,null,null,"",0,{"$f":"IF('Anhang Grundstücksverzeichnis'!G13=Texte!$A$25,F13,0)","v":0},{"$f":"IF('Anhang Grundstücksverzeichnis'!G13=Texte!$A$26,F13,0)","v":0},{"$f":"IF('Anhang Grundstücksverzeichnis'!G13=Texte!$A$27,F13,0)","v":0},{"$f":"IF('Anhang Grundstücksverzeichnis'!G13=Texte!$A$28,F13,0)","v":0}]
[4,{"$f":"IF(C14<>\"\",IF(ISNA(VLOOKUP(C14,Katastralgemeinden!$A$2:$B$3041,2,FALSE)),\"Ungültige KG-Nummer!\",VLOOKUP(C14,Katastralgemeinden!A$2:$B$3041,2,\"falsch\")),\"\")","v":""},null,null,null,null,null,null,null,null,"",0,{"$f":"IF('Anhang Grundstücksverzeichnis'!G14=Texte!$A$25,F14,0)","v":0},{"$f":"IF('Anhang Grundstücksverzeichnis'!G14=Texte!$A$26,F14,0)","v":0},{"$f":"IF('Anhang Grundstücksverzeichnis'!G14=Texte!$A$27,F14,0)","v":0},{"$f":"IF('Anhang Grundstücksverzeichnis'!G14=Texte!$A$28,F14,0)","v":0}]
[5,{"$f":"IF(C15<>\"\",IF(ISNA(VLOOKUP(C15,Katastralgemeinden!$A$2:$B$3041,2,FALSE)),\"Ungültige KG-Nummer!\",VLOOKUP(C15,Katastralgemeinden!A$2:$B$3041,2,\"falsch\")),\"\")","v":""},null,null,null,null,null,null,null,null,"",0,{"$f":"IF('Anhang Grundstücksverzeichnis'!G15=Texte!$A$25,F15,0)","v":0},{"$f":"IF('Anhang Grundstücksverzeichnis'!G15=Texte!$A$26,F15,0)","v":0},{"$f":"IF('Anhang Grundstücksverzeichnis'!G15=Texte!$A$27,F15,0)","v":0},{"$f":"IF('Anhang Grundstücksverzeichnis'!G15=Texte!$A$28,F15,0)","v":0}]
[6,{"$f":"IF(C16<>\"\",IF(ISNA(VLOOKUP(C16,Katastralgemeinden!$A$2:$B$3041,2,FALSE)),\"Ungültige KG-Nummer!\",VLOOKUP(C16,Katastralgemeinden!A$2:$B$3041,2,\"falsch\")),\"\")","v":""},null,null,null,null,null,null,null,null,"",0,{"$f":"IF('Anhang Grundstücksverzeichnis'!G16=Texte!$A$25,F16,0)","v":0},{"$f":"IF('Anhang Grundstücksverzeichnis'!G16=Texte!$A$26,F16,0)","v":0},{"$f":"IF('Anhang Grundstücksverzeichnis'!G16=Texte!$A$27,F16,0)","v":0},{"$f":"IF('Anhang Grundstücksverzeichnis'!G16=Texte!$A$28,F16,0)","v":0}]
[7,{"$f":"IF(C17<>\"\",IF(ISNA(VLOOKUP(C17,Katastralgemeinden!$A$2:$B$3041,2,FALSE)),\"Ungültige KG-Nummer!\",VLOOKUP(C17,Katastralgemeinden!A$2:$B$3041,2,\"falsch\")),\"\")","v":""},null,null,null,null,null,null,null,null,"",0,{"$f":"IF('Anhang Grundstücksverzeichnis'!G17=Texte!$A$25,F17,0)","v":0},{"$f":"IF('Anhang Grundstücksverzeichnis'!G17=Texte!$A$26,F17,0)","v":0},{"$f":"IF('Anhang Grundstücksverzeichnis'!G17=Texte!$A$27,F17,0)","v":0},{"$f":"IF('Anhang Grundstücksverzeichnis'!G17=Texte!$A$28,F17,0)","v":0}]
[8,{"$f":"IF(C18<>\"\",IF(ISNA(VLOOKUP(C18,Katastralgemeinden!$A$2:$B$3041,2,FALSE)),\"Ungültige KG-Nummer!\",VLOOKUP(C18,Katastralgemeinden!A$2:$B$3041,2,\"falsch\")),\"\")","v":""},null,null,null,null,null,null,null,null,"",0,{"$f":"IF('Anhang Grundstücksverzeichnis'!G18=Texte!$A$25,F18,0)","v":0},{"$f":"IF('Anhang Grundstücksverzeichnis'!G18=Texte!$A$26,F18,0)","v":0},{"$f":"IF('Anhang Grundstücksverzeichnis'!G18=Texte!$A$27,F18,0)","v":0},{"$f":"IF('Anhang Grundstücksverzeichnis'!G18=Texte!$A$28,F18,0)","v":0}]
[9,{"$f":"IF(C19<>\"\",IF(ISNA(VLOOKUP(C19,Katastralgemeinden!$A$2:$B$3041,2,FALSE)),\"Ungültige KG-Nummer!\",VLOOKUP(C19,Katastralgemeinden!A$2:$B$3041,2,\"falsch\")),\"\")","v":""},null,null,null,null,null,null,null,null,"",0,{"$f":"IF('Anhang Grundstücksverzeichnis'!G19=Texte!$A$25,F19,0)","v":0},{"$f":"IF('Anhang Grundstücksverzeichnis'!G19=Texte!$A$26,F19,0)","v":0},{"$f":"IF('Anhang Grundstücksverzeichnis'!G19=Texte!$A$27,F19,0)","v":0},{"$f":"IF('Anhang Grundstücksverzeichnis'!G19=Texte!$A$28,F19,0)","v":0}]
[10,{"$f":"IF(C20<>\"\",IF(ISNA(VLOOKUP(C20,Katastralgemeinden!$A$2:$B$3041,2,FALSE)),\"Ungültige KG-Nummer!\",VLOOKUP(C20,Katastralgemeinden!A$2:$B$3041,2,\"falsch\")),\"\")","v":""},null,null,null,null,null,null,null,null,"",0,{"$f":"IF('Anhang Grundstücksverzeichnis'!G20=Texte!$A$25,F20,0)","v":0},{"$f":"IF('Anhang Grundstücksverzeichnis'!G20=Texte!$A$26,F20,0)","v":0},{"$f":"IF('Anhang Grundstücksverzeichnis'!G20=Texte!$A$27,F20,0)","v":0},{"$f":"IF('Anhang Grundstücksverzeichnis'!G20=Texte!$A$28,F20,0)","v":0}]
[11,{"$f":"IF(C21<>\"\",IF(ISNA(VLOOKUP(C21,Katastralgemeinden!$A$2:$B$3041,2,FALSE)),\"Ungültige KG-Nummer!\",VLOOKUP(C21,Katastralgemeinden!A$2:$B$3041,2,\"falsch\")),\"\")","v":""},null,null,null,null,null,null,null,null,"",0,{"$f":"IF('Anhang Grundstücksverzeichnis'!G21=Texte!$A$25,F21,0)","v":0},{"$f":"IF('Anhang Grundstücksverzeichnis'!G21=Texte!$A$26,F21,0)","v":0},{"$f":"IF('Anhang Grundstücksverzeichnis'!G21=Texte!$A$27,F21,0)","v":0},{"$f":"IF('Anhang Grundstücksverzeichnis'!G21=Texte!$A$28,F21,0)","v":0}]
[12,{"$f":"IF(C22<>\"\",IF(ISNA(VLOOKUP(C22,Katastralgemeinden!$A$2:$B$3041,2,FALSE)),\"Ungültige KG-Nummer!\",VLOOKUP(C22,Katastralgemeinden!A$2:$B$3041,2,\"falsch\")),\"\")","v":""},null,null,null,null,null,null,null,null,"",0,{"$f":"IF('Anhang Grundstücksverzeichnis'!G22=Texte!$A$25,F22,0)","v":0},{"$f":"IF('Anhang Grundstücksverzeichnis'!G22=Texte!$A$26,F22,0)","v":0},{"$f":"IF('Anhang Grundstücksverzeichnis'!G22=Texte!$A$27,F22,0)","v":0},{"$f":"IF('Anhang Grundstücksverzeichnis'!G22=Texte!$A$28,F22,0)","v":0}]
[13,{"$f":"IF(C23<>\"\",IF(ISNA(VLOOKUP(C23,Katastralgemeinden!$A$2:$B$3041,2,FALSE)),\"Ungültige KG-Nummer!\",VLOOKUP(C23,Katastralgemeinden!A$2:$B$3041,2,\"falsch\")),\"\")","v":""},null,null,null,null,null,null,null,null,"",0,{"$f":"IF('Anhang Grundstücksverzeichnis'!G23=Texte!$A$25,F23,0)","v":0},{"$f":"IF('Anhang Grundstücksverzeichnis'!G23=Texte!$A$26,F23,0)","v":0},{"$f":"IF('Anhang Grundstücksverzeichnis'!G23=Texte!$A$27,F23,0)","v":0},{"$f":"IF('Anhang Grundstücksverzeichnis'!G23=Texte!$A$28,F23,0)","v":0}]
[14,{"$f":"IF(C24<>\"\",IF(ISNA(VLOOKUP(C24,Katastralgemeinden!$A$2:$B$3041,2,FALSE)),\"Ungültige KG-Nummer!\",VLOOKUP(C24,Katastralgemeinden!A$2:$B$3041,2,\"falsch\")),\"\")","v":""},null,null,null,null,null,null,null,null,"",0,{"$f":"IF('Anhang Grundstücksverzeichnis'!G24=Texte!$A$25,F24,0)","v":0},{"$f":"IF('Anhang Grundstücksverzeichnis'!G24=Texte!$A$26,F24,0)","v":0},{"$f":"IF('Anhang Grundstücksverzeichnis'!G24=Texte!$A$27,F24,0)","v":0},{"$f":"IF('Anhang Grundstücksverzeichnis'!G24=Texte!$A$28,F24,0)","v":0}]
[15,{"$f":"IF(C25<>\"\",IF(ISNA(VLOOKUP(C25,Katastralgemeinden!$A$2:$B$3041,2,FALSE)),\"Ungültige KG-Nummer!\",VLOOKUP(C25,Katastralgemeinden!A$2:$B$3041,2,\"falsch\")),\"\")","v":""},null,null,null,null,null,null,null,null,"",0,{"$f":"IF('Anhang Grundstücksverzeichnis'!G25=Texte!$A$25,F25,0)","v":0},{"$f":"IF('Anhang Grundstücksverzeichnis'!G25=Texte!$A$26,F25,0)","v":0},{"$f":"IF('Anhang Grundstücksverzeichnis'!G25=Texte!$A$27,F25,0)","v":0},{"$f":"IF('Anhang Grundstücksverzeichnis'!G25=Texte!$A$28,F25,0)","v":0}]
[16,{"$f":"IF(C26<>\"\",IF(ISNA(VLOOKUP(C26,Katastralgemeinden!$A$2:$B$3041,2,FALSE)),\"Ungültige KG-Nummer!\",VLOOKUP(C26,Katastralgemeinden!A$2:$B$3041,2,\"falsch\")),\"\")","v":""},null,null,null,null,null,null,null,null,"",0,{"$f":"IF('Anhang Grundstücksverzeichnis'!G26=Texte!$A$25,F26,0)","v":0},{"$f":"IF('Anhang Grundstücksverzeichnis'!G26=Texte!$A$26,F26,0)","v":0},{"$f":"IF('Anhang Grundstücksverzeichnis'!G26=Texte!$A$27,F26,0)","v":0},{"$f":"IF('Anhang Grundstücksverzeichnis'!G26=Texte!$A$28,F26,0)","v":0}]
[17,{"$f":"IF(C27<>\"\",IF(ISNA(VLOOKUP(C27,Katastralgemeinden!$A$2:$B$3041,2,FALSE)),\"Ungültige KG-Nummer!\",VLOOKUP(C27,Katastralgemeinden!A$2:$B$3041,2,\"falsch\")),\"\")","v":""},null,null,null,null,null,null,null,null,"",0,{"$f":"IF('Anhang Grundstücksverzeichnis'!G27=Texte!$A$25,F27,0)","v":0},{"$f":"IF('Anhang Grundstücksverzeichnis'!G27=Texte!$A$26,F27,0)","v":0},{"$f":"IF('Anhang Grundstücksverzeichnis'!G27=Texte!$A$27,F27,0)","v":0},{"$f":"IF('Anhang Grundstücksverzeichnis'!G27=Texte!$A$28,F27,0)","v":0}]
[18,{"$f":"IF(C28<>\"\",IF(ISNA(VLOOKUP(C28,Katastralgemeinden!$A$2:$B$3041,2,FALSE)),\"Ungültige KG-Nummer!\",VLOOKUP(C28,Katastralgemeinden!A$2:$B$3041,2,\"falsch\")),\"\")","v":""},null,null,null,null,null,null,null,null,"",0,{"$f":"IF('Anhang Grundstücksverzeichnis'!G28=Texte!$A$25,F28,0)","v":0},{"$f":"IF('Anhang Grundstücksverzeichnis'!G28=Texte!$A$26,F28,0)","v":0},{"$f":"IF('Anhang Grundstücksverzeichnis'!G28=Texte!$A$27,F28,0)","v":0},{"$f":"IF('Anhang Grundstücksverzeichnis'!G28=Texte!$A$28,F28,0)","v":0}]
[19,{"$f":"IF(C29<>\"\",IF(ISNA(VLOOKUP(C29,Katastralgemeinden!$A$2:$B$3041,2,FALSE)),\"Ungültige KG-Nummer!\",VLOOKUP(C29,Katastralgemeinden!A$2:$B$3041,2,\"falsch\")),\"\")","v":""},null,null,null,null,null,null,null,null,"",0,{"$f":"IF('Anhang Grundstücksverzeichnis'!G29=Texte!$A$25,F29,0)","v":0},{"$f":"IF('Anhang Grundstücksverzeichnis'!G29=Texte!$A$26,F29,0)","v":0},{"$f":"IF('Anhang Grundstücksverzeichnis'!G29=Texte!$A$27,F29,0)","v":0},{"$f":"IF('Anhang Grundstücksverzeichnis'!G29=Texte!$A$28,F29,0)","v":0}]
[20,{"$f":"IF(C30<>\"\",IF(ISNA(VLOOKUP(C30,Katastralgemeinden!$A$2:$B$3041,2,FALSE)),\"Ungültige KG-Nummer!\",VLOOKUP(C30,Katastralgemeinden!A$2:$B$3041,2,\"falsch\")),\"\")","v":""},null,null,null,null,null,null,null,null,"",0,{"$f":"IF('Anhang Grundstücksverzeichnis'!G30=Texte!$A$25,F30,0)","v":0},{"$f":"IF('Anhang Grundstücksverzeichnis'!G30=Texte!$A$26,F30,0)","v":0},{"$f":"IF('Anhang Grundstücksverzeichnis'!G30=Texte!$A$27,F30,0)","v":0},{"$f":"IF('Anhang Grundstücksverzeichnis'!G30=Texte!$A$28,F30,0)","v":0}]
[21,{"$f":"IF(C31<>\"\",IF(ISNA(VLOOKUP(C31,Katastralgemeinden!$A$2:$B$3041,2,FALSE)),\"Ungültige KG-Nummer!\",VLOOKUP(C31,Katastralgemeinden!A$2:$B$3041,2,\"falsch\")),\"\")","v":""},null,null,null,null,null,null,null,null,"",0,{"$f":"IF('Anhang Grundstücksverzeichnis'!G31=Texte!$A$25,F31,0)","v":0},{"$f":"IF('Anhang Grundstücksverzeichnis'!G31=Texte!$A$26,F31,0)","v":0},{"$f":"IF('Anhang Grundstücksverzeichnis'!G31=Texte!$A$27,F31,0)","v":0},{"$f":"IF('Anhang Grundstücksverzeichnis'!G31=Texte!$A$28,F31,0)","v":0}]
[22,{"$f":"IF(C32<>\"\",IF(ISNA(VLOOKUP(C32,Katastralgemeinden!$A$2:$B$3041,2,FALSE)),\"Ungültige KG-Nummer!\",VLOOKUP(C32,Katastralgemeinden!A$2:$B$3041,2,\"falsch\")),\"\")","v":""},null,null,null,null,null,null,null,null,"",0,{"$f":"IF('Anhang Grundstücksverzeichnis'!G32=Texte!$A$25,F32,0)","v":0},{"$f":"IF('Anhang Grundstücksverzeichnis'!G32=Texte!$A$26,F32,0)","v":0},{"$f":"IF('Anhang Grundstücksverzeichnis'!G32=Texte!$A$27,F32,0)","v":0},{"$f":"IF('Anhang Grundstücksverzeichnis'!G32=Texte!$A$28,F32,0)","v":0}]
[23,{"$f":"IF(C33<>\"\",IF(ISNA(VLOOKUP(C33,Katastralgemeinden!$A$2:$B$3041,2,FALSE)),\"Ungültige KG-Nummer!\",VLOOKUP(C33,Katastralgemeinden!A$2:$B$3041,2,\"falsch\")),\"\")","v":""},null,null,null,null,null,null,null,null,"",0,{"$f":"IF('Anhang Grundstücksverzeichnis'!G33=Texte!$A$25,F33,0)","v":0},{"$f":"IF('Anhang Grundstücksverzeichnis'!G33=Texte!$A$26,F33,0)","v":0},{"$f":"IF('Anhang Grundstücksverzeichnis'!G33=Texte!$A$27,F33,0)","v":0},{"$f":"IF('Anhang Grundstücksverzeichnis'!G33=Texte!$A$28,F33,0)","v":0}]
[24,{"$f":"IF(C34<>\"\",IF(ISNA(VLOOKUP(C34,Katastralgemeinden!$A$2:$B$3041,2,FALSE)),\"Ungültige KG-Nummer!\",VLOOKUP(C34,Katastralgemeinden!A$2:$B$3041,2,\"falsch\")),\"\")","v":""},null,null,null,null,null,null,null,null,"",0,{"$f":"IF('Anhang Grundstücksverzeichnis'!G34=Texte!$A$25,F34,0)","v":0},{"$f":"IF('Anhang Grundstücksverzeichnis'!G34=Texte!$A$26,F34,0)","v":0},{"$f":"IF('Anhang Grundstücksverzeichnis'!G34=Texte!$A$27,F34,0)","v":0},{"$f":"IF('Anhang Grundstücksverzeichnis'!G34=Texte!$A$28,F34,0)","v":0}]
[25,{"$f":"IF(C35<>\"\",IF(ISNA(VLOOKUP(C35,Katastralgemeinden!$A$2:$B$3041,2,FALSE)),\"Ungültige KG-Nummer!\",VLOOKUP(C35,Katastralgemeinden!A$2:$B$3041,2,\"falsch\")),\"\")","v":""},null,null,null,null,null,null,null,null,"",0,{"$f":"IF('Anhang Grundstücksverzeichnis'!G35=Texte!$A$25,F35,0)","v":0},{"$f":"IF('Anhang Grundstücksverzeichnis'!G35=Texte!$A$26,F35,0)","v":0},{"$f":"IF('Anhang Grundstücksverzeichnis'!G35=Texte!$A$27,F35,0)","v":0},{"$f":"IF('Anhang Grundstücksverzeichnis'!G35=Texte!$A$28,F35,0)","v":0}]
[26,{"$f":"IF(C36<>\"\",IF(ISNA(VLOOKUP(C36,Katastralgemeinden!$A$2:$B$3041,2,FALSE)),\"Ungültige KG-Nummer!\",VLOOKUP(C36,Katastralgemeinden!A$2:$B$3041,2,\"falsch\")),\"\")","v":""},null,null,null,null,null,null,null,null,"",0,{"$f":"IF('Anhang Grundstücksverzeichnis'!G36=Texte!$A$25,F36,0)","v":0},{"$f":"IF('Anhang Grundstücksverzeichnis'!G36=Texte!$A$26,F36,0)","v":0},{"$f":"IF('Anhang Grundstücksverzeichnis'!G36=Texte!$A$27,F36,0)","v":0},{"$f":"IF('Anhang Grundstücksverzeichnis'!G36=Texte!$A$28,F36,0)","v":0}]
[27,{"$f":"IF(C37<>\"\",IF(ISNA(VLOOKUP(C37,Katastralgemeinden!$A$2:$B$3041,2,FALSE)),\"Ungültige KG-Nummer!\",VLOOKUP(C37,Katastralgemeinden!A$2:$B$3041,2,\"falsch\")),\"\")","v":""},null,null,null,null,null,null,null,null,"",0,{"$f":"IF('Anhang Grundstücksverzeichnis'!G37=Texte!$A$25,F37,0)","v":0},{"$f":"IF('Anhang Grundstücksverzeichnis'!G37=Texte!$A$26,F37,0)","v":0},{"$f":"IF('Anhang Grundstücksverzeichnis'!G37=Texte!$A$27,F37,0)","v":0},{"$f":"IF('Anhang Grundstücksverzeichnis'!G37=Texte!$A$28,F37,0)","v":0}]
[28,{"$f":"IF(C38<>\"\",IF(ISNA(VLOOKUP(C38,Katastralgemeinden!$A$2:$B$3041,2,FALSE)),\"Ungültige KG-Nummer!\",VLOOKUP(C38,Katastralgemeinden!A$2:$B$3041,2,\"falsch\")),\"\")","v":""},null,null,null,null,null,null,null,null,"",0,{"$f":"IF('Anhang Grundstücksverzeichnis'!G38=Texte!$A$25,F38,0)","v":0},{"$f":"IF('Anhang Grundstücksverzeichnis'!G38=Texte!$A$26,F38,0)","v":0},{"$f":"IF('Anhang Grundstücksverzeichnis'!G38=Texte!$A$27,F38,0)","v":0},{"$f":"IF('Anhang Grundstücksverzeichnis'!G38=Texte!$A$28,F38,0)","v":0}]
[29,{"$f":"IF(C39<>\"\",IF(ISNA(VLOOKUP(C39,Katastralgemeinden!$A$2:$B$3041,2,FALSE)),\"Ungültige KG-Nummer!\",VLOOKUP(C39,Katastralgemeinden!A$2:$B$3041,2,\"falsch\")),\"\")","v":""},null,null,null,null,null,null,null,null,"",0,{"$f":"IF('Anhang Grundstücksverzeichnis'!G39=Texte!$A$25,F39,0)","v":0},{"$f":"IF('Anhang Grundstücksverzeichnis'!G39=Texte!$A$26,F39,0)","v":0},{"$f":"IF('Anhang Grundstücksverzeichnis'!G39=Texte!$A$27,F39,0)","v":0},{"$f":"IF('Anhang Grundstücksverzeichnis'!G39=Texte!$A$28,F39,0)","v":0}]
[30,{"$f":"IF(C40<>\"\",IF(ISNA(VLOOKUP(C40,Katastralgemeinden!$A$2:$B$3041,2,FALSE)),\"Ungültige KG-Nummer!\",VLOOKUP(C40,Katastralgemeinden!A$2:$B$3041,2,\"falsch\")),\"\")","v":""},null,null,null,null,null,null,null,null,"",0,{"$f":"IF('Anhang Grundstücksverzeichnis'!G40=Texte!$A$25,F40,0)","v":0},{"$f":"IF('Anhang Grundstücksverzeichnis'!G40=Texte!$A$26,F40,0)","v":0},{"$f":"IF('Anhang Grundstücksverzeichnis'!G40=Texte!$A$27,F40,0)","v":0},{"$f":"IF('Anhang Grundstücksverzeichnis'!G40=Texte!$A$28,F40,0)","v":0}]
[31,{"$f":"IF(C41<>\"\",IF(ISNA(VLOOKUP(C41,Katastralgemeinden!$A$2:$B$3041,2,FALSE)),\"Ungültige KG-Nummer!\",VLOOKUP(C41,Katastralgemeinden!A$2:$B$3041,2,\"falsch\")),\"\")","v":""},null,null,null,null,null,null,null,null,"",0,{"$f":"IF('Anhang Grundstücksverzeichnis'!G41=Texte!$A$25,F41,0)","v":0},{"$f":"IF('Anhang Grundstücksverzeichnis'!G41=Texte!$A$26,F41,0)","v":0},{"$f":"IF('Anhang Grundstücksverzeichnis'!G41=Texte!$A$27,F41,0)","v":0},{"$f":"IF('Anhang Grundstücksverzeichnis'!G41=Texte!$A$28,F41,0)","v":0}]
[32,{"$f":"IF(C42<>\"\",IF(ISNA(VLOOKUP(C42,Katastralgemeinden!$A$2:$B$3041,2,FALSE)),\"Ungültige KG-Nummer!\",VLOOKUP(C42,Katastralgemeinden!A$2:$B$3041,2,\"falsch\")),\"\")","v":""},null,null,null,null,null,null,null,null,"",0,{"$f":"IF('Anhang Grundstücksverzeichnis'!G42=Texte!$A$25,F42,0)","v":0},{"$f":"IF('Anhang Grundstücksverzeichnis'!G42=Texte!$A$26,F42,0)","v":0},{"$f":"IF('Anhang Grundstücksverzeichnis'!G42=Texte!$A$27,F42,0)","v":0},{"$f":"IF('Anhang Grundstücksverzeichnis'!G42=Texte!$A$28,F42,0)","v":0}]
[33,{"$f":"IF(C43<>\"\",IF(ISNA(VLOOKUP(C43,Katastralgemeinden!$A$2:$B$3041,2,FALSE)),\"Ungültige KG-Nummer!\",VLOOKUP(C43,Katastralgemeinden!A$2:$B$3041,2,\"falsch\")),\"\")","v":""},null,null,null,null,null,null,null,null,"",0,{"$f":"IF('Anhang Grundstücksverzeichnis'!G43=Texte!$A$25,F43,0)","v":0},{"$f":"IF('Anhang Grundstücksverzeichnis'!G43=Texte!$A$26,F43,0)","v":0},{"$f":"IF('Anhang Grundstücksverzeichnis'!G43=Texte!$A$27,F43,0)","v":0},{"$f":"IF('Anhang Grundstücksverzeichnis'!G43=Texte!$A$28,F43,0)","v":0}]
[34,{"$f":"IF(C44<>\"\",IF(ISNA(VLOOKUP(C44,Katastralgemeinden!$A$2:$B$3041,2,FALSE)),\"Ungültige KG-Nummer!\",VLOOKUP(C44,Katastralgemeinden!A$2:$B$3041,2,\"falsch\")),\"\")","v":""},null,null,null,null,null,null,null,null,"",0,{"$f":"IF('Anhang Grundstücksverzeichnis'!G44=Texte!$A$25,F44,0)","v":0},{"$f":"IF('Anhang Grundstücksverzeichnis'!G44=Texte!$A$26,F44,0)","v":0},{"$f":"IF('Anhang Grundstücksverzeichnis'!G44=Texte!$A$27,F44,0)","v":0},{"$f":"IF('Anhang Grundstücksverzeichnis'!G44=Texte!$A$28,F44,0)","v":0}]
[35,{"$f":"IF(C45<>\"\",IF(ISNA(VLOOKUP(C45,Katastralgemeinden!$A$2:$B$3041,2,FALSE)),\"Ungültige KG-Nummer!\",VLOOKUP(C45,Katastralgemeinden!A$2:$B$3041,2,\"falsch\")),\"\")","v":""},null,null,null,null,null,null,null,null,"",0,{"$f":"IF('Anhang Grundstücksverzeichnis'!G45=Texte!$A$25,F45,0)","v":0},{"$f":"IF('Anhang Grundstücksverzeichnis'!G45=Texte!$A$26,F45,0)","v":0},{"$f":"IF('Anhang Grundstücksverzeichnis'!G45=Texte!$A$27,F45,0)","v":0},{"$f":"IF('Anhang Grundstücksverzeichnis'!G45=Texte!$A$28,F45,0)","v":0}]
[36,{"$f":"IF(C46<>\"\",IF(ISNA(VLOOKUP(C46,Katastralgemeinden!$A$2:$B$3041,2,FALSE)),\"Ungültige KG-Nummer!\",VLOOKUP(C46,Katastralgemeinden!A$2:$B$3041,2,\"falsch\")),\"\")","v":""},null,null,null,null,null,null,null,null,"",0,{"$f":"IF('Anhang Grundstücksverzeichnis'!G46=Texte!$A$25,F46,0)","v":0},{"$f":"IF('Anhang Grundstücksverzeichnis'!G46=Texte!$A$26,F46,0)","v":0},{"$f":"IF('Anhang Grundstücksverzeichnis'!G46=Texte!$A$27,F46,0)","v":0},{"$f":"IF('Anhang Grundstücksverzeichnis'!G46=Texte!$A$28,F46,0)","v":0}]
[37,{"$f":"IF(C47<>\"\",IF(ISNA(VLOOKUP(C47,Katastralgemeinden!$A$2:$B$3041,2,FALSE)),\"Ungültige KG-Nummer!\",VLOOKUP(C47,Katastralgemeinden!A$2:$B$3041,2,\"falsch\")),\"\")","v":""},null,null,null,null,null,null,null,null,"",0,{"$f":"IF('Anhang Grundstücksverzeichnis'!G47=Texte!$A$25,F47,0)","v":0},{"$f":"IF('Anhang Grundstücksverzeichnis'!G47=Texte!$A$26,F47,0)","v":0},{"$f":"IF('Anhang Grundstücksverzeichnis'!G47=Texte!$A$27,F47,0)","v":0},{"$f":"IF('Anhang Grundstücksverzeichnis'!G47=Texte!$A$28,F47,0)","v":0}]
[38,{"$f":"IF(C48<>\"\",IF(ISNA(VLOOKUP(C48,Katastralgemeinden!$A$2:$B$3041,2,FALSE)),\"Ungültige KG-Nummer!\",VLOOKUP(C48,Katastralgemeinden!A$2:$B$3041,2,\"falsch\")),\"\")","v":""},null,null,null,null,null,null,null,null,"",0,{"$f":"IF('Anhang Grundstücksverzeichnis'!G48=Texte!$A$25,F48,0)","v":0},{"$f":"IF('Anhang Grundstücksverzeichnis'!G48=Texte!$A$26,F48,0)","v":0},{"$f":"IF('Anhang Grundstücksverzeichnis'!G48=Texte!$A$27,F48,0)","v":0},{"$f":"IF('Anhang Grundstücksverzeichnis'!G48=Texte!$A$28,F48,0)","v":0}]
[39,{"$f":"IF(C49<>\"\",IF(ISNA(VLOOKUP(C49,Katastralgemeinden!$A$2:$B$3041,2,FALSE)),\"Ungültige KG-Nummer!\",VLOOKUP(C49,Katastralgemeinden!A$2:$B$3041,2,\"falsch\")),\"\")","v":""},null,null,null,null,null,null,null,null,"",0,{"$f":"IF('Anhang Grundstücksverzeichnis'!G49=Texte!$A$25,F49,0)","v":0},{"$f":"IF('Anhang Grundstücksverzeichnis'!G49=Texte!$A$26,F49,0)","v":0},{"$f":"IF('Anhang Grundstücksverzeichnis'!G49=Texte!$A$27,F49,0)","v":0},{"$f":"IF('Anhang Grundstücksverzeichnis'!G49=Texte!$A$28,F49,0)","v":0}]
[40,{"$f":"IF(C50<>\"\",IF(ISNA(VLOOKUP(C50,Katastralgemeinden!$A$2:$B$3041,2,FALSE)),\"Ungültige KG-Nummer!\",VLOOKUP(C50,Katastralgemeinden!A$2:$B$3041,2,\"falsch\")),\"\")","v":""},null,null,null,null,null,null,null,null,"",0,{"$f":"IF('Anhang Grundstücksverzeichnis'!G50=Texte!$A$25,F50,0)","v":0},{"$f":"IF('Anhang Grundstücksverzeichnis'!G50=Texte!$A$26,F50,0)","v":0},{"$f":"IF('Anhang Grundstücksverzeichnis'!G50=Texte!$A$27,F50,0)","v":0},{"$f":"IF('Anhang Grundstücksverzeichnis'!G50=Texte!$A$28,F50,0)","v":0}]
[41,{"$f":"IF(C51<>\"\",IF(ISNA(VLOOKUP(C51,Katastralgemeinden!$A$2:$B$3041,2,FALSE)),\"Ungültige KG-Nummer!\",VLOOKUP(C51,Katastralgemeinden!A$2:$B$3041,2,\"falsch\")),\"\")","v":""},null,null,null,null,null,null,null,null,"",0,{"$f":"IF('Anhang Grundstücksverzeichnis'!G51=Texte!$A$25,F51,0)","v":0},{"$f":"IF('Anhang Grundstücksverzeichnis'!G51=Texte!$A$26,F51,0)","v":0},{"$f":"IF('Anhang Grundstücksverzeichnis'!G51=Texte!$A$27,F51,0)","v":0},{"$f":"IF('Anhang Grundstücksverzeichnis'!G51=Texte!$A$28,F51,0)","v":0}]
[42,{"$f":"IF(C52<>\"\",IF(ISNA(VLOOKUP(C52,Katastralgemeinden!$A$2:$B$3041,2,FALSE)),\"Ungültige KG-Nummer!\",VLOOKUP(C52,Katastralgemeinden!A$2:$B$3041,2,\"falsch\")),\"\")","v":""},null,null,null,null,null,null,null,null,"",0,{"$f":"IF('Anhang Grundstücksverzeichnis'!G52=Texte!$A$25,F52,0)","v":0},{"$f":"IF('Anhang Grundstücksverzeichnis'!G52=Texte!$A$26,F52,0)","v":0},{"$f":"IF('Anhang Grundstücksverzeichnis'!G52=Texte!$A$27,F52,0)","v":0},{"$f":"IF('Anhang Grundstücksverzeichnis'!G52=Texte!$A$28,F52,0)","v":0}]
[43,{"$f":"IF(C53<>\"\",IF(ISNA(VLOOKUP(C53,Katastralgemeinden!$A$2:$B$3041,2,FALSE)),\"Ungültige KG-Nummer!\",VLOOKUP(C53,Katastralgemeinden!A$2:$B$3041,2,\"falsch\")),\"\")","v":""},null,null,null,null,null,null,null,null,"",0,{"$f":"IF('Anhang Grundstücksverzeichnis'!G53=Texte!$A$25,F53,0)","v":0},{"$f":"IF('Anhang Grundstücksverzeichnis'!G53=Texte!$A$26,F53,0)","v":0},{"$f":"IF('Anhang Grundstücksverzeichnis'!G53=Texte!$A$27,F53,0)","v":0},{"$f":"IF('Anhang Grundstücksverzeichnis'!G53=Texte!$A$28,F53,0)","v":0}]
[44,{"$f":"IF(C54<>\"\",IF(ISNA(VLOOKUP(C54,Katastralgemeinden!$A$2:$B$3041,2,FALSE)),\"Ungültige KG-Nummer!\",VLOOKUP(C54,Katastralgemeinden!A$2:$B$3041,2,\"falsch\")),\"\")","v":""},null,null,null,null,null,null,null,null,"",0,{"$f":"IF('Anhang Grundstücksverzeichnis'!G54=Texte!$A$25,F54,0)","v":0},{"$f":"IF('Anhang Grundstücksverzeichnis'!G54=Texte!$A$26,F54,0)","v":0},{"$f":"IF('Anhang Grundstücksverzeichnis'!G54=Texte!$A$27,F54,0)","v":0},{"$f":"IF('Anhang Grundstücksverzeichnis'!G54=Texte!$A$28,F54,0)","v":0}]
[45,{"$f":"IF(C55<>\"\",IF(ISNA(VLOOKUP(C55,Katastralgemeinden!$A$2:$B$3041,2,FALSE)),\"Ungültige KG-Nummer!\",VLOOKUP(C55,Katastralgemeinden!A$2:$B$3041,2,\"falsch\")),\"\")","v":""},null,null,null,null,null,null,null,null,"",0,{"$f":"IF('Anhang Grundstücksverzeichnis'!G55=Texte!$A$25,F55,0)","v":0},{"$f":"IF('Anhang Grundstücksverzeichnis'!G55=Texte!$A$26,F55,0)","v":0},{"$f":"IF('Anhang Grundstücksverzeichnis'!G55=Texte!$A$27,F55,0)","v":0},{"$f":"IF('Anhang Grundstücksverzeichnis'!G55=Texte!$A$28,F55,0)","v":0}]
[46,{"$f":"IF(C56<>\"\",IF(ISNA(VLOOKUP(C56,Katastralgemeinden!$A$2:$B$3041,2,FALSE)),\"Ungültige KG-Nummer!\",VLOOKUP(C56,Katastralgemeinden!A$2:$B$3041,2,\"falsch\")),\"\")","v":""},null,null,null,null,null,null,null,null,"",0,{"$f":"IF('Anhang Grundstücksverzeichnis'!G56=Texte!$A$25,F56,0)","v":0},{"$f":"IF('Anhang Grundstücksverzeichnis'!G56=Texte!$A$26,F56,0)","v":0},{"$f":"IF('Anhang Grundstücksverzeichnis'!G56=Texte!$A$27,F56,0)","v":0},{"$f":"IF('Anhang Grundstücksverzeichnis'!G56=Texte!$A$28,F56,0)","v":0}]
[47,{"$f":"IF(C57<>\"\",IF(ISNA(VLOOKUP(C57,Katastralgemeinden!$A$2:$B$3041,2,FALSE)),\"Ungültige KG-Nummer!\",VLOOKUP(C57,Katastralgemeinden!A$2:$B$3041,2,\"falsch\")),\"\")","v":""},null,null,null,null,null,null,null,null,"",0,{"$f":"IF('Anhang Grundstücksverzeichnis'!G57=Texte!$A$25,F57,0)","v":0},{"$f":"IF('Anhang Grundstücksverzeichnis'!G57=Texte!$A$26,F57,0)","v":0},{"$f":"IF('Anhang Grundstücksverzeichnis'!G57=Texte!$A$27,F57,0)","v":0},{"$f":"IF('Anhang Grundstücksverzeichnis'!G57=Texte!$A$28,F57,0)","v":0}]
[48,{"$f":"IF(C58<>\"\",IF(ISNA(VLOOKUP(C58,Katastralgemeinden!$A$2:$B$3041,2,FALSE)),\"Ungültige KG-Nummer!\",VLOOKUP(C58,Katastralgemeinden!A$2:$B$3041,2,\"falsch\")),\"\")","v":""},null,null,null,null,null,null,null,null,"",0,{"$f":"IF('Anhang Grundstücksverzeichnis'!G58=Texte!$A$25,F58,0)","v":0},{"$f":"IF('Anhang Grundstücksverzeichnis'!G58=Texte!$A$26,F58,0)","v":0},{"$f":"IF('Anhang Grundstücksverzeichnis'!G58=Texte!$A$27,F58,0)","v":0},{"$f":"IF('Anhang Grundstücksverzeichnis'!G58=Texte!$A$28,F58,0)","v":0}]
[49,{"$f":"IF(C59<>\"\",IF(ISNA(VLOOKUP(C59,Katastralgemeinden!$A$2:$B$3041,2,FALSE)),\"Ungültige KG-Nummer!\",VLOOKUP(C59,Katastralgemeinden!A$2:$B$3041,2,\"falsch\")),\"\")","v":""},null,null,null,null,null,null,null,null,"",0,{"$f":"IF('Anhang Grundstücksverzeichnis'!G59=Texte!$A$25,F59,0)","v":0},{"$f":"IF('Anhang Grundstücksverzeichnis'!G59=Texte!$A$26,F59,0)","v":0},{"$f":"IF('Anhang Grundstücksverzeichnis'!G59=Texte!$A$27,F59,0)","v":0},{"$f":"IF('Anhang Grundstücksverzeichnis'!G59=Texte!$A$28,F59,0)","v":0}]
[50,{"$f":"IF(C60<>\"\",IF(ISNA(VLOOKUP(C60,Katastralgemeinden!$A$2:$B$3041,2,FALSE)),\"Ungültige KG-Nummer!\",VLOOKUP(C60,Katastralgemeinden!A$2:$B$3041,2,\"falsch\")),\"\")","v":""},null,null,null,null,null,null,null,null,"",0,{"$f":"IF('Anhang Grundstücksverzeichnis'!G60=Texte!$A$25,F60,0)","v":0},{"$f":"IF('Anhang Grundstücksverzeichnis'!G60=Texte!$A$26,F60,0)","v":0},{"$f":"IF('Anhang Grundstücksverzeichnis'!G60=Texte!$A$27,F60,0)","v":0},{"$f":"IF('Anhang Grundstücksverzeichnis'!G60=Texte!$A$28,F60,0)","v":0}]
[51,{"$f":"IF(C61<>\"\",IF(ISNA(VLOOKUP(C61,Katastralgemeinden!$A$2:$B$3041,2,FALSE)),\"Ungültige KG-Nummer!\",VLOOKUP(C61,Katastralgemeinden!A$2:$B$3041,2,\"falsch\")),\"\")","v":""},null,null,null,null,null,null,null,null,"",0,{"$f":"IF('Anhang Grundstücksverzeichnis'!G61=Texte!$A$25,F61,0)","v":0},{"$f":"IF('Anhang Grundstücksverzeichnis'!G61=Texte!$A$26,F61,0)","v":0},{"$f":"IF('Anhang Grundstücksverzeichnis'!G61=Texte!$A$27,F61,0)","v":0},{"$f":"IF('Anhang Grundstücksverzeichnis'!G61=Texte!$A$28,F61,0)","v":0}]
[52,{"$f":"IF(C62<>\"\",IF(ISNA(VLOOKUP(C62,Katastralgemeinden!$A$2:$B$3041,2,FALSE)),\"Ungültige KG-Nummer!\",VLOOKUP(C62,Katastralgemeinden!A$2:$B$3041,2,\"falsch\")),\"\")","v":""},null,null,null,null,null,null,null,null,"",0,{"$f":"IF('Anhang Grundstücksverzeichnis'!G62=Texte!$A$25,F62,0)","v":0},{"$f":"IF('Anhang Grundstücksverzeichnis'!G62=Texte!$A$26,F62,0)","v":0},{"$f":"IF('Anhang Grundstücksverzeichnis'!G62=Texte!$A$27,F62,0)","v":0},{"$f":"IF('Anhang Grundstücksverzeichnis'!G62=Texte!$A$28,F62,0)","v":0}]
[53,{"$f":"IF(C63<>\"\",IF(ISNA(VLOOKUP(C63,Katastralgemeinden!$A$2:$B$3041,2,FALSE)),\"Ungültige KG-Nummer!\",VLOOKUP(C63,Katastralgemeinden!A$2:$B$3041,2,\"falsch\")),\"\")","v":""},null,null,null,null,null,null,null,null,"",0,{"$f":"IF('Anhang Grundstücksverzeichnis'!G63=Texte!$A$25,F63,0)","v":0},{"$f":"IF('Anhang Grundstücksverzeichnis'!G63=Texte!$A$26,F63,0)","v":0},{"$f":"IF('Anhang Grundstücksverzeichnis'!G63=Texte!$A$27,F63,0)","v":0},{"$f":"IF('Anhang Grundstücksverzeichnis'!G63=Texte!$A$28,F63,0)","v":0}]
[54,{"$f":"IF(C64<>\"\",IF(ISNA(VLOOKUP(C64,Katastralgemeinden!$A$2:$B$3041,2,FALSE)),\"Ungültige KG-Nummer!\",VLOOKUP(C64,Katastralgemeinden!A$2:$B$3041,2,\"falsch\")),\"\")","v":""},null,null,null,null,null,null,null,null,"",0,{"$f":"IF('Anhang Grundstücksverzeichnis'!G64=Texte!$A$25,F64,0)","v":0},{"$f":"IF('Anhang Grundstücksverzeichnis'!G64=Texte!$A$26,F64,0)","v":0},{"$f":"IF('Anhang Grundstücksverzeichnis'!G64=Texte!$A$27,F64,0)","v":0},{"$f":"IF('Anhang Grundstücksverzeichnis'!G64=Texte!$A$28,F64,0)","v":0}]
[55,{"$f":"IF(C65<>\"\",IF(ISNA(VLOOKUP(C65,Katastralgemeinden!$A$2:$B$3041,2,FALSE)),\"Ungültige KG-Nummer!\",VLOOKUP(C65,Katastralgemeinden!A$2:$B$3041,2,\"falsch\")),\"\")","v":""},null,null,null,null,null,null,null,null,"",0,{"$f":"IF('Anhang Grundstücksverzeichnis'!G65=Texte!$A$25,F65,0)","v":0},{"$f":"IF('Anhang Grundstücksverzeichnis'!G65=Texte!$A$26,F65,0)","v":0},{"$f":"IF('Anhang Grundstücksverzeichnis'!G65=Texte!$A$27,F65,0)","v":0},{"$f":"IF('Anhang Grundstücksverzeichnis'!G65=Texte!$A$28,F65,0)","v":0}]
[56,{"$f":"IF(C66<>\"\",IF(ISNA(VLOOKUP(C66,Katastralgemeinden!$A$2:$B$3041,2,FALSE)),\"Ungültige KG-Nummer!\",VLOOKUP(C66,Katastralgemeinden!A$2:$B$3041,2,\"falsch\")),\"\")","v":""},null,null,null,null,null,null,null,null,"",0,{"$f":"IF('Anhang Grundstücksverzeichnis'!G66=Texte!$A$25,F66,0)","v":0},{"$f":"IF('Anhang Grundstücksverzeichnis'!G66=Texte!$A$26,F66,0)","v":0},{"$f":"IF('Anhang Grundstücksverzeichnis'!G66=Texte!$A$27,F66,0)","v":0},{"$f":"IF('Anhang Grundstücksverzeichnis'!G66=Texte!$A$28,F66,0)","v":0}]
[57,{"$f":"IF(C67<>\"\",IF(ISNA(VLOOKUP(C67,Katastralgemeinden!$A$2:$B$3041,2,FALSE)),\"Ungültige KG-Nummer!\",VLOOKUP(C67,Katastralgemeinden!A$2:$B$3041,2,\"falsch\")),\"\")","v":""},null,null,null,null,null,null,null,null,"",0,{"$f":"IF('Anhang Grundstücksverzeichnis'!G67=Texte!$A$25,F67,0)","v":0},{"$f":"IF('Anhang Grundstücksverzeichnis'!G67=Texte!$A$26,F67,0)","v":0},{"$f":"IF('Anhang Grundstücksverzeichnis'!G67=Texte!$A$27,F67,0)","v":0},{"$f":"IF('Anhang Grundstücksverzeichnis'!G67=Texte!$A$28,F67,0)","v":0}]
[58,{"$f":"IF(C68<>\"\",IF(ISNA(VLOOKUP(C68,Katastralgemeinden!$A$2:$B$3041,2,FALSE)),\"Ungültige KG-Nummer!\",VLOOKUP(C68,Katastralgemeinden!A$2:$B$3041,2,\"falsch\")),\"\")","v":""},null,null,null,null,null,null,null,null,"",0,{"$f":"IF('Anhang Grundstücksverzeichnis'!G68=Texte!$A$25,F68,0)","v":0},{"$f":"IF('Anhang Grundstücksverzeichnis'!G68=Texte!$A$26,F68,0)","v":0},{"$f":"IF('Anhang Grundstücksverzeichnis'!G68=Texte!$A$27,F68,0)","v":0},{"$f":"IF('Anhang Grundstücksverzeichnis'!G68=Texte!$A$28,F68,0)","v":0}]
[59,{"$f":"IF(C69<>\"\",IF(ISNA(VLOOKUP(C69,Katastralgemeinden!$A$2:$B$3041,2,FALSE)),\"Ungültige KG-Nummer!\",VLOOKUP(C69,Katastralgemeinden!A$2:$B$3041,2,\"falsch\")),\"\")","v":""},null,null,null,null,null,null,null,null,"",0,{"$f":"IF('Anhang Grundstücksverzeichnis'!G69=Texte!$A$25,F69,0)","v":0},{"$f":"IF('Anhang Grundstücksverzeichnis'!G69=Texte!$A$26,F69,0)","v":0},{"$f":"IF('Anhang Grundstücksverzeichnis'!G69=Texte!$A$27,F69,0)","v":0},{"$f":"IF('Anhang Grundstücksverzeichnis'!G69=Texte!$A$28,F69,0)","v":0}]
[60,{"$f":"IF(C70<>\"\",IF(ISNA(VLOOKUP(C70,Katastralgemeinden!$A$2:$B$3041,2,FALSE)),\"Ungültige KG-Nummer!\",VLOOKUP(C70,Katastralgemeinden!A$2:$B$3041,2,\"falsch\")),\"\")","v":""},null,null,null,null,null,null,null,null,"",0,{"$f":"IF('Anhang Grundstücksverzeichnis'!G70=Texte!$A$25,F70,0)","v":0},{"$f":"IF('Anhang Grundstücksverzeichnis'!G70=Texte!$A$26,F70,0)","v":0},{"$f":"IF('Anhang Grundstücksverzeichnis'!G70=Texte!$A$27,F70,0)","v":0},{"$f":"IF('Anhang Grundstücksverzeichnis'!G70=Texte!$A$28,F70,0)","v":0}]
[61,{"$f":"IF(C71<>\"\",IF(ISNA(VLOOKUP(C71,Katastralgemeinden!$A$2:$B$3041,2,FALSE)),\"Ungültige KG-Nummer!\",VLOOKUP(C71,Katastralgemeinden!A$2:$B$3041,2,\"falsch\")),\"\")","v":""},null,null,null,null,null,null,null,null,"",0,{"$f":"IF('Anhang Grundstücksverzeichnis'!G71=Texte!$A$25,F71,0)","v":0},{"$f":"IF('Anhang Grundstücksverzeichnis'!G71=Texte!$A$26,F71,0)","v":0},{"$f":"IF('Anhang Grundstücksverzeichnis'!G71=Texte!$A$27,F71,0)","v":0},{"$f":"IF('Anhang Grundstücksverzeichnis'!G71=Texte!$A$28,F71,0)","v":0}]
[62,{"$f":"IF(C72<>\"\",IF(ISNA(VLOOKUP(C72,Katastralgemeinden!$A$2:$B$3041,2,FALSE)),\"Ungültige KG-Nummer!\",VLOOKUP(C72,Katastralgemeinden!A$2:$B$3041,2,\"falsch\")),\"\")","v":""},null,null,null,null,null,null,null,null,"",0,{"$f":"IF('Anhang Grundstücksverzeichnis'!G72=Texte!$A$25,F72,0)","v":0},{"$f":"IF('Anhang Grundstücksverzeichnis'!G72=Texte!$A$26,F72,0)","v":0},{"$f":"IF('Anhang Grundstücksverzeichnis'!G72=Texte!$A$27,F72,0)","v":0},{"$f":"IF('Anhang Grundstücksverzeichnis'!G72=Texte!$A$28,F72,0)","v":0}]
[63,{"$f":"IF(C73<>\"\",IF(ISNA(VLOOKUP(C73,Katastralgemeinden!$A$2:$B$3041,2,FALSE)),\"Ungültige KG-Nummer!\",VLOOKUP(C73,Katastralgemeinden!A$2:$B$3041,2,\"falsch\")),\"\")","v":""},null,null,null,null,null,null,null,null,"",0,{"$f":"IF('Anhang Grundstücksverzeichnis'!G73=Texte!$A$25,F73,0)","v":0},{"$f":"IF('Anhang Grundstücksverzeichnis'!G73=Texte!$A$26,F73,0)","v":0},{"$f":"IF('Anhang Grundstücksverzeichnis'!G73=Texte!$A$27,F73,0)","v":0},{"$f":"IF('Anhang Grundstücksverzeichnis'!G73=Texte!$A$28,F73,0)","v":0}]
[64,{"$f":"IF(C74<>\"\",IF(ISNA(VLOOKUP(C74,Katastralgemeinden!$A$2:$B$3041,2,FALSE)),\"Ungültige KG-Nummer!\",VLOOKUP(C74,Katastralgemeinden!A$2:$B$3041,2,\"falsch\")),\"\")","v":""},null,null,null,null,null,null,null,null,"",0,{"$f":"IF('Anhang Grundstücksverzeichnis'!G74=Texte!$A$25,F74,0)","v":0},{"$f":"IF('Anhang Grundstücksverzeichnis'!G74=Texte!$A$26,F74,0)","v":0},{"$f":"IF('Anhang Grundstücksverzeichnis'!G74=Texte!$A$27,F74,0)","v":0},{"$f":"IF('Anhang Grundstücksverzeichnis'!G74=Texte!$A$28,F74,0)","v":0}]
[65,{"$f":"IF(C75<>\"\",IF(ISNA(VLOOKUP(C75,Katastralgemeinden!$A$2:$B$3041,2,FALSE)),\"Ungültige KG-Nummer!\",VLOOKUP(C75,Katastralgemeinden!A$2:$B$3041,2,\"falsch\")),\"\")","v":""},null,null,null,null,null,null,null,null,"",0,{"$f":"IF('Anhang Grundstücksverzeichnis'!G75=Texte!$A$25,F75,0)","v":0},{"$f":"IF('Anhang Grundstücksverzeichnis'!G75=Texte!$A$26,F75,0)","v":0},{"$f":"IF('Anhang Grundstücksverzeichnis'!G75=Texte!$A$27,F75,0)","v":0},{"$f":"IF('Anhang Grundstücksverzeichnis'!G75=Texte!$A$28,F75,0)","v":0}]
[66,{"$f":"IF(C76<>\"\",IF(ISNA(VLOOKUP(C76,Katastralgemeinden!$A$2:$B$3041,2,FALSE)),\"Ungültige KG-Nummer!\",VLOOKUP(C76,Katastralgemeinden!A$2:$B$3041,2,\"falsch\")),\"\")","v":""},null,null,null,null,null,null,null,null,{"$f":"IF(G76<>\"\",IF(G76=\"Eigengrundfläche\",0,IF(G76=\"Vorpachtfläche\",1,IF(G76=\"Abrundung +\",3,IF(G76=\"Abrundung -\",4,5)))),\"\")","v":""},{"$f":"IF(OR(LOWER(H76)=\"x\",LOWER(H76)=\"j\"),1,0)","v":0},{"$f":"IF('Anhang Grundstücksverzeichnis'!G76=Texte!$A$25,F76,0)","v":0},{"$f":"IF('Anhang Grundstücksverzeichnis'!G76=Texte!$A$26,F76,0)","v":0},{"$f":"IF('Anhang Grundstücksverzeichnis'!G76=Texte!$A$27,F76,0)","v":0},{"$f":"IF('Anhang Grundstücksverzeichnis'!G76=Texte!$A$28,F76,0)","v":0}]
[67,{"$f":"IF(C77<>\"\",IF(ISNA(VLOOKUP(C77,Katastralgemeinden!$A$2:$B$3041,2,FALSE)),\"Ungültige KG-Nummer!\",VLOOKUP(C77,Katastralgemeinden!A$2:$B$3041,2,\"falsch\")),\"\")","v":""},null,null,null,null,null,null,null,null,"",0,{"$f":"IF('Anhang Grundstücksverzeichnis'!G77=Texte!$A$25,F77,0)","v":0},{"$f":"IF('Anhang Grundstücksverzeichnis'!G77=Texte!$A$26,F77,0)","v":0},{"$f":"IF('Anhang Grundstücksverzeichnis'!G77=Texte!$A$27,F77,0)","v":0},{"$f":"IF('Anhang Grundstücksverzeichnis'!G77=Texte!$A$28,F77,0)","v":0}]
[68,{"$f":"IF(C78<>\"\",IF(ISNA(VLOOKUP(C78,Katastralgemeinden!$A$2:$B$3041,2,FALSE)),\"Ungültige KG-Nummer!\",VLOOKUP(C78,Katastralgemeinden!A$2:$B$3041,2,\"falsch\")),\"\")","v":""},null,null,null,null,null,null,null,null,"",0,{"$f":"IF('Anhang Grundstücksverzeichnis'!G78=Texte!$A$25,F78,0)","v":0},{"$f":"IF('Anhang Grundstücksverzeichnis'!G78=Texte!$A$26,F78,0)","v":0},{"$f":"IF('Anhang Grundstücksverzeichnis'!G78=Texte!$A$27,F78,0)","v":0},{"$f":"IF('Anhang Grundstücksverzeichnis'!G78=Texte!$A$28,F78,0)","v":0}]
[69,{"$f":"IF(C79<>\"\",IF(ISNA(VLOOKUP(C79,Katastralgemeinden!$A$2:$B$3041,2,FALSE)),\"Ungültige KG-Nummer!\",VLOOKUP(C79,Katastralgemeinden!A$2:$B$3041,2,\"falsch\")),\"\")","v":""},null,null,null,null,null,null,null,null,"",0,{"$f":"IF('Anhang Grundstücksverzeichnis'!G79=Texte!$A$25,F79,0)","v":0},{"$f":"IF('Anhang Grundstücksverzeichnis'!G79=Texte!$A$26,F79,0)","v":0},{"$f":"IF('Anhang Grundstücksverzeichnis'!G79=Texte!$A$27,F79,0)","v":0},{"$f":"IF('Anhang Grundstücksverzeichnis'!G79=Texte!$A$28,F79,0)","v":0}]
[70,{"$f":"IF(C80<>\"\",IF(ISNA(VLOOKUP(C80,Katastralgemeinden!$A$2:$B$3041,2,FALSE)),\"Ungültige KG-Nummer!\",VLOOKUP(C80,Katastralgemeinden!A$2:$B$3041,2,\"falsch\")),\"\")","v":""},null,null,null,null,null,null,null,null,"",0,{"$f":"IF('Anhang Grundstücksverzeichnis'!G80=Texte!$A$25,F80,0)","v":0},{"$f":"IF('Anhang Grundstücksverzeichnis'!G80=Texte!$A$26,F80,0)","v":0},{"$f":"IF('Anhang Grundstücksverzeichnis'!G80=Texte!$A$27,F80,0)","v":0},{"$f":"IF('Anhang Grundstücksverzeichnis'!G80=Texte!$A$28,F80,0)","v":0}]
[71,{"$f":"IF(C81<>\"\",IF(ISNA(VLOOKUP(C81,Katastralgemeinden!$A$2:$B$3041,2,FALSE)),\"Ungültige KG-Nummer!\",VLOOKUP(C81,Katastralgemeinden!A$2:$B$3041,2,\"falsch\")),\"\")","v":""},null,null,null,null,null,null,null,null,"",0,{"$f":"IF('Anhang Grundstücksverzeichnis'!G81=Texte!$A$25,F81,0)","v":0},{"$f":"IF('Anhang Grundstücksverzeichnis'!G81=Texte!$A$26,F81,0)","v":0},{"$f":"IF('Anhang Grundstücksverzeichnis'!G81=Texte!$A$27,F81,0)","v":0},{"$f":"IF('Anhang Grundstücksverzeichnis'!G81=Texte!$A$28,F81,0)","v":0}]
[72,{"$f":"IF(C82<>\"\",IF(ISNA(VLOOKUP(C82,Katastralgemeinden!$A$2:$B$3041,2,FALSE)),\"Ungültige KG-Nummer!\",VLOOKUP(C82,Katastralgemeinden!A$2:$B$3041,2,\"falsch\")),\"\")","v":""},null,null,null,null,null,null,null,null,"",0,{"$f":"IF('Anhang Grundstücksverzeichnis'!G82=Texte!$A$25,F82,0)","v":0},{"$f":"IF('Anhang Grundstücksverzeichnis'!G82=Texte!$A$26,F82,0)","v":0},{"$f":"IF('Anhang Grundstücksverzeichnis'!G82=Texte!$A$27,F82,0)","v":0},{"$f":"IF('Anhang Grundstücksverzeichnis'!G82=Texte!$A$28,F82,0)","v":0}]
[73,{"$f":"IF(C83<>\"\",IF(ISNA(VLOOKUP(C83,Katastralgemeinden!$A$2:$B$3041,2,FALSE)),\"Ungültige KG-Nummer!\",VLOOKUP(C83,Katastralgemeinden!A$2:$B$3041,2,\"falsch\")),\"\")","v":""},null,null,null,null,null,null,null,null,"",0,{"$f":"IF('Anhang Grundstücksverzeichnis'!G83=Texte!$A$25,F83,0)","v":0},{"$f":"IF('Anhang Grundstücksverzeichnis'!G83=Texte!$A$26,F83,0)","v":0},{"$f":"IF('Anhang Grundstücksverzeichnis'!G83=Texte!$A$27,F83,0)","v":0},{"$f":"IF('Anhang Grundstücksverzeichnis'!G83=Texte!$A$28,F83,0)","v":0}]
[74,{"$f":"IF(C84<>\"\",IF(ISNA(VLOOKUP(C84,Katastralgemeinden!$A$2:$B$3041,2,FALSE)),\"Ungültige KG-Nummer!\",VLOOKUP(C84,Katastralgemeinden!A$2:$B$3041,2,\"falsch\")),\"\")","v":""},null,null,null,null,null,null,null,null,"",0,{"$f":"IF('Anhang Grundstücksverzeichnis'!G84=Texte!$A$25,F84,0)","v":0},{"$f":"IF('Anhang Grundstücksverzeichnis'!G84=Texte!$A$26,F84,0)","v":0},{"$f":"IF('Anhang Grundstücksverzeichnis'!G84=Texte!$A$27,F84,0)","v":0},{"$f":"IF('Anhang Grundstücksverzeichnis'!G84=Texte!$A$28,F84,0)","v":0}]
[75,{"$f":"IF(C85<>\"\",IF(ISNA(VLOOKUP(C85,Katastralgemeinden!$A$2:$B$3041,2,FALSE)),\"Ungültige KG-Nummer!\",VLOOKUP(C85,Katastralgemeinden!A$2:$B$3041,2,\"falsch\")),\"\")","v":""},null,null,null,null,null,null,null,null,"",0,{"$f":"IF('Anhang Grundstücksverzeichnis'!G85=Texte!$A$25,F85,0)","v":0},{"$f":"IF('Anhang Grundstücksverzeichnis'!G85=Texte!$A$26,F85,0)","v":0},{"$f":"IF('Anhang Grundstücksverzeichnis'!G85=Texte!$A$27,F85,0)","v":0},{"$f":"IF('Anhang Grundstücksverzeichnis'!G85=Texte!$A$28,F85,0)","v":0}]
[76,{"$f":"IF(C86<>\"\",IF(ISNA(VLOOKUP(C86,Katastralgemeinden!$A$2:$B$3041,2,FALSE)),\"Ungültige KG-Nummer!\",VLOOKUP(C86,Katastralgemeinden!A$2:$B$3041,2,\"falsch\")),\"\")","v":""},null,null,null,null,null,null,null,null,"",0,{"$f":"IF('Anhang Grundstücksverzeichnis'!G86=Texte!$A$25,F86,0)","v":0},{"$f":"IF('Anhang Grundstücksverzeichnis'!G86=Texte!$A$26,F86,0)","v":0},{"$f":"IF('Anhang Grundstücksverzeichnis'!G86=Texte!$A$27,F86,0)","v":0},{"$f":"IF('Anhang Grundstücksverzeichnis'!G86=Texte!$A$28,F86,0)","v":0}]
[77,{"$f":"IF(C87<>\"\",IF(ISNA(VLOOKUP(C87,Katastralgemeinden!$A$2:$B$3041,2,FALSE)),\"Ungültige KG-Nummer!\",VLOOKUP(C87,Katastralgemeinden!A$2:$B$3041,2,\"falsch\")),\"\")","v":""},null,null,null,null,null,null,null,null,"",0,{"$f":"IF('Anhang Grundstücksverzeichnis'!G87=Texte!$A$25,F87,0)","v":0},{"$f":"IF('Anhang Grundstücksverzeichnis'!G87=Texte!$A$26,F87,0)","v":0},{"$f":"IF('Anhang Grundstücksverzeichnis'!G87=Texte!$A$27,F87,0)","v":0},{"$f":"IF('Anhang Grundstücksverzeichnis'!G87=Texte!$A$28,F87,0)","v":0}]
[78,{"$f":"IF(C88<>\"\",IF(ISNA(VLOOKUP(C88,Katastralgemeinden!$A$2:$B$3041,2,FALSE)),\"Ungültige KG-Nummer!\",VLOOKUP(C88,Katastralgemeinden!A$2:$B$3041,2,\"falsch\")),\"\")","v":""},null,null,null,null,null,null,null,null,"",0,{"$f":"IF('Anhang Grundstücksverzeichnis'!G88=Texte!$A$25,F88,0)","v":0},{"$f":"IF('Anhang Grundstücksverzeichnis'!G88=Texte!$A$26,F88,0)","v":0},{"$f":"IF('Anhang Grundstücksverzeichnis'!G88=Texte!$A$27,F88,0)","v":0},{"$f":"IF('Anhang Grundstücksverzeichnis'!G88=Texte!$A$28,F88,0)","v":0}]
[79,{"$f":"IF(C89<>\"\",IF(ISNA(VLOOKUP(C89,Katastralgemeinden!$A$2:$B$3041,2,FALSE)),\"Ungültige KG-Nummer!\",VLOOKUP(C89,Katastralgemeinden!A$2:$B$3041,2,\"falsch\")),\"\")","v":""},null,null,null,null,null,null,null,null,"",0,{"$f":"IF('Anhang Grundstücksverzeichnis'!G89=Texte!$A$25,F89,0)","v":0},{"$f":"IF('Anhang Grundstücksverzeichnis'!G89=Texte!$A$26,F89,0)","v":0},{"$f":"IF('Anhang Grundstücksverzeichnis'!G89=Texte!$A$27,F89,0)","v":0},{"$f":"IF('Anhang Grundstücksverzeichnis'!G89=Texte!$A$28,F89,0)","v":0}]
[80,{"$f":"IF(C90<>\"\",IF(ISNA(VLOOKUP(C90,Katastralgemeinden!$A$2:$B$3041,2,FALSE)),\"Ungültige KG-Nummer!\",VLOOKUP(C90,Katastralgemeinden!A$2:$B$3041,2,\"falsch\")),\"\")","v":""},null,null,null,null,null,null,null,null,"",0,{"$f":"IF('Anhang Grundstücksverzeichnis'!G90=Texte!$A$25,F90,0)","v":0},{"$f":"IF('Anhang Grundstücksverzeichnis'!G90=Texte!$A$26,F90,0)","v":0},{"$f":"IF('Anhang Grundstücksverzeichnis'!G90=Texte!$A$27,F90,0)","v":0},{"$f":"IF('Anhang Grundstücksverzeichnis'!G90=Texte!$A$28,F90,0)","v":0}]
[81,{"$f":"IF(C91<>\"\",IF(ISNA(VLOOKUP(C91,Katastralgemeinden!$A$2:$B$3041,2,FALSE)),\"Ungültige KG-Nummer!\",VLOOKUP(C91,Katastralgemeinden!A$2:$B$3041,2,\"falsch\")),\"\")","v":""},null,null,null,null,null,null,null,null,"",0,{"$f":"IF('Anhang Grundstücksverzeichnis'!G91=Texte!$A$25,F91,0)","v":0},{"$f":"IF('Anhang Grundstücksverzeichnis'!G91=Texte!$A$26,F91,0)","v":0},{"$f":"IF('Anhang Grundstücksverzeichnis'!G91=Texte!$A$27,F91,0)","v":0},{"$f":"IF('Anhang Grundstücksverzeichnis'!G91=Texte!$A$28,F91,0)","v":0}]
[82,{"$f":"IF(C92<>\"\",IF(ISNA(VLOOKUP(C92,Katastralgemeinden!$A$2:$B$3041,2,FALSE)),\"Ungültige KG-Nummer!\",VLOOKUP(C92,Katastralgemeinden!A$2:$B$3041,2,\"falsch\")),\"\")","v":""},null,null,null,null,null,null,null,null,"",0,{"$f":"IF('Anhang Grundstücksverzeichnis'!G92=Texte!$A$25,F92,0)","v":0},{"$f":"IF('Anhang Grundstücksverzeichnis'!G92=Texte!$A$26,F92,0)","v":0},{"$f":"IF('Anhang Grundstücksverzeichnis'!G92=Texte!$A$27,F92,0)","v":0},{"$f":"IF('Anhang Grundstücksverzeichnis'!G92=Texte!$A$28,F92,0)","v":0}]
[83,{"$f":"IF(C93<>\"\",IF(ISNA(VLOOKUP(C93,Katastralgemeinden!$A$2:$B$3041,2,FALSE)),\"Ungültige KG-Nummer!\",VLOOKUP(C93,Katastralgemeinden!A$2:$B$3041,2,\"falsch\")),\"\")","v":""},null,null,null,null,null,null,null,null,"",0,{"$f":"IF('Anhang Grundstücksverzeichnis'!G93=Texte!$A$25,F93,0)","v":0},{"$f":"IF('Anhang Grundstücksverzeichnis'!G93=Texte!$A$26,F93,0)","v":0},{"$f":"IF('Anhang Grundstücksverzeichnis'!G93=Texte!$A$27,F93,0)","v":0},{"$f":"IF('Anhang Grundstücksverzeichnis'!G93=Texte!$A$28,F93,0)","v":0}]
[84,{"$f":"IF(C94<>\"\",IF(ISNA(VLOOKUP(C94,Katastralgemeinden!$A$2:$B$3041,2,FALSE)),\"Ungültige KG-Nummer!\",VLOOKUP(C94,Katastralgemeinden!A$2:$B$3041,2,\"falsch\")),\"\")","v":""},null,null,null,null,null,null,null,null,"",0,{"$f":"IF('Anhang Grundstücksverzeichnis'!G94=Texte!$A$25,F94,0)","v":0},{"$f":"IF('Anhang Grundstücksverzeichnis'!G94=Texte!$A$26,F94,0)","v":0},{"$f":"IF('Anhang Grundstücksverzeichnis'!G94=Texte!$A$27,F94,0)","v":0},{"$f":"IF('Anhang Grundstücksverzeichnis'!G94=Texte!$A$28,F94,0)","v":0}]
[85,{"$f":"IF(C95<>\"\",IF(ISNA(VLOOKUP(C95,Katastralgemeinden!$A$2:$B$3041,2,FALSE)),\"Ungültige KG-Nummer!\",VLOOKUP(C95,Katastralgemeinden!A$2:$B$3041,2,\"falsch\")),\"\")","v":""},null,null,null,null,null,null,null,null,"",0,{"$f":"IF('Anhang Grundstücksverzeichnis'!G95=Texte!$A$25,F95,0)","v":0},{"$f":"IF('Anhang Grundstücksverzeichnis'!G95=Texte!$A$26,F95,0)","v":0},{"$f":"IF('Anhang Grundstücksverzeichnis'!G95=Texte!$A$27,F95,0)","v":0},{"$f":"IF('Anhang Grundstücksverzeichnis'!G95=Texte!$A$28,F95,0)","v":0}]
[86,{"$f":"IF(C96<>\"\",IF(ISNA(VLOOKUP(C96,Katastralgemeinden!$A$2:$B$3041,2,FALSE)),\"Ungültige KG-Nummer!\",VLOOKUP(C96,Katastralgemeinden!A$2:$B$3041,2,\"falsch\")),\"\")","v":""},null,null,null,null,null,null,null,null,"",0,{"$f":"IF('Anhang Grundstücksverzeichnis'!G96=Texte!$A$25,F96,0)","v":0},{"$f":"IF('Anhang Grundstücksverzeichnis'!G96=Texte!$A$26,F96,0)","v":0},{"$f":"IF('Anhang Grundstücksverzeichnis'!G96=Texte!$A$27,F96,0)","v":0},{"$f":"IF('Anhang Grundstücksverzeichnis'!G96=Texte!$A$28,F96,0)","v":0}]
[87,{"$f":"IF(C97<>\"\",IF(ISNA(VLOOKUP(C97,Katastralgemeinden!$A$2:$B$3041,2,FALSE)),\"Ungültige KG-Nummer!\",VLOOKUP(C97,Katastralgemeinden!A$2:$B$3041,2,\"falsch\")),\"\")","v":""},null,null,null,null,null,null,null,null,"",0,{"$f":"IF('Anhang Grundstücksverzeichnis'!G97=Texte!$A$25,F97,0)","v":0},{"$f":"IF('Anhang Grundstücksverzeichnis'!G97=Texte!$A$26,F97,0)","v":0},{"$f":"IF('Anhang Grundstücksverzeichnis'!G97=Texte!$A$27,F97,0)","v":0},{"$f":"IF('Anhang Grundstücksverzeichnis'!G97=Texte!$A$28,F97,0)","v":0}]
[88,{"$f":"IF(C98<>\"\",IF(ISNA(VLOOKUP(C98,Katastralgemeinden!$A$2:$B$3041,2,FALSE)),\"Ungültige KG-Nummer!\",VLOOKUP(C98,Katastralgemeinden!A$2:$B$3041,2,\"falsch\")),\"\")","v":""},null,null,null,null,null,null,null,null,"",0,{"$f":"IF('Anhang Grundstücksverzeichnis'!G98=Texte!$A$25,F98,0)","v":0},{"$f":"IF('Anhang Grundstücksverzeichnis'!G98=Texte!$A$26,F98,0)","v":0},{"$f":"IF('Anhang Grundstücksverzeichnis'!G98=Texte!$A$27,F98,0)","v":0},{"$f":"IF('Anhang Grundstücksverzeichnis'!G98=Texte!$A$28,F98,0)","v":0}]
[89,{"$f":"IF(C99<>\"\",IF(ISNA(VLOOKUP(C99,Katastralgemeinden!$A$2:$B$3041,2,FALSE)),\"Ungültige KG-Nummer!\",VLOOKUP(C99,Katastralgemeinden!A$2:$B$3041,2,\"falsch\")),\"\")","v":""},null,null,null,null,null,null,null,null,"",0,{"$f":"IF('Anhang Grundstücksverzeichnis'!G99=Texte!$A$25,F99,0)","v":0},{"$f":"IF('Anhang Grundstücksverzeichnis'!G99=Texte!$A$26,F99,0)","v":0},{"$f":"IF('Anhang Grundstücksverzeichnis'!G99=Texte!$A$27,F99,0)","v":0},{"$f":"IF('Anhang Grundstücksverzeichnis'!G99=Texte!$A$28,F99,0)","v":0}]
[90,{"$f":"IF(C100<>\"\",IF(ISNA(VLOOKUP(C100,Katastralgemeinden!$A$2:$B$3041,2,FALSE)),\"Ungültige KG-Nummer!\",VLOOKUP(C100,Katastralgemeinden!A$2:$B$3041,2,\"falsch\")),\"\")","v":""},null,null,null,null,null,null,null,null,"",0,{"$f":"IF('Anhang Grundstücksverzeichnis'!G100=Texte!$A$25,F100,0)","v":0},{"$f":"IF('Anhang Grundstücksverzeichnis'!G100=Texte!$A$26,F100,0)","v":0},{"$f":"IF('Anhang Grundstücksverzeichnis'!G100=Texte!$A$27,F100,0)","v":0},{"$f":"IF('Anhang Grundstücksverzeichnis'!G100=Texte!$A$28,F100,0)","v":0}]
[91,{"$f":"IF(C101<>\"\",IF(ISNA(VLOOKUP(C101,Katastralgemeinden!$A$2:$B$3041,2,FALSE)),\"Ungültige KG-Nummer!\",VLOOKUP(C101,Katastralgemeinden!A$2:$B$3041,2,\"falsch\")),\"\")","v":""},null,null,null,null,null,null,null,null,"",0,{"$f":"IF('Anhang Grundstücksverzeichnis'!G101=Texte!$A$25,F101,0)","v":0},{"$f":"IF('Anhang Grundstücksverzeichnis'!G101=Texte!$A$26,F101,0)","v":0},{"$f":"IF('Anhang Grundstücksverzeichnis'!G101=Texte!$A$27,F101,0)","v":0},{"$f":"IF('Anhang Grundstücksverzeichnis'!G101=Texte!$A$28,F101,0)","v":0}]
[92,{"$f":"IF(C102<>\"\",IF(ISNA(VLOOKUP(C102,Katastralgemeinden!$A$2:$B$3041,2,FALSE)),\"Ungültige KG-Nummer!\",VLOOKUP(C102,Katastralgemeinden!A$2:$B$3041,2,\"falsch\")),\"\")","v":""},null,null,null,null,null,null,null,null,"",0,{"$f":"IF('Anhang Grundstücksverzeichnis'!G102=Texte!$A$25,F102,0)","v":0},{"$f":"IF('Anhang Grundstücksverzeichnis'!G102=Texte!$A$26,F102,0)","v":0},{"$f":"IF('Anhang Grundstücksverzeichnis'!G102=Texte!$A$27,F102,0)","v":0},{"$f":"IF('Anhang Grundstücksverzeichnis'!G102=Texte!$A$28,F102,0)","v":0}]
[93,{"$f":"IF(C103<>\"\",IF(ISNA(VLOOKUP(C103,Katastralgemeinden!$A$2:$B$3041,2,FALSE)),\"Ungültige KG-Nummer!\",VLOOKUP(C103,Katastralgemeinden!A$2:$B$3041,2,\"falsch\")),\"\")","v":""},null,null,null,null,null,null,null,null,"",0,{"$f":"IF('Anhang Grundstücksverzeichnis'!G103=Texte!$A$25,F103,0)","v":0},{"$f":"IF('Anhang Grundstücksverzeichnis'!G103=Texte!$A$26,F103,0)","v":0},{"$f":"IF('Anhang Grundstücksverzeichnis'!G103=Texte!$A$27,F103,0)","v":0},{"$f":"IF('Anhang Grundstücksverzeichnis'!G103=Texte!$A$28,F103,0)","v":0}]
[94,{"$f":"IF(C104<>\"\",IF(ISNA(VLOOKUP(C104,Katastralgemeinden!$A$2:$B$3041,2,FALSE)),\"Ungültige KG-Nummer!\",VLOOKUP(C104,Katastralgemeinden!A$2:$B$3041,2,\"falsch\")),\"\")","v":""},null,null,null,null,null,null,null,null,"",0,{"$f":"IF('Anhang Grundstücksverzeichnis'!G104=Texte!$A$25,F104,0)","v":0},{"$f":"IF('Anhang Grundstücksverzeichnis'!G104=Texte!$A$26,F104,0)","v":0},{"$f":"IF('Anhang Grundstücksverzeichnis'!G104=Texte!$A$27,F104,0)","v":0},{"$f":"IF('Anhang Grundstücksverzeichnis'!G104=Texte!$A$28,F104,0)","v":0}]
[95,{"$f":"IF(C105<>\"\",IF(ISNA(VLOOKUP(C105,Katastralgemeinden!$A$2:$B$3041,2,FALSE)),\"Ungültige KG-Nummer!\",VLOOKUP(C105,Katastralgemeinden!A$2:$B$3041,2,\"falsch\")),\"\")","v":""},null,null,null,null,null,null,null,null,"",0,{"$f":"IF('Anhang Grundstücksverzeichnis'!G105=Texte!$A$25,F105,0)","v":0},{"$f":"IF('Anhang Grundstücksverzeichnis'!G105=Texte!$A$26,F105,0)","v":0},{"$f":"IF('Anhang Grundstücksverzeichnis'!G105=Texte!$A$27,F105,0)","v":0},{"$f":"IF('Anhang Grundstücksverzeichnis'!G105=Texte!$A$28,F105,0)","v":0}]
[96,{"$f":"IF(C106<>\"\",IF(ISNA(VLOOKUP(C106,Katastralgemeinden!$A$2:$B$3041,2,FALSE)),\"Ungültige KG-Nummer!\",VLOOKUP(C106,Katastralgemeinden!A$2:$B$3041,2,\"falsch\")),\"\")","v":""},null,null,null,null,null,null,null,null,"",0,{"$f":"IF('Anhang Grundstücksverzeichnis'!G106=Texte!$A$25,F106,0)","v":0},{"$f":"IF('Anhang Grundstücksverzeichnis'!G106=Texte!$A$26,F106,0)","v":0},{"$f":"IF('Anhang Grundstücksverzeichnis'!G106=Texte!$A$27,F106,0)","v":0},{"$f":"IF('Anhang Grundstücksverzeichnis'!G106=Texte!$A$28,F106,0)","v":0}]
[97,{"$f":"IF(C107<>\"\",IF(ISNA(VLOOKUP(C107,Katastralgemeinden!$A$2:$B$3041,2,FALSE)),\"Ungültige KG-Nummer!\",VLOOKUP(C107,Katastralgemeinden!A$2:$B$3041,2,\"falsch\")),\"\")","v":""},null,null,null,null,null,null,null,null,"",0,{"$f":"IF('Anhang Grundstücksverzeichnis'!G107=Texte!$A$25,F107,0)","v":0},{"$f":"IF('Anhang Grundstücksverzeichnis'!G107=Texte!$A$26,F107,0)","v":0},{"$f":"IF('Anhang Grundstücksverzeichnis'!G107=Texte!$A$27,F107,0)","v":0},{"$f":"IF('Anhang Grundstücksverzeichnis'!G107=Texte!$A$28,F107,0)","v":0}]
[98,{"$f":"IF(C108<>\"\",IF(ISNA(VLOOKUP(C108,Katastralgemeinden!$A$2:$B$3041,2,FALSE)),\"Ungültige KG-Nummer!\",VLOOKUP(C108,Katastralgemeinden!A$2:$B$3041,2,\"falsch\")),\"\")","v":""},null,null,null,null,null,null,null,null,"",0,{"$f":"IF('Anhang Grundstücksverzeichnis'!G108=Texte!$A$25,F108,0)","v":0},{"$f":"IF('Anhang Grundstücksverzeichnis'!G108=Texte!$A$26,F108,0)","v":0},{"$f":"IF('Anhang Grundstücksverzeichnis'!G108=Texte!$A$27,F108,0)","v":0},{"$f":"IF('Anhang Grundstücksverzeichnis'!G108=Texte!$A$28,F108,0)","v":0}]
[99,{"$f":"IF(C109<>\"\",IF(ISNA(VLOOKUP(C109,Katastralgemeinden!$A$2:$B$3041,2,FALSE)),\"Ungültige KG-Nummer!\",VLOOKUP(C109,Katastralgemeinden!A$2:$B$3041,2,\"falsch\")),\"\")","v":""},null,null,null,null,null,null,null,null,"",0,{"$f":"IF('Anhang Grundstücksverzeichnis'!G109=Texte!$A$25,F109,0)","v":0},{"$f":"IF('Anhang Grundstücksverzeichnis'!G109=Texte!$A$26,F109,0)","v":0},{"$f":"IF('Anhang Grundstücksverzeichnis'!G109=Texte!$A$27,F109,0)","v":0},{"$f":"IF('Anhang Grundstücksverzeichnis'!G109=Texte!$A$28,F109,0)","v":0}]
[100,{"$f":"IF(C110<>\"\",IF(ISNA(VLOOKUP(C110,Katastralgemeinden!$A$2:$B$3041,2,FALSE)),\"Ungültige KG-Nummer!\",VLOOKUP(C110,Katastralgemeinden!A$2:$B$3041,2,\"falsch\")),\"\")","v":""},null,null,null,null,null,null,null,null,"",0,{"$f":"IF('Anhang Grundstücksverzeichnis'!G110=Texte!$A$25,F110,0)","v":0},{"$f":"IF('Anhang Grundstücksverzeichnis'!G110=Texte!$A$26,F110,0)","v":0},{"$f":"IF('Anhang Grundstücksverzeichnis'!G110=Texte!$A$27,F110,0)","v":0},{"$f":"IF('Anhang Grundstücksverzeichnis'!G110=Texte!$A$28,F110,0)","v":0}]
[101,{"$f":"IF(C111<>\"\",IF(ISNA(VLOOKUP(C111,Katastralgemeinden!$A$2:$B$3041,2,FALSE)),\"Ungültige KG-Nummer!\",VLOOKUP(C111,Katastralgemeinden!A$2:$B$3041,2,\"falsch\")),\"\")","v":""},null,null,null,null,null,null,null,null,"",0,{"$f":"IF('Anhang Grundstücksverzeichnis'!G111=Texte!$A$25,F111,0)","v":0},{"$f":"IF('Anhang Grundstücksverzeichnis'!G111=Texte!$A$26,F111,0)","v":0},{"$f":"IF('Anhang Grundstücksverzeichnis'!G111=Texte!$A$27,F111,0)","v":0},{"$f":"IF('Anhang Grundstücksverzeichnis'!G111=Texte!$A$28,F111,0)","v":0}]
[102,{"$f":"IF(C112<>\"\",IF(ISNA(VLOOKUP(C112,Katastralgemeinden!$A$2:$B$3041,2,FALSE)),\"Ungültige KG-Nummer!\",VLOOKUP(C112,Katastralgemeinden!A$2:$B$3041,2,\"falsch\")),\"\")","v":""},null,null,null,null,null,null,null,null,"",0,{"$f":"IF('Anhang Grundstücksverzeichnis'!G112=Texte!$A$25,F112,0)","v":0},{"$f":"IF('Anhang Grundstücksverzeichnis'!G112=Texte!$A$26,F112,0)","v":0},{"$f":"IF('Anhang Grundstücksverzeichnis'!G112=Texte!$A$27,F112,0)","v":0},{"$f":"IF('Anhang Grundstücksverzeichnis'!G112=Texte!$A$28,F112,0)","v":0}]
[103,{"$f":"IF(C113<>\"\",IF(ISNA(VLOOKUP(C113,Katastralgemeinden!$A$2:$B$3041,2,FALSE)),\"Ungültige KG-Nummer!\",VLOOKUP(C113,Katastralgemeinden!A$2:$B$3041,2,\"falsch\")),\"\")","v":""},null,null,null,null,null,null,null,null,"",0,{"$f":"IF('Anhang Grundstücksverzeichnis'!G113=Texte!$A$25,F113,0)","v":0},{"$f":"IF('Anhang Grundstücksverzeichnis'!G113=Texte!$A$26,F113,0)","v":0},{"$f":"IF('Anhang Grundstücksverzeichnis'!G113=Texte!$A$27,F113,0)","v":0},{"$f":"IF('Anhang Grundstücksverzeichnis'!G113=Texte!$A$28,F113,0)","v":0}]
[104,{"$f":"IF(C114<>\"\",IF(ISNA(VLOOKUP(C114,Katastralgemeinden!$A$2:$B$3041,2,FALSE)),\"Ungültige KG-Nummer!\",VLOOKUP(C114,Katastralgemeinden!A$2:$B$3041,2,\"falsch\")),\"\")","v":""},null,null,null,null,null,null,null,null,"",0,{"$f":"IF('Anhang Grundstücksverzeichnis'!G114=Texte!$A$25,F114,0)","v":0},{"$f":"IF('Anhang Grundstücksverzeichnis'!G114=Texte!$A$26,F114,0)","v":0},{"$f":"IF('Anhang Grundstücksverzeichnis'!G114=Texte!$A$27,F114,0)","v":0},{"$f":"IF('Anhang Grundstücksverzeichnis'!G114=Texte!$A$28,F114,0)","v":0}]
[105,{"$f":"IF(C115<>\"\",IF(ISNA(VLOOKUP(C115,Katastralgemeinden!$A$2:$B$3041,2,FALSE)),\"Ungültige KG-Nummer!\",VLOOKUP(C115,Katastralgemeinden!A$2:$B$3041,2,\"falsch\")),\"\")","v":""},null,null,null,null,null,null,null,null,"",0,{"$f":"IF('Anhang Grundstücksverzeichnis'!G115=Texte!$A$25,F115,0)","v":0},{"$f":"IF('Anhang Grundstücksverzeichnis'!G115=Texte!$A$26,F115,0)","v":0},{"$f":"IF('Anhang Grundstücksverzeichnis'!G115=Texte!$A$27,F115,0)","v":0},{"$f":"IF('Anhang Grundstücksverzeichnis'!G115=Texte!$A$28,F115,0)","v":0}]
[106,{"$f":"IF(C116<>\"\",IF(ISNA(VLOOKUP(C116,Katastralgemeinden!$A$2:$B$3041,2,FALSE)),\"Ungültige KG-Nummer!\",VLOOKUP(C116,Katastralgemeinden!A$2:$B$3041,2,\"falsch\")),\"\")","v":""},null,null,null,null,null,null,null,null,"",0,{"$f":"IF('Anhang Grundstücksverzeichnis'!G116=Texte!$A$25,F116,0)","v":0},{"$f":"IF('Anhang Grundstücksverzeichnis'!G116=Texte!$A$26,F116,0)","v":0},{"$f":"IF('Anhang Grundstücksverzeichnis'!G116=Texte!$A$27,F116,0)","v":0},{"$f":"IF('Anhang Grundstücksverzeichnis'!G116=Texte!$A$28,F116,0)","v":0}]
[107,{"$f":"IF(C117<>\"\",IF(ISNA(VLOOKUP(C117,Katastralgemeinden!$A$2:$B$3041,2,FALSE)),\"Ungültige KG-Nummer!\",VLOOKUP(C117,Katastralgemeinden!A$2:$B$3041,2,\"falsch\")),\"\")","v":""},null,null,null,null,null,null,null,null,"",0,{"$f":"IF('Anhang Grundstücksverzeichnis'!G117=Texte!$A$25,F117,0)","v":0},{"$f":"IF('Anhang Grundstücksverzeichnis'!G117=Texte!$A$26,F117,0)","v":0},{"$f":"IF('Anhang Grundstücksverzeichnis'!G117=Texte!$A$27,F117,0)","v":0},{"$f":"IF('Anhang Grundstücksverzeichnis'!G117=Texte!$A$28,F117,0)","v":0}]
[108,{"$f":"IF(C118<>\"\",IF(ISNA(VLOOKUP(C118,Katastralgemeinden!$A$2:$B$3041,2,FALSE)),\"Ungültige KG-Nummer!\",VLOOKUP(C118,Katastralgemeinden!A$2:$B$3041,2,\"falsch\")),\"\")","v":""},null,null,null,null,null,null,null,null,"",0,{"$f":"IF('Anhang Grundstücksverzeichnis'!G118=Texte!$A$25,F118,0)","v":0},{"$f":"IF('Anhang Grundstücksverzeichnis'!G118=Texte!$A$26,F118,0)","v":0},{"$f":"IF('Anhang Grundstücksverzeichnis'!G118=Texte!$A$27,F118,0)","v":0},{"$f":"IF('Anhang Grundstücksverzeichnis'!G118=Texte!$A$28,F118,0)","v":0}]
[109,{"$f":"IF(C119<>\"\",IF(ISNA(VLOOKUP(C119,Katastralgemeinden!$A$2:$B$3041,2,FALSE)),\"Ungültige KG-Nummer!\",VLOOKUP(C119,Katastralgemeinden!A$2:$B$3041,2,\"falsch\")),\"\")","v":""},null,null,null,null,null,null,null,null,"",0,{"$f":"IF('Anhang Grundstücksverzeichnis'!G119=Texte!$A$25,F119,0)","v":0},{"$f":"IF('Anhang Grundstücksverzeichnis'!G119=Texte!$A$26,F119,0)","v":0},{"$f":"IF('Anhang Grundstücksverzeichnis'!G119=Texte!$A$27,F119,0)","v":0},{"$f":"IF('Anhang Grundstücksverzeichnis'!G119=Texte!$A$28,F119,0)","v":0}]
[110,{"$f":"IF(C120<>\"\",IF(ISNA(VLOOKUP(C120,Katastralgemeinden!$A$2:$B$3041,2,FALSE)),\"Ungültige KG-Nummer!\",VLOOKUP(C120,Katastralgemeinden!A$2:$B$3041,2,\"falsch\")),\"\")","v":""},null,null,null,null,null,null,null,null,"",0,{"$f":"IF('Anhang Grundstücksverzeichnis'!G120=Texte!$A$25,F120,0)","v":0},{"$f":"IF('Anhang Grundstücksverzeichnis'!G120=Texte!$A$26,F120,0)","v":0},{"$f":"IF('Anhang Grundstücksverzeichnis'!G120=Texte!$A$27,F120,0)","v":0},{"$f":"IF('Anhang Grundstücksverzeichnis'!G120=Texte!$A$28,F120,0)","v":0}]
[111,{"$f":"IF(C121<>\"\",IF(ISNA(VLOOKUP(C121,Katastralgemeinden!$A$2:$B$3041,2,FALSE)),\"Ungültige KG-Nummer!\",VLOOKUP(C121,Katastralgemeinden!A$2:$B$3041,2,\"falsch\")),\"\")","v":""},null,null,null,null,null,null,null,null,"",0,{"$f":"IF('Anhang Grundstücksverzeichnis'!G121=Texte!$A$25,F121,0)","v":0},{"$f":"IF('Anhang Grundstücksverzeichnis'!G121=Texte!$A$26,F121,0)","v":0},{"$f":"IF('Anhang Grundstücksverzeichnis'!G121=Texte!$A$27,F121,0)","v":0},{"$f":"IF('Anhang Grundstücksverzeichnis'!G121=Texte!$A$28,F121,0)","v":0}]
[112,{"$f":"IF(C122<>\"\",IF(ISNA(VLOOKUP(C122,Katastralgemeinden!$A$2:$B$3041,2,FALSE)),\"Ungültige KG-Nummer!\",VLOOKUP(C122,Katastralgemeinden!A$2:$B$3041,2,\"falsch\")),\"\")","v":""},null,null,null,null,null,null,null,null,"",0,{"$f":"IF('Anhang Grundstücksverzeichnis'!G122=Texte!$A$25,F122,0)","v":0},{"$f":"IF('Anhang Grundstücksverzeichnis'!G122=Texte!$A$26,F122,0)","v":0},{"$f":"IF('Anhang Grundstücksverzeichnis'!G122=Texte!$A$27,F122,0)","v":0},{"$f":"IF('Anhang Grundstücksverzeichnis'!G122=Texte!$A$28,F122,0)","v":0}]
[113,{"$f":"IF(C123<>\"\",IF(ISNA(VLOOKUP(C123,Katastralgemeinden!$A$2:$B$3041,2,FALSE)),\"Ungültige KG-Nummer!\",VLOOKUP(C123,Katastralgemeinden!A$2:$B$3041,2,\"falsch\")),\"\")","v":""},null,null,null,null,null,null,null,null,"",0,{"$f":"IF('Anhang Grundstücksverzeichnis'!G123=Texte!$A$25,F123,0)","v":0},{"$f":"IF('Anhang Grundstücksverzeichnis'!G123=Texte!$A$26,F123,0)","v":0},{"$f":"IF('Anhang Grundstücksverzeichnis'!G123=Texte!$A$27,F123,0)","v":0},{"$f":"IF('Anhang Grundstücksverzeichnis'!G123=Texte!$A$28,F123,0)","v":0}]
[114,{"$f":"IF(C124<>\"\",IF(ISNA(VLOOKUP(C124,Katastralgemeinden!$A$2:$B$3041,2,FALSE)),\"Ungültige KG-Nummer!\",VLOOKUP(C124,Katastralgemeinden!A$2:$B$3041,2,\"falsch\")),\"\")","v":""},null,null,null,null,null,null,null,null,"",0,{"$f":"IF('Anhang Grundstücksverzeichnis'!G124=Texte!$A$25,F124,0)","v":0},{"$f":"IF('Anhang Grundstücksverzeichnis'!G124=Texte!$A$26,F124,0)","v":0},{"$f":"IF('Anhang Grundstücksverzeichnis'!G124=Texte!$A$27,F124,0)","v":0},{"$f":"IF('Anhang Grundstücksverzeichnis'!G124=Texte!$A$28,F124,0)","v":0}]
[115,{"$f":"IF(C125<>\"\",IF(ISNA(VLOOKUP(C125,Katastralgemeinden!$A$2:$B$3041,2,FALSE)),\"Ungültige KG-Nummer!\",VLOOKUP(C125,Katastralgemeinden!A$2:$B$3041,2,\"falsch\")),\"\")","v":""},null,null,null,null,null,null,null,null,"",0,{"$f":"IF('Anhang Grundstücksverzeichnis'!G125=Texte!$A$25,F125,0)","v":0},{"$f":"IF('Anhang Grundstücksverzeichnis'!G125=Texte!$A$26,F125,0)","v":0},{"$f":"IF('Anhang Grundstücksverzeichnis'!G125=Texte!$A$27,F125,0)","v":0},{"$f":"IF('Anhang Grundstücksverzeichnis'!G125=Texte!$A$28,F125,0)","v":0}]
[116,{"$f":"IF(C126<>\"\",IF(ISNA(VLOOKUP(C126,Katastralgemeinden!$A$2:$B$3041,2,FALSE)),\"Ungültige KG-Nummer!\",VLOOKUP(C126,Katastralgemeinden!A$2:$B$3041,2,\"falsch\")),\"\")","v":""},null,null,null,null,null,null,null,null,"",0,{"$f":"IF('Anhang Grundstücksverzeichnis'!G126=Texte!$A$25,F126,0)","v":0},{"$f":"IF('Anhang Grundstücksverzeichnis'!G126=Texte!$A$26,F126,0)","v":0},{"$f":"IF('Anhang Grundstücksverzeichnis'!G126=Texte!$A$27,F126,0)","v":0},{"$f":"IF('Anhang Grundstücksverzeichnis'!G126=Texte!$A$28,F126,0)","v":0}]
[117,{"$f":"IF(C127<>\"\",IF(ISNA(VLOOKUP(C127,Katastralgemeinden!$A$2:$B$3041,2,FALSE)),\"Ungültige KG-Nummer!\",VLOOKUP(C127,Katastralgemeinden!A$2:$B$3041,2,\"falsch\")),\"\")","v":""},null,null,null,null,null,null,null,null,"",0,{"$f":"IF('Anhang Grundstücksverzeichnis'!G127=Texte!$A$25,F127,0)","v":0},{"$f":"IF('Anhang Grundstücksverzeichnis'!G127=Texte!$A$26,F127,0)","v":0},{"$f":"IF('Anhang Grundstücksverzeichnis'!G127=Texte!$A$27,F127,0)","v":0},{"$f":"IF('Anhang Grundstücksverzeichnis'!G127=Texte!$A$28,F127,0)","v":0}]
[118,{"$f":"IF(C128<>\"\",IF(ISNA(VLOOKUP(C128,Katastralgemeinden!$A$2:$B$3041,2,FALSE)),\"Ungültige KG-Nummer!\",VLOOKUP(C128,Katastralgemeinden!A$2:$B$3041,2,\"falsch\")),\"\")","v":""},null,null,null,null,null,null,null,null,"",0,{"$f":"IF('Anhang Grundstücksverzeichnis'!G128=Texte!$A$25,F128,0)","v":0},{"$f":"IF('Anhang Grundstücksverzeichnis'!G128=Texte!$A$26,F128,0)","v":0},{"$f":"IF('Anhang Grundstücksverzeichnis'!G128=Texte!$A$27,F128,0)","v":0},{"$f":"IF('Anhang Grundstücksverzeichnis'!G128=Texte!$A$28,F128,0)","v":0}]
[119,{"$f":"IF(C129<>\"\",IF(ISNA(VLOOKUP(C129,Katastralgemeinden!$A$2:$B$3041,2,FALSE)),\"Ungültige KG-Nummer!\",VLOOKUP(C129,Katastralgemeinden!A$2:$B$3041,2,\"falsch\")),\"\")","v":""},null,null,null,null,null,null,null,null,"",0,{"$f":"IF('Anhang Grundstücksverzeichnis'!G129=Texte!$A$25,F129,0)","v":0},{"$f":"IF('Anhang Grundstücksverzeichnis'!G129=Texte!$A$26,F129,0)","v":0},{"$f":"IF('Anhang Grundstücksverzeichnis'!G129=Texte!$A$27,F129,0)","v":0},{"$f":"IF('Anhang Grundstücksverzeichnis'!G129=Texte!$A$28,F129,0)","v":0}]
[120,{"$f":"IF(C130<>\"\",IF(ISNA(VLOOKUP(C130,Katastralgemeinden!$A$2:$B$3041,2,FALSE)),\"Ungültige KG-Nummer!\",VLOOKUP(C130,Katastralgemeinden!A$2:$B$3041,2,\"falsch\")),\"\")","v":""},null,null,null,null,null,null,null,null,"",0,{"$f":"IF('Anhang Grundstücksverzeichnis'!G130=Texte!$A$25,F130,0)","v":0},{"$f":"IF('Anhang Grundstücksverzeichnis'!G130=Texte!$A$26,F130,0)","v":0},{"$f":"IF('Anhang Grundstücksverzeichnis'!G130=Texte!$A$27,F130,0)","v":0},{"$f":"IF('Anhang Grundstücksverzeichnis'!G130=Texte!$A$28,F130,0)","v":0}]
[121,{"$f":"IF(C131<>\"\",IF(ISNA(VLOOKUP(C131,Katastralgemeinden!$A$2:$B$3041,2,FALSE)),\"Ungültige KG-Nummer!\",VLOOKUP(C131,Katastralgemeinden!A$2:$B$3041,2,\"falsch\")),\"\")","v":""},null,null,null,null,null,null,null,null,"",0,{"$f":"IF('Anhang Grundstücksverzeichnis'!G131=Texte!$A$25,F131,0)","v":0},{"$f":"IF('Anhang Grundstücksverzeichnis'!G131=Texte!$A$26,F131,0)","v":0},{"$f":"IF('Anhang Grundstücksverzeichnis'!G131=Texte!$A$27,F131,0)","v":0},{"$f":"IF('Anhang Grundstücksverzeichnis'!G131=Texte!$A$28,F131,0)","v":0}]
[122,{"$f":"IF(C132<>\"\",IF(ISNA(VLOOKUP(C132,Katastralgemeinden!$A$2:$B$3041,2,FALSE)),\"Ungültige KG-Nummer!\",VLOOKUP(C132,Katastralgemeinden!A$2:$B$3041,2,\"falsch\")),\"\")","v":""},null,null,null,null,null,null,null,null,"",0,{"$f":"IF('Anhang Grundstücksverzeichnis'!G132=Texte!$A$25,F132,0)","v":0},{"$f":"IF('Anhang Grundstücksverzeichnis'!G132=Texte!$A$26,F132,0)","v":0},{"$f":"IF('Anhang Grundstücksverzeichnis'!G132=Texte!$A$27,F132,0)","v":0},{"$f":"IF('Anhang Grundstücksverzeichnis'!G132=Texte!$A$28,F132,0)","v":0}]
[123,{"$f":"IF(C133<>\"\",IF(ISNA(VLOOKUP(C133,Katastralgemeinden!$A$2:$B$3041,2,FALSE)),\"Ungültige KG-Nummer!\",VLOOKUP(C133,Katastralgemeinden!A$2:$B$3041,2,\"falsch\")),\"\")","v":""},null,null,null,null,null,null,null,null,"",0,{"$f":"IF('Anhang Grundstücksverzeichnis'!G133=Texte!$A$25,F133,0)","v":0},{"$f":"IF('Anhang Grundstücksverzeichnis'!G133=Texte!$A$26,F133,0)","v":0},{"$f":"IF('Anhang Grundstücksverzeichnis'!G133=Texte!$A$27,F133,0)","v":0},{"$f":"IF('Anhang Grundstücksverzeichnis'!G133=Texte!$A$28,F133,0)","v":0}]
[124,{"$f":"IF(C134<>\"\",IF(ISNA(VLOOKUP(C134,Katastralgemeinden!$A$2:$B$3041,2,FALSE)),\"Ungültige KG-Nummer!\",VLOOKUP(C134,Katastralgemeinden!A$2:$B$3041,2,\"falsch\")),\"\")","v":""},null,null,null,null,null,null,null,null,"",0,{"$f":"IF('Anhang Grundstücksverzeichnis'!G134=Texte!$A$25,F134,0)","v":0},{"$f":"IF('Anhang Grundstücksverzeichnis'!G134=Texte!$A$26,F134,0)","v":0},{"$f":"IF('Anhang Grundstücksverzeichnis'!G134=Texte!$A$27,F134,0)","v":0},{"$f":"IF('Anhang Grundstücksverzeichnis'!G134=Texte!$A$28,F134,0)","v":0}]
[125,{"$f":"IF(C135<>\"\",IF(ISNA(VLOOKUP(C135,Katastralgemeinden!$A$2:$B$3041,2,FALSE)),\"Ungültige KG-Nummer!\",VLOOKUP(C135,Katastralgemeinden!A$2:$B$3041,2,\"falsch\")),\"\")","v":""},null,null,null,null,null,null,null,null,"",0,{"$f":"IF('Anhang Grundstücksverzeichnis'!G135=Texte!$A$25,F135,0)","v":0},{"$f":"IF('Anhang Grundstücksverzeichnis'!G135=Texte!$A$26,F135,0)","v":0},{"$f":"IF('Anhang Grundstücksverzeichnis'!G135=Texte!$A$27,F135,0)","v":0},{"$f":"IF('Anhang Grundstücksverzeichnis'!G135=Texte!$A$28,F135,0)","v":0}]
[126,{"$f":"IF(C136<>\"\",IF(ISNA(VLOOKUP(C136,Katastralgemeinden!$A$2:$B$3041,2,FALSE)),\"Ungültige KG-Nummer!\",VLOOKUP(C136,Katastralgemeinden!A$2:$B$3041,2,\"falsch\")),\"\")","v":""},null,null,null,null,null,null,null,null,"",0,{"$f":"IF('Anhang Grundstücksverzeichnis'!G136=Texte!$A$25,F136,0)","v":0},{"$f":"IF('Anhang Grundstücksverzeichnis'!G136=Texte!$A$26,F136,0)","v":0},{"$f":"IF('Anhang Grundstücksverzeichnis'!G136=Texte!$A$27,F136,0)","v":0},{"$f":"IF('Anhang Grundstücksverzeichnis'!G136=Texte!$A$28,F136,0)","v":0}]
[127,{"$f":"IF(C137<>\"\",IF(ISNA(VLOOKUP(C137,Katastralgemeinden!$A$2:$B$3041,2,FALSE)),\"Ungültige KG-Nummer!\",VLOOKUP(C137,Katastralgemeinden!A$2:$B$3041,2,\"falsch\")),\"\")","v":""},null,null,null,null,null,null,null,null,"",0,{"$f":"IF('Anhang Grundstücksverzeichnis'!G137=Texte!$A$25,F137,0)","v":0},{"$f":"IF('Anhang Grundstücksverzeichnis'!G137=Texte!$A$26,F137,0)","v":0},{"$f":"IF('Anhang Grundstücksverzeichnis'!G137=Texte!$A$27,F137,0)","v":0},{"$f":"IF('Anhang Grundstücksverzeichnis'!G137=Texte!$A$28,F137,0)","v":0}]
[128,{"$f":"IF(C138<>\"\",IF(ISNA(VLOOKUP(C138,Katastralgemeinden!$A$2:$B$3041,2,FALSE)),\"Ungültige KG-Nummer!\",VLOOKUP(C138,Katastralgemeinden!A$2:$B$3041,2,\"falsch\")),\"\")","v":""},null,null,null,null,null,null,null,null,"",0,{"$f":"IF('Anhang Grundstücksverzeichnis'!G138=Texte!$A$25,F138,0)","v":0},{"$f":"IF('Anhang Grundstücksverzeichnis'!G138=Texte!$A$26,F138,0)","v":0},{"$f":"IF('Anhang Grundstücksverzeichnis'!G138=Texte!$A$27,F138,0)","v":0},{"$f":"IF('Anhang Grundstücksverzeichnis'!G138=Texte!$A$28,F138,0)","v":0}]
[129,{"$f":"IF(C139<>\"\",IF(ISNA(VLOOKUP(C139,Katastralgemeinden!$A$2:$B$3041,2,FALSE)),\"Ungültige KG-Nummer!\",VLOOKUP(C139,Katastralgemeinden!A$2:$B$3041,2,\"falsch\")),\"\")","v":""},null,null,null,null,null,null,null,null,"",0,{"$f":"IF('Anhang Grundstücksverzeichnis'!G139=Texte!$A$25,F139,0)","v":0},{"$f":"IF('Anhang Grundstücksverzeichnis'!G139=Texte!$A$26,F139,0)","v":0},{"$f":"IF('Anhang Grundstücksverzeichnis'!G139=Texte!$A$27,F139,0)","v":0},{"$f":"IF('Anhang Grundstücksverzeichnis'!G139=Texte!$A$28,F139,0)","v":0}]
[130,{"$f":"IF(C140<>\"\",IF(ISNA(VLOOKUP(C140,Katastralgemeinden!$A$2:$B$3041,2,FALSE)),\"Ungültige KG-Nummer!\",VLOOKUP(C140,Katastralgemeinden!A$2:$B$3041,2,\"falsch\")),\"\")","v":""},null,null,null,null,null,null,null,null,{"$f":"IF(G140<>\"\",IF(G140=\"Eigengrundfläche\",0,IF(G140=\"Vorpachtfläche\",1,IF(G140=\"Abrundung +\",3,IF(G140=\"Abrundung -\",4,5)))),\"\")","v":""},{"$f":"IF(OR(LOWER(H140)=\"x\",LOWER(H140)=\"j\"),1,0)","v":0},{"$f":"IF('Anhang Grundstücksverzeichnis'!G140=Texte!$A$25,F140,0)","v":0},{"$f":"IF('Anhang Grundstücksverzeichnis'!G140=Texte!$A$26,F140,0)","v":0},{"$f":"IF('Anhang Grundstücksverzeichnis'!G140=Texte!$A$27,F140,0)","v":0},{"$f":"IF('Anhang Grundstücksverzeichnis'!G140=Texte!$A$28,F140,0)","v":0}]
[131,{"$f":"IF(C141<>\"\",IF(ISNA(VLOOKUP(C141,Katastralgemeinden!$A$2:$B$3041,2,FALSE)),\"Ungültige KG-Nummer!\",VLOOKUP(C141,Katastralgemeinden!A$2:$B$3041,2,\"falsch\")),\"\")","v":""},null,null,null,null,null,null,null,null,"",0,{"$f":"IF('Anhang Grundstücksverzeichnis'!G141=Texte!$A$25,F141,0)","v":0},{"$f":"IF('Anhang Grundstücksverzeichnis'!G141=Texte!$A$26,F141,0)","v":0},{"$f":"IF('Anhang Grundstücksverzeichnis'!G141=Texte!$A$27,F141,0)","v":0},{"$f":"IF('Anhang Grundstücksverzeichnis'!G141=Texte!$A$28,F141,0)","v":0}]
[132,{"$f":"IF(C142<>\"\",IF(ISNA(VLOOKUP(C142,Katastralgemeinden!$A$2:$B$3041,2,FALSE)),\"Ungültige KG-Nummer!\",VLOOKUP(C142,Katastralgemeinden!A$2:$B$3041,2,\"falsch\")),\"\")","v":""},null,null,null,null,null,null,null,null,"",0,{"$f":"IF('Anhang Grundstücksverzeichnis'!G142=Texte!$A$25,F142,0)","v":0},{"$f":"IF('Anhang Grundstücksverzeichnis'!G142=Texte!$A$26,F142,0)","v":0},{"$f":"IF('Anhang Grundstücksverzeichnis'!G142=Texte!$A$27,F142,0)","v":0},{"$f":"IF('Anhang Grundstücksverzeichnis'!G142=Texte!$A$28,F142,0)","v":0}]
[133,{"$f":"IF(C143<>\"\",IF(ISNA(VLOOKUP(C143,Katastralgemeinden!$A$2:$B$3041,2,FALSE)),\"Ungültige KG-Nummer!\",VLOOKUP(C143,Katastralgemeinden!A$2:$B$3041,2,\"falsch\")),\"\")","v":""},null,null,null,null,null,null,null,null,"",0,{"$f":"IF('Anhang Grundstücksverzeichnis'!G143=Texte!$A$25,F143,0)","v":0},{"$f":"IF('Anhang Grundstücksverzeichnis'!G143=Texte!$A$26,F143,0)","v":0},{"$f":"IF('Anhang Grundstücksverzeichnis'!G143=Texte!$A$27,F143,0)","v":0},{"$f":"IF('Anhang Grundstücksverzeichnis'!G143=Texte!$A$28,F143,0)","v":0}]
[134,{"$f":"IF(C144<>\"\",IF(ISNA(VLOOKUP(C144,Katastralgemeinden!$A$2:$B$3041,2,FALSE)),\"Ungültige KG-Nummer!\",VLOOKUP(C144,Katastralgemeinden!A$2:$B$3041,2,\"falsch\")),\"\")","v":""},null,null,null,null,null,null,null,null,"",0,{"$f":"IF('Anhang Grundstücksverzeichnis'!G144=Texte!$A$25,F144,0)","v":0},{"$f":"IF('Anhang Grundstücksverzeichnis'!G144=Texte!$A$26,F144,0)","v":0},{"$f":"IF('Anhang Grundstücksverzeichnis'!G144=Texte!$A$27,F144,0)","v":0},{"$f":"IF('Anhang Grundstücksverzeichnis'!G144=Texte!$A$28,F144,0)","v":0}]
[135,{"$f":"IF(C145<>\"\",IF(ISNA(VLOOKUP(C145,Katastralgemeinden!$A$2:$B$3041,2,FALSE)),\"Ungültige KG-Nummer!\",VLOOKUP(C145,Katastralgemeinden!A$2:$B$3041,2,\"falsch\")),\"\")","v":""},null,null,null,null,null,null,null,null,"",0,{"$f":"IF('Anhang Grundstücksverzeichnis'!G145=Texte!$A$25,F145,0)","v":0},{"$f":"IF('Anhang Grundstücksverzeichnis'!G145=Texte!$A$26,F145,0)","v":0},{"$f":"IF('Anhang Grundstücksverzeichnis'!G145=Texte!$A$27,F145,0)","v":0},{"$f":"IF('Anhang Grundstücksverzeichnis'!G145=Texte!$A$28,F145,0)","v":0}]
[136,{"$f":"IF(C146<>\"\",IF(ISNA(VLOOKUP(C146,Katastralgemeinden!$A$2:$B$3041,2,FALSE)),\"Ungültige KG-Nummer!\",VLOOKUP(C146,Katastralgemeinden!A$2:$B$3041,2,\"falsch\")),\"\")","v":""},null,null,null,null,null,null,null,null,"",0,{"$f":"IF('Anhang Grundstücksverzeichnis'!G146=Texte!$A$25,F146,0)","v":0},{"$f":"IF('Anhang Grundstücksverzeichnis'!G146=Texte!$A$26,F146,0)","v":0},{"$f":"IF('Anhang Grundstücksverzeichnis'!G146=Texte!$A$27,F146,0)","v":0},{"$f":"IF('Anhang Grundstücksverzeichnis'!G146=Texte!$A$28,F146,0)","v":0}]
[137,{"$f":"IF(C147<>\"\",IF(ISNA(VLOOKUP(C147,Katastralgemeinden!$A$2:$B$3041,2,FALSE)),\"Ungültige KG-Nummer!\",VLOOKUP(C147,Katastralgemeinden!A$2:$B$3041,2,\"falsch\")),\"\")","v":""},null,null,null,null,null,null,null,null,"",0,{"$f":"IF('Anhang Grundstücksverzeichnis'!G147=Texte!$A$25,F147,0)","v":0},{"$f":"IF('Anhang Grundstücksverzeichnis'!G147=Texte!$A$26,F147,0)","v":0},{"$f":"IF('Anhang Grundstücksverzeichnis'!G147=Texte!$A$27,F147,0)","v":0},{"$f":"IF('Anhang Grundstücksverzeichnis'!G147=Texte!$A$28,F147,0)","v":0}]
[138,{"$f":"IF(C148<>\"\",IF(ISNA(VLOOKUP(C148,Katastralgemeinden!$A$2:$B$3041,2,FALSE)),\"Ungültige KG-Nummer!\",VLOOKUP(C148,Katastralgemeinden!A$2:$B$3041,2,\"falsch\")),\"\")","v":""},null,null,null,null,null,null,null,null,"",0,{"$f":"IF('Anhang Grundstücksverzeichnis'!G148=Texte!$A$25,F148,0)","v":0},{"$f":"IF('Anhang Grundstücksverzeichnis'!G148=Texte!$A$26,F148,0)","v":0},{"$f":"IF('Anhang Grundstücksverzeichnis'!G148=Texte!$A$27,F148,0)","v":0},{"$f":"IF('Anhang Grundstücksverzeichnis'!G148=Texte!$A$28,F148,0)","v":0}]
[139,{"$f":"IF(C149<>\"\",IF(ISNA(VLOOKUP(C149,Katastralgemeinden!$A$2:$B$3041,2,FALSE)),\"Ungültige KG-Nummer!\",VLOOKUP(C149,Katastralgemeinden!A$2:$B$3041,2,\"falsch\")),\"\")","v":""},null,null,null,null,null,null,null,null,"",0,{"$f":"IF('Anhang Grundstücksverzeichnis'!G149=Texte!$A$25,F149,0)","v":0},{"$f":"IF('Anhang Grundstücksverzeichnis'!G149=Texte!$A$26,F149,0)","v":0},{"$f":"IF('Anhang Grundstücksverzeichnis'!G149=Texte!$A$27,F149,0)","v":0},{"$f":"IF('Anhang Grundstücksverzeichnis'!G149=Texte!$A$28,F149,0)","v":0}]
[140,{"$f":"IF(C150<>\"\",IF(ISNA(VLOOKUP(C150,Katastralgemeinden!$A$2:$B$3041,2,FALSE)),\"Ungültige KG-Nummer!\",VLOOKUP(C150,Katastralgemeinden!A$2:$B$3041,2,\"falsch\")),\"\")","v":""},null,null,null,null,null,null,null,null,"",0,{"$f":"IF('Anhang Grundstücksverzeichnis'!G150=Texte!$A$25,F150,0)","v":0},{"$f":"IF('Anhang Grundstücksverzeichnis'!G150=Texte!$A$26,F150,0)","v":0},{"$f":"IF('Anhang Grundstücksverzeichnis'!G150=Texte!$A$27,F150,0)","v":0},{"$f":"IF('Anhang Grundstücksverzeichnis'!G150=Texte!$A$28,F150,0)","v":0}]
[141,{"$f":"IF(C151<>\"\",IF(ISNA(VLOOKUP(C151,Katastralgemeinden!$A$2:$B$3041,2,FALSE)),\"Ungültige KG-Nummer!\",VLOOKUP(C151,Katastralgemeinden!A$2:$B$3041,2,\"falsch\")),\"\")","v":""},null,null,null,null,null,null,null,null,"",0,{"$f":"IF('Anhang Grundstücksverzeichnis'!G151=Texte!$A$25,F151,0)","v":0},{"$f":"IF('Anhang Grundstücksverzeichnis'!G151=Texte!$A$26,F151,0)","v":0},{"$f":"IF('Anhang Grundstücksverzeichnis'!G151=Texte!$A$27,F151,0)","v":0},{"$f":"IF('Anhang Grundstücksverzeichnis'!G151=Texte!$A$28,F151,0)","v":0}]
[142,{"$f":"IF(C152<>\"\",IF(ISNA(VLOOKUP(C152,Katastralgemeinden!$A$2:$B$3041,2,FALSE)),\"Ungültige KG-Nummer!\",VLOOKUP(C152,Katastralgemeinden!A$2:$B$3041,2,\"falsch\")),\"\")","v":""},null,null,null,null,null,null,null,null,"",0,{"$f":"IF('Anhang Grundstücksverzeichnis'!G152=Texte!$A$25,F152,0)","v":0},{"$f":"IF('Anhang Grundstücksverzeichnis'!G152=Texte!$A$26,F152,0)","v":0},{"$f":"IF('Anhang Grundstücksverzeichnis'!G152=Texte!$A$27,F152,0)","v":0},{"$f":"IF('Anhang Grundstücksverzeichnis'!G152=Texte!$A$28,F152,0)","v":0}]
[143,{"$f":"IF(C153<>\"\",IF(ISNA(VLOOKUP(C153,Katastralgemeinden!$A$2:$B$3041,2,FALSE)),\"Ungültige KG-Nummer!\",VLOOKUP(C153,Katastralgemeinden!A$2:$B$3041,2,\"falsch\")),\"\")","v":""},null,null,null,null,null,null,null,null,"",0,{"$f":"IF('Anhang Grundstücksverzeichnis'!G153=Texte!$A$25,F153,0)","v":0},{"$f":"IF('Anhang Grundstücksverzeichnis'!G153=Texte!$A$26,F153,0)","v":0},{"$f":"IF('Anhang Grundstücksverzeichnis'!G153=Texte!$A$27,F153,0)","v":0},{"$f":"IF('Anhang Grundstücksverzeichnis'!G153=Texte!$A$28,F153,0)","v":0}]
[144,{"$f":"IF(C154<>\"\",IF(ISNA(VLOOKUP(C154,Katastralgemeinden!$A$2:$B$3041,2,FALSE)),\"Ungültige KG-Nummer!\",VLOOKUP(C154,Katastralgemeinden!A$2:$B$3041,2,\"falsch\")),\"\")","v":""},null,null,null,null,null,null,null,null,"",0,{"$f":"IF('Anhang Grundstücksverzeichnis'!G154=Texte!$A$25,F154,0)","v":0},{"$f":"IF('Anhang Grundstücksverzeichnis'!G154=Texte!$A$26,F154,0)","v":0},{"$f":"IF('Anhang Grundstücksverzeichnis'!G154=Texte!$A$27,F154,0)","v":0},{"$f":"IF('Anhang Grundstücksverzeichnis'!G154=Texte!$A$28,F154,0)","v":0}]
[145,{"$f":"IF(C155<>\"\",IF(ISNA(VLOOKUP(C155,Katastralgemeinden!$A$2:$B$3041,2,FALSE)),\"Ungültige KG-Nummer!\",VLOOKUP(C155,Katastralgemeinden!A$2:$B$3041,2,\"falsch\")),\"\")","v":""},null,null,null,null,null,null,null,null,"",0,{"$f":"IF('Anhang Grundstücksverzeichnis'!G155=Texte!$A$25,F155,0)","v":0},{"$f":"IF('Anhang Grundstücksverzeichnis'!G155=Texte!$A$26,F155,0)","v":0},{"$f":"IF('Anhang Grundstücksverzeichnis'!G155=Texte!$A$27,F155,0)","v":0},{"$f":"IF('Anhang Grundstücksverzeichnis'!G155=Texte!$A$28,F155,0)","v":0}]
[146,{"$f":"IF(C156<>\"\",IF(ISNA(VLOOKUP(C156,Katastralgemeinden!$A$2:$B$3041,2,FALSE)),\"Ungültige KG-Nummer!\",VLOOKUP(C156,Katastralgemeinden!A$2:$B$3041,2,\"falsch\")),\"\")","v":""},null,null,null,null,null,null,null,null,"",0,{"$f":"IF('Anhang Grundstücksverzeichnis'!G156=Texte!$A$25,F156,0)","v":0},{"$f":"IF('Anhang Grundstücksverzeichnis'!G156=Texte!$A$26,F156,0)","v":0},{"$f":"IF('Anhang Grundstücksverzeichnis'!G156=Texte!$A$27,F156,0)","v":0},{"$f":"IF('Anhang Grundstücksverzeichnis'!G156=Texte!$A$28,F156,0)","v":0}]
[147,{"$f":"IF(C157<>\"\",IF(ISNA(VLOOKUP(C157,Katastralgemeinden!$A$2:$B$3041,2,FALSE)),\"Ungültige KG-Nummer!\",VLOOKUP(C157,Katastralgemeinden!A$2:$B$3041,2,\"falsch\")),\"\")","v":""},null,null,null,null,null,null,null,null,"",0,{"$f":"IF('Anhang Grundstücksverzeichnis'!G157=Texte!$A$25,F157,0)","v":0},{"$f":"IF('Anhang Grundstücksverzeichnis'!G157=Texte!$A$26,F157,0)","v":0},{"$f":"IF('Anhang Grundstücksverzeichnis'!G157=Texte!$A$27,F157,0)","v":0},{"$f":"IF('Anhang Grundstücksverzeichnis'!G157=Texte!$A$28,F157,0)","v":0}]
[148,{"$f":"IF(C158<>\"\",IF(ISNA(VLOOKUP(C158,Katastralgemeinden!$A$2:$B$3041,2,FALSE)),\"Ungültige KG-Nummer!\",VLOOKUP(C158,Katastralgemeinden!A$2:$B$3041,2,\"falsch\")),\"\")","v":""},null,null,null,null,null,null,null,null,"",0,{"$f":"IF('Anhang Grundstücksverzeichnis'!G158=Texte!$A$25,F158,0)","v":0},{"$f":"IF('Anhang Grundstücksverzeichnis'!G158=Texte!$A$26,F158,0)","v":0},{"$f":"IF('Anhang Grundstücksverzeichnis'!G158=Texte!$A$27,F158,0)","v":0},{"$f":"IF('Anhang Grundstücksverzeichnis'!G158=Texte!$A$28,F158,0)","v":0}]
[149,{"$f":"IF(C159<>\"\",IF(ISNA(VLOOKUP(C159,Katastralgemeinden!$A$2:$B$3041,2,FALSE)),\"Ungültige KG-Nummer!\",VLOOKUP(C159,Katastralgemeinden!A$2:$B$3041,2,\"falsch\")),\"\")","v":""},null,null,null,null,null,null,null,null,"",0,{"$f":"IF('Anhang Grundstücksverzeichnis'!G159=Texte!$A$25,F159,0)","v":0},{"$f":"IF('Anhang Grundstücksverzeichnis'!G159=Texte!$A$26,F159,0)","v":0},{"$f":"IF('Anhang Grundstücksverzeichnis'!G159=Texte!$A$27,F159,0)","v":0},{"$f":"IF('Anhang Grundstücksverzeichnis'!G159=Texte!$A$28,F159,0)","v":0}]
[150,{"$f":"IF(C160<>\"\",IF(ISNA(VLOOKUP(C160,Katastralgemeinden!$A$2:$B$3041,2,FALSE)),\"Ungültige KG-Nummer!\",VLOOKUP(C160,Katastralgemeinden!A$2:$B$3041,2,\"falsch\")),\"\")","v":""},null,null,null,null,null,null,null,null,"",0,{"$f":"IF('Anhang Grundstücksverzeichnis'!G160=Texte!$A$25,F160,0)","v":0},{"$f":"IF('Anhang Grundstücksverzeichnis'!G160=Texte!$A$26,F160,0)","v":0},{"$f":"IF('Anhang Grundstücksverzeichnis'!G160=Texte!$A$27,F160,0)","v":0},{"$f":"IF('Anhang Grundstücksverzeichnis'!G160=Texte!$A$28,F160,0)","v":0}]
[151,{"$f":"IF(C161<>\"\",IF(ISNA(VLOOKUP(C161,Katastralgemeinden!$A$2:$B$3041,2,FALSE)),\"Ungültige KG-Nummer!\",VLOOKUP(C161,Katastralgemeinden!A$2:$B$3041,2,\"falsch\")),\"\")","v":""},null,null,null,null,null,null,null,null,"",0,{"$f":"IF('Anhang Grundstücksverzeichnis'!G161=Texte!$A$25,F161,0)","v":0},{"$f":"IF('Anhang Grundstücksverzeichnis'!G161=Texte!$A$26,F161,0)","v":0},{"$f":"IF('Anhang Grundstücksverzeichnis'!G161=Texte!$A$27,F161,0)","v":0},{"$f":"IF('Anhang Grundstücksverzeichnis'!G161=Texte!$A$28,F161,0)","v":0}]
[152,{"$f":"IF(C162<>\"\",IF(ISNA(VLOOKUP(C162,Katastralgemeinden!$A$2:$B$3041,2,FALSE)),\"Ungültige KG-Nummer!\",VLOOKUP(C162,Katastralgemeinden!A$2:$B$3041,2,\"falsch\")),\"\")","v":""},null,null,null,null,null,null,null,null,"",0,{"$f":"IF('Anhang Grundstücksverzeichnis'!G162=Texte!$A$25,F162,0)","v":0},{"$f":"IF('Anhang Grundstücksverzeichnis'!G162=Texte!$A$26,F162,0)","v":0},{"$f":"IF('Anhang Grundstücksverzeichnis'!G162=Texte!$A$27,F162,0)","v":0},{"$f":"IF('Anhang Grundstücksverzeichnis'!G162=Texte!$A$28,F162,0)","v":0}]
[153,{"$f":"IF(C163<>\"\",IF(ISNA(VLOOKUP(C163,Katastralgemeinden!$A$2:$B$3041,2,FALSE)),\"Ungültige KG-Nummer!\",VLOOKUP(C163,Katastralgemeinden!A$2:$B$3041,2,\"falsch\")),\"\")","v":""},null,null,null,null,null,null,null,null,"",0,{"$f":"IF('Anhang Grundstücksverzeichnis'!G163=Texte!$A$25,F163,0)","v":0},{"$f":"IF('Anhang Grundstücksverzeichnis'!G163=Texte!$A$26,F163,0)","v":0},{"$f":"IF('Anhang Grundstücksverzeichnis'!G163=Texte!$A$27,F163,0)","v":0},{"$f":"IF('Anhang Grundstücksverzeichnis'!G163=Texte!$A$28,F163,0)","v":0}]
[154,{"$f":"IF(C164<>\"\",IF(ISNA(VLOOKUP(C164,Katastralgemeinden!$A$2:$B$3041,2,FALSE)),\"Ungültige KG-Nummer!\",VLOOKUP(C164,Katastralgemeinden!A$2:$B$3041,2,\"falsch\")),\"\")","v":""},null,null,null,null,null,null,null,null,"",0,{"$f":"IF('Anhang Grundstücksverzeichnis'!G164=Texte!$A$25,F164,0)","v":0},{"$f":"IF('Anhang Grundstücksverzeichnis'!G164=Texte!$A$26,F164,0)","v":0},{"$f":"IF('Anhang Grundstücksverzeichnis'!G164=Texte!$A$27,F164,0)","v":0},{"$f":"IF('Anhang Grundstücksverzeichnis'!G164=Texte!$A$28,F164,0)","v":0}]
[155,{"$f":"IF(C165<>\"\",IF(ISNA(VLOOKUP(C165,Katastralgemeinden!$A$2:$B$3041,2,FALSE)),\"Ungültige KG-Nummer!\",VLOOKUP(C165,Katastralgemeinden!A$2:$B$3041,2,\"falsch\")),\"\")","v":""},null,null,null,null,null,null,null,null,"",0,{"$f":"IF('Anhang Grundstücksverzeichnis'!G165=Texte!$A$25,F165,0)","v":0},{"$f":"IF('Anhang Grundstücksverzeichnis'!G165=Texte!$A$26,F165,0)","v":0},{"$f":"IF('Anhang Grundstücksverzeichnis'!G165=Texte!$A$27,F165,0)","v":0},{"$f":"IF('Anhang Grundstücksverzeichnis'!G165=Texte!$A$28,F165,0)","v":0}]
[156,{"$f":"IF(C166<>\"\",IF(ISNA(VLOOKUP(C166,Katastralgemeinden!$A$2:$B$3041,2,FALSE)),\"Ungültige KG-Nummer!\",VLOOKUP(C166,Katastralgemeinden!A$2:$B$3041,2,\"falsch\")),\"\")","v":""},null,null,null,null,null,null,null,null,"",0,{"$f":"IF('Anhang Grundstücksverzeichnis'!G166=Texte!$A$25,F166,0)","v":0},{"$f":"IF('Anhang Grundstücksverzeichnis'!G166=Texte!$A$26,F166,0)","v":0},{"$f":"IF('Anhang Grundstücksverzeichnis'!G166=Texte!$A$27,F166,0)","v":0},{"$f":"IF('Anhang Grundstücksverzeichnis'!G166=Texte!$A$28,F166,0)","v":0}]
[157,{"$f":"IF(C167<>\"\",IF(ISNA(VLOOKUP(C167,Katastralgemeinden!$A$2:$B$3041,2,FALSE)),\"Ungültige KG-Nummer!\",VLOOKUP(C167,Katastralgemeinden!A$2:$B$3041,2,\"falsch\")),\"\")","v":""},null,null,null,null,null,null,null,null,"",0,{"$f":"IF('Anhang Grundstücksverzeichnis'!G167=Texte!$A$25,F167,0)","v":0},{"$f":"IF('Anhang Grundstücksverzeichnis'!G167=Texte!$A$26,F167,0)","v":0},{"$f":"IF('Anhang Grundstücksverzeichnis'!G167=Texte!$A$27,F167,0)","v":0},{"$f":"IF('Anhang Grundstücksverzeichnis'!G167=Texte!$A$28,F167,0)","v":0}]
[158,{"$f":"IF(C168<>\"\",IF(ISNA(VLOOKUP(C168,Katastralgemeinden!$A$2:$B$3041,2,FALSE)),\"Ungültige KG-Nummer!\",VLOOKUP(C168,Katastralgemeinden!A$2:$B$3041,2,\"falsch\")),\"\")","v":""},null,null,null,null,null,null,null,null,"",0,{"$f":"IF('Anhang Grundstücksverzeichnis'!G168=Texte!$A$25,F168,0)","v":0},{"$f":"IF('Anhang Grundstücksverzeichnis'!G168=Texte!$A$26,F168,0)","v":0},{"$f":"IF('Anhang Grundstücksverzeichnis'!G168=Texte!$A$27,F168,0)","v":0},{"$f":"IF('Anhang Grundstücksverzeichnis'!G168=Texte!$A$28,F168,0)","v":0}]
[159,{"$f":"IF(C169<>\"\",IF(ISNA(VLOOKUP(C169,Katastralgemeinden!$A$2:$B$3041,2,FALSE)),\"Ungültige KG-Nummer!\",VLOOKUP(C169,Katastralgemeinden!A$2:$B$3041,2,\"falsch\")),\"\")","v":""},null,null,null,null,null,null,null,null,"",0,{"$f":"IF('Anhang Grundstücksverzeichnis'!G169=Texte!$A$25,F169,0)","v":0},{"$f":"IF('Anhang Grundstücksverzeichnis'!G169=Texte!$A$26,F169,0)","v":0},{"$f":"IF('Anhang Grundstücksverzeichnis'!G169=Texte!$A$27,F169,0)","v":0},{"$f":"IF('Anhang Grundstücksverzeichnis'!G169=Texte!$A$28,F169,0)","v":0}]
[160,{"$f":"IF(C170<>\"\",IF(ISNA(VLOOKUP(C170,Katastralgemeinden!$A$2:$B$3041,2,FALSE)),\"Ungültige KG-Nummer!\",VLOOKUP(C170,Katastralgemeinden!A$2:$B$3041,2,\"falsch\")),\"\")","v":""},null,null,null,null,null,null,null,null,"",0,{"$f":"IF('Anhang Grundstücksverzeichnis'!G170=Texte!$A$25,F170,0)","v":0},{"$f":"IF('Anhang Grundstücksverzeichnis'!G170=Texte!$A$26,F170,0)","v":0},{"$f":"IF('Anhang Grundstücksverzeichnis'!G170=Texte!$A$27,F170,0)","v":0},{"$f":"IF('Anhang Grundstücksverzeichnis'!G170=Texte!$A$28,F170,0)","v":0}]
[161,{"$f":"IF(C171<>\"\",IF(ISNA(VLOOKUP(C171,Katastralgemeinden!$A$2:$B$3041,2,FALSE)),\"Ungültige KG-Nummer!\",VLOOKUP(C171,Katastralgemeinden!A$2:$B$3041,2,\"falsch\")),\"\")","v":""},null,null,null,null,null,null,null,null,"",0,{"$f":"IF('Anhang Grundstücksverzeichnis'!G171=Texte!$A$25,F171,0)","v":0},{"$f":"IF('Anhang Grundstücksverzeichnis'!G171=Texte!$A$26,F171,0)","v":0},{"$f":"IF('Anhang Grundstücksverzeichnis'!G171=Texte!$A$27,F171,0)","v":0},{"$f":"IF('Anhang Grundstücksverzeichnis'!G171=Texte!$A$28,F171,0)","v":0}]
[162,{"$f":"IF(C172<>\"\",IF(ISNA(VLOOKUP(C172,Katastralgemeinden!$A$2:$B$3041,2,FALSE)),\"Ungültige KG-Nummer!\",VLOOKUP(C172,Katastralgemeinden!A$2:$B$3041,2,\"falsch\")),\"\")","v":""},null,null,null,null,null,null,null,null,"",0,{"$f":"IF('Anhang Grundstücksverzeichnis'!G172=Texte!$A$25,F172,0)","v":0},{"$f":"IF('Anhang Grundstücksverzeichnis'!G172=Texte!$A$26,F172,0)","v":0},{"$f":"IF('Anhang Grundstücksverzeichnis'!G172=Texte!$A$27,F172,0)","v":0},{"$f":"IF('Anhang Grundstücksverzeichnis'!G172=Texte!$A$28,F172,0)","v":0}]
[163,{"$f":"IF(C173<>\"\",IF(ISNA(VLOOKUP(C173,Katastralgemeinden!$A$2:$B$3041,2,FALSE)),\"Ungültige KG-Nummer!\",VLOOKUP(C173,Katastralgemeinden!A$2:$B$3041,2,\"falsch\")),\"\")","v":""},null,null,null,null,null,null,null,null,"",0,{"$f":"IF('Anhang Grundstücksverzeichnis'!G173=Texte!$A$25,F173,0)","v":0},{"$f":"IF('Anhang Grundstücksverzeichnis'!G173=Texte!$A$26,F173,0)","v":0},{"$f":"IF('Anhang Grundstücksverzeichnis'!G173=Texte!$A$27,F173,0)","v":0},{"$f":"IF('Anhang Grundstücksverzeichnis'!G173=Texte!$A$28,F173,0)","v":0}]
[164,{"$f":"IF(C174<>\"\",IF(ISNA(VLOOKUP(C174,Katastralgemeinden!$A$2:$B$3041,2,FALSE)),\"Ungültige KG-Nummer!\",VLOOKUP(C174,Katastralgemeinden!A$2:$B$3041,2,\"falsch\")),\"\")","v":""},null,null,null,null,null,null,null,null,"",0,{"$f":"IF('Anhang Grundstücksverzeichnis'!G174=Texte!$A$25,F174,0)","v":0},{"$f":"IF('Anhang Grundstücksverzeichnis'!G174=Texte!$A$26,F174,0)","v":0},{"$f":"IF('Anhang Grundstücksverzeichnis'!G174=Texte!$A$27,F174,0)","v":0},{"$f":"IF('Anhang Grundstücksverzeichnis'!G174=Texte!$A$28,F174,0)","v":0}]
[165,{"$f":"IF(C175<>\"\",IF(ISNA(VLOOKUP(C175,Katastralgemeinden!$A$2:$B$3041,2,FALSE)),\"Ungültige KG-Nummer!\",VLOOKUP(C175,Katastralgemeinden!A$2:$B$3041,2,\"falsch\")),\"\")","v":""},null,null,null,null,null,null,null,null,"",0,{"$f":"IF('Anhang Grundstücksverzeichnis'!G175=Texte!$A$25,F175,0)","v":0},{"$f":"IF('Anhang Grundstücksverzeichnis'!G175=Texte!$A$26,F175,0)","v":0},{"$f":"IF('Anhang Grundstücksverzeichnis'!G175=Texte!$A$27,F175,0)","v":0},{"$f":"IF('Anhang Grundstücksverzeichnis'!G175=Texte!$A$28,F175,0)","v":0}]
[166,{"$f":"IF(C176<>\"\",IF(ISNA(VLOOKUP(C176,Katastralgemeinden!$A$2:$B$3041,2,FALSE)),\"Ungültige KG-Nummer!\",VLOOKUP(C176,Katastralgemeinden!A$2:$B$3041,2,\"falsch\")),\"\")","v":""},null,null,null,null,null,null,null,null,"",0,{"$f":"IF('Anhang Grundstücksverzeichnis'!G176=Texte!$A$25,F176,0)","v":0},{"$f":"IF('Anhang Grundstücksverzeichnis'!G176=Texte!$A$26,F176,0)","v":0},{"$f":"IF('Anhang Grundstücksverzeichnis'!G176=Texte!$A$27,F176,0)","v":0},{"$f":"IF('Anhang Grundstücksverzeichnis'!G176=Texte!$A$28,F176,0)","v":0}]
[167,{"$f":"IF(C177<>\"\",IF(ISNA(VLOOKUP(C177,Katastralgemeinden!$A$2:$B$3041,2,FALSE)),\"Ungültige KG-Nummer!\",VLOOKUP(C177,Katastralgemeinden!A$2:$B$3041,2,\"falsch\")),\"\")","v":""},null,null,null,null,null,null,null,null,"",0,{"$f":"IF('Anhang Grundstücksverzeichnis'!G177=Texte!$A$25,F177,0)","v":0},{"$f":"IF('Anhang Grundstücksverzeichnis'!G177=Texte!$A$26,F177,0)","v":0},{"$f":"IF('Anhang Grundstücksverzeichnis'!G177=Texte!$A$27,F177,0)","v":0},{"$f":"IF('Anhang Grundstücksverzeichnis'!G177=Texte!$A$28,F177,0)","v":0}]
[168,{"$f":"IF(C178<>\"\",IF(ISNA(VLOOKUP(C178,Katastralgemeinden!$A$2:$B$3041,2,FALSE)),\"Ungültige KG-Nummer!\",VLOOKUP(C178,Katastralgemeinden!A$2:$B$3041,2,\"falsch\")),\"\")","v":""},null,null,null,null,null,null,null,null,"",0,{"$f":"IF('Anhang Grundstücksverzeichnis'!G178=Texte!$A$25,F178,0)","v":0},{"$f":"IF('Anhang Grundstücksverzeichnis'!G178=Texte!$A$26,F178,0)","v":0},{"$f":"IF('Anhang Grundstücksverzeichnis'!G178=Texte!$A$27,F178,0)","v":0},{"$f":"IF('Anhang Grundstücksverzeichnis'!G178=Texte!$A$28,F178,0)","v":0}]
[169,{"$f":"IF(C179<>\"\",IF(ISNA(VLOOKUP(C179,Katastralgemeinden!$A$2:$B$3041,2,FALSE)),\"Ungültige KG-Nummer!\",VLOOKUP(C179,Katastralgemeinden!A$2:$B$3041,2,\"falsch\")),\"\")","v":""},null,null,null,null,null,null,null,null,"",0,{"$f":"IF('Anhang Grundstücksverzeichnis'!G179=Texte!$A$25,F179,0)","v":0},{"$f":"IF('Anhang Grundstücksverzeichnis'!G179=Texte!$A$26,F179,0)","v":0},{"$f":"IF('Anhang Grundstücksverzeichnis'!G179=Texte!$A$27,F179,0)","v":0},{"$f":"IF('Anhang Grundstücksverzeichnis'!G179=Texte!$A$28,F179,0)","v":0}]
[170,{"$f":"IF(C180<>\"\",IF(ISNA(VLOOKUP(C180,Katastralgemeinden!$A$2:$B$3041,2,FALSE)),\"Ungültige KG-Nummer!\",VLOOKUP(C180,Katastralgemeinden!A$2:$B$3041,2,\"falsch\")),\"\")","v":""},null,null,null,null,null,null,null,null,"",0,{"$f":"IF('Anhang Grundstücksverzeichnis'!G180=Texte!$A$25,F180,0)","v":0},{"$f":"IF('Anhang Grundstücksverzeichnis'!G180=Texte!$A$26,F180,0)","v":0},{"$f":"IF('Anhang Grundstücksverzeichnis'!G180=Texte!$A$27,F180,0)","v":0},{"$f":"IF('Anhang Grundstücksverzeichnis'!G180=Texte!$A$28,F180,0)","v":0}]
[171,{"$f":"IF(C181<>\"\",IF(ISNA(VLOOKUP(C181,Katastralgemeinden!$A$2:$B$3041,2,FALSE)),\"Ungültige KG-Nummer!\",VLOOKUP(C181,Katastralgemeinden!A$2:$B$3041,2,\"falsch\")),\"\")","v":""},null,null,null,null,null,null,null,null,"",0,{"$f":"IF('Anhang Grundstücksverzeichnis'!G181=Texte!$A$25,F181,0)","v":0},{"$f":"IF('Anhang Grundstücksverzeichnis'!G181=Texte!$A$26,F181,0)","v":0},{"$f":"IF('Anhang Grundstücksverzeichnis'!G181=Texte!$A$27,F181,0)","v":0},{"$f":"IF('Anhang Grundstücksverzeichnis'!G181=Texte!$A$28,F181,0)","v":0}]
[172,{"$f":"IF(C182<>\"\",IF(ISNA(VLOOKUP(C182,Katastralgemeinden!$A$2:$B$3041,2,FALSE)),\"Ungültige KG-Nummer!\",VLOOKUP(C182,Katastralgemeinden!A$2:$B$3041,2,\"falsch\")),\"\")","v":""},null,null,null,null,null,null,null,null,"",0,{"$f":"IF('Anhang Grundstücksverzeichnis'!G182=Texte!$A$25,F182,0)","v":0},{"$f":"IF('Anhang Grundstücksverzeichnis'!G182=Texte!$A$26,F182,0)","v":0},{"$f":"IF('Anhang Grundstücksverzeichnis'!G182=Texte!$A$27,F182,0)","v":0},{"$f":"IF('Anhang Grundstücksverzeichnis'!G182=Texte!$A$28,F182,0)","v":0}]
[173,{"$f":"IF(C183<>\"\",IF(ISNA(VLOOKUP(C183,Katastralgemeinden!$A$2:$B$3041,2,FALSE)),\"Ungültige KG-Nummer!\",VLOOKUP(C183,Katastralgemeinden!A$2:$B$3041,2,\"falsch\")),\"\")","v":""},null,null,null,null,null,null,null,null,"",0,{"$f":"IF('Anhang Grundstücksverzeichnis'!G183=Texte!$A$25,F183,0)","v":0},{"$f":"IF('Anhang Grundstücksverzeichnis'!G183=Texte!$A$26,F183,0)","v":0},{"$f":"IF('Anhang Grundstücksverzeichnis'!G183=Texte!$A$27,F183,0)","v":0},{"$f":"IF('Anhang Grundstücksverzeichnis'!G183=Texte!$A$28,F183,0)","v":0}]
[174,{"$f":"IF(C184<>\"\",IF(ISNA(VLOOKUP(C184,Katastralgemeinden!$A$2:$B$3041,2,FALSE)),\"Ungültige KG-Nummer!\",VLOOKUP(C184,Katastralgemeinden!A$2:$B$3041,2,\"falsch\")),\"\")","v":""},null,null,null,null,null,null,null,null,"",0,{"$f":"IF('Anhang Grundstücksverzeichnis'!G184=Texte!$A$25,F184,0)","v":0},{"$f":"IF('Anhang Grundstücksverzeichnis'!G184=Texte!$A$26,F184,0)","v":0},{"$f":"IF('Anhang Grundstücksverzeichnis'!G184=Texte!$A$27,F184,0)","v":0},{"$f":"IF('Anhang Grundstücksverzeichnis'!G184=Texte!$A$28,F184,0)","v":0}]
[175,{"$f":"IF(C185<>\"\",IF(ISNA(VLOOKUP(C185,Katastralgemeinden!$A$2:$B$3041,2,FALSE)),\"Ungültige KG-Nummer!\",VLOOKUP(C185,Katastralgemeinden!A$2:$B$3041,2,\"falsch\")),\"\")","v":""},null,null,null,null,null,null,null,null,"",0,{"$f":"IF('Anhang Grundstücksverzeichnis'!G185=Texte!$A$25,F185,0)","v":0},{"$f":"IF('Anhang Grundstücksverzeichnis'!G185=Texte!$A$26,F185,0)","v":0},{"$f":"IF('Anhang Grundstücksverzeichnis'!G185=Texte!$A$27,F185,0)","v":0},{"$f":"IF('Anhang Grundstücksverzeichnis'!G185=Texte!$A$28,F185,0)","v":0}]
[176,{"$f":"IF(C186<>\"\",IF(ISNA(VLOOKUP(C186,Katastralgemeinden!$A$2:$B$3041,2,FALSE)),\"Ungültige KG-Nummer!\",VLOOKUP(C186,Katastralgemeinden!A$2:$B$3041,2,\"falsch\")),\"\")","v":""},null,null,null,null,null,null,null,null,"",0,{"$f":"IF('Anhang Grundstücksverzeichnis'!G186=Texte!$A$25,F186,0)","v":0},{"$f":"IF('Anhang Grundstücksverzeichnis'!G186=Texte!$A$26,F186,0)","v":0},{"$f":"IF('Anhang Grundstücksverzeichnis'!G186=Texte!$A$27,F186,0)","v":0},{"$f":"IF('Anhang Grundstücksverzeichnis'!G186=Texte!$A$28,F186,0)","v":0}]
[177,{"$f":"IF(C187<>\"\",IF(ISNA(VLOOKUP(C187,Katastralgemeinden!$A$2:$B$3041,2,FALSE)),\"Ungültige KG-Nummer!\",VLOOKUP(C187,Katastralgemeinden!A$2:$B$3041,2,\"falsch\")),\"\")","v":""},null,null,null,null,null,null,null,null,"",0,{"$f":"IF('Anhang Grundstücksverzeichnis'!G187=Texte!$A$25,F187,0)","v":0},{"$f":"IF('Anhang Grundstücksverzeichnis'!G187=Texte!$A$26,F187,0)","v":0},{"$f":"IF('Anhang Grundstücksverzeichnis'!G187=Texte!$A$27,F187,0)","v":0},{"$f":"IF('Anhang Grundstücksverzeichnis'!G187=Texte!$A$28,F187,0)","v":0}]
[178,{"$f":"IF(C188<>\"\",IF(ISNA(VLOOKUP(C188,Katastralgemeinden!$A$2:$B$3041,2,FALSE)),\"Ungültige KG-Nummer!\",VLOOKUP(C188,Katastralgemeinden!A$2:$B$3041,2,\"falsch\")),\"\")","v":""},null,null,null,null,null,null,null,null,"",0,{"$f":"IF('Anhang Grundstücksverzeichnis'!G188=Texte!$A$25,F188,0)","v":0},{"$f":"IF('Anhang Grundstücksverzeichnis'!G188=Texte!$A$26,F188,0)","v":0},{"$f":"IF('Anhang Grundstücksverzeichnis'!G188=Texte!$A$27,F188,0)","v":0},{"$f":"IF('Anhang Grundstücksverzeichnis'!G188=Texte!$A$28,F188,0)","v":0}]
[179,{"$f":"IF(C189<>\"\",IF(ISNA(VLOOKUP(C189,Katastralgemeinden!$A$2:$B$3041,2,FALSE)),\"Ungültige KG-Nummer!\",VLOOKUP(C189,Katastralgemeinden!A$2:$B$3041,2,\"falsch\")),\"\")","v":""},null,null,null,null,null,null,null,null,"",0,{"$f":"IF('Anhang Grundstücksverzeichnis'!G189=Texte!$A$25,F189,0)","v":0},{"$f":"IF('Anhang Grundstücksverzeichnis'!G189=Texte!$A$26,F189,0)","v":0},{"$f":"IF('Anhang Grundstücksverzeichnis'!G189=Texte!$A$27,F189,0)","v":0},{"$f":"IF('Anhang Grundstücksverzeichnis'!G189=Texte!$A$28,F189,0)","v":0}]
[180,{"$f":"IF(C190<>\"\",IF(ISNA(VLOOKUP(C190,Katastralgemeinden!$A$2:$B$3041,2,FALSE)),\"Ungültige KG-Nummer!\",VLOOKUP(C190,Katastralgemeinden!A$2:$B$3041,2,\"falsch\")),\"\")","v":""},null,null,null,null,null,null,null,null,"",0,{"$f":"IF('Anhang Grundstücksverzeichnis'!G190=Texte!$A$25,F190,0)","v":0},{"$f":"IF('Anhang Grundstücksverzeichnis'!G190=Texte!$A$26,F190,0)","v":0},{"$f":"IF('Anhang Grundstücksverzeichnis'!G190=Texte!$A$27,F190,0)","v":0},{"$f":"IF('Anhang Grundstücksverzeichnis'!G190=Texte!$A$28,F190,0)","v":0}]
[181,{"$f":"IF(C191<>\"\",IF(ISNA(VLOOKUP(C191,Katastralgemeinden!$A$2:$B$3041,2,FALSE)),\"Ungültige KG-Nummer!\",VLOOKUP(C191,Katastralgemeinden!A$2:$B$3041,2,\"falsch\")),\"\")","v":""},null,null,null,null,null,null,null,null,"",0,{"$f":"IF('Anhang Grundstücksverzeichnis'!G191=Texte!$A$25,F191,0)","v":0},{"$f":"IF('Anhang Grundstücksverzeichnis'!G191=Texte!$A$26,F191,0)","v":0},{"$f":"IF('Anhang Grundstücksverzeichnis'!G191=Texte!$A$27,F191,0)","v":0},{"$f":"IF('Anhang Grundstücksverzeichnis'!G191=Texte!$A$28,F191,0)","v":0}]
[182,{"$f":"IF(C192<>\"\",IF(ISNA(VLOOKUP(C192,Katastralgemeinden!$A$2:$B$3041,2,FALSE)),\"Ungültige KG-Nummer!\",VLOOKUP(C192,Katastralgemeinden!A$2:$B$3041,2,\"falsch\")),\"\")","v":""},null,null,null,null,null,null,null,null,"",0,{"$f":"IF('Anhang Grundstücksverzeichnis'!G192=Texte!$A$25,F192,0)","v":0},{"$f":"IF('Anhang Grundstücksverzeichnis'!G192=Texte!$A$26,F192,0)","v":0},{"$f":"IF('Anhang Grundstücksverzeichnis'!G192=Texte!$A$27,F192,0)","v":0},{"$f":"IF('Anhang Grundstücksverzeichnis'!G192=Texte!$A$28,F192,0)","v":0}]
[183,{"$f":"IF(C193<>\"\",IF(ISNA(VLOOKUP(C193,Katastralgemeinden!$A$2:$B$3041,2,FALSE)),\"Ungültige KG-Nummer!\",VLOOKUP(C193,Katastralgemeinden!A$2:$B$3041,2,\"falsch\")),\"\")","v":""},null,null,null,null,null,null,null,null,"",0,{"$f":"IF('Anhang Grundstücksverzeichnis'!G193=Texte!$A$25,F193,0)","v":0},{"$f":"IF('Anhang Grundstücksverzeichnis'!G193=Texte!$A$26,F193,0)","v":0},{"$f":"IF('Anhang Grundstücksverzeichnis'!G193=Texte!$A$27,F193,0)","v":0},{"$f":"IF('Anhang Grundstücksverzeichnis'!G193=Texte!$A$28,F193,0)","v":0}]
[184,{"$f":"IF(C194<>\"\",IF(ISNA(VLOOKUP(C194,Katastralgemeinden!$A$2:$B$3041,2,FALSE)),\"Ungültige KG-Nummer!\",VLOOKUP(C194,Katastralgemeinden!A$2:$B$3041,2,\"falsch\")),\"\")","v":""},null,null,null,null,null,null,null,null,"",0,{"$f":"IF('Anhang Grundstücksverzeichnis'!G194=Texte!$A$25,F194,0)","v":0},{"$f":"IF('Anhang Grundstücksverzeichnis'!G194=Texte!$A$26,F194,0)","v":0},{"$f":"IF('Anhang Grundstücksverzeichnis'!G194=Texte!$A$27,F194,0)","v":0},{"$f":"IF('Anhang Grundstücksverzeichnis'!G194=Texte!$A$28,F194,0)","v":0}]
[185,{"$f":"IF(C195<>\"\",IF(ISNA(VLOOKUP(C195,Katastralgemeinden!$A$2:$B$3041,2,FALSE)),\"Ungültige KG-Nummer!\",VLOOKUP(C195,Katastralgemeinden!A$2:$B$3041,2,\"falsch\")),\"\")","v":""},null,null,null,null,null,null,null,null,"",0,{"$f":"IF('Anhang Grundstücksverzeichnis'!G195=Texte!$A$25,F195,0)","v":0},{"$f":"IF('Anhang Grundstücksverzeichnis'!G195=Texte!$A$26,F195,0)","v":0},{"$f":"IF('Anhang Grundstücksverzeichnis'!G195=Texte!$A$27,F195,0)","v":0},{"$f":"IF('Anhang Grundstücksverzeichnis'!G195=Texte!$A$28,F195,0)","v":0}]
[186,{"$f":"IF(C196<>\"\",IF(ISNA(VLOOKUP(C196,Katastralgemeinden!$A$2:$B$3041,2,FALSE)),\"Ungültige KG-Nummer!\",VLOOKUP(C196,Katastralgemeinden!A$2:$B$3041,2,\"falsch\")),\"\")","v":""},null,null,null,null,null,null,null,null,"",0,{"$f":"IF('Anhang Grundstücksverzeichnis'!G196=Texte!$A$25,F196,0)","v":0},{"$f":"IF('Anhang Grundstücksverzeichnis'!G196=Texte!$A$26,F196,0)","v":0},{"$f":"IF('Anhang Grundstücksverzeichnis'!G196=Texte!$A$27,F196,0)","v":0},{"$f":"IF('Anhang Grundstücksverzeichnis'!G196=Texte!$A$28,F196,0)","v":0}]
[187,{"$f":"IF(C197<>\"\",IF(ISNA(VLOOKUP(C197,Katastralgemeinden!$A$2:$B$3041,2,FALSE)),\"Ungültige KG-Nummer!\",VLOOKUP(C197,Katastralgemeinden!A$2:$B$3041,2,\"falsch\")),\"\")","v":""},null,null,null,null,null,null,null,null,"",0,{"$f":"IF('Anhang Grundstücksverzeichnis'!G197=Texte!$A$25,F197,0)","v":0},{"$f":"IF('Anhang Grundstücksverzeichnis'!G197=Texte!$A$26,F197,0)","v":0},{"$f":"IF('Anhang Grundstücksverzeichnis'!G197=Texte!$A$27,F197,0)","v":0},{"$f":"IF('Anhang Grundstücksverzeichnis'!G197=Texte!$A$28,F197,0)","v":0}]
[188,{"$f":"IF(C198<>\"\",IF(ISNA(VLOOKUP(C198,Katastralgemeinden!$A$2:$B$3041,2,FALSE)),\"Ungültige KG-Nummer!\",VLOOKUP(C198,Katastralgemeinden!A$2:$B$3041,2,\"falsch\")),\"\")","v":""},null,null,null,null,null,null,null,null,"",0,{"$f":"IF('Anhang Grundstücksverzeichnis'!G198=Texte!$A$25,F198,0)","v":0},{"$f":"IF('Anhang Grundstücksverzeichnis'!G198=Texte!$A$26,F198,0)","v":0},{"$f":"IF('Anhang Grundstücksverzeichnis'!G198=Texte!$A$27,F198,0)","v":0},{"$f":"IF('Anhang Grundstücksverzeichnis'!G198=Texte!$A$28,F198,0)","v":0}]
[189,{"$f":"IF(C199<>\"\",IF(ISNA(VLOOKUP(C199,Katastralgemeinden!$A$2:$B$3041,2,FALSE)),\"Ungültige KG-Nummer!\",VLOOKUP(C199,Katastralgemeinden!A$2:$B$3041,2,\"falsch\")),\"\")","v":""},null,null,null,null,null,null,null,null,"",0,{"$f":"IF('Anhang Grundstücksverzeichnis'!G199=Texte!$A$25,F199,0)","v":0},{"$f":"IF('Anhang Grundstücksverzeichnis'!G199=Texte!$A$26,F199,0)","v":0},{"$f":"IF('Anhang Grundstücksverzeichnis'!G199=Texte!$A$27,F199,0)","v":0},{"$f":"IF('Anhang Grundstücksverzeichnis'!G199=Texte!$A$28,F199,0)","v":0}]
[190,{"$f":"IF(C200<>\"\",IF(ISNA(VLOOKUP(C200,Katastralgemeinden!$A$2:$B$3041,2,FALSE)),\"Ungültige KG-Nummer!\",VLOOKUP(C200,Katastralgemeinden!A$2:$B$3041,2,\"falsch\")),\"\")","v":""},null,null,null,null,null,null,null,null,"",0,{"$f":"IF('Anhang Grundstücksverzeichnis'!G200=Texte!$A$25,F200,0)","v":0},{"$f":"IF('Anhang Grundstücksverzeichnis'!G200=Texte!$A$26,F200,0)","v":0},{"$f":"IF('Anhang Grundstücksverzeichnis'!G200=Texte!$A$27,F200,0)","v":0},{"$f":"IF('Anhang Grundstücksverzeichnis'!G200=Texte!$A$28,F200,0)","v":0}]
[191,{"$f":"IF(C201<>\"\",IF(ISNA(VLOOKUP(C201,Katastralgemeinden!$A$2:$B$3041,2,FALSE)),\"Ungültige KG-Nummer!\",VLOOKUP(C201,Katastralgemeinden!A$2:$B$3041,2,\"falsch\")),\"\")","v":""},null,null,null,null,null,null,null,null,"",0,{"$f":"IF('Anhang Grundstücksverzeichnis'!G201=Texte!$A$25,F201,0)","v":0},{"$f":"IF('Anhang Grundstücksverzeichnis'!G201=Texte!$A$26,F201,0)","v":0},{"$f":"IF('Anhang Grundstücksverzeichnis'!G201=Texte!$A$27,F201,0)","v":0},{"$f":"IF('Anhang Grundstücksverzeichnis'!G201=Texte!$A$28,F201,0)","v":0}]
[192,{"$f":"IF(C202<>\"\",IF(ISNA(VLOOKUP(C202,Katastralgemeinden!$A$2:$B$3041,2,FALSE)),\"Ungültige KG-Nummer!\",VLOOKUP(C202,Katastralgemeinden!A$2:$B$3041,2,\"falsch\")),\"\")","v":""},null,null,null,null,null,null,null,null,"",0,{"$f":"IF('Anhang Grundstücksverzeichnis'!G202=Texte!$A$25,F202,0)","v":0},{"$f":"IF('Anhang Grundstücksverzeichnis'!G202=Texte!$A$26,F202,0)","v":0},{"$f":"IF('Anhang Grundstücksverzeichnis'!G202=Texte!$A$27,F202,0)","v":0},{"$f":"IF('Anhang Grundstücksverzeichnis'!G202=Texte!$A$28,F202,0)","v":0}]
[193,{"$f":"IF(C203<>\"\",IF(ISNA(VLOOKUP(C203,Katastralgemeinden!$A$2:$B$3041,2,FALSE)),\"Ungültige KG-Nummer!\",VLOOKUP(C203,Katastralgemeinden!A$2:$B$3041,2,\"falsch\")),\"\")","v":""},null,null,null,null,null,null,null,null,"",0,{"$f":"IF('Anhang Grundstücksverzeichnis'!G203=Texte!$A$25,F203,0)","v":0},{"$f":"IF('Anhang Grundstücksverzeichnis'!G203=Texte!$A$26,F203,0)","v":0},{"$f":"IF('Anhang Grundstücksverzeichnis'!G203=Texte!$A$27,F203,0)","v":0},{"$f":"IF('Anhang Grundstücksverzeichnis'!G203=Texte!$A$28,F203,0)","v":0}]
[194,{"$f":"IF(C204<>\"\",IF(ISNA(VLOOKUP(C204,Katastralgemeinden!$A$2:$B$3041,2,FALSE)),\"Ungültige KG-Nummer!\",VLOOKUP(C204,Katastralgemeinden!A$2:$B$3041,2,\"falsch\")),\"\")","v":""},null,null,null,null,null,null,null,null,{"$f":"IF(G204<>\"\",IF(G204=\"Eigengrundfläche\",0,IF(G204=\"Vorpachtfläche\",1,IF(G204=\"Abrundung +\",3,IF(G204=\"Abrundung -\",4,5)))),\"\")","v":""},{"$f":"IF(OR(LOWER(H204)=\"x\",LOWER(H204)=\"j\"),1,0)","v":0},{"$f":"IF('Anhang Grundstücksverzeichnis'!G204=Texte!$A$25,F204,0)","v":0},{"$f":"IF('Anhang Grundstücksverzeichnis'!G204=Texte!$A$26,F204,0)","v":0},{"$f":"IF('Anhang Grundstücksverzeichnis'!G204=Texte!$A$27,F204,0)","v":0},{"$f":"IF('Anhang Grundstücksverzeichnis'!G204=Texte!$A$28,F204,0)","v":0}]
[195,{"$f":"IF(C205<>\"\",IF(ISNA(VLOOKUP(C205,Katastralgemeinden!$A$2:$B$3041,2,FALSE)),\"Ungültige KG-Nummer!\",VLOOKUP(C205,Katastralgemeinden!A$2:$B$3041,2,\"falsch\")),\"\")","v":""},null,null,null,null,null,null,null,null,"",0,{"$f":"IF('Anhang Grundstücksverzeichnis'!G205=Texte!$A$25,F205,0)","v":0},{"$f":"IF('Anhang Grundstücksverzeichnis'!G205=Texte!$A$26,F205,0)","v":0},{"$f":"IF('Anhang Grundstücksverzeichnis'!G205=Texte!$A$27,F205,0)","v":0},{"$f":"IF('Anhang Grundstücksverzeichnis'!G205=Texte!$A$28,F205,0)","v":0}]
[196,{"$f":"IF(C206<>\"\",IF(ISNA(VLOOKUP(C206,Katastralgemeinden!$A$2:$B$3041,2,FALSE)),\"Ungültige KG-Nummer!\",VLOOKUP(C206,Katastralgemeinden!A$2:$B$3041,2,\"falsch\")),\"\")","v":""},null,null,null,null,null,null,null,null,"",0,{"$f":"IF('Anhang Grundstücksverzeichnis'!G206=Texte!$A$25,F206,0)","v":0},{"$f":"IF('Anhang Grundstücksverzeichnis'!G206=Texte!$A$26,F206,0)","v":0},{"$f":"IF('Anhang Grundstücksverzeichnis'!G206=Texte!$A$27,F206,0)","v":0},{"$f":"IF('Anhang Grundstücksverzeichnis'!G206=Texte!$A$28,F206,0)","v":0}]
[197,{"$f":"IF(C207<>\"\",IF(ISNA(VLOOKUP(C207,Katastralgemeinden!$A$2:$B$3041,2,FALSE)),\"Ungültige KG-Nummer!\",VLOOKUP(C207,Katastralgemeinden!A$2:$B$3041,2,\"falsch\")),\"\")","v":""},null,null,null,null,null,null,null,null,"",0,{"$f":"IF('Anhang Grundstücksverzeichnis'!G207=Texte!$A$25,F207,0)","v":0},{"$f":"IF('Anhang Grundstücksverzeichnis'!G207=Texte!$A$26,F207,0)","v":0},{"$f":"IF('Anhang Grundstücksverzeichnis'!G207=Texte!$A$27,F207,0)","v":0},{"$f":"IF('Anhang Grundstücksverzeichnis'!G207=Texte!$A$28,F207,0)","v":0}]
[198,{"$f":"IF(C208<>\"\",IF(ISNA(VLOOKUP(C208,Katastralgemeinden!$A$2:$B$3041,2,FALSE)),\"Ungültige KG-Nummer!\",VLOOKUP(C208,Katastralgemeinden!A$2:$B$3041,2,\"falsch\")),\"\")","v":""},null,null,null,null,null,null,null,null,"",0,{"$f":"IF('Anhang Grundstücksverzeichnis'!G208=Texte!$A$25,F208,0)","v":0},{"$f":"IF('Anhang Grundstücksverzeichnis'!G208=Texte!$A$26,F208,0)","v":0},{"$f":"IF('Anhang Grundstücksverzeichnis'!G208=Texte!$A$27,F208,0)","v":0},{"$f":"IF('Anhang Grundstücksverzeichnis'!G208=Texte!$A$28,F208,0)","v":0}]
[199,{"$f":"IF(C209<>\"\",IF(ISNA(VLOOKUP(C209,Katastralgemeinden!$A$2:$B$3041,2,FALSE)),\"Ungültige KG-Nummer!\",VLOOKUP(C209,Katastralgemeinden!A$2:$B$3041,2,\"falsch\")),\"\")","v":""},null,null,null,null,null,null,null,null,"",0,{"$f":"IF('Anhang Grundstücksverzeichnis'!G209=Texte!$A$25,F209,0)","v":0},{"$f":"IF('Anhang Grundstücksverzeichnis'!G209=Texte!$A$26,F209,0)","v":0},{"$f":"IF('Anhang Grundstücksverzeichnis'!G209=Texte!$A$27,F209,0)","v":0},{"$f":"IF('Anhang Grundstücksverzeichnis'!G209=Texte!$A$28,F209,0)","v":0}]
[200,{"$f":"IF(C210<>\"\",IF(ISNA(VLOOKUP(C210,Katastralgemeinden!$A$2:$B$3041,2,FALSE)),\"Ungültige KG-Nummer!\",VLOOKUP(C210,Katastralgemeinden!A$2:$B$3041,2,\"falsch\")),\"\")","v":""},null,null,null,null,null,null,null,null,"",0,{"$f":"IF('Anhang Grundstücksverzeichnis'!G210=Texte!$A$25,F210,0)","v":0},{"$f":"IF('Anhang Grundstücksverzeichnis'!G210=Texte!$A$26,F210,0)","v":0},{"$f":"IF('Anhang Grundstücksverzeichnis'!G210=Texte!$A$27,F210,0)","v":0},{"$f":"IF('Anhang Grundstücksverzeichnis'!G210=Texte!$A$28,F210,0)","v":0}]
[201,{"$f":"IF(C211<>\"\",IF(ISNA(VLOOKUP(C211,Katastralgemeinden!$A$2:$B$3041,2,FALSE)),\"Ungültige KG-Nummer!\",VLOOKUP(C211,Katastralgemeinden!A$2:$B$3041,2,\"falsch\")),\"\")","v":""},null,null,null,null,null,null,null,null,"",0,{"$f":"IF('Anhang Grundstücksverzeichnis'!G211=Texte!$A$25,F211,0)","v":0},{"$f":"IF('Anhang Grundstücksverzeichnis'!G211=Texte!$A$26,F211,0)","v":0},{"$f":"IF('Anhang Grundstücksverzeichnis'!G211=Texte!$A$27,F211,0)","v":0},{"$f":"IF('Anhang Grundstücksverzeichnis'!G211=Texte!$A$28,F211,0)","v":0}]
[202,{"$f":"IF(C212<>\"\",IF(ISNA(VLOOKUP(C212,Katastralgemeinden!$A$2:$B$3041,2,FALSE)),\"Ungültige KG-Nummer!\",VLOOKUP(C212,Katastralgemeinden!A$2:$B$3041,2,\"falsch\")),\"\")","v":""},null,null,null,null,null,null,null,null,"",0,{"$f":"IF('Anhang Grundstücksverzeichnis'!G212=Texte!$A$25,F212,0)","v":0},{"$f":"IF('Anhang Grundstücksverzeichnis'!G212=Texte!$A$26,F212,0)","v":0},{"$f":"IF('Anhang Grundstücksverzeichnis'!G212=Texte!$A$27,F212,0)","v":0},{"$f":"IF('Anhang Grundstücksverzeichnis'!G212=Texte!$A$28,F212,0)","v":0}]
[203,{"$f":"IF(C213<>\"\",IF(ISNA(VLOOKUP(C213,Katastralgemeinden!$A$2:$B$3041,2,FALSE)),\"Ungültige KG-Nummer!\",VLOOKUP(C213,Katastralgemeinden!A$2:$B$3041,2,\"falsch\")),\"\")","v":""},null,null,null,null,null,null,null,null,"",0,{"$f":"IF('Anhang Grundstücksverzeichnis'!G213=Texte!$A$25,F213,0)","v":0},{"$f":"IF('Anhang Grundstücksverzeichnis'!G213=Texte!$A$26,F213,0)","v":0},{"$f":"IF('Anhang Grundstücksverzeichnis'!G213=Texte!$A$27,F213,0)","v":0},{"$f":"IF('Anhang Grundstücksverzeichnis'!G213=Texte!$A$28,F213,0)","v":0}]
[204,{"$f":"IF(C214<>\"\",IF(ISNA(VLOOKUP(C214,Katastralgemeinden!$A$2:$B$3041,2,FALSE)),\"Ungültige KG-Nummer!\",VLOOKUP(C214,Katastralgemeinden!A$2:$B$3041,2,\"falsch\")),\"\")","v":""},null,null,null,null,null,null,null,null,"",0,{"$f":"IF('Anhang Grundstücksverzeichnis'!G214=Texte!$A$25,F214,0)","v":0},{"$f":"IF('Anhang Grundstücksverzeichnis'!G214=Texte!$A$26,F214,0)","v":0},{"$f":"IF('Anhang Grundstücksverzeichnis'!G214=Texte!$A$27,F214,0)","v":0},{"$f":"IF('Anhang Grundstücksverzeichnis'!G214=Texte!$A$28,F214,0)","v":0}]
[205,{"$f":"IF(C215<>\"\",IF(ISNA(VLOOKUP(C215,Katastralgemeinden!$A$2:$B$3041,2,FALSE)),\"Ungültige KG-Nummer!\",VLOOKUP(C215,Katastralgemeinden!A$2:$B$3041,2,\"falsch\")),\"\")","v":""},null,null,null,null,null,null,null,null,"",0,{"$f":"IF('Anhang Grundstücksverzeichnis'!G215=Texte!$A$25,F215,0)","v":0},{"$f":"IF('Anhang Grundstücksverzeichnis'!G215=Texte!$A$26,F215,0)","v":0},{"$f":"IF('Anhang Grundstücksverzeichnis'!G215=Texte!$A$27,F215,0)","v":0},{"$f":"IF('Anhang Grundstücksverzeichnis'!G215=Texte!$A$28,F215,0)","v":0}]
[206,{"$f":"IF(C216<>\"\",IF(ISNA(VLOOKUP(C216,Katastralgemeinden!$A$2:$B$3041,2,FALSE)),\"Ungültige KG-Nummer!\",VLOOKUP(C216,Katastralgemeinden!A$2:$B$3041,2,\"falsch\")),\"\")","v":""},null,null,null,null,null,null,null,null,"",0,{"$f":"IF('Anhang Grundstücksverzeichnis'!G216=Texte!$A$25,F216,0)","v":0},{"$f":"IF('Anhang Grundstücksverzeichnis'!G216=Texte!$A$26,F216,0)","v":0},{"$f":"IF('Anhang Grundstücksverzeichnis'!G216=Texte!$A$27,F216,0)","v":0},{"$f":"IF('Anhang Grundstücksverzeichnis'!G216=Texte!$A$28,F216,0)","v":0}]
[207,{"$f":"IF(C217<>\"\",IF(ISNA(VLOOKUP(C217,Katastralgemeinden!$A$2:$B$3041,2,FALSE)),\"Ungültige KG-Nummer!\",VLOOKUP(C217,Katastralgemeinden!A$2:$B$3041,2,\"falsch\")),\"\")","v":""},null,null,null,null,null,null,null,null,"",0,{"$f":"IF('Anhang Grundstücksverzeichnis'!G217=Texte!$A$25,F217,0)","v":0},{"$f":"IF('Anhang Grundstücksverzeichnis'!G217=Texte!$A$26,F217,0)","v":0},{"$f":"IF('Anhang Grundstücksverzeichnis'!G217=Texte!$A$27,F217,0)","v":0},{"$f":"IF('Anhang Grundstücksverzeichnis'!G217=Texte!$A$28,F217,0)","v":0}]
[208,{"$f":"IF(C218<>\"\",IF(ISNA(VLOOKUP(C218,Katastralgemeinden!$A$2:$B$3041,2,FALSE)),\"Ungültige KG-Nummer!\",VLOOKUP(C218,Katastralgemeinden!A$2:$B$3041,2,\"falsch\")),\"\")","v":""},null,null,null,null,null,null,null,null,"",0,{"$f":"IF('Anhang Grundstücksverzeichnis'!G218=Texte!$A$25,F218,0)","v":0},{"$f":"IF('Anhang Grundstücksverzeichnis'!G218=Texte!$A$26,F218,0)","v":0},{"$f":"IF('Anhang Grundstücksverzeichnis'!G218=Texte!$A$27,F218,0)","v":0},{"$f":"IF('Anhang Grundstücksverzeichnis'!G218=Texte!$A$28,F218,0)","v":0}]
[209,{"$f":"IF(C219<>\"\",IF(ISNA(VLOOKUP(C219,Katastralgemeinden!$A$2:$B$3041,2,FALSE)),\"Ungültige KG-Nummer!\",VLOOKUP(C219,Katastralgemeinden!A$2:$B$3041,2,\"falsch\")),\"\")","v":""},null,null,null,null,null,null,null,null,"",0,{"$f":"IF('Anhang Grundstücksverzeichnis'!G219=Texte!$A$25,F219,0)","v":0},{"$f":"IF('Anhang Grundstücksverzeichnis'!G219=Texte!$A$26,F219,0)","v":0},{"$f":"IF('Anhang Grundstücksverzeichnis'!G219=Texte!$A$27,F219,0)","v":0},{"$f":"IF('Anhang Grundstücksverzeichnis'!G219=Texte!$A$28,F219,0)","v":0}]
[210,{"$f":"IF(C220<>\"\",IF(ISNA(VLOOKUP(C220,Katastralgemeinden!$A$2:$B$3041,2,FALSE)),\"Ungültige KG-Nummer!\",VLOOKUP(C220,Katastralgemeinden!A$2:$B$3041,2,\"falsch\")),\"\")","v":""},null,null,null,null,null,null,null,null,"",0,{"$f":"IF('Anhang Grundstücksverzeichnis'!G220=Texte!$A$25,F220,0)","v":0},{"$f":"IF('Anhang Grundstücksverzeichnis'!G220=Texte!$A$26,F220,0)","v":0},{"$f":"IF('Anhang Grundstücksverzeichnis'!G220=Texte!$A$27,F220,0)","v":0},{"$f":"IF('Anhang Grundstücksverzeichnis'!G220=Texte!$A$28,F220,0)","v":0}]
[211,{"$f":"IF(C221<>\"\",IF(ISNA(VLOOKUP(C221,Katastralgemeinden!$A$2:$B$3041,2,FALSE)),\"Ungültige KG-Nummer!\",VLOOKUP(C221,Katastralgemeinden!A$2:$B$3041,2,\"falsch\")),\"\")","v":""},null,null,null,null,null,null,null,null,"",0,{"$f":"IF('Anhang Grundstücksverzeichnis'!G221=Texte!$A$25,F221,0)","v":0},{"$f":"IF('Anhang Grundstücksverzeichnis'!G221=Texte!$A$26,F221,0)","v":0},{"$f":"IF('Anhang Grundstücksverzeichnis'!G221=Texte!$A$27,F221,0)","v":0},{"$f":"IF('Anhang Grundstücksverzeichnis'!G221=Texte!$A$28,F221,0)","v":0}]
[212,{"$f":"IF(C222<>\"\",IF(ISNA(VLOOKUP(C222,Katastralgemeinden!$A$2:$B$3041,2,FALSE)),\"Ungültige KG-Nummer!\",VLOOKUP(C222,Katastralgemeinden!A$2:$B$3041,2,\"falsch\")),\"\")","v":""},null,null,null,null,null,null,null,null,"",0,{"$f":"IF('Anhang Grundstücksverzeichnis'!G222=Texte!$A$25,F222,0)","v":0},{"$f":"IF('Anhang Grundstücksverzeichnis'!G222=Texte!$A$26,F222,0)","v":0},{"$f":"IF('Anhang Grundstücksverzeichnis'!G222=Texte!$A$27,F222,0)","v":0},{"$f":"IF('Anhang Grundstücksverzeichnis'!G222=Texte!$A$28,F222,0)","v":0}]
[213,{"$f":"IF(C223<>\"\",IF(ISNA(VLOOKUP(C223,Katastralgemeinden!$A$2:$B$3041,2,FALSE)),\"Ungültige KG-Nummer!\",VLOOKUP(C223,Katastralgemeinden!A$2:$B$3041,2,\"falsch\")),\"\")","v":""},null,null,null,null,null,null,null,null,"",0,{"$f":"IF('Anhang Grundstücksverzeichnis'!G223=Texte!$A$25,F223,0)","v":0},{"$f":"IF('Anhang Grundstücksverzeichnis'!G223=Texte!$A$26,F223,0)","v":0},{"$f":"IF('Anhang Grundstücksverzeichnis'!G223=Texte!$A$27,F223,0)","v":0},{"$f":"IF('Anhang Grundstücksverzeichnis'!G223=Texte!$A$28,F223,0)","v":0}]
[214,{"$f":"IF(C224<>\"\",IF(ISNA(VLOOKUP(C224,Katastralgemeinden!$A$2:$B$3041,2,FALSE)),\"Ungültige KG-Nummer!\",VLOOKUP(C224,Katastralgemeinden!A$2:$B$3041,2,\"falsch\")),\"\")","v":""},null,null,null,null,null,null,null,null,"",0,{"$f":"IF('Anhang Grundstücksverzeichnis'!G224=Texte!$A$25,F224,0)","v":0},{"$f":"IF('Anhang Grundstücksverzeichnis'!G224=Texte!$A$26,F224,0)","v":0},{"$f":"IF('Anhang Grundstücksverzeichnis'!G224=Texte!$A$27,F224,0)","v":0},{"$f":"IF('Anhang Grundstücksverzeichnis'!G224=Texte!$A$28,F224,0)","v":0}]
[215,{"$f":"IF(C225<>\"\",IF(ISNA(VLOOKUP(C225,Katastralgemeinden!$A$2:$B$3041,2,FALSE)),\"Ungültige KG-Nummer!\",VLOOKUP(C225,Katastralgemeinden!A$2:$B$3041,2,\"falsch\")),\"\")","v":""},null,null,null,null,null,null,null,null,"",0,{"$f":"IF('Anhang Grundstücksverzeichnis'!G225=Texte!$A$25,F225,0)","v":0},{"$f":"IF('Anhang Grundstücksverzeichnis'!G225=Texte!$A$26,F225,0)","v":0},{"$f":"IF('Anhang Grundstücksverzeichnis'!G225=Texte!$A$27,F225,0)","v":0},{"$f":"IF('Anhang Grundstücksverzeichnis'!G225=Texte!$A$28,F225,0)","v":0}]
[216,{"$f":"IF(C226<>\"\",IF(ISNA(VLOOKUP(C226,Katastralgemeinden!$A$2:$B$3041,2,FALSE)),\"Ungültige KG-Nummer!\",VLOOKUP(C226,Katastralgemeinden!A$2:$B$3041,2,\"falsch\")),\"\")","v":""},null,null,null,null,null,null,null,null,"",0,{"$f":"IF('Anhang Grundstücksverzeichnis'!G226=Texte!$A$25,F226,0)","v":0},{"$f":"IF('Anhang Grundstücksverzeichnis'!G226=Texte!$A$26,F226,0)","v":0},{"$f":"IF('Anhang Grundstücksverzeichnis'!G226=Texte!$A$27,F226,0)","v":0},{"$f":"IF('Anhang Grundstücksverzeichnis'!G226=Texte!$A$28,F226,0)","v":0}]
[217,{"$f":"IF(C227<>\"\",IF(ISNA(VLOOKUP(C227,Katastralgemeinden!$A$2:$B$3041,2,FALSE)),\"Ungültige KG-Nummer!\",VLOOKUP(C227,Katastralgemeinden!A$2:$B$3041,2,\"falsch\")),\"\")","v":""},null,null,null,null,null,null,null,null,"",0,{"$f":"IF('Anhang Grundstücksverzeichnis'!G227=Texte!$A$25,F227,0)","v":0},{"$f":"IF('Anhang Grundstücksverzeichnis'!G227=Texte!$A$26,F227,0)","v":0},{"$f":"IF('Anhang Grundstücksverzeichnis'!G227=Texte!$A$27,F227,0)","v":0},{"$f":"IF('Anhang Grundstücksverzeichnis'!G227=Texte!$A$28,F227,0)","v":0}]
[218,{"$f":"IF(C228<>\"\",IF(ISNA(VLOOKUP(C228,Katastralgemeinden!$A$2:$B$3041,2,FALSE)),\"Ungültige KG-Nummer!\",VLOOKUP(C228,Katastralgemeinden!A$2:$B$3041,2,\"falsch\")),\"\")","v":""},null,null,null,null,null,null,null,null,"",0,{"$f":"IF('Anhang Grundstücksverzeichnis'!G228=Texte!$A$25,F228,0)","v":0},{"$f":"IF('Anhang Grundstücksverzeichnis'!G228=Texte!$A$26,F228,0)","v":0},{"$f":"IF('Anhang Grundstücksverzeichnis'!G228=Texte!$A$27,F228,0)","v":0},{"$f":"IF('Anhang Grundstücksverzeichnis'!G228=Texte!$A$28,F228,0)","v":0}]
[219,{"$f":"IF(C229<>\"\",IF(ISNA(VLOOKUP(C229,Katastralgemeinden!$A$2:$B$3041,2,FALSE)),\"Ungültige KG-Nummer!\",VLOOKUP(C229,Katastralgemeinden!A$2:$B$3041,2,\"falsch\")),\"\")","v":""},null,null,null,null,null,null,null,null,"",0,{"$f":"IF('Anhang Grundstücksverzeichnis'!G229=Texte!$A$25,F229,0)","v":0},{"$f":"IF('Anhang Grundstücksverzeichnis'!G229=Texte!$A$26,F229,0)","v":0},{"$f":"IF('Anhang Grundstücksverzeichnis'!G229=Texte!$A$27,F229,0)","v":0},{"$f":"IF('Anhang Grundstücksverzeichnis'!G229=Texte!$A$28,F229,0)","v":0}]
[220,{"$f":"IF(C230<>\"\",IF(ISNA(VLOOKUP(C230,Katastralgemeinden!$A$2:$B$3041,2,FALSE)),\"Ungültige KG-Nummer!\",VLOOKUP(C230,Katastralgemeinden!A$2:$B$3041,2,\"falsch\")),\"\")","v":""},null,null,null,null,null,null,null,null,"",0,{"$f":"IF('Anhang Grundstücksverzeichnis'!G230=Texte!$A$25,F230,0)","v":0},{"$f":"IF('Anhang Grundstücksverzeichnis'!G230=Texte!$A$26,F230,0)","v":0},{"$f":"IF('Anhang Grundstücksverzeichnis'!G230=Texte!$A$27,F230,0)","v":0},{"$f":"IF('Anhang Grundstücksverzeichnis'!G230=Texte!$A$28,F230,0)","v":0}]
[221,{"$f":"IF(C231<>\"\",IF(ISNA(VLOOKUP(C231,Katastralgemeinden!$A$2:$B$3041,2,FALSE)),\"Ungültige KG-Nummer!\",VLOOKUP(C231,Katastralgemeinden!A$2:$B$3041,2,\"falsch\")),\"\")","v":""},null,null,null,null,null,null,null,null,"",0,{"$f":"IF('Anhang Grundstücksverzeichnis'!G231=Texte!$A$25,F231,0)","v":0},{"$f":"IF('Anhang Grundstücksverzeichnis'!G231=Texte!$A$26,F231,0)","v":0},{"$f":"IF('Anhang Grundstücksverzeichnis'!G231=Texte!$A$27,F231,0)","v":0},{"$f":"IF('Anhang Grundstücksverzeichnis'!G231=Texte!$A$28,F231,0)","v":0}]
[222,{"$f":"IF(C232<>\"\",IF(ISNA(VLOOKUP(C232,Katastralgemeinden!$A$2:$B$3041,2,FALSE)),\"Ungültige KG-Nummer!\",VLOOKUP(C232,Katastralgemeinden!A$2:$B$3041,2,\"falsch\")),\"\")","v":""},null,null,null,null,null,null,null,null,"",0,{"$f":"IF('Anhang Grundstücksverzeichnis'!G232=Texte!$A$25,F232,0)","v":0},{"$f":"IF('Anhang Grundstücksverzeichnis'!G232=Texte!$A$26,F232,0)","v":0},{"$f":"IF('Anhang Grundstücksverzeichnis'!G232=Texte!$A$27,F232,0)","v":0},{"$f":"IF('Anhang Grundstücksverzeichnis'!G232=Texte!$A$28,F232,0)","v":0}]
[223,{"$f":"IF(C233<>\"\",IF(ISNA(VLOOKUP(C233,Katastralgemeinden!$A$2:$B$3041,2,FALSE)),\"Ungültige KG-Nummer!\",VLOOKUP(C233,Katastralgemeinden!A$2:$B$3041,2,\"falsch\")),\"\")","v":""},null,null,null,null,null,null,null,null,"",0,{"$f":"IF('Anhang Grundstücksverzeichnis'!G233=Texte!$A$25,F233,0)","v":0},{"$f":"IF('Anhang Grundstücksverzeichnis'!G233=Texte!$A$26,F233,0)","v":0},{"$f":"IF('Anhang Grundstücksverzeichnis'!G233=Texte!$A$27,F233,0)","v":0},{"$f":"IF('Anhang Grundstücksverzeichnis'!G233=Texte!$A$28,F233,0)","v":0}]
[224,{"$f":"IF(C234<>\"\",IF(ISNA(VLOOKUP(C234,Katastralgemeinden!$A$2:$B$3041,2,FALSE)),\"Ungültige KG-Nummer!\",VLOOKUP(C234,Katastralgemeinden!A$2:$B$3041,2,\"falsch\")),\"\")","v":""},null,null,null,null,null,null,null,null,"",0,{"$f":"IF('Anhang Grundstücksverzeichnis'!G234=Texte!$A$25,F234,0)","v":0},{"$f":"IF('Anhang Grundstücksverzeichnis'!G234=Texte!$A$26,F234,0)","v":0},{"$f":"IF('Anhang Grundstücksverzeichnis'!G234=Texte!$A$27,F234,0)","v":0},{"$f":"IF('Anhang Grundstücksverzeichnis'!G234=Texte!$A$28,F234,0)","v":0}]
[225,{"$f":"IF(C235<>\"\",IF(ISNA(VLOOKUP(C235,Katastralgemeinden!$A$2:$B$3041,2,FALSE)),\"Ungültige KG-Nummer!\",VLOOKUP(C235,Katastralgemeinden!A$2:$B$3041,2,\"falsch\")),\"\")","v":""},null,null,null,null,null,null,null,null,"",0,{"$f":"IF('Anhang Grundstücksverzeichnis'!G235=Texte!$A$25,F235,0)","v":0},{"$f":"IF('Anhang Grundstücksverzeichnis'!G235=Texte!$A$26,F235,0)","v":0},{"$f":"IF('Anhang Grundstücksverzeichnis'!G235=Texte!$A$27,F235,0)","v":0},{"$f":"IF('Anhang Grundstücksverzeichnis'!G235=Texte!$A$28,F235,0)","v":0}]
[226,{"$f":"IF(C236<>\"\",IF(ISNA(VLOOKUP(C236,Katastralgemeinden!$A$2:$B$3041,2,FALSE)),\"Ungültige KG-Nummer!\",VLOOKUP(C236,Katastralgemeinden!A$2:$B$3041,2,\"falsch\")),\"\")","v":""},null,null,null,null,null,null,null,null,"",0,{"$f":"IF('Anhang Grundstücksverzeichnis'!G236=Texte!$A$25,F236,0)","v":0},{"$f":"IF('Anhang Grundstücksverzeichnis'!G236=Texte!$A$26,F236,0)","v":0},{"$f":"IF('Anhang Grundstücksverzeichnis'!G236=Texte!$A$27,F236,0)","v":0},{"$f":"IF('Anhang Grundstücksverzeichnis'!G236=Texte!$A$28,F236,0)","v":0}]
[227,{"$f":"IF(C237<>\"\",IF(ISNA(VLOOKUP(C237,Katastralgemeinden!$A$2:$B$3041,2,FALSE)),\"Ungültige KG-Nummer!\",VLOOKUP(C237,Katastralgemeinden!A$2:$B$3041,2,\"falsch\")),\"\")","v":""},null,null,null,null,null,null,null,null,"",0,{"$f":"IF('Anhang Grundstücksverzeichnis'!G237=Texte!$A$25,F237,0)","v":0},{"$f":"IF('Anhang Grundstücksverzeichnis'!G237=Texte!$A$26,F237,0)","v":0},{"$f":"IF('Anhang Grundstücksverzeichnis'!G237=Texte!$A$27,F237,0)","v":0},{"$f":"IF('Anhang Grundstücksverzeichnis'!G237=Texte!$A$28,F237,0)","v":0}]
[228,{"$f":"IF(C238<>\"\",IF(ISNA(VLOOKUP(C238,Katastralgemeinden!$A$2:$B$3041,2,FALSE)),\"Ungültige KG-Nummer!\",VLOOKUP(C238,Katastralgemeinden!A$2:$B$3041,2,\"falsch\")),\"\")","v":""},null,null,null,null,null,null,null,null,"",0,{"$f":"IF('Anhang Grundstücksverzeichnis'!G238=Texte!$A$25,F238,0)","v":0},{"$f":"IF('Anhang Grundstücksverzeichnis'!G238=Texte!$A$26,F238,0)","v":0},{"$f":"IF('Anhang Grundstücksverzeichnis'!G238=Texte!$A$27,F238,0)","v":0},{"$f":"IF('Anhang Grundstücksverzeichnis'!G238=Texte!$A$28,F238,0)","v":0}]
[229,{"$f":"IF(C239<>\"\",IF(ISNA(VLOOKUP(C239,Katastralgemeinden!$A$2:$B$3041,2,FALSE)),\"Ungültige KG-Nummer!\",VLOOKUP(C239,Katastralgemeinden!A$2:$B$3041,2,\"falsch\")),\"\")","v":""},null,null,null,null,null,null,null,null,"",0,{"$f":"IF('Anhang Grundstücksverzeichnis'!G239=Texte!$A$25,F239,0)","v":0},{"$f":"IF('Anhang Grundstücksverzeichnis'!G239=Texte!$A$26,F239,0)","v":0},{"$f":"IF('Anhang Grundstücksverzeichnis'!G239=Texte!$A$27,F239,0)","v":0},{"$f":"IF('Anhang Grundstücksverzeichnis'!G239=Texte!$A$28,F239,0)","v":0}]
[230,{"$f":"IF(C240<>\"\",IF(ISNA(VLOOKUP(C240,Katastralgemeinden!$A$2:$B$3041,2,FALSE)),\"Ungültige KG-Nummer!\",VLOOKUP(C240,Katastralgemeinden!A$2:$B$3041,2,\"falsch\")),\"\")","v":""},null,null,null,null,null,null,null,null,"",0,{"$f":"IF('Anhang Grundstücksverzeichnis'!G240=Texte!$A$25,F240,0)","v":0},{"$f":"IF('Anhang Grundstücksverzeichnis'!G240=Texte!$A$26,F240,0)","v":0},{"$f":"IF('Anhang Grundstücksverzeichnis'!G240=Texte!$A$27,F240,0)","v":0},{"$f":"IF('Anhang Grundstücksverzeichnis'!G240=Texte!$A$28,F240,0)","v":0}]
[231,{"$f":"IF(C241<>\"\",IF(ISNA(VLOOKUP(C241,Katastralgemeinden!$A$2:$B$3041,2,FALSE)),\"Ungültige KG-Nummer!\",VLOOKUP(C241,Katastralgemeinden!A$2:$B$3041,2,\"falsch\")),\"\")","v":""},null,null,null,null,null,null,null,null,"",0,{"$f":"IF('Anhang Grundstücksverzeichnis'!G241=Texte!$A$25,F241,0)","v":0},{"$f":"IF('Anhang Grundstücksverzeichnis'!G241=Texte!$A$26,F241,0)","v":0},{"$f":"IF('Anhang Grundstücksverzeichnis'!G241=Texte!$A$27,F241,0)","v":0},{"$f":"IF('Anhang Grundstücksverzeichnis'!G241=Texte!$A$28,F241,0)","v":0}]
[232,{"$f":"IF(C242<>\"\",IF(ISNA(VLOOKUP(C242,Katastralgemeinden!$A$2:$B$3041,2,FALSE)),\"Ungültige KG-Nummer!\",VLOOKUP(C242,Katastralgemeinden!A$2:$B$3041,2,\"falsch\")),\"\")","v":""},null,null,null,null,null,null,null,null,"",0,{"$f":"IF('Anhang Grundstücksverzeichnis'!G242=Texte!$A$25,F242,0)","v":0},{"$f":"IF('Anhang Grundstücksverzeichnis'!G242=Texte!$A$26,F242,0)","v":0},{"$f":"IF('Anhang Grundstücksverzeichnis'!G242=Texte!$A$27,F242,0)","v":0},{"$f":"IF('Anhang Grundstücksverzeichnis'!G242=Texte!$A$28,F242,0)","v":0}]
[233,{"$f":"IF(C243<>\"\",IF(ISNA(VLOOKUP(C243,Katastralgemeinden!$A$2:$B$3041,2,FALSE)),\"Ungültige KG-Nummer!\",VLOOKUP(C243,Katastralgemeinden!A$2:$B$3041,2,\"falsch\")),\"\")","v":""},null,null,null,null,null,null,null,null,"",0,{"$f":"IF('Anhang Grundstücksverzeichnis'!G243=Texte!$A$25,F243,0)","v":0},{"$f":"IF('Anhang Grundstücksverzeichnis'!G243=Texte!$A$26,F243,0)","v":0},{"$f":"IF('Anhang Grundstücksverzeichnis'!G243=Texte!$A$27,F243,0)","v":0},{"$f":"IF('Anhang Grundstücksverzeichnis'!G243=Texte!$A$28,F243,0)","v":0}]
[234,{"$f":"IF(C244<>\"\",IF(ISNA(VLOOKUP(C244,Katastralgemeinden!$A$2:$B$3041,2,FALSE)),\"Ungültige KG-Nummer!\",VLOOKUP(C244,Katastralgemeinden!A$2:$B$3041,2,\"falsch\")),\"\")","v":""},null,null,null,null,null,null,null,null,"",0,{"$f":"IF('Anhang Grundstücksverzeichnis'!G244=Texte!$A$25,F244,0)","v":0},{"$f":"IF('Anhang Grundstücksverzeichnis'!G244=Texte!$A$26,F244,0)","v":0},{"$f":"IF('Anhang Grundstücksverzeichnis'!G244=Texte!$A$27,F244,0)","v":0},{"$f":"IF('Anhang Grundstücksverzeichnis'!G244=Texte!$A$28,F244,0)","v":0}]
[235,{"$f":"IF(C245<>\"\",IF(ISNA(VLOOKUP(C245,Katastralgemeinden!$A$2:$B$3041,2,FALSE)),\"Ungültige KG-Nummer!\",VLOOKUP(C245,Katastralgemeinden!A$2:$B$3041,2,\"falsch\")),\"\")","v":""},null,null,null,null,null,null,null,null,"",0,{"$f":"IF('Anhang Grundstücksverzeichnis'!G245=Texte!$A$25,F245,0)","v":0},{"$f":"IF('Anhang Grundstücksverzeichnis'!G245=Texte!$A$26,F245,0)","v":0},{"$f":"IF('Anhang Grundstücksverzeichnis'!G245=Texte!$A$27,F245,0)","v":0},{"$f":"IF('Anhang Grundstücksverzeichnis'!G245=Texte!$A$28,F245,0)","v":0}]
[236,{"$f":"IF(C246<>\"\",IF(ISNA(VLOOKUP(C246,Katastralgemeinden!$A$2:$B$3041,2,FALSE)),\"Ungültige KG-Nummer!\",VLOOKUP(C246,Katastralgemeinden!A$2:$B$3041,2,\"falsch\")),\"\")","v":""},null,null,null,null,null,null,null,null,"",0,{"$f":"IF('Anhang Grundstücksverzeichnis'!G246=Texte!$A$25,F246,0)","v":0},{"$f":"IF('Anhang Grundstücksverzeichnis'!G246=Texte!$A$26,F246,0)","v":0},{"$f":"IF('Anhang Grundstücksverzeichnis'!G246=Texte!$A$27,F246,0)","v":0},{"$f":"IF('Anhang Grundstücksverzeichnis'!G246=Texte!$A$28,F246,0)","v":0}]
[237,{"$f":"IF(C247<>\"\",IF(ISNA(VLOOKUP(C247,Katastralgemeinden!$A$2:$B$3041,2,FALSE)),\"Ungültige KG-Nummer!\",VLOOKUP(C247,Katastralgemeinden!A$2:$B$3041,2,\"falsch\")),\"\")","v":""},null,null,null,null,null,null,null,null,"",0,{"$f":"IF('Anhang Grundstücksverzeichnis'!G247=Texte!$A$25,F247,0)","v":0},{"$f":"IF('Anhang Grundstücksverzeichnis'!G247=Texte!$A$26,F247,0)","v":0},{"$f":"IF('Anhang Grundstücksverzeichnis'!G247=Texte!$A$27,F247,0)","v":0},{"$f":"IF('Anhang Grundstücksverzeichnis'!G247=Texte!$A$28,F247,0)","v":0}]
[238,{"$f":"IF(C248<>\"\",IF(ISNA(VLOOKUP(C248,Katastralgemeinden!$A$2:$B$3041,2,FALSE)),\"Ungültige KG-Nummer!\",VLOOKUP(C248,Katastralgemeinden!A$2:$B$3041,2,\"falsch\")),\"\")","v":""},null,null,null,null,null,null,null,null,"",0,{"$f":"IF('Anhang Grundstücksverzeichnis'!G248=Texte!$A$25,F248,0)","v":0},{"$f":"IF('Anhang Grundstücksverzeichnis'!G248=Texte!$A$26,F248,0)","v":0},{"$f":"IF('Anhang Grundstücksverzeichnis'!G248=Texte!$A$27,F248,0)","v":0},{"$f":"IF('Anhang Grundstücksverzeichnis'!G248=Texte!$A$28,F248,0)","v":0}]
[239,{"$f":"IF(C249<>\"\",IF(ISNA(VLOOKUP(C249,Katastralgemeinden!$A$2:$B$3041,2,FALSE)),\"Ungültige KG-Nummer!\",VLOOKUP(C249,Katastralgemeinden!A$2:$B$3041,2,\"falsch\")),\"\")","v":""},null,null,null,null,null,null,null,null,"",0,{"$f":"IF('Anhang Grundstücksverzeichnis'!G249=Texte!$A$25,F249,0)","v":0},{"$f":"IF('Anhang Grundstücksverzeichnis'!G249=Texte!$A$26,F249,0)","v":0},{"$f":"IF('Anhang Grundstücksverzeichnis'!G249=Texte!$A$27,F249,0)","v":0},{"$f":"IF('Anhang Grundstücksverzeichnis'!G249=Texte!$A$28,F249,0)","v":0}]
[240,{"$f":"IF(C250<>\"\",IF(ISNA(VLOOKUP(C250,Katastralgemeinden!$A$2:$B$3041,2,FALSE)),\"Ungültige KG-Nummer!\",VLOOKUP(C250,Katastralgemeinden!A$2:$B$3041,2,\"falsch\")),\"\")","v":""},null,null,null,null,null,null,null,null,"",0,{"$f":"IF('Anhang Grundstücksverzeichnis'!G250=Texte!$A$25,F250,0)","v":0},{"$f":"IF('Anhang Grundstücksverzeichnis'!G250=Texte!$A$26,F250,0)","v":0},{"$f":"IF('Anhang Grundstücksverzeichnis'!G250=Texte!$A$27,F250,0)","v":0},{"$f":"IF('Anhang Grundstücksverzeichnis'!G250=Texte!$A$28,F250,0)","v":0}]
[241,{"$f":"IF(C251<>\"\",IF(ISNA(VLOOKUP(C251,Katastralgemeinden!$A$2:$B$3041,2,FALSE)),\"Ungültige KG-Nummer!\",VLOOKUP(C251,Katastralgemeinden!A$2:$B$3041,2,\"falsch\")),\"\")","v":""},null,null,null,null,null,null,null,null,"",0,{"$f":"IF('Anhang Grundstücksverzeichnis'!G251=Texte!$A$25,F251,0)","v":0},{"$f":"IF('Anhang Grundstücksverzeichnis'!G251=Texte!$A$26,F251,0)","v":0},{"$f":"IF('Anhang Grundstücksverzeichnis'!G251=Texte!$A$27,F251,0)","v":0},{"$f":"IF('Anhang Grundstücksverzeichnis'!G251=Texte!$A$28,F251,0)","v":0}]
[242,{"$f":"IF(C252<>\"\",IF(ISNA(VLOOKUP(C252,Katastralgemeinden!$A$2:$B$3041,2,FALSE)),\"Ungültige KG-Nummer!\",VLOOKUP(C252,Katastralgemeinden!A$2:$B$3041,2,\"falsch\")),\"\")","v":""},null,null,null,null,null,null,null,null,"",0,{"$f":"IF('Anhang Grundstücksverzeichnis'!G252=Texte!$A$25,F252,0)","v":0},{"$f":"IF('Anhang Grundstücksverzeichnis'!G252=Texte!$A$26,F252,0)","v":0},{"$f":"IF('Anhang Grundstücksverzeichnis'!G252=Texte!$A$27,F252,0)","v":0},{"$f":"IF('Anhang Grundstücksverzeichnis'!G252=Texte!$A$28,F252,0)","v":0}]
[243,{"$f":"IF(C253<>\"\",IF(ISNA(VLOOKUP(C253,Katastralgemeinden!$A$2:$B$3041,2,FALSE)),\"Ungültige KG-Nummer!\",VLOOKUP(C253,Katastralgemeinden!A$2:$B$3041,2,\"falsch\")),\"\")","v":""},null,null,null,null,null,null,null,null,"",0,{"$f":"IF('Anhang Grundstücksverzeichnis'!G253=Texte!$A$25,F253,0)","v":0},{"$f":"IF('Anhang Grundstücksverzeichnis'!G253=Texte!$A$26,F253,0)","v":0},{"$f":"IF('Anhang Grundstücksverzeichnis'!G253=Texte!$A$27,F253,0)","v":0},{"$f":"IF('Anhang Grundstücksverzeichnis'!G253=Texte!$A$28,F253,0)","v":0}]
[244,{"$f":"IF(C254<>\"\",IF(ISNA(VLOOKUP(C254,Katastralgemeinden!$A$2:$B$3041,2,FALSE)),\"Ungültige KG-Nummer!\",VLOOKUP(C254,Katastralgemeinden!A$2:$B$3041,2,\"falsch\")),\"\")","v":""},null,null,null,null,null,null,null,null,"",0,{"$f":"IF('Anhang Grundstücksverzeichnis'!G254=Texte!$A$25,F254,0)","v":0},{"$f":"IF('Anhang Grundstücksverzeichnis'!G254=Texte!$A$26,F254,0)","v":0},{"$f":"IF('Anhang Grundstücksverzeichnis'!G254=Texte!$A$27,F254,0)","v":0},{"$f":"IF('Anhang Grundstücksverzeichnis'!G254=Texte!$A$28,F254,0)","v":0}]
[245,{"$f":"IF(C255<>\"\",IF(ISNA(VLOOKUP(C255,Katastralgemeinden!$A$2:$B$3041,2,FALSE)),\"Ungültige KG-Nummer!\",VLOOKUP(C255,Katastralgemeinden!A$2:$B$3041,2,\"falsch\")),\"\")","v":""},null,null,null,null,null,null,null,null,"",0,{"$f":"IF('Anhang Grundstücksverzeichnis'!G255=Texte!$A$25,F255,0)","v":0},{"$f":"IF('Anhang Grundstücksverzeichnis'!G255=Texte!$A$26,F255,0)","v":0},{"$f":"IF('Anhang Grundstücksverzeichnis'!G255=Texte!$A$27,F255,0)","v":0},{"$f":"IF('Anhang Grundstücksverzeichnis'!G255=Texte!$A$28,F255,0)","v":0}]
[246,{"$f":"IF(C256<>\"\",IF(ISNA(VLOOKUP(C256,Katastralgemeinden!$A$2:$B$3041,2,FALSE)),\"Ungültige KG-Nummer!\",VLOOKUP(C256,Katastralgemeinden!A$2:$B$3041,2,\"falsch\")),\"\")","v":""},null,null,null,null,null,null,null,null,"",0,{"$f":"IF('Anhang Grundstücksverzeichnis'!G256=Texte!$A$25,F256,0)","v":0},{"$f":"IF('Anhang Grundstücksverzeichnis'!G256=Texte!$A$26,F256,0)","v":0},{"$f":"IF('Anhang Grundstücksverzeichnis'!G256=Texte!$A$27,F256,0)","v":0},{"$f":"IF('Anhang Grundstücksverzeichnis'!G256=Texte!$A$28,F256,0)","v":0}]
[247,{"$f":"IF(C257<>\"\",IF(ISNA(VLOOKUP(C257,Katastralgemeinden!$A$2:$B$3041,2,FALSE)),\"Ungültige KG-Nummer!\",VLOOKUP(C257,Katastralgemeinden!A$2:$B$3041,2,\"falsch\")),\"\")","v":""},null,null,null,null,null,null,null,null,"",0,{"$f":"IF('Anhang Grundstücksverzeichnis'!G257=Texte!$A$25,F257,0)","v":0},{"$f":"IF('Anhang Grundstücksverzeichnis'!G257=Texte!$A$26,F257,0)","v":0},{"$f":"IF('Anhang Grundstücksverzeichnis'!G257=Texte!$A$27,F257,0)","v":0},{"$f":"IF('Anhang Grundstücksverzeichnis'!G257=Texte!$A$28,F257,0)","v":0}]
[248,{"$f":"IF(C258<>\"\",IF(ISNA(VLOOKUP(C258,Katastralgemeinden!$A$2:$B$3041,2,FALSE)),\"Ungültige KG-Nummer!\",VLOOKUP(C258,Katastralgemeinden!A$2:$B$3041,2,\"falsch\")),\"\")","v":""},null,null,null,null,null,null,null,null,"",0,{"$f":"IF('Anhang Grundstücksverzeichnis'!G258=Texte!$A$25,F258,0)","v":0},{"$f":"IF('Anhang Grundstücksverzeichnis'!G258=Texte!$A$26,F258,0)","v":0},{"$f":"IF('Anhang Grundstücksverzeichnis'!G258=Texte!$A$27,F258,0)","v":0},{"$f":"IF('Anhang Grundstücksverzeichnis'!G258=Texte!$A$28,F258,0)","v":0}]
[249,{"$f":"IF(C259<>\"\",IF(ISNA(VLOOKUP(C259,Katastralgemeinden!$A$2:$B$3041,2,FALSE)),\"Ungültige KG-Nummer!\",VLOOKUP(C259,Katastralgemeinden!A$2:$B$3041,2,\"falsch\")),\"\")","v":""},null,null,null,null,null,null,null,null,"",0,{"$f":"IF('Anhang Grundstücksverzeichnis'!G259=Texte!$A$25,F259,0)","v":0},{"$f":"IF('Anhang Grundstücksverzeichnis'!G259=Texte!$A$26,F259,0)","v":0},{"$f":"IF('Anhang Grundstücksverzeichnis'!G259=Texte!$A$27,F259,0)","v":0},{"$f":"IF('Anhang Grundstücksverzeichnis'!G259=Texte!$A$28,F259,0)","v":0}]
[250,{"$f":"IF(C260<>\"\",IF(ISNA(VLOOKUP(C260,Katastralgemeinden!$A$2:$B$3041,2,FALSE)),\"Ungültige KG-Nummer!\",VLOOKUP(C260,Katastralgemeinden!A$2:$B$3041,2,\"falsch\")),\"\")","v":""},null,null,null,null,null,null,null,null,"",0,{"$f":"IF('Anhang Grundstücksverzeichnis'!G260=Texte!$A$25,F260,0)","v":0},{"$f":"IF('Anhang Grundstücksverzeichnis'!G260=Texte!$A$26,F260,0)","v":0},{"$f":"IF('Anhang Grundstücksverzeichnis'!G260=Texte!$A$27,F260,0)","v":0},{"$f":"IF('Anhang Grundstücksverzeichnis'!G260=Texte!$A$28,F260,0)","v":0}]
[251,{"$f":"IF(C261<>\"\",IF(ISNA(VLOOKUP(C261,Katastralgemeinden!$A$2:$B$3041,2,FALSE)),\"Ungültige KG-Nummer!\",VLOOKUP(C261,Katastralgemeinden!A$2:$B$3041,2,\"falsch\")),\"\")","v":""},null,null,null,null,null,null,null,null,"",0,{"$f":"IF('Anhang Grundstücksverzeichnis'!G261=Texte!$A$25,F261,0)","v":0},{"$f":"IF('Anhang Grundstücksverzeichnis'!G261=Texte!$A$26,F261,0)","v":0},{"$f":"IF('Anhang Grundstücksverzeichnis'!G261=Texte!$A$27,F261,0)","v":0},{"$f":"IF('Anhang Grundstücksverzeichnis'!G261=Texte!$A$28,F261,0)","v":0}]
[252,{"$f":"IF(C262<>\"\",IF(ISNA(VLOOKUP(C262,Katastralgemeinden!$A$2:$B$3041,2,FALSE)),\"Ungültige KG-Nummer!\",VLOOKUP(C262,Katastralgemeinden!A$2:$B$3041,2,\"falsch\")),\"\")","v":""},null,null,null,null,null,null,null,null,"",0,{"$f":"IF('Anhang Grundstücksverzeichnis'!G262=Texte!$A$25,F262,0)","v":0},{"$f":"IF('Anhang Grundstücksverzeichnis'!G262=Texte!$A$26,F262,0)","v":0},{"$f":"IF('Anhang Grundstücksverzeichnis'!G262=Texte!$A$27,F262,0)","v":0},{"$f":"IF('Anhang Grundstücksverzeichnis'!G262=Texte!$A$28,F262,0)","v":0}]
[253,{"$f":"IF(C263<>\"\",IF(ISNA(VLOOKUP(C263,Katastralgemeinden!$A$2:$B$3041,2,FALSE)),\"Ungültige KG-Nummer!\",VLOOKUP(C263,Katastralgemeinden!A$2:$B$3041,2,\"falsch\")),\"\")","v":""},null,null,null,null,null,null,null,null,"",0,{"$f":"IF('Anhang Grundstücksverzeichnis'!G263=Texte!$A$25,F263,0)","v":0},{"$f":"IF('Anhang Grundstücksverzeichnis'!G263=Texte!$A$26,F263,0)","v":0},{"$f":"IF('Anhang Grundstücksverzeichnis'!G263=Texte!$A$27,F263,0)","v":0},{"$f":"IF('Anhang Grundstücksverzeichnis'!G263=Texte!$A$28,F263,0)","v":0}]
[254,{"$f":"IF(C264<>\"\",IF(ISNA(VLOOKUP(C264,Katastralgemeinden!$A$2:$B$3041,2,FALSE)),\"Ungültige KG-Nummer!\",VLOOKUP(C264,Katastralgemeinden!A$2:$B$3041,2,\"falsch\")),\"\")","v":""},null,null,null,null,null,null,null,null,"",0,{"$f":"IF('Anhang Grundstücksverzeichnis'!G264=Texte!$A$25,F264,0)","v":0},{"$f":"IF('Anhang Grundstücksverzeichnis'!G264=Texte!$A$26,F264,0)","v":0},{"$f":"IF('Anhang Grundstücksverzeichnis'!G264=Texte!$A$27,F264,0)","v":0},{"$f":"IF('Anhang Grundstücksverzeichnis'!G264=Texte!$A$28,F264,0)","v":0}]
[255,{"$f":"IF(C265<>\"\",IF(ISNA(VLOOKUP(C265,Katastralgemeinden!$A$2:$B$3041,2,FALSE)),\"Ungültige KG-Nummer!\",VLOOKUP(C265,Katastralgemeinden!A$2:$B$3041,2,\"falsch\")),\"\")","v":""},null,null,null,null,null,null,null,null,"",0,{"$f":"IF('Anhang Grundstücksverzeichnis'!G265=Texte!$A$25,F265,0)","v":0},{"$f":"IF('Anhang Grundstücksverzeichnis'!G265=Texte!$A$26,F265,0)","v":0},{"$f":"IF('Anhang Grundstücksverzeichnis'!G265=Texte!$A$27,F265,0)","v":0},{"$f":"IF('Anhang Grundstücksverzeichnis'!G265=Texte!$A$28,F265,0)","v":0}]
[256,{"$f":"IF(C266<>\"\",IF(ISNA(VLOOKUP(C266,Katastralgemeinden!$A$2:$B$3041,2,FALSE)),\"Ungültige KG-Nummer!\",VLOOKUP(C266,Katastralgemeinden!A$2:$B$3041,2,\"falsch\")),\"\")","v":""},null,null,null,null,null,null,null,null,"",0,{"$f":"IF('Anhang Grundstücksverzeichnis'!G266=Texte!$A$25,F266,0)","v":0},{"$f":"IF('Anhang Grundstücksverzeichnis'!G266=Texte!$A$26,F266,0)","v":0},{"$f":"IF('Anhang Grundstücksverzeichnis'!G266=Texte!$A$27,F266,0)","v":0},{"$f":"IF('Anhang Grundstücksverzeichnis'!G266=Texte!$A$28,F266,0)","v":0}]
[257,{"$f":"IF(C267<>\"\",IF(ISNA(VLOOKUP(C267,Katastralgemeinden!$A$2:$B$3041,2,FALSE)),\"Ungültige KG-Nummer!\",VLOOKUP(C267,Katastralgemeinden!A$2:$B$3041,2,\"falsch\")),\"\")","v":""},null,null,null,null,null,null,null,null,"",0,{"$f":"IF('Anhang Grundstücksverzeichnis'!G267=Texte!$A$25,F267,0)","v":0},{"$f":"IF('Anhang Grundstücksverzeichnis'!G267=Texte!$A$26,F267,0)","v":0},{"$f":"IF('Anhang Grundstücksverzeichnis'!G267=Texte!$A$27,F267,0)","v":0},{"$f":"IF('Anhang Grundstücksverzeichnis'!G267=Texte!$A$28,F267,0)","v":0}]
[258,{"$f":"IF(C268<>\"\",IF(ISNA(VLOOKUP(C268,Katastralgemeinden!$A$2:$B$3041,2,FALSE)),\"Ungültige KG-Nummer!\",VLOOKUP(C268,Katastralgemeinden!A$2:$B$3041,2,\"falsch\")),\"\")","v":""},null,null,null,null,null,null,null,null,{"$f":"IF(G268<>\"\",IF(G268=\"Eigengrundfläche\",0,IF(G268=\"Vorpachtfläche\",1,IF(G268=\"Abrundung +\",3,IF(G268=\"Abrundung -\",4,5)))),\"\")","v":""},{"$f":"IF(OR(LOWER(H268)=\"x\",LOWER(H268)=\"j\"),1,0)","v":0},{"$f":"IF('Anhang Grundstücksverzeichnis'!G268=Texte!$A$25,F268,0)","v":0},{"$f":"IF('Anhang Grundstücksverzeichnis'!G268=Texte!$A$26,F268,0)","v":0},{"$f":"IF('Anhang Grundstücksverzeichnis'!G268=Texte!$A$27,F268,0)","v":0},{"$f":"IF('Anhang Grundstücksverzeichnis'!G268=Texte!$A$28,F268,0)","v":0}]
[259,{"$f":"IF(C269<>\"\",IF(ISNA(VLOOKUP(C269,Katastralgemeinden!$A$2:$B$3041,2,FALSE)),\"Ungültige KG-Nummer!\",VLOOKUP(C269,Katastralgemeinden!A$2:$B$3041,2,\"falsch\")),\"\")","v":""},null,null,null,null,null,null,null,null,"",0,{"$f":"IF('Anhang Grundstücksverzeichnis'!G269=Texte!$A$25,F269,0)","v":0},{"$f":"IF('Anhang Grundstücksverzeichnis'!G269=Texte!$A$26,F269,0)","v":0},{"$f":"IF('Anhang Grundstücksverzeichnis'!G269=Texte!$A$27,F269,0)","v":0},{"$f":"IF('Anhang Grundstücksverzeichnis'!G269=Texte!$A$28,F269,0)","v":0}]
[260,{"$f":"IF(C270<>\"\",IF(ISNA(VLOOKUP(C270,Katastralgemeinden!$A$2:$B$3041,2,FALSE)),\"Ungültige KG-Nummer!\",VLOOKUP(C270,Katastralgemeinden!A$2:$B$3041,2,\"falsch\")),\"\")","v":""},null,null,null,null,null,null,null,null,"",0,{"$f":"IF('Anhang Grundstücksverzeichnis'!G270=Texte!$A$25,F270,0)","v":0},{"$f":"IF('Anhang Grundstücksverzeichnis'!G270=Texte!$A$26,F270,0)","v":0},{"$f":"IF('Anhang Grundstücksverzeichnis'!G270=Texte!$A$27,F270,0)","v":0},{"$f":"IF('Anhang Grundstücksverzeichnis'!G270=Texte!$A$28,F270,0)","v":0}]
[261,{"$f":"IF(C271<>\"\",IF(ISNA(VLOOKUP(C271,Katastralgemeinden!$A$2:$B$3041,2,FALSE)),\"Ungültige KG-Nummer!\",VLOOKUP(C271,Katastralgemeinden!A$2:$B$3041,2,\"falsch\")),\"\")","v":""},null,null,null,null,null,null,null,null,"",0,{"$f":"IF('Anhang Grundstücksverzeichnis'!G271=Texte!$A$25,F271,0)","v":0},{"$f":"IF('Anhang Grundstücksverzeichnis'!G271=Texte!$A$26,F271,0)","v":0},{"$f":"IF('Anhang Grundstücksverzeichnis'!G271=Texte!$A$27,F271,0)","v":0},{"$f":"IF('Anhang Grundstücksverzeichnis'!G271=Texte!$A$28,F271,0)","v":0}]
[262,{"$f":"IF(C272<>\"\",IF(ISNA(VLOOKUP(C272,Katastralgemeinden!$A$2:$B$3041,2,FALSE)),\"Ungültige KG-Nummer!\",VLOOKUP(C272,Katastralgemeinden!A$2:$B$3041,2,\"falsch\")),\"\")","v":""},null,null,null,null,null,null,null,null,"",0,{"$f":"IF('Anhang Grundstücksverzeichnis'!G272=Texte!$A$25,F272,0)","v":0},{"$f":"IF('Anhang Grundstücksverzeichnis'!G272=Texte!$A$26,F272,0)","v":0},{"$f":"IF('Anhang Grundstücksverzeichnis'!G272=Texte!$A$27,F272,0)","v":0},{"$f":"IF('Anhang Grundstücksverzeichnis'!G272=Texte!$A$28,F272,0)","v":0}]
[263,{"$f":"IF(C273<>\"\",IF(ISNA(VLOOKUP(C273,Katastralgemeinden!$A$2:$B$3041,2,FALSE)),\"Ungültige KG-Nummer!\",VLOOKUP(C273,Katastralgemeinden!A$2:$B$3041,2,\"falsch\")),\"\")","v":""},null,null,null,null,null,null,null,null,"",0,{"$f":"IF('Anhang Grundstücksverzeichnis'!G273=Texte!$A$25,F273,0)","v":0},{"$f":"IF('Anhang Grundstücksverzeichnis'!G273=Texte!$A$26,F273,0)","v":0},{"$f":"IF('Anhang Grundstücksverzeichnis'!G273=Texte!$A$27,F273,0)","v":0},{"$f":"IF('Anhang Grundstücksverzeichnis'!G273=Texte!$A$28,F273,0)","v":0}]
[264,{"$f":"IF(C274<>\"\",IF(ISNA(VLOOKUP(C274,Katastralgemeinden!$A$2:$B$3041,2,FALSE)),\"Ungültige KG-Nummer!\",VLOOKUP(C274,Katastralgemeinden!A$2:$B$3041,2,\"falsch\")),\"\")","v":""},null,null,null,null,null,null,null,null,"",0,{"$f":"IF('Anhang Grundstücksverzeichnis'!G274=Texte!$A$25,F274,0)","v":0},{"$f":"IF('Anhang Grundstücksverzeichnis'!G274=Texte!$A$26,F274,0)","v":0},{"$f":"IF('Anhang Grundstücksverzeichnis'!G274=Texte!$A$27,F274,0)","v":0},{"$f":"IF('Anhang Grundstücksverzeichnis'!G274=Texte!$A$28,F274,0)","v":0}]
[265,{"$f":"IF(C275<>\"\",IF(ISNA(VLOOKUP(C275,Katastralgemeinden!$A$2:$B$3041,2,FALSE)),\"Ungültige KG-Nummer!\",VLOOKUP(C275,Katastralgemeinden!A$2:$B$3041,2,\"falsch\")),\"\")","v":""},null,null,null,null,null,null,null,null,"",0,{"$f":"IF('Anhang Grundstücksverzeichnis'!G275=Texte!$A$25,F275,0)","v":0},{"$f":"IF('Anhang Grundstücksverzeichnis'!G275=Texte!$A$26,F275,0)","v":0},{"$f":"IF('Anhang Grundstücksverzeichnis'!G275=Texte!$A$27,F275,0)","v":0},{"$f":"IF('Anhang Grundstücksverzeichnis'!G275=Texte!$A$28,F275,0)","v":0}]
[266,{"$f":"IF(C276<>\"\",IF(ISNA(VLOOKUP(C276,Katastralgemeinden!$A$2:$B$3041,2,FALSE)),\"Ungültige KG-Nummer!\",VLOOKUP(C276,Katastralgemeinden!A$2:$B$3041,2,\"falsch\")),\"\")","v":""},null,null,null,null,null,null,null,null,"",0,{"$f":"IF('Anhang Grundstücksverzeichnis'!G276=Texte!$A$25,F276,0)","v":0},{"$f":"IF('Anhang Grundstücksverzeichnis'!G276=Texte!$A$26,F276,0)","v":0},{"$f":"IF('Anhang Grundstücksverzeichnis'!G276=Texte!$A$27,F276,0)","v":0},{"$f":"IF('Anhang Grundstücksverzeichnis'!G276=Texte!$A$28,F276,0)","v":0}]
[267,{"$f":"IF(C277<>\"\",IF(ISNA(VLOOKUP(C277,Katastralgemeinden!$A$2:$B$3041,2,FALSE)),\"Ungültige KG-Nummer!\",VLOOKUP(C277,Katastralgemeinden!A$2:$B$3041,2,\"falsch\")),\"\")","v":""},null,null,null,null,null,null,null,null,"",0,{"$f":"IF('Anhang Grundstücksverzeichnis'!G277=Texte!$A$25,F277,0)","v":0},{"$f":"IF('Anhang Grundstücksverzeichnis'!G277=Texte!$A$26,F277,0)","v":0},{"$f":"IF('Anhang Grundstücksverzeichnis'!G277=Texte!$A$27,F277,0)","v":0},{"$f":"IF('Anhang Grundstücksverzeichnis'!G277=Texte!$A$28,F277,0)","v":0}]
[268,{"$f":"IF(C278<>\"\",IF(ISNA(VLOOKUP(C278,Katastralgemeinden!$A$2:$B$3041,2,FALSE)),\"Ungültige KG-Nummer!\",VLOOKUP(C278,Katastralgemeinden!A$2:$B$3041,2,\"falsch\")),\"\")","v":""},null,null,null,null,null,null,null,null,"",0,{"$f":"IF('Anhang Grundstücksverzeichnis'!G278=Texte!$A$25,F278,0)","v":0},{"$f":"IF('Anhang Grundstücksverzeichnis'!G278=Texte!$A$26,F278,0)","v":0},{"$f":"IF('Anhang Grundstücksverzeichnis'!G278=Texte!$A$27,F278,0)","v":0},{"$f":"IF('Anhang Grundstücksverzeichnis'!G278=Texte!$A$28,F278,0)","v":0}]
[269,{"$f":"IF(C279<>\"\",IF(ISNA(VLOOKUP(C279,Katastralgemeinden!$A$2:$B$3041,2,FALSE)),\"Ungültige KG-Nummer!\",VLOOKUP(C279,Katastralgemeinden!A$2:$B$3041,2,\"falsch\")),\"\")","v":""},null,null,null,null,null,null,null,null,"",0,{"$f":"IF('Anhang Grundstücksverzeichnis'!G279=Texte!$A$25,F279,0)","v":0},{"$f":"IF('Anhang Grundstücksverzeichnis'!G279=Texte!$A$26,F279,0)","v":0},{"$f":"IF('Anhang Grundstücksverzeichnis'!G279=Texte!$A$27,F279,0)","v":0},{"$f":"IF('Anhang Grundstücksverzeichnis'!G279=Texte!$A$28,F279,0)","v":0}]
[270,{"$f":"IF(C280<>\"\",IF(ISNA(VLOOKUP(C280,Katastralgemeinden!$A$2:$B$3041,2,FALSE)),\"Ungültige KG-Nummer!\",VLOOKUP(C280,Katastralgemeinden!A$2:$B$3041,2,\"falsch\")),\"\")","v":""},null,null,null,null,null,null,null,null,"",0,{"$f":"IF('Anhang Grundstücksverzeichnis'!G280=Texte!$A$25,F280,0)","v":0},{"$f":"IF('Anhang Grundstücksverzeichnis'!G280=Texte!$A$26,F280,0)","v":0},{"$f":"IF('Anhang Grundstücksverzeichnis'!G280=Texte!$A$27,F280,0)","v":0},{"$f":"IF('Anhang Grundstücksverzeichnis'!G280=Texte!$A$28,F280,0)","v":0}]
[271,{"$f":"IF(C281<>\"\",IF(ISNA(VLOOKUP(C281,Katastralgemeinden!$A$2:$B$3041,2,FALSE)),\"Ungültige KG-Nummer!\",VLOOKUP(C281,Katastralgemeinden!A$2:$B$3041,2,\"falsch\")),\"\")","v":""},null,null,null,null,null,null,null,null,"",0,{"$f":"IF('Anhang Grundstücksverzeichnis'!G281=Texte!$A$25,F281,0)","v":0},{"$f":"IF('Anhang Grundstücksverzeichnis'!G281=Texte!$A$26,F281,0)","v":0},{"$f":"IF('Anhang Grundstücksverzeichnis'!G281=Texte!$A$27,F281,0)","v":0},{"$f":"IF('Anhang Grundstücksverzeichnis'!G281=Texte!$A$28,F281,0)","v":0}]
[272,{"$f":"IF(C282<>\"\",IF(ISNA(VLOOKUP(C282,Katastralgemeinden!$A$2:$B$3041,2,FALSE)),\"Ungültige KG-Nummer!\",VLOOKUP(C282,Katastralgemeinden!A$2:$B$3041,2,\"falsch\")),\"\")","v":""},null,null,null,null,null,null,null,null,"",0,{"$f":"IF('Anhang Grundstücksverzeichnis'!G282=Texte!$A$25,F282,0)","v":0},{"$f":"IF('Anhang Grundstücksverzeichnis'!G282=Texte!$A$26,F282,0)","v":0},{"$f":"IF('Anhang Grundstücksverzeichnis'!G282=Texte!$A$27,F282,0)","v":0},{"$f":"IF('Anhang Grundstücksverzeichnis'!G282=Texte!$A$28,F282,0)","v":0}]
[273,{"$f":"IF(C283<>\"\",IF(ISNA(VLOOKUP(C283,Katastralgemeinden!$A$2:$B$3041,2,FALSE)),\"Ungültige KG-Nummer!\",VLOOKUP(C283,Katastralgemeinden!A$2:$B$3041,2,\"falsch\")),\"\")","v":""},null,null,null,null,null,null,null,null,"",0,{"$f":"IF('Anhang Grundstücksverzeichnis'!G283=Texte!$A$25,F283,0)","v":0},{"$f":"IF('Anhang Grundstücksverzeichnis'!G283=Texte!$A$26,F283,0)","v":0},{"$f":"IF('Anhang Grundstücksverzeichnis'!G283=Texte!$A$27,F283,0)","v":0},{"$f":"IF('Anhang Grundstücksverzeichnis'!G283=Texte!$A$28,F283,0)","v":0}]
[274,{"$f":"IF(C284<>\"\",IF(ISNA(VLOOKUP(C284,Katastralgemeinden!$A$2:$B$3041,2,FALSE)),\"Ungültige KG-Nummer!\",VLOOKUP(C284,Katastralgemeinden!A$2:$B$3041,2,\"falsch\")),\"\")","v":""},null,null,null,null,null,null,null,null,"",0,{"$f":"IF('Anhang Grundstücksverzeichnis'!G284=Texte!$A$25,F284,0)","v":0},{"$f":"IF('Anhang Grundstücksverzeichnis'!G284=Texte!$A$26,F284,0)","v":0},{"$f":"IF('Anhang Grundstücksverzeichnis'!G284=Texte!$A$27,F284,0)","v":0},{"$f":"IF('Anhang Grundstücksverzeichnis'!G284=Texte!$A$28,F284,0)","v":0}]
[275,{"$f":"IF(C285<>\"\",IF(ISNA(VLOOKUP(C285,Katastralgemeinden!$A$2:$B$3041,2,FALSE)),\"Ungültige KG-Nummer!\",VLOOKUP(C285,Katastralgemeinden!A$2:$B$3041,2,\"falsch\")),\"\")","v":""},null,null,null,null,null,null,null,null,"",0,{"$f":"IF('Anhang Grundstücksverzeichnis'!G285=Texte!$A$25,F285,0)","v":0},{"$f":"IF('Anhang Grundstücksverzeichnis'!G285=Texte!$A$26,F285,0)","v":0},{"$f":"IF('Anhang Grundstücksverzeichnis'!G285=Texte!$A$27,F285,0)","v":0},{"$f":"IF('Anhang Grundstücksverzeichnis'!G285=Texte!$A$28,F285,0)","v":0}]
[276,{"$f":"IF(C286<>\"\",IF(ISNA(VLOOKUP(C286,Katastralgemeinden!$A$2:$B$3041,2,FALSE)),\"Ungültige KG-Nummer!\",VLOOKUP(C286,Katastralgemeinden!A$2:$B$3041,2,\"falsch\")),\"\")","v":""},null,null,null,null,null,null,null,null,"",0,{"$f":"IF('Anhang Grundstücksverzeichnis'!G286=Texte!$A$25,F286,0)","v":0},{"$f":"IF('Anhang Grundstücksverzeichnis'!G286=Texte!$A$26,F286,0)","v":0},{"$f":"IF('Anhang Grundstücksverzeichnis'!G286=Texte!$A$27,F286,0)","v":0},{"$f":"IF('Anhang Grundstücksverzeichnis'!G286=Texte!$A$28,F286,0)","v":0}]
[277,{"$f":"IF(C287<>\"\",IF(ISNA(VLOOKUP(C287,Katastralgemeinden!$A$2:$B$3041,2,FALSE)),\"Ungültige KG-Nummer!\",VLOOKUP(C287,Katastralgemeinden!A$2:$B$3041,2,\"falsch\")),\"\")","v":""},null,null,null,null,null,null,null,null,"",0,{"$f":"IF('Anhang Grundstücksverzeichnis'!G287=Texte!$A$25,F287,0)","v":0},{"$f":"IF('Anhang Grundstücksverzeichnis'!G287=Texte!$A$26,F287,0)","v":0},{"$f":"IF('Anhang Grundstücksverzeichnis'!G287=Texte!$A$27,F287,0)","v":0},{"$f":"IF('Anhang Grundstücksverzeichnis'!G287=Texte!$A$28,F287,0)","v":0}]
[278,{"$f":"IF(C288<>\"\",IF(ISNA(VLOOKUP(C288,Katastralgemeinden!$A$2:$B$3041,2,FALSE)),\"Ungültige KG-Nummer!\",VLOOKUP(C288,Katastralgemeinden!A$2:$B$3041,2,\"falsch\")),\"\")","v":""},null,null,null,null,null,null,null,null,"",0,{"$f":"IF('Anhang Grundstücksverzeichnis'!G288=Texte!$A$25,F288,0)","v":0},{"$f":"IF('Anhang Grundstücksverzeichnis'!G288=Texte!$A$26,F288,0)","v":0},{"$f":"IF('Anhang Grundstücksverzeichnis'!G288=Texte!$A$27,F288,0)","v":0},{"$f":"IF('Anhang Grundstücksverzeichnis'!G288=Texte!$A$28,F288,0)","v":0}]
[279,{"$f":"IF(C289<>\"\",IF(ISNA(VLOOKUP(C289,Katastralgemeinden!$A$2:$B$3041,2,FALSE)),\"Ungültige KG-Nummer!\",VLOOKUP(C289,Katastralgemeinden!A$2:$B$3041,2,\"falsch\")),\"\")","v":""},null,null,null,null,null,null,null,null,"",0,{"$f":"IF('Anhang Grundstücksverzeichnis'!G289=Texte!$A$25,F289,0)","v":0},{"$f":"IF('Anhang Grundstücksverzeichnis'!G289=Texte!$A$26,F289,0)","v":0},{"$f":"IF('Anhang Grundstücksverzeichnis'!G289=Texte!$A$27,F289,0)","v":0},{"$f":"IF('Anhang Grundstücksverzeichnis'!G289=Texte!$A$28,F289,0)","v":0}]
[280,{"$f":"IF(C290<>\"\",IF(ISNA(VLOOKUP(C290,Katastralgemeinden!$A$2:$B$3041,2,FALSE)),\"Ungültige KG-Nummer!\",VLOOKUP(C290,Katastralgemeinden!A$2:$B$3041,2,\"falsch\")),\"\")","v":""},null,null,null,null,null,null,null,null,"",0,{"$f":"IF('Anhang Grundstücksverzeichnis'!G290=Texte!$A$25,F290,0)","v":0},{"$f":"IF('Anhang Grundstücksverzeichnis'!G290=Texte!$A$26,F290,0)","v":0},{"$f":"IF('Anhang Grundstücksverzeichnis'!G290=Texte!$A$27,F290,0)","v":0},{"$f":"IF('Anhang Grundstücksverzeichnis'!G290=Texte!$A$28,F290,0)","v":0}]
[281,{"$f":"IF(C291<>\"\",IF(ISNA(VLOOKUP(C291,Katastralgemeinden!$A$2:$B$3041,2,FALSE)),\"Ungültige KG-Nummer!\",VLOOKUP(C291,Katastralgemeinden!A$2:$B$3041,2,\"falsch\")),\"\")","v":""},null,null,null,null,null,null,null,null,"",0,{"$f":"IF('Anhang Grundstücksverzeichnis'!G291=Texte!$A$25,F291,0)","v":0},{"$f":"IF('Anhang Grundstücksverzeichnis'!G291=Texte!$A$26,F291,0)","v":0},{"$f":"IF('Anhang Grundstücksverzeichnis'!G291=Texte!$A$27,F291,0)","v":0},{"$f":"IF('Anhang Grundstücksverzeichnis'!G291=Texte!$A$28,F291,0)","v":0}]
[282,{"$f":"IF(C292<>\"\",IF(ISNA(VLOOKUP(C292,Katastralgemeinden!$A$2:$B$3041,2,FALSE)),\"Ungültige KG-Nummer!\",VLOOKUP(C292,Katastralgemeinden!A$2:$B$3041,2,\"falsch\")),\"\")","v":""},null,null,null,null,null,null,null,null,"",0,{"$f":"IF('Anhang Grundstücksverzeichnis'!G292=Texte!$A$25,F292,0)","v":0},{"$f":"IF('Anhang Grundstücksverzeichnis'!G292=Texte!$A$26,F292,0)","v":0},{"$f":"IF('Anhang Grundstücksverzeichnis'!G292=Texte!$A$27,F292,0)","v":0},{"$f":"IF('Anhang Grundstücksverzeichnis'!G292=Texte!$A$28,F292,0)","v":0}]
[283,{"$f":"IF(C293<>\"\",IF(ISNA(VLOOKUP(C293,Katastralgemeinden!$A$2:$B$3041,2,FALSE)),\"Ungültige KG-Nummer!\",VLOOKUP(C293,Katastralgemeinden!A$2:$B$3041,2,\"falsch\")),\"\")","v":""},null,null,null,null,null,null,null,null,"",0,{"$f":"IF('Anhang Grundstücksverzeichnis'!G293=Texte!$A$25,F293,0)","v":0},{"$f":"IF('Anhang Grundstücksverzeichnis'!G293=Texte!$A$26,F293,0)","v":0},{"$f":"IF('Anhang Grundstücksverzeichnis'!G293=Texte!$A$27,F293,0)","v":0},{"$f":"IF('Anhang Grundstücksverzeichnis'!G293=Texte!$A$28,F293,0)","v":0}]
[284,{"$f":"IF(C294<>\"\",IF(ISNA(VLOOKUP(C294,Katastralgemeinden!$A$2:$B$3041,2,FALSE)),\"Ungültige KG-Nummer!\",VLOOKUP(C294,Katastralgemeinden!A$2:$B$3041,2,\"falsch\")),\"\")","v":""},null,null,null,null,null,null,null,null,"",0,{"$f":"IF('Anhang Grundstücksverzeichnis'!G294=Texte!$A$25,F294,0)","v":0},{"$f":"IF('Anhang Grundstücksverzeichnis'!G294=Texte!$A$26,F294,0)","v":0},{"$f":"IF('Anhang Grundstücksverzeichnis'!G294=Texte!$A$27,F294,0)","v":0},{"$f":"IF('Anhang Grundstücksverzeichnis'!G294=Texte!$A$28,F294,0)","v":0}]
[285,{"$f":"IF(C295<>\"\",IF(ISNA(VLOOKUP(C295,Katastralgemeinden!$A$2:$B$3041,2,FALSE)),\"Ungültige KG-Nummer!\",VLOOKUP(C295,Katastralgemeinden!A$2:$B$3041,2,\"falsch\")),\"\")","v":""},null,null,null,null,null,null,null,null,"",0,{"$f":"IF('Anhang Grundstücksverzeichnis'!G295=Texte!$A$25,F295,0)","v":0},{"$f":"IF('Anhang Grundstücksverzeichnis'!G295=Texte!$A$26,F295,0)","v":0},{"$f":"IF('Anhang Grundstücksverzeichnis'!G295=Texte!$A$27,F295,0)","v":0},{"$f":"IF('Anhang Grundstücksverzeichnis'!G295=Texte!$A$28,F295,0)","v":0}]
[286,{"$f":"IF(C296<>\"\",IF(ISNA(VLOOKUP(C296,Katastralgemeinden!$A$2:$B$3041,2,FALSE)),\"Ungültige KG-Nummer!\",VLOOKUP(C296,Katastralgemeinden!A$2:$B$3041,2,\"falsch\")),\"\")","v":""},null,null,null,null,null,null,null,null,"",0,{"$f":"IF('Anhang Grundstücksverzeichnis'!G296=Texte!$A$25,F296,0)","v":0},{"$f":"IF('Anhang Grundstücksverzeichnis'!G296=Texte!$A$26,F296,0)","v":0},{"$f":"IF('Anhang Grundstücksverzeichnis'!G296=Texte!$A$27,F296,0)","v":0},{"$f":"IF('Anhang Grundstücksverzeichnis'!G296=Texte!$A$28,F296,0)","v":0}]
[287,{"$f":"IF(C297<>\"\",IF(ISNA(VLOOKUP(C297,Katastralgemeinden!$A$2:$B$3041,2,FALSE)),\"Ungültige KG-Nummer!\",VLOOKUP(C297,Katastralgemeinden!A$2:$B$3041,2,\"falsch\")),\"\")","v":""},null,null,null,null,null,null,null,null,"",0,{"$f":"IF('Anhang Grundstücksverzeichnis'!G297=Texte!$A$25,F297,0)","v":0},{"$f":"IF('Anhang Grundstücksverzeichnis'!G297=Texte!$A$26,F297,0)","v":0},{"$f":"IF('Anhang Grundstücksverzeichnis'!G297=Texte!$A$27,F297,0)","v":0},{"$f":"IF('Anhang Grundstücksverzeichnis'!G297=Texte!$A$28,F297,0)","v":0}]
[288,{"$f":"IF(C298<>\"\",IF(ISNA(VLOOKUP(C298,Katastralgemeinden!$A$2:$B$3041,2,FALSE)),\"Ungültige KG-Nummer!\",VLOOKUP(C298,Katastralgemeinden!A$2:$B$3041,2,\"falsch\")),\"\")","v":""},null,null,null,null,null,null,null,null,"",0,{"$f":"IF('Anhang Grundstücksverzeichnis'!G298=Texte!$A$25,F298,0)","v":0},{"$f":"IF('Anhang Grundstücksverzeichnis'!G298=Texte!$A$26,F298,0)","v":0},{"$f":"IF('Anhang Grundstücksverzeichnis'!G298=Texte!$A$27,F298,0)","v":0},{"$f":"IF('Anhang Grundstücksverzeichnis'!G298=Texte!$A$28,F298,0)","v":0}]
[289,{"$f":"IF(C299<>\"\",IF(ISNA(VLOOKUP(C299,Katastralgemeinden!$A$2:$B$3041,2,FALSE)),\"Ungültige KG-Nummer!\",VLOOKUP(C299,Katastralgemeinden!A$2:$B$3041,2,\"falsch\")),\"\")","v":""},null,null,null,null,null,null,null,null,"",0,{"$f":"IF('Anhang Grundstücksverzeichnis'!G299=Texte!$A$25,F299,0)","v":0},{"$f":"IF('Anhang Grundstücksverzeichnis'!G299=Texte!$A$26,F299,0)","v":0},{"$f":"IF('Anhang Grundstücksverzeichnis'!G299=Texte!$A$27,F299,0)","v":0},{"$f":"IF('Anhang Grundstücksverzeichnis'!G299=Texte!$A$28,F299,0)","v":0}]
[290,{"$f":"IF(C300<>\"\",IF(ISNA(VLOOKUP(C300,Katastralgemeinden!$A$2:$B$3041,2,FALSE)),\"Ungültige KG-Nummer!\",VLOOKUP(C300,Katastralgemeinden!A$2:$B$3041,2,\"falsch\")),\"\")","v":""},null,null,null,null,null,null,null,null,"",0,{"$f":"IF('Anhang Grundstücksverzeichnis'!G300=Texte!$A$25,F300,0)","v":0},{"$f":"IF('Anhang Grundstücksverzeichnis'!G300=Texte!$A$26,F300,0)","v":0},{"$f":"IF('Anhang Grundstücksverzeichnis'!G300=Texte!$A$27,F300,0)","v":0},{"$f":"IF('Anhang Grundstücksverzeichnis'!G300=Texte!$A$28,F300,0)","v":0}]
[291,{"$f":"IF(C301<>\"\",IF(ISNA(VLOOKUP(C301,Katastralgemeinden!$A$2:$B$3041,2,FALSE)),\"Ungültige KG-Nummer!\",VLOOKUP(C301,Katastralgemeinden!A$2:$B$3041,2,\"falsch\")),\"\")","v":""},null,null,null,null,null,null,null,null,"",0,{"$f":"IF('Anhang Grundstücksverzeichnis'!G301=Texte!$A$25,F301,0)","v":0},{"$f":"IF('Anhang Grundstücksverzeichnis'!G301=Texte!$A$26,F301,0)","v":0},{"$f":"IF('Anhang Grundstücksverzeichnis'!G301=Texte!$A$27,F301,0)","v":0},{"$f":"IF('Anhang Grundstücksverzeichnis'!G301=Texte!$A$28,F301,0)","v":0}]
[292,{"$f":"IF(C302<>\"\",IF(ISNA(VLOOKUP(C302,Katastralgemeinden!$A$2:$B$3041,2,FALSE)),\"Ungültige KG-Nummer!\",VLOOKUP(C302,Katastralgemeinden!A$2:$B$3041,2,\"falsch\")),\"\")","v":""},null,null,null,null,null,null,null,null,"",0,{"$f":"IF('Anhang Grundstücksverzeichnis'!G302=Texte!$A$25,F302,0)","v":0},{"$f":"IF('Anhang Grundstücksverzeichnis'!G302=Texte!$A$26,F302,0)","v":0},{"$f":"IF('Anhang Grundstücksverzeichnis'!G302=Texte!$A$27,F302,0)","v":0},{"$f":"IF('Anhang Grundstücksverzeichnis'!G302=Texte!$A$28,F302,0)","v":0}]
[293,{"$f":"IF(C303<>\"\",IF(ISNA(VLOOKUP(C303,Katastralgemeinden!$A$2:$B$3041,2,FALSE)),\"Ungültige KG-Nummer!\",VLOOKUP(C303,Katastralgemeinden!A$2:$B$3041,2,\"falsch\")),\"\")","v":""},null,null,null,null,null,null,null,null,"",0,{"$f":"IF('Anhang Grundstücksverzeichnis'!G303=Texte!$A$25,F303,0)","v":0},{"$f":"IF('Anhang Grundstücksverzeichnis'!G303=Texte!$A$26,F303,0)","v":0},{"$f":"IF('Anhang Grundstücksverzeichnis'!G303=Texte!$A$27,F303,0)","v":0},{"$f":"IF('Anhang Grundstücksverzeichnis'!G303=Texte!$A$28,F303,0)","v":0}]
[294,{"$f":"IF(C304<>\"\",IF(ISNA(VLOOKUP(C304,Katastralgemeinden!$A$2:$B$3041,2,FALSE)),\"Ungültige KG-Nummer!\",VLOOKUP(C304,Katastralgemeinden!A$2:$B$3041,2,\"falsch\")),\"\")","v":""},null,null,null,null,null,null,null,null,"",0,{"$f":"IF('Anhang Grundstücksverzeichnis'!G304=Texte!$A$25,F304,0)","v":0},{"$f":"IF('Anhang Grundstücksverzeichnis'!G304=Texte!$A$26,F304,0)","v":0},{"$f":"IF('Anhang Grundstücksverzeichnis'!G304=Texte!$A$27,F304,0)","v":0},{"$f":"IF('Anhang Grundstücksverzeichnis'!G304=Texte!$A$28,F304,0)","v":0}]
[295,{"$f":"IF(C305<>\"\",IF(ISNA(VLOOKUP(C305,Katastralgemeinden!$A$2:$B$3041,2,FALSE)),\"Ungültige KG-Nummer!\",VLOOKUP(C305,Katastralgemeinden!A$2:$B$3041,2,\"falsch\")),\"\")","v":""},null,null,null,null,null,null,null,null,"",0,{"$f":"IF('Anhang Grundstücksverzeichnis'!G305=Texte!$A$25,F305,0)","v":0},{"$f":"IF('Anhang Grundstücksverzeichnis'!G305=Texte!$A$26,F305,0)","v":0},{"$f":"IF('Anhang Grundstücksverzeichnis'!G305=Texte!$A$27,F305,0)","v":0},{"$f":"IF('Anhang Grundstücksverzeichnis'!G305=Texte!$A$28,F305,0)","v":0}]
[296,{"$f":"IF(C306<>\"\",IF(ISNA(VLOOKUP(C306,Katastralgemeinden!$A$2:$B$3041,2,FALSE)),\"Ungültige KG-Nummer!\",VLOOKUP(C306,Katastralgemeinden!A$2:$B$3041,2,\"falsch\")),\"\")","v":""},null,null,null,null,null,null,null,null,"",0,{"$f":"IF('Anhang Grundstücksverzeichnis'!G306=Texte!$A$25,F306,0)","v":0},{"$f":"IF('Anhang Grundstücksverzeichnis'!G306=Texte!$A$26,F306,0)","v":0},{"$f":"IF('Anhang Grundstücksverzeichnis'!G306=Texte!$A$27,F306,0)","v":0},{"$f":"IF('Anhang Grundstücksverzeichnis'!G306=Texte!$A$28,F306,0)","v":0}]
[297,{"$f":"IF(C307<>\"\",IF(ISNA(VLOOKUP(C307,Katastralgemeinden!$A$2:$B$3041,2,FALSE)),\"Ungültige KG-Nummer!\",VLOOKUP(C307,Katastralgemeinden!A$2:$B$3041,2,\"falsch\")),\"\")","v":""},null,null,null,null,null,null,null,null,"",0,{"$f":"IF('Anhang Grundstücksverzeichnis'!G307=Texte!$A$25,F307,0)","v":0},{"$f":"IF('Anhang Grundstücksverzeichnis'!G307=Texte!$A$26,F307,0)","v":0},{"$f":"IF('Anhang Grundstücksverzeichnis'!G307=Texte!$A$27,F307,0)","v":0},{"$f":"IF('Anhang Grundstücksverzeichnis'!G307=Texte!$A$28,F307,0)","v":0}]
[298,{"$f":"IF(C308<>\"\",IF(ISNA(VLOOKUP(C308,Katastralgemeinden!$A$2:$B$3041,2,FALSE)),\"Ungültige KG-Nummer!\",VLOOKUP(C308,Katastralgemeinden!A$2:$B$3041,2,\"falsch\")),\"\")","v":""},null,null,null,null,null,null,null,null,"",0,{"$f":"IF('Anhang Grundstücksverzeichnis'!G308=Texte!$A$25,F308,0)","v":0},{"$f":"IF('Anhang Grundstücksverzeichnis'!G308=Texte!$A$26,F308,0)","v":0},{"$f":"IF('Anhang Grundstücksverzeichnis'!G308=Texte!$A$27,F308,0)","v":0},{"$f":"IF('Anhang Grundstücksverzeichnis'!G308=Texte!$A$28,F308,0)","v":0}]
[299,{"$f":"IF(C309<>\"\",IF(ISNA(VLOOKUP(C309,Katastralgemeinden!$A$2:$B$3041,2,FALSE)),\"Ungültige KG-Nummer!\",VLOOKUP(C309,Katastralgemeinden!A$2:$B$3041,2,\"falsch\")),\"\")","v":""},null,null,null,null,null,null,null,null,"",0,{"$f":"IF('Anhang Grundstücksverzeichnis'!G309=Texte!$A$25,F309,0)","v":0},{"$f":"IF('Anhang Grundstücksverzeichnis'!G309=Texte!$A$26,F309,0)","v":0},{"$f":"IF('Anhang Grundstücksverzeichnis'!G309=Texte!$A$27,F309,0)","v":0},{"$f":"IF('Anhang Grundstücksverzeichnis'!G309=Texte!$A$28,F309,0)","v":0}]
[300,{"$f":"IF(C310<>\"\",IF(ISNA(VLOOKUP(C310,Katastralgemeinden!$A$2:$B$3041,2,FALSE)),\"Ungültige KG-Nummer!\",VLOOKUP(C310,Katastralgemeinden!A$2:$B$3041,2,\"falsch\")),\"\")","v":""},null,null,null,null,null,null,null,null,"",0,{"$f":"IF('Anhang Grundstücksverzeichnis'!G310=Texte!$A$25,F310,0)","v":0},{"$f":"IF('Anhang Grundstücksverzeichnis'!G310=Texte!$A$26,F310,0)","v":0},{"$f":"IF('Anhang Grundstücksverzeichnis'!G310=Texte!$A$27,F310,0)","v":0},{"$f":"IF('Anhang Grundstücksverzeichnis'!G310=Texte!$A$28,F310,0)","v":0}]
[301,{"$f":"IF(C311<>\"\",IF(ISNA(VLOOKUP(C311,Katastralgemeinden!$A$2:$B$3041,2,FALSE)),\"Ungültige KG-Nummer!\",VLOOKUP(C311,Katastralgemeinden!A$2:$B$3041,2,\"falsch\")),\"\")","v":""},null,null,null,null,null,null,null,null,"",0,{"$f":"IF('Anhang Grundstücksverzeichnis'!G311=Texte!$A$25,F311,0)","v":0},{"$f":"IF('Anhang Grundstücksverzeichnis'!G311=Texte!$A$26,F311,0)","v":0},{"$f":"IF('Anhang Grundstücksverzeichnis'!G311=Texte!$A$27,F311,0)","v":0},{"$f":"IF('Anhang Grundstücksverzeichnis'!G311=Texte!$A$28,F311,0)","v":0}]
[302,{"$f":"IF(C312<>\"\",IF(ISNA(VLOOKUP(C312,Katastralgemeinden!$A$2:$B$3041,2,FALSE)),\"Ungültige KG-Nummer!\",VLOOKUP(C312,Katastralgemeinden!A$2:$B$3041,2,\"falsch\")),\"\")","v":""},null,null,null,null,null,null,null,null,"",0,{"$f":"IF('Anhang Grundstücksverzeichnis'!G312=Texte!$A$25,F312,0)","v":0},{"$f":"IF('Anhang Grundstücksverzeichnis'!G312=Texte!$A$26,F312,0)","v":0},{"$f":"IF('Anhang Grundstücksverzeichnis'!G312=Texte!$A$27,F312,0)","v":0},{"$f":"IF('Anhang Grundstücksverzeichnis'!G312=Texte!$A$28,F312,0)","v":0}]
[303,{"$f":"IF(C313<>\"\",IF(ISNA(VLOOKUP(C313,Katastralgemeinden!$A$2:$B$3041,2,FALSE)),\"Ungültige KG-Nummer!\",VLOOKUP(C313,Katastralgemeinden!A$2:$B$3041,2,\"falsch\")),\"\")","v":""},null,null,null,null,null,null,null,null,"",0,{"$f":"IF('Anhang Grundstücksverzeichnis'!G313=Texte!$A$25,F313,0)","v":0},{"$f":"IF('Anhang Grundstücksverzeichnis'!G313=Texte!$A$26,F313,0)","v":0},{"$f":"IF('Anhang Grundstücksverzeichnis'!G313=Texte!$A$27,F313,0)","v":0},{"$f":"IF('Anhang Grundstücksverzeichnis'!G313=Texte!$A$28,F313,0)","v":0}]
[304,{"$f":"IF(C314<>\"\",IF(ISNA(VLOOKUP(C314,Katastralgemeinden!$A$2:$B$3041,2,FALSE)),\"Ungültige KG-Nummer!\",VLOOKUP(C314,Katastralgemeinden!A$2:$B$3041,2,\"falsch\")),\"\")","v":""},null,null,null,null,null,null,null,null,"",0,{"$f":"IF('Anhang Grundstücksverzeichnis'!G314=Texte!$A$25,F314,0)","v":0},{"$f":"IF('Anhang Grundstücksverzeichnis'!G314=Texte!$A$26,F314,0)","v":0},{"$f":"IF('Anhang Grundstücksverzeichnis'!G314=Texte!$A$27,F314,0)","v":0},{"$f":"IF('Anhang Grundstücksverzeichnis'!G314=Texte!$A$28,F314,0)","v":0}]
[305,{"$f":"IF(C315<>\"\",IF(ISNA(VLOOKUP(C315,Katastralgemeinden!$A$2:$B$3041,2,FALSE)),\"Ungültige KG-Nummer!\",VLOOKUP(C315,Katastralgemeinden!A$2:$B$3041,2,\"falsch\")),\"\")","v":""},null,null,null,null,null,null,null,null,"",0,{"$f":"IF('Anhang Grundstücksverzeichnis'!G315=Texte!$A$25,F315,0)","v":0},{"$f":"IF('Anhang Grundstücksverzeichnis'!G315=Texte!$A$26,F315,0)","v":0},{"$f":"IF('Anhang Grundstücksverzeichnis'!G315=Texte!$A$27,F315,0)","v":0},{"$f":"IF('Anhang Grundstücksverzeichnis'!G315=Texte!$A$28,F315,0)","v":0}]
[306,{"$f":"IF(C316<>\"\",IF(ISNA(VLOOKUP(C316,Katastralgemeinden!$A$2:$B$3041,2,FALSE)),\"Ungültige KG-Nummer!\",VLOOKUP(C316,Katastralgemeinden!A$2:$B$3041,2,\"falsch\")),\"\")","v":""},null,null,null,null,null,null,null,null,"",0,{"$f":"IF('Anhang Grundstücksverzeichnis'!G316=Texte!$A$25,F316,0)","v":0},{"$f":"IF('Anhang Grundstücksverzeichnis'!G316=Texte!$A$26,F316,0)","v":0},{"$f":"IF('Anhang Grundstücksverzeichnis'!G316=Texte!$A$27,F316,0)","v":0},{"$f":"IF('Anhang Grundstücksverzeichnis'!G316=Texte!$A$28,F316,0)","v":0}]
[307,{"$f":"IF(C317<>\"\",IF(ISNA(VLOOKUP(C317,Katastralgemeinden!$A$2:$B$3041,2,FALSE)),\"Ungültige KG-Nummer!\",VLOOKUP(C317,Katastralgemeinden!A$2:$B$3041,2,\"falsch\")),\"\")","v":""},null,null,null,null,null,null,null,null,"",0,{"$f":"IF('Anhang Grundstücksverzeichnis'!G317=Texte!$A$25,F317,0)","v":0},{"$f":"IF('Anhang Grundstücksverzeichnis'!G317=Texte!$A$26,F317,0)","v":0},{"$f":"IF('Anhang Grundstücksverzeichnis'!G317=Texte!$A$27,F317,0)","v":0},{"$f":"IF('Anhang Grundstücksverzeichnis'!G317=Texte!$A$28,F317,0)","v":0}]
[308,{"$f":"IF(C318<>\"\",IF(ISNA(VLOOKUP(C318,Katastralgemeinden!$A$2:$B$3041,2,FALSE)),\"Ungültige KG-Nummer!\",VLOOKUP(C318,Katastralgemeinden!A$2:$B$3041,2,\"falsch\")),\"\")","v":""},null,null,null,null,null,null,null,null,"",0,{"$f":"IF('Anhang Grundstücksverzeichnis'!G318=Texte!$A$25,F318,0)","v":0},{"$f":"IF('Anhang Grundstücksverzeichnis'!G318=Texte!$A$26,F318,0)","v":0},{"$f":"IF('Anhang Grundstücksverzeichnis'!G318=Texte!$A$27,F318,0)","v":0},{"$f":"IF('Anhang Grundstücksverzeichnis'!G318=Texte!$A$28,F318,0)","v":0}]
[309,{"$f":"IF(C319<>\"\",IF(ISNA(VLOOKUP(C319,Katastralgemeinden!$A$2:$B$3041,2,FALSE)),\"Ungültige KG-Nummer!\",VLOOKUP(C319,Katastralgemeinden!A$2:$B$3041,2,\"falsch\")),\"\")","v":""},null,null,null,null,null,null,null,null,"",0,{"$f":"IF('Anhang Grundstücksverzeichnis'!G319=Texte!$A$25,F319,0)","v":0},{"$f":"IF('Anhang Grundstücksverzeichnis'!G319=Texte!$A$26,F319,0)","v":0},{"$f":"IF('Anhang Grundstücksverzeichnis'!G319=Texte!$A$27,F319,0)","v":0},{"$f":"IF('Anhang Grundstücksverzeichnis'!G319=Texte!$A$28,F319,0)","v":0}]
[310,{"$f":"IF(C320<>\"\",IF(ISNA(VLOOKUP(C320,Katastralgemeinden!$A$2:$B$3041,2,FALSE)),\"Ungültige KG-Nummer!\",VLOOKUP(C320,Katastralgemeinden!A$2:$B$3041,2,\"falsch\")),\"\")","v":""},null,null,null,null,null,null,null,null,"",0,{"$f":"IF('Anhang Grundstücksverzeichnis'!G320=Texte!$A$25,F320,0)","v":0},{"$f":"IF('Anhang Grundstücksverzeichnis'!G320=Texte!$A$26,F320,0)","v":0},{"$f":"IF('Anhang Grundstücksverzeichnis'!G320=Texte!$A$27,F320,0)","v":0},{"$f":"IF('Anhang Grundstücksverzeichnis'!G320=Texte!$A$28,F320,0)","v":0}]
[311,{"$f":"IF(C321<>\"\",IF(ISNA(VLOOKUP(C321,Katastralgemeinden!$A$2:$B$3041,2,FALSE)),\"Ungültige KG-Nummer!\",VLOOKUP(C321,Katastralgemeinden!A$2:$B$3041,2,\"falsch\")),\"\")","v":""},null,null,null,null,null,null,null,null,"",0,{"$f":"IF('Anhang Grundstücksverzeichnis'!G321=Texte!$A$25,F321,0)","v":0},{"$f":"IF('Anhang Grundstücksverzeichnis'!G321=Texte!$A$26,F321,0)","v":0},{"$f":"IF('Anhang Grundstücksverzeichnis'!G321=Texte!$A$27,F321,0)","v":0},{"$f":"IF('Anhang Grundstücksverzeichnis'!G321=Texte!$A$28,F321,0)","v":0}]
[312,{"$f":"IF(C322<>\"\",IF(ISNA(VLOOKUP(C322,Katastralgemeinden!$A$2:$B$3041,2,FALSE)),\"Ungültige KG-Nummer!\",VLOOKUP(C322,Katastralgemeinden!A$2:$B$3041,2,\"falsch\")),\"\")","v":""},null,null,null,null,null,null,null,null,"",0,{"$f":"IF('Anhang Grundstücksverzeichnis'!G322=Texte!$A$25,F322,0)","v":0},{"$f":"IF('Anhang Grundstücksverzeichnis'!G322=Texte!$A$26,F322,0)","v":0},{"$f":"IF('Anhang Grundstücksverzeichnis'!G322=Texte!$A$27,F322,0)","v":0},{"$f":"IF('Anhang Grundstücksverzeichnis'!G322=Texte!$A$28,F322,0)","v":0}]
[313,{"$f":"IF(C323<>\"\",IF(ISNA(VLOOKUP(C323,Katastralgemeinden!$A$2:$B$3041,2,FALSE)),\"Ungültige KG-Nummer!\",VLOOKUP(C323,Katastralgemeinden!A$2:$B$3041,2,\"falsch\")),\"\")","v":""},null,null,null,null,null,null,null,null,"",0,{"$f":"IF('Anhang Grundstücksverzeichnis'!G323=Texte!$A$25,F323,0)","v":0},{"$f":"IF('Anhang Grundstücksverzeichnis'!G323=Texte!$A$26,F323,0)","v":0},{"$f":"IF('Anhang Grundstücksverzeichnis'!G323=Texte!$A$27,F323,0)","v":0},{"$f":"IF('Anhang Grundstücksverzeichnis'!G323=Texte!$A$28,F323,0)","v":0}]
[314,{"$f":"IF(C324<>\"\",IF(ISNA(VLOOKUP(C324,Katastralgemeinden!$A$2:$B$3041,2,FALSE)),\"Ungültige KG-Nummer!\",VLOOKUP(C324,Katastralgemeinden!A$2:$B$3041,2,\"falsch\")),\"\")","v":""},null,null,null,null,null,null,null,null,"",0,{"$f":"IF('Anhang Grundstücksverzeichnis'!G324=Texte!$A$25,F324,0)","v":0},{"$f":"IF('Anhang Grundstücksverzeichnis'!G324=Texte!$A$26,F324,0)","v":0},{"$f":"IF('Anhang Grundstücksverzeichnis'!G324=Texte!$A$27,F324,0)","v":0},{"$f":"IF('Anhang Grundstücksverzeichnis'!G324=Texte!$A$28,F324,0)","v":0}]
[315,{"$f":"IF(C325<>\"\",IF(ISNA(VLOOKUP(C325,Katastralgemeinden!$A$2:$B$3041,2,FALSE)),\"Ungültige KG-Nummer!\",VLOOKUP(C325,Katastralgemeinden!A$2:$B$3041,2,\"falsch\")),\"\")","v":""},null,null,null,null,null,null,null,null,"",0,{"$f":"IF('Anhang Grundstücksverzeichnis'!G325=Texte!$A$25,F325,0)","v":0},{"$f":"IF('Anhang Grundstücksverzeichnis'!G325=Texte!$A$26,F325,0)","v":0},{"$f":"IF('Anhang Grundstücksverzeichnis'!G325=Texte!$A$27,F325,0)","v":0},{"$f":"IF('Anhang Grundstücksverzeichnis'!G325=Texte!$A$28,F325,0)","v":0}]
[316,{"$f":"IF(C326<>\"\",IF(ISNA(VLOOKUP(C326,Katastralgemeinden!$A$2:$B$3041,2,FALSE)),\"Ungültige KG-Nummer!\",VLOOKUP(C326,Katastralgemeinden!A$2:$B$3041,2,\"falsch\")),\"\")","v":""},null,null,null,null,null,null,null,null,"",0,{"$f":"IF('Anhang Grundstücksverzeichnis'!G326=Texte!$A$25,F326,0)","v":0},{"$f":"IF('Anhang Grundstücksverzeichnis'!G326=Texte!$A$26,F326,0)","v":0},{"$f":"IF('Anhang Grundstücksverzeichnis'!G326=Texte!$A$27,F326,0)","v":0},{"$f":"IF('Anhang Grundstücksverzeichnis'!G326=Texte!$A$28,F326,0)","v":0}]
[317,{"$f":"IF(C327<>\"\",IF(ISNA(VLOOKUP(C327,Katastralgemeinden!$A$2:$B$3041,2,FALSE)),\"Ungültige KG-Nummer!\",VLOOKUP(C327,Katastralgemeinden!A$2:$B$3041,2,\"falsch\")),\"\")","v":""},null,null,null,null,null,null,null,null,"",0,{"$f":"IF('Anhang Grundstücksverzeichnis'!G327=Texte!$A$25,F327,0)","v":0},{"$f":"IF('Anhang Grundstücksverzeichnis'!G327=Texte!$A$26,F327,0)","v":0},{"$f":"IF('Anhang Grundstücksverzeichnis'!G327=Texte!$A$27,F327,0)","v":0},{"$f":"IF('Anhang Grundstücksverzeichnis'!G327=Texte!$A$28,F327,0)","v":0}]
[318,{"$f":"IF(C328<>\"\",IF(ISNA(VLOOKUP(C328,Katastralgemeinden!$A$2:$B$3041,2,FALSE)),\"Ungültige KG-Nummer!\",VLOOKUP(C328,Katastralgemeinden!A$2:$B$3041,2,\"falsch\")),\"\")","v":""},null,null,null,null,null,null,null,null,"",0,{"$f":"IF('Anhang Grundstücksverzeichnis'!G328=Texte!$A$25,F328,0)","v":0},{"$f":"IF('Anhang Grundstücksverzeichnis'!G328=Texte!$A$26,F328,0)","v":0},{"$f":"IF('Anhang Grundstücksverzeichnis'!G328=Texte!$A$27,F328,0)","v":0},{"$f":"IF('Anhang Grundstücksverzeichnis'!G328=Texte!$A$28,F328,0)","v":0}]
[319,{"$f":"IF(C329<>\"\",IF(ISNA(VLOOKUP(C329,Katastralgemeinden!$A$2:$B$3041,2,FALSE)),\"Ungültige KG-Nummer!\",VLOOKUP(C329,Katastralgemeinden!A$2:$B$3041,2,\"falsch\")),\"\")","v":""},null,null,null,null,null,null,null,null,"",0,{"$f":"IF('Anhang Grundstücksverzeichnis'!G329=Texte!$A$25,F329,0)","v":0},{"$f":"IF('Anhang Grundstücksverzeichnis'!G329=Texte!$A$26,F329,0)","v":0},{"$f":"IF('Anhang Grundstücksverzeichnis'!G329=Texte!$A$27,F329,0)","v":0},{"$f":"IF('Anhang Grundstücksverzeichnis'!G329=Texte!$A$28,F329,0)","v":0}]
[320,{"$f":"IF(C330<>\"\",IF(ISNA(VLOOKUP(C330,Katastralgemeinden!$A$2:$B$3041,2,FALSE)),\"Ungültige KG-Nummer!\",VLOOKUP(C330,Katastralgemeinden!A$2:$B$3041,2,\"falsch\")),\"\")","v":""},null,null,null,null,null,null,null,null,"",0,{"$f":"IF('Anhang Grundstücksverzeichnis'!G330=Texte!$A$25,F330,0)","v":0},{"$f":"IF('Anhang Grundstücksverzeichnis'!G330=Texte!$A$26,F330,0)","v":0},{"$f":"IF('Anhang Grundstücksverzeichnis'!G330=Texte!$A$27,F330,0)","v":0},{"$f":"IF('Anhang Grundstücksverzeichnis'!G330=Texte!$A$28,F330,0)","v":0}]
[321,{"$f":"IF(C331<>\"\",IF(ISNA(VLOOKUP(C331,Katastralgemeinden!$A$2:$B$3041,2,FALSE)),\"Ungültige KG-Nummer!\",VLOOKUP(C331,Katastralgemeinden!A$2:$B$3041,2,\"falsch\")),\"\")","v":""},null,null,null,null,null,null,null,null,"",0,{"$f":"IF('Anhang Grundstücksverzeichnis'!G331=Texte!$A$25,F331,0)","v":0},{"$f":"IF('Anhang Grundstücksverzeichnis'!G331=Texte!$A$26,F331,0)","v":0},{"$f":"IF('Anhang Grundstücksverzeichnis'!G331=Texte!$A$27,F331,0)","v":0},{"$f":"IF('Anhang Grundstücksverzeichnis'!G331=Texte!$A$28,F331,0)","v":0}]
[322,{"$f":"IF(C332<>\"\",IF(ISNA(VLOOKUP(C332,Katastralgemeinden!$A$2:$B$3041,2,FALSE)),\"Ungültige KG-Nummer!\",VLOOKUP(C332,Katastralgemeinden!A$2:$B$3041,2,\"falsch\")),\"\")","v":""},null,null,null,null,null,null,null,null,{"$f":"IF(G332<>\"\",IF(G332=\"Eigengrundfläche\",0,IF(G332=\"Vorpachtfläche\",1,IF(G332=\"Abrundung +\",3,IF(G332=\"Abrundung -\",4,5)))),\"\")","v":""},{"$f":"IF(OR(LOWER(H332)=\"x\",LOWER(H332)=\"j\"),1,0)","v":0},{"$f":"IF('Anhang Grundstücksverzeichnis'!G332=Texte!$A$25,F332,0)","v":0},{"$f":"IF('Anhang Grundstücksverzeichnis'!G332=Texte!$A$26,F332,0)","v":0},{"$f":"IF('Anhang Grundstücksverzeichnis'!G332=Texte!$A$27,F332,0)","v":0},{"$f":"IF('Anhang Grundstücksverzeichnis'!G332=Texte!$A$28,F332,0)","v":0}]
[323,{"$f":"IF(C333<>\"\",IF(ISNA(VLOOKUP(C333,Katastralgemeinden!$A$2:$B$3041,2,FALSE)),\"Ungültige KG-Nummer!\",VLOOKUP(C333,Katastralgemeinden!A$2:$B$3041,2,\"falsch\")),\"\")","v":""},null,null,null,null,null,null,null,null,"",0,{"$f":"IF('Anhang Grundstücksverzeichnis'!G333=Texte!$A$25,F333,0)","v":0},{"$f":"IF('Anhang Grundstücksverzeichnis'!G333=Texte!$A$26,F333,0)","v":0},{"$f":"IF('Anhang Grundstücksverzeichnis'!G333=Texte!$A$27,F333,0)","v":0},{"$f":"IF('Anhang Grundstücksverzeichnis'!G333=Texte!$A$28,F333,0)","v":0}]
[324,{"$f":"IF(C334<>\"\",IF(ISNA(VLOOKUP(C334,Katastralgemeinden!$A$2:$B$3041,2,FALSE)),\"Ungültige KG-Nummer!\",VLOOKUP(C334,Katastralgemeinden!A$2:$B$3041,2,\"falsch\")),\"\")","v":""},null,null,null,null,null,null,null,null,"",0,{"$f":"IF('Anhang Grundstücksverzeichnis'!G334=Texte!$A$25,F334,0)","v":0},{"$f":"IF('Anhang Grundstücksverzeichnis'!G334=Texte!$A$26,F334,0)","v":0},{"$f":"IF('Anhang Grundstücksverzeichnis'!G334=Texte!$A$27,F334,0)","v":0},{"$f":"IF('Anhang Grundstücksverzeichnis'!G334=Texte!$A$28,F334,0)","v":0}]
[325,{"$f":"IF(C335<>\"\",IF(ISNA(VLOOKUP(C335,Katastralgemeinden!$A$2:$B$3041,2,FALSE)),\"Ungültige KG-Nummer!\",VLOOKUP(C335,Katastralgemeinden!A$2:$B$3041,2,\"falsch\")),\"\")","v":""},null,null,null,null,null,null,null,null,"",0,{"$f":"IF('Anhang Grundstücksverzeichnis'!G335=Texte!$A$25,F335,0)","v":0},{"$f":"IF('Anhang Grundstücksverzeichnis'!G335=Texte!$A$26,F335,0)","v":0},{"$f":"IF('Anhang Grundstücksverzeichnis'!G335=Texte!$A$27,F335,0)","v":0},{"$f":"IF('Anhang Grundstücksverzeichnis'!G335=Texte!$A$28,F335,0)","v":0}]
[326,{"$f":"IF(C336<>\"\",IF(ISNA(VLOOKUP(C336,Katastralgemeinden!$A$2:$B$3041,2,FALSE)),\"Ungültige KG-Nummer!\",VLOOKUP(C336,Katastralgemeinden!A$2:$B$3041,2,\"falsch\")),\"\")","v":""},null,null,null,null,null,null,null,null,"",0,{"$f":"IF('Anhang Grundstücksverzeichnis'!G336=Texte!$A$25,F336,0)","v":0},{"$f":"IF('Anhang Grundstücksverzeichnis'!G336=Texte!$A$26,F336,0)","v":0},{"$f":"IF('Anhang Grundstücksverzeichnis'!G336=Texte!$A$27,F336,0)","v":0},{"$f":"IF('Anhang Grundstücksverzeichnis'!G336=Texte!$A$28,F336,0)","v":0}]
[327,{"$f":"IF(C337<>\"\",IF(ISNA(VLOOKUP(C337,Katastralgemeinden!$A$2:$B$3041,2,FALSE)),\"Ungültige KG-Nummer!\",VLOOKUP(C337,Katastralgemeinden!A$2:$B$3041,2,\"falsch\")),\"\")","v":""},null,null,null,null,null,null,null,null,"",0,{"$f":"IF('Anhang Grundstücksverzeichnis'!G337=Texte!$A$25,F337,0)","v":0},{"$f":"IF('Anhang Grundstücksverzeichnis'!G337=Texte!$A$26,F337,0)","v":0},{"$f":"IF('Anhang Grundstücksverzeichnis'!G337=Texte!$A$27,F337,0)","v":0},{"$f":"IF('Anhang Grundstücksverzeichnis'!G337=Texte!$A$28,F337,0)","v":0}]
[328,{"$f":"IF(C338<>\"\",IF(ISNA(VLOOKUP(C338,Katastralgemeinden!$A$2:$B$3041,2,FALSE)),\"Ungültige KG-Nummer!\",VLOOKUP(C338,Katastralgemeinden!A$2:$B$3041,2,\"falsch\")),\"\")","v":""},null,null,null,null,null,null,null,null,"",0,{"$f":"IF('Anhang Grundstücksverzeichnis'!G338=Texte!$A$25,F338,0)","v":0},{"$f":"IF('Anhang Grundstücksverzeichnis'!G338=Texte!$A$26,F338,0)","v":0},{"$f":"IF('Anhang Grundstücksverzeichnis'!G338=Texte!$A$27,F338,0)","v":0},{"$f":"IF('Anhang Grundstücksverzeichnis'!G338=Texte!$A$28,F338,0)","v":0}]
[329,{"$f":"IF(C339<>\"\",IF(ISNA(VLOOKUP(C339,Katastralgemeinden!$A$2:$B$3041,2,FALSE)),\"Ungültige KG-Nummer!\",VLOOKUP(C339,Katastralgemeinden!A$2:$B$3041,2,\"falsch\")),\"\")","v":""},null,null,null,null,null,null,null,null,"",0,{"$f":"IF('Anhang Grundstücksverzeichnis'!G339=Texte!$A$25,F339,0)","v":0},{"$f":"IF('Anhang Grundstücksverzeichnis'!G339=Texte!$A$26,F339,0)","v":0},{"$f":"IF('Anhang Grundstücksverzeichnis'!G339=Texte!$A$27,F339,0)","v":0},{"$f":"IF('Anhang Grundstücksverzeichnis'!G339=Texte!$A$28,F339,0)","v":0}]
[330,{"$f":"IF(C340<>\"\",IF(ISNA(VLOOKUP(C340,Katastralgemeinden!$A$2:$B$3041,2,FALSE)),\"Ungültige KG-Nummer!\",VLOOKUP(C340,Katastralgemeinden!A$2:$B$3041,2,\"falsch\")),\"\")","v":""},null,null,null,null,null,null,null,null,"",0,{"$f":"IF('Anhang Grundstücksverzeichnis'!G340=Texte!$A$25,F340,0)","v":0},{"$f":"IF('Anhang Grundstücksverzeichnis'!G340=Texte!$A$26,F340,0)","v":0},{"$f":"IF('Anhang Grundstücksverzeichnis'!G340=Texte!$A$27,F340,0)","v":0},{"$f":"IF('Anhang Grundstücksverzeichnis'!G340=Texte!$A$28,F340,0)","v":0}]
[331,{"$f":"IF(C341<>\"\",IF(ISNA(VLOOKUP(C341,Katastralgemeinden!$A$2:$B$3041,2,FALSE)),\"Ungültige KG-Nummer!\",VLOOKUP(C341,Katastralgemeinden!A$2:$B$3041,2,\"falsch\")),\"\")","v":""},null,null,null,null,null,null,null,null,"",0,{"$f":"IF('Anhang Grundstücksverzeichnis'!G341=Texte!$A$25,F341,0)","v":0},{"$f":"IF('Anhang Grundstücksverzeichnis'!G341=Texte!$A$26,F341,0)","v":0},{"$f":"IF('Anhang Grundstücksverzeichnis'!G341=Texte!$A$27,F341,0)","v":0},{"$f":"IF('Anhang Grundstücksverzeichnis'!G341=Texte!$A$28,F341,0)","v":0}]
[332,{"$f":"IF(C342<>\"\",IF(ISNA(VLOOKUP(C342,Katastralgemeinden!$A$2:$B$3041,2,FALSE)),\"Ungültige KG-Nummer!\",VLOOKUP(C342,Katastralgemeinden!A$2:$B$3041,2,\"falsch\")),\"\")","v":""},null,null,null,null,null,null,null,null,"",0,{"$f":"IF('Anhang Grundstücksverzeichnis'!G342=Texte!$A$25,F342,0)","v":0},{"$f":"IF('Anhang Grundstücksverzeichnis'!G342=Texte!$A$26,F342,0)","v":0},{"$f":"IF('Anhang Grundstücksverzeichnis'!G342=Texte!$A$27,F342,0)","v":0},{"$f":"IF('Anhang Grundstücksverzeichnis'!G342=Texte!$A$28,F342,0)","v":0}]
[333,{"$f":"IF(C343<>\"\",IF(ISNA(VLOOKUP(C343,Katastralgemeinden!$A$2:$B$3041,2,FALSE)),\"Ungültige KG-Nummer!\",VLOOKUP(C343,Katastralgemeinden!A$2:$B$3041,2,\"falsch\")),\"\")","v":""},null,null,null,null,null,null,null,null,"",0,{"$f":"IF('Anhang Grundstücksverzeichnis'!G343=Texte!$A$25,F343,0)","v":0},{"$f":"IF('Anhang Grundstücksverzeichnis'!G343=Texte!$A$26,F343,0)","v":0},{"$f":"IF('Anhang Grundstücksverzeichnis'!G343=Texte!$A$27,F343,0)","v":0},{"$f":"IF('Anhang Grundstücksverzeichnis'!G343=Texte!$A$28,F343,0)","v":0}]
[334,{"$f":"IF(C344<>\"\",IF(ISNA(VLOOKUP(C344,Katastralgemeinden!$A$2:$B$3041,2,FALSE)),\"Ungültige KG-Nummer!\",VLOOKUP(C344,Katastralgemeinden!A$2:$B$3041,2,\"falsch\")),\"\")","v":""},null,null,null,null,null,null,null,null,"",0,{"$f":"IF('Anhang Grundstücksverzeichnis'!G344=Texte!$A$25,F344,0)","v":0},{"$f":"IF('Anhang Grundstücksverzeichnis'!G344=Texte!$A$26,F344,0)","v":0},{"$f":"IF('Anhang Grundstücksverzeichnis'!G344=Texte!$A$27,F344,0)","v":0},{"$f":"IF('Anhang Grundstücksverzeichnis'!G344=Texte!$A$28,F344,0)","v":0}]
[335,{"$f":"IF(C345<>\"\",IF(ISNA(VLOOKUP(C345,Katastralgemeinden!$A$2:$B$3041,2,FALSE)),\"Ungültige KG-Nummer!\",VLOOKUP(C345,Katastralgemeinden!A$2:$B$3041,2,\"falsch\")),\"\")","v":""},null,null,null,null,null,null,null,null,"",0,{"$f":"IF('Anhang Grundstücksverzeichnis'!G345=Texte!$A$25,F345,0)","v":0},{"$f":"IF('Anhang Grundstücksverzeichnis'!G345=Texte!$A$26,F345,0)","v":0},{"$f":"IF('Anhang Grundstücksverzeichnis'!G345=Texte!$A$27,F345,0)","v":0},{"$f":"IF('Anhang Grundstücksverzeichnis'!G345=Texte!$A$28,F345,0)","v":0}]
[336,{"$f":"IF(C346<>\"\",IF(ISNA(VLOOKUP(C346,Katastralgemeinden!$A$2:$B$3041,2,FALSE)),\"Ungültige KG-Nummer!\",VLOOKUP(C346,Katastralgemeinden!A$2:$B$3041,2,\"falsch\")),\"\")","v":""},null,null,null,null,null,null,null,null,"",0,{"$f":"IF('Anhang Grundstücksverzeichnis'!G346=Texte!$A$25,F346,0)","v":0},{"$f":"IF('Anhang Grundstücksverzeichnis'!G346=Texte!$A$26,F346,0)","v":0},{"$f":"IF('Anhang Grundstücksverzeichnis'!G346=Texte!$A$27,F346,0)","v":0},{"$f":"IF('Anhang Grundstücksverzeichnis'!G346=Texte!$A$28,F346,0)","v":0}]
[337,{"$f":"IF(C347<>\"\",IF(ISNA(VLOOKUP(C347,Katastralgemeinden!$A$2:$B$3041,2,FALSE)),\"Ungültige KG-Nummer!\",VLOOKUP(C347,Katastralgemeinden!A$2:$B$3041,2,\"falsch\")),\"\")","v":""},null,null,null,null,null,null,null,null,"",0,{"$f":"IF('Anhang Grundstücksverzeichnis'!G347=Texte!$A$25,F347,0)","v":0},{"$f":"IF('Anhang Grundstücksverzeichnis'!G347=Texte!$A$26,F347,0)","v":0},{"$f":"IF('Anhang Grundstücksverzeichnis'!G347=Texte!$A$27,F347,0)","v":0},{"$f":"IF('Anhang Grundstücksverzeichnis'!G347=Texte!$A$28,F347,0)","v":0}]
[338,{"$f":"IF(C348<>\"\",IF(ISNA(VLOOKUP(C348,Katastralgemeinden!$A$2:$B$3041,2,FALSE)),\"Ungültige KG-Nummer!\",VLOOKUP(C348,Katastralgemeinden!A$2:$B$3041,2,\"falsch\")),\"\")","v":""},null,null,null,null,null,null,null,null,"",0,{"$f":"IF('Anhang Grundstücksverzeichnis'!G348=Texte!$A$25,F348,0)","v":0},{"$f":"IF('Anhang Grundstücksverzeichnis'!G348=Texte!$A$26,F348,0)","v":0},{"$f":"IF('Anhang Grundstücksverzeichnis'!G348=Texte!$A$27,F348,0)","v":0},{"$f":"IF('Anhang Grundstücksverzeichnis'!G348=Texte!$A$28,F348,0)","v":0}]
[339,{"$f":"IF(C349<>\"\",IF(ISNA(VLOOKUP(C349,Katastralgemeinden!$A$2:$B$3041,2,FALSE)),\"Ungültige KG-Nummer!\",VLOOKUP(C349,Katastralgemeinden!A$2:$B$3041,2,\"falsch\")),\"\")","v":""},null,null,null,null,null,null,null,null,"",0,{"$f":"IF('Anhang Grundstücksverzeichnis'!G349=Texte!$A$25,F349,0)","v":0},{"$f":"IF('Anhang Grundstücksverzeichnis'!G349=Texte!$A$26,F349,0)","v":0},{"$f":"IF('Anhang Grundstücksverzeichnis'!G349=Texte!$A$27,F349,0)","v":0},{"$f":"IF('Anhang Grundstücksverzeichnis'!G349=Texte!$A$28,F349,0)","v":0}]
[340,{"$f":"IF(C350<>\"\",IF(ISNA(VLOOKUP(C350,Katastralgemeinden!$A$2:$B$3041,2,FALSE)),\"Ungültige KG-Nummer!\",VLOOKUP(C350,Katastralgemeinden!A$2:$B$3041,2,\"falsch\")),\"\")","v":""},null,null,null,null,null,null,null,null,"",0,{"$f":"IF('Anhang Grundstücksverzeichnis'!G350=Texte!$A$25,F350,0)","v":0},{"$f":"IF('Anhang Grundstücksverzeichnis'!G350=Texte!$A$26,F350,0)","v":0},{"$f":"IF('Anhang Grundstücksverzeichnis'!G350=Texte!$A$27,F350,0)","v":0},{"$f":"IF('Anhang Grundstücksverzeichnis'!G350=Texte!$A$28,F350,0)","v":0}]
[341,{"$f":"IF(C351<>\"\",IF(ISNA(VLOOKUP(C351,Katastralgemeinden!$A$2:$B$3041,2,FALSE)),\"Ungültige KG-Nummer!\",VLOOKUP(C351,Katastralgemeinden!A$2:$B$3041,2,\"falsch\")),\"\")","v":""},null,null,null,null,null,null,null,null,"",0,{"$f":"IF('Anhang Grundstücksverzeichnis'!G351=Texte!$A$25,F351,0)","v":0},{"$f":"IF('Anhang Grundstücksverzeichnis'!G351=Texte!$A$26,F351,0)","v":0},{"$f":"IF('Anhang Grundstücksverzeichnis'!G351=Texte!$A$27,F351,0)","v":0},{"$f":"IF('Anhang Grundstücksverzeichnis'!G351=Texte!$A$28,F351,0)","v":0}]
[342,{"$f":"IF(C352<>\"\",IF(ISNA(VLOOKUP(C352,Katastralgemeinden!$A$2:$B$3041,2,FALSE)),\"Ungültige KG-Nummer!\",VLOOKUP(C352,Katastralgemeinden!A$2:$B$3041,2,\"falsch\")),\"\")","v":""},null,null,null,null,null,null,null,null,"",0,{"$f":"IF('Anhang Grundstücksverzeichnis'!G352=Texte!$A$25,F352,0)","v":0},{"$f":"IF('Anhang Grundstücksverzeichnis'!G352=Texte!$A$26,F352,0)","v":0},{"$f":"IF('Anhang Grundstücksverzeichnis'!G352=Texte!$A$27,F352,0)","v":0},{"$f":"IF('Anhang Grundstücksverzeichnis'!G352=Texte!$A$28,F352,0)","v":0}]
[343,{"$f":"IF(C353<>\"\",IF(ISNA(VLOOKUP(C353,Katastralgemeinden!$A$2:$B$3041,2,FALSE)),\"Ungültige KG-Nummer!\",VLOOKUP(C353,Katastralgemeinden!A$2:$B$3041,2,\"falsch\")),\"\")","v":""},null,null,null,null,null,null,null,null,"",0,{"$f":"IF('Anhang Grundstücksverzeichnis'!G353=Texte!$A$25,F353,0)","v":0},{"$f":"IF('Anhang Grundstücksverzeichnis'!G353=Texte!$A$26,F353,0)","v":0},{"$f":"IF('Anhang Grundstücksverzeichnis'!G353=Texte!$A$27,F353,0)","v":0},{"$f":"IF('Anhang Grundstücksverzeichnis'!G353=Texte!$A$28,F353,0)","v":0}]
[344,{"$f":"IF(C354<>\"\",IF(ISNA(VLOOKUP(C354,Katastralgemeinden!$A$2:$B$3041,2,FALSE)),\"Ungültige KG-Nummer!\",VLOOKUP(C354,Katastralgemeinden!A$2:$B$3041,2,\"falsch\")),\"\")","v":""},null,null,null,null,null,null,null,null,"",0,{"$f":"IF('Anhang Grundstücksverzeichnis'!G354=Texte!$A$25,F354,0)","v":0},{"$f":"IF('Anhang Grundstücksverzeichnis'!G354=Texte!$A$26,F354,0)","v":0},{"$f":"IF('Anhang Grundstücksverzeichnis'!G354=Texte!$A$27,F354,0)","v":0},{"$f":"IF('Anhang Grundstücksverzeichnis'!G354=Texte!$A$28,F354,0)","v":0}]
[345,{"$f":"IF(C355<>\"\",IF(ISNA(VLOOKUP(C355,Katastralgemeinden!$A$2:$B$3041,2,FALSE)),\"Ungültige KG-Nummer!\",VLOOKUP(C355,Katastralgemeinden!A$2:$B$3041,2,\"falsch\")),\"\")","v":""},null,null,null,null,null,null,null,null,"",0,{"$f":"IF('Anhang Grundstücksverzeichnis'!G355=Texte!$A$25,F355,0)","v":0},{"$f":"IF('Anhang Grundstücksverzeichnis'!G355=Texte!$A$26,F355,0)","v":0},{"$f":"IF('Anhang Grundstücksverzeichnis'!G355=Texte!$A$27,F355,0)","v":0},{"$f":"IF('Anhang Grundstücksverzeichnis'!G355=Texte!$A$28,F355,0)","v":0}]
[346,{"$f":"IF(C356<>\"\",IF(ISNA(VLOOKUP(C356,Katastralgemeinden!$A$2:$B$3041,2,FALSE)),\"Ungültige KG-Nummer!\",VLOOKUP(C356,Katastralgemeinden!A$2:$B$3041,2,\"falsch\")),\"\")","v":""},null,null,null,null,null,null,null,null,"",0,{"$f":"IF('Anhang Grundstücksverzeichnis'!G356=Texte!$A$25,F356,0)","v":0},{"$f":"IF('Anhang Grundstücksverzeichnis'!G356=Texte!$A$26,F356,0)","v":0},{"$f":"IF('Anhang Grundstücksverzeichnis'!G356=Texte!$A$27,F356,0)","v":0},{"$f":"IF('Anhang Grundstücksverzeichnis'!G356=Texte!$A$28,F356,0)","v":0}]
[347,{"$f":"IF(C357<>\"\",IF(ISNA(VLOOKUP(C357,Katastralgemeinden!$A$2:$B$3041,2,FALSE)),\"Ungültige KG-Nummer!\",VLOOKUP(C357,Katastralgemeinden!A$2:$B$3041,2,\"falsch\")),\"\")","v":""},null,null,null,null,null,null,null,null,"",0,{"$f":"IF('Anhang Grundstücksverzeichnis'!G357=Texte!$A$25,F357,0)","v":0},{"$f":"IF('Anhang Grundstücksverzeichnis'!G357=Texte!$A$26,F357,0)","v":0},{"$f":"IF('Anhang Grundstücksverzeichnis'!G357=Texte!$A$27,F357,0)","v":0},{"$f":"IF('Anhang Grundstücksverzeichnis'!G357=Texte!$A$28,F357,0)","v":0}]
[348,{"$f":"IF(C358<>\"\",IF(ISNA(VLOOKUP(C358,Katastralgemeinden!$A$2:$B$3041,2,FALSE)),\"Ungültige KG-Nummer!\",VLOOKUP(C358,Katastralgemeinden!A$2:$B$3041,2,\"falsch\")),\"\")","v":""},null,null,null,null,null,null,null,null,"",0,{"$f":"IF('Anhang Grundstücksverzeichnis'!G358=Texte!$A$25,F358,0)","v":0},{"$f":"IF('Anhang Grundstücksverzeichnis'!G358=Texte!$A$26,F358,0)","v":0},{"$f":"IF('Anhang Grundstücksverzeichnis'!G358=Texte!$A$27,F358,0)","v":0},{"$f":"IF('Anhang Grundstücksverzeichnis'!G358=Texte!$A$28,F358,0)","v":0}]
[349,{"$f":"IF(C359<>\"\",IF(ISNA(VLOOKUP(C359,Katastralgemeinden!$A$2:$B$3041,2,FALSE)),\"Ungültige KG-Nummer!\",VLOOKUP(C359,Katastralgemeinden!A$2:$B$3041,2,\"falsch\")),\"\")","v":""},null,null,null,null,null,null,null,null,"",0,{"$f":"IF('Anhang Grundstücksverzeichnis'!G359=Texte!$A$25,F359,0)","v":0},{"$f":"IF('Anhang Grundstücksverzeichnis'!G359=Texte!$A$26,F359,0)","v":0},{"$f":"IF('Anhang Grundstücksverzeichnis'!G359=Texte!$A$27,F359,0)","v":0},{"$f":"IF('Anhang Grundstücksverzeichnis'!G359=Texte!$A$28,F359,0)","v":0}]
[350,{"$f":"IF(C360<>\"\",IF(ISNA(VLOOKUP(C360,Katastralgemeinden!$A$2:$B$3041,2,FALSE)),\"Ungültige KG-Nummer!\",VLOOKUP(C360,Katastralgemeinden!A$2:$B$3041,2,\"falsch\")),\"\")","v":""},null,null,null,null,null,null,null,null,"",0,{"$f":"IF('Anhang Grundstücksverzeichnis'!G360=Texte!$A$25,F360,0)","v":0},{"$f":"IF('Anhang Grundstücksverzeichnis'!G360=Texte!$A$26,F360,0)","v":0},{"$f":"IF('Anhang Grundstücksverzeichnis'!G360=Texte!$A$27,F360,0)","v":0},{"$f":"IF('Anhang Grundstücksverzeichnis'!G360=Texte!$A$28,F360,0)","v":0}]
[351,{"$f":"IF(C361<>\"\",IF(ISNA(VLOOKUP(C361,Katastralgemeinden!$A$2:$B$3041,2,FALSE)),\"Ungültige KG-Nummer!\",VLOOKUP(C361,Katastralgemeinden!A$2:$B$3041,2,\"falsch\")),\"\")","v":""},null,null,null,null,null,null,null,null,"",0,{"$f":"IF('Anhang Grundstücksverzeichnis'!G361=Texte!$A$25,F361,0)","v":0},{"$f":"IF('Anhang Grundstücksverzeichnis'!G361=Texte!$A$26,F361,0)","v":0},{"$f":"IF('Anhang Grundstücksverzeichnis'!G361=Texte!$A$27,F361,0)","v":0},{"$f":"IF('Anhang Grundstücksverzeichnis'!G361=Texte!$A$28,F361,0)","v":0}]
[352,{"$f":"IF(C362<>\"\",IF(ISNA(VLOOKUP(C362,Katastralgemeinden!$A$2:$B$3041,2,FALSE)),\"Ungültige KG-Nummer!\",VLOOKUP(C362,Katastralgemeinden!A$2:$B$3041,2,\"falsch\")),\"\")","v":""},null,null,null,null,null,null,null,null,"",0,{"$f":"IF('Anhang Grundstücksverzeichnis'!G362=Texte!$A$25,F362,0)","v":0},{"$f":"IF('Anhang Grundstücksverzeichnis'!G362=Texte!$A$26,F362,0)","v":0},{"$f":"IF('Anhang Grundstücksverzeichnis'!G362=Texte!$A$27,F362,0)","v":0},{"$f":"IF('Anhang Grundstücksverzeichnis'!G362=Texte!$A$28,F362,0)","v":0}]
[353,{"$f":"IF(C363<>\"\",IF(ISNA(VLOOKUP(C363,Katastralgemeinden!$A$2:$B$3041,2,FALSE)),\"Ungültige KG-Nummer!\",VLOOKUP(C363,Katastralgemeinden!A$2:$B$3041,2,\"falsch\")),\"\")","v":""},null,null,null,null,null,null,null,null,"",0,{"$f":"IF('Anhang Grundstücksverzeichnis'!G363=Texte!$A$25,F363,0)","v":0},{"$f":"IF('Anhang Grundstücksverzeichnis'!G363=Texte!$A$26,F363,0)","v":0},{"$f":"IF('Anhang Grundstücksverzeichnis'!G363=Texte!$A$27,F363,0)","v":0},{"$f":"IF('Anhang Grundstücksverzeichnis'!G363=Texte!$A$28,F363,0)","v":0}]
[354,{"$f":"IF(C364<>\"\",IF(ISNA(VLOOKUP(C364,Katastralgemeinden!$A$2:$B$3041,2,FALSE)),\"Ungültige KG-Nummer!\",VLOOKUP(C364,Katastralgemeinden!A$2:$B$3041,2,\"falsch\")),\"\")","v":""},null,null,null,null,null,null,null,null,"",0,{"$f":"IF('Anhang Grundstücksverzeichnis'!G364=Texte!$A$25,F364,0)","v":0},{"$f":"IF('Anhang Grundstücksverzeichnis'!G364=Texte!$A$26,F364,0)","v":0},{"$f":"IF('Anhang Grundstücksverzeichnis'!G364=Texte!$A$27,F364,0)","v":0},{"$f":"IF('Anhang Grundstücksverzeichnis'!G364=Texte!$A$28,F364,0)","v":0}]
[355,{"$f":"IF(C365<>\"\",IF(ISNA(VLOOKUP(C365,Katastralgemeinden!$A$2:$B$3041,2,FALSE)),\"Ungültige KG-Nummer!\",VLOOKUP(C365,Katastralgemeinden!A$2:$B$3041,2,\"falsch\")),\"\")","v":""},null,null,null,null,null,null,null,null,"",0,{"$f":"IF('Anhang Grundstücksverzeichnis'!G365=Texte!$A$25,F365,0)","v":0},{"$f":"IF('Anhang Grundstücksverzeichnis'!G365=Texte!$A$26,F365,0)","v":0},{"$f":"IF('Anhang Grundstücksverzeichnis'!G365=Texte!$A$27,F365,0)","v":0},{"$f":"IF('Anhang Grundstücksverzeichnis'!G365=Texte!$A$28,F365,0)","v":0}]
[356,{"$f":"IF(C366<>\"\",IF(ISNA(VLOOKUP(C366,Katastralgemeinden!$A$2:$B$3041,2,FALSE)),\"Ungültige KG-Nummer!\",VLOOKUP(C366,Katastralgemeinden!A$2:$B$3041,2,\"falsch\")),\"\")","v":""},null,null,null,null,null,null,null,null,"",0,{"$f":"IF('Anhang Grundstücksverzeichnis'!G366=Texte!$A$25,F366,0)","v":0},{"$f":"IF('Anhang Grundstücksverzeichnis'!G366=Texte!$A$26,F366,0)","v":0},{"$f":"IF('Anhang Grundstücksverzeichnis'!G366=Texte!$A$27,F366,0)","v":0},{"$f":"IF('Anhang Grundstücksverzeichnis'!G366=Texte!$A$28,F366,0)","v":0}]
[357,{"$f":"IF(C367<>\"\",IF(ISNA(VLOOKUP(C367,Katastralgemeinden!$A$2:$B$3041,2,FALSE)),\"Ungültige KG-Nummer!\",VLOOKUP(C367,Katastralgemeinden!A$2:$B$3041,2,\"falsch\")),\"\")","v":""},null,null,null,null,null,null,null,null,"",0,{"$f":"IF('Anhang Grundstücksverzeichnis'!G367=Texte!$A$25,F367,0)","v":0},{"$f":"IF('Anhang Grundstücksverzeichnis'!G367=Texte!$A$26,F367,0)","v":0},{"$f":"IF('Anhang Grundstücksverzeichnis'!G367=Texte!$A$27,F367,0)","v":0},{"$f":"IF('Anhang Grundstücksverzeichnis'!G367=Texte!$A$28,F367,0)","v":0}]
[358,{"$f":"IF(C368<>\"\",IF(ISNA(VLOOKUP(C368,Katastralgemeinden!$A$2:$B$3041,2,FALSE)),\"Ungültige KG-Nummer!\",VLOOKUP(C368,Katastralgemeinden!A$2:$B$3041,2,\"falsch\")),\"\")","v":""},null,null,null,null,null,null,null,null,"",0,{"$f":"IF('Anhang Grundstücksverzeichnis'!G368=Texte!$A$25,F368,0)","v":0},{"$f":"IF('Anhang Grundstücksverzeichnis'!G368=Texte!$A$26,F368,0)","v":0},{"$f":"IF('Anhang Grundstücksverzeichnis'!G368=Texte!$A$27,F368,0)","v":0},{"$f":"IF('Anhang Grundstücksverzeichnis'!G368=Texte!$A$28,F368,0)","v":0}]
[359,{"$f":"IF(C369<>\"\",IF(ISNA(VLOOKUP(C369,Katastralgemeinden!$A$2:$B$3041,2,FALSE)),\"Ungültige KG-Nummer!\",VLOOKUP(C369,Katastralgemeinden!A$2:$B$3041,2,\"falsch\")),\"\")","v":""},null,null,null,null,null,null,null,null,"",0,{"$f":"IF('Anhang Grundstücksverzeichnis'!G369=Texte!$A$25,F369,0)","v":0},{"$f":"IF('Anhang Grundstücksverzeichnis'!G369=Texte!$A$26,F369,0)","v":0},{"$f":"IF('Anhang Grundstücksverzeichnis'!G369=Texte!$A$27,F369,0)","v":0},{"$f":"IF('Anhang Grundstücksverzeichnis'!G369=Texte!$A$28,F369,0)","v":0}]
[360,{"$f":"IF(C370<>\"\",IF(ISNA(VLOOKUP(C370,Katastralgemeinden!$A$2:$B$3041,2,FALSE)),\"Ungültige KG-Nummer!\",VLOOKUP(C370,Katastralgemeinden!A$2:$B$3041,2,\"falsch\")),\"\")","v":""},null,null,null,null,null,null,null,null,"",0,{"$f":"IF('Anhang Grundstücksverzeichnis'!G370=Texte!$A$25,F370,0)","v":0},{"$f":"IF('Anhang Grundstücksverzeichnis'!G370=Texte!$A$26,F370,0)","v":0},{"$f":"IF('Anhang Grundstücksverzeichnis'!G370=Texte!$A$27,F370,0)","v":0},{"$f":"IF('Anhang Grundstücksverzeichnis'!G370=Texte!$A$28,F370,0)","v":0}]
[361,{"$f":"IF(C371<>\"\",IF(ISNA(VLOOKUP(C371,Katastralgemeinden!$A$2:$B$3041,2,FALSE)),\"Ungültige KG-Nummer!\",VLOOKUP(C371,Katastralgemeinden!A$2:$B$3041,2,\"falsch\")),\"\")","v":""},null,null,null,null,null,null,null,null,"",0,{"$f":"IF('Anhang Grundstücksverzeichnis'!G371=Texte!$A$25,F371,0)","v":0},{"$f":"IF('Anhang Grundstücksverzeichnis'!G371=Texte!$A$26,F371,0)","v":0},{"$f":"IF('Anhang Grundstücksverzeichnis'!G371=Texte!$A$27,F371,0)","v":0},{"$f":"IF('Anhang Grundstücksverzeichnis'!G371=Texte!$A$28,F371,0)","v":0}]
[362,{"$f":"IF(C372<>\"\",IF(ISNA(VLOOKUP(C372,Katastralgemeinden!$A$2:$B$3041,2,FALSE)),\"Ungültige KG-Nummer!\",VLOOKUP(C372,Katastralgemeinden!A$2:$B$3041,2,\"falsch\")),\"\")","v":""},null,null,null,null,null,null,null,null,"",0,{"$f":"IF('Anhang Grundstücksverzeichnis'!G372=Texte!$A$25,F372,0)","v":0},{"$f":"IF('Anhang Grundstücksverzeichnis'!G372=Texte!$A$26,F372,0)","v":0},{"$f":"IF('Anhang Grundstücksverzeichnis'!G372=Texte!$A$27,F372,0)","v":0},{"$f":"IF('Anhang Grundstücksverzeichnis'!G372=Texte!$A$28,F372,0)","v":0}]
[363,{"$f":"IF(C373<>\"\",IF(ISNA(VLOOKUP(C373,Katastralgemeinden!$A$2:$B$3041,2,FALSE)),\"Ungültige KG-Nummer!\",VLOOKUP(C373,Katastralgemeinden!A$2:$B$3041,2,\"falsch\")),\"\")","v":""},null,null,null,null,null,null,null,null,"",0,{"$f":"IF('Anhang Grundstücksverzeichnis'!G373=Texte!$A$25,F373,0)","v":0},{"$f":"IF('Anhang Grundstücksverzeichnis'!G373=Texte!$A$26,F373,0)","v":0},{"$f":"IF('Anhang Grundstücksverzeichnis'!G373=Texte!$A$27,F373,0)","v":0},{"$f":"IF('Anhang Grundstücksverzeichnis'!G373=Texte!$A$28,F373,0)","v":0}]
[364,{"$f":"IF(C374<>\"\",IF(ISNA(VLOOKUP(C374,Katastralgemeinden!$A$2:$B$3041,2,FALSE)),\"Ungültige KG-Nummer!\",VLOOKUP(C374,Katastralgemeinden!A$2:$B$3041,2,\"falsch\")),\"\")","v":""},null,null,null,null,null,null,null,null,"",0,{"$f":"IF('Anhang Grundstücksverzeichnis'!G374=Texte!$A$25,F374,0)","v":0},{"$f":"IF('Anhang Grundstücksverzeichnis'!G374=Texte!$A$26,F374,0)","v":0},{"$f":"IF('Anhang Grundstücksverzeichnis'!G374=Texte!$A$27,F374,0)","v":0},{"$f":"IF('Anhang Grundstücksverzeichnis'!G374=Texte!$A$28,F374,0)","v":0}]
[365,{"$f":"IF(C375<>\"\",IF(ISNA(VLOOKUP(C375,Katastralgemeinden!$A$2:$B$3041,2,FALSE)),\"Ungültige KG-Nummer!\",VLOOKUP(C375,Katastralgemeinden!A$2:$B$3041,2,\"falsch\")),\"\")","v":""},null,null,null,null,null,null,null,null,"",0,{"$f":"IF('Anhang Grundstücksverzeichnis'!G375=Texte!$A$25,F375,0)","v":0},{"$f":"IF('Anhang Grundstücksverzeichnis'!G375=Texte!$A$26,F375,0)","v":0},{"$f":"IF('Anhang Grundstücksverzeichnis'!G375=Texte!$A$27,F375,0)","v":0},{"$f":"IF('Anhang Grundstücksverzeichnis'!G375=Texte!$A$28,F375,0)","v":0}]
[366,{"$f":"IF(C376<>\"\",IF(ISNA(VLOOKUP(C376,Katastralgemeinden!$A$2:$B$3041,2,FALSE)),\"Ungültige KG-Nummer!\",VLOOKUP(C376,Katastralgemeinden!A$2:$B$3041,2,\"falsch\")),\"\")","v":""},null,null,null,null,null,null,null,null,"",0,{"$f":"IF('Anhang Grundstücksverzeichnis'!G376=Texte!$A$25,F376,0)","v":0},{"$f":"IF('Anhang Grundstücksverzeichnis'!G376=Texte!$A$26,F376,0)","v":0},{"$f":"IF('Anhang Grundstücksverzeichnis'!G376=Texte!$A$27,F376,0)","v":0},{"$f":"IF('Anhang Grundstücksverzeichnis'!G376=Texte!$A$28,F376,0)","v":0}]
[367,{"$f":"IF(C377<>\"\",IF(ISNA(VLOOKUP(C377,Katastralgemeinden!$A$2:$B$3041,2,FALSE)),\"Ungültige KG-Nummer!\",VLOOKUP(C377,Katastralgemeinden!A$2:$B$3041,2,\"falsch\")),\"\")","v":""},null,null,null,null,null,null,null,null,"",0,{"$f":"IF('Anhang Grundstücksverzeichnis'!G377=Texte!$A$25,F377,0)","v":0},{"$f":"IF('Anhang Grundstücksverzeichnis'!G377=Texte!$A$26,F377,0)","v":0},{"$f":"IF('Anhang Grundstücksverzeichnis'!G377=Texte!$A$27,F377,0)","v":0},{"$f":"IF('Anhang Grundstücksverzeichnis'!G377=Texte!$A$28,F377,0)","v":0}]
[368,{"$f":"IF(C378<>\"\",IF(ISNA(VLOOKUP(C378,Katastralgemeinden!$A$2:$B$3041,2,FALSE)),\"Ungültige KG-Nummer!\",VLOOKUP(C378,Katastralgemeinden!A$2:$B$3041,2,\"falsch\")),\"\")","v":""},null,null,null,null,null,null,null,null,"",0,{"$f":"IF('Anhang Grundstücksverzeichnis'!G378=Texte!$A$25,F378,0)","v":0},{"$f":"IF('Anhang Grundstücksverzeichnis'!G378=Texte!$A$26,F378,0)","v":0},{"$f":"IF('Anhang Grundstücksverzeichnis'!G378=Texte!$A$27,F378,0)","v":0},{"$f":"IF('Anhang Grundstücksverzeichnis'!G378=Texte!$A$28,F378,0)","v":0}]
[369,{"$f":"IF(C379<>\"\",IF(ISNA(VLOOKUP(C379,Katastralgemeinden!$A$2:$B$3041,2,FALSE)),\"Ungültige KG-Nummer!\",VLOOKUP(C379,Katastralgemeinden!A$2:$B$3041,2,\"falsch\")),\"\")","v":""},null,null,null,null,null,null,null,null,"",0,{"$f":"IF('Anhang Grundstücksverzeichnis'!G379=Texte!$A$25,F379,0)","v":0},{"$f":"IF('Anhang Grundstücksverzeichnis'!G379=Texte!$A$26,F379,0)","v":0},{"$f":"IF('Anhang Grundstücksverzeichnis'!G379=Texte!$A$27,F379,0)","v":0},{"$f":"IF('Anhang Grundstücksverzeichnis'!G379=Texte!$A$28,F379,0)","v":0}]
[370,{"$f":"IF(C380<>\"\",IF(ISNA(VLOOKUP(C380,Katastralgemeinden!$A$2:$B$3041,2,FALSE)),\"Ungültige KG-Nummer!\",VLOOKUP(C380,Katastralgemeinden!A$2:$B$3041,2,\"falsch\")),\"\")","v":""},null,null,null,null,null,null,null,null,"",0,{"$f":"IF('Anhang Grundstücksverzeichnis'!G380=Texte!$A$25,F380,0)","v":0},{"$f":"IF('Anhang Grundstücksverzeichnis'!G380=Texte!$A$26,F380,0)","v":0},{"$f":"IF('Anhang Grundstücksverzeichnis'!G380=Texte!$A$27,F380,0)","v":0},{"$f":"IF('Anhang Grundstücksverzeichnis'!G380=Texte!$A$28,F380,0)","v":0}]
[371,{"$f":"IF(C381<>\"\",IF(ISNA(VLOOKUP(C381,Katastralgemeinden!$A$2:$B$3041,2,FALSE)),\"Ungültige KG-Nummer!\",VLOOKUP(C381,Katastralgemeinden!A$2:$B$3041,2,\"falsch\")),\"\")","v":""},null,null,null,null,null,null,null,null,"",0,{"$f":"IF('Anhang Grundstücksverzeichnis'!G381=Texte!$A$25,F381,0)","v":0},{"$f":"IF('Anhang Grundstücksverzeichnis'!G381=Texte!$A$26,F381,0)","v":0},{"$f":"IF('Anhang Grundstücksverzeichnis'!G381=Texte!$A$27,F381,0)","v":0},{"$f":"IF('Anhang Grundstücksverzeichnis'!G381=Texte!$A$28,F381,0)","v":0}]
[372,{"$f":"IF(C382<>\"\",IF(ISNA(VLOOKUP(C382,Katastralgemeinden!$A$2:$B$3041,2,FALSE)),\"Ungültige KG-Nummer!\",VLOOKUP(C382,Katastralgemeinden!A$2:$B$3041,2,\"falsch\")),\"\")","v":""},null,null,null,null,null,null,null,null,"",0,{"$f":"IF('Anhang Grundstücksverzeichnis'!G382=Texte!$A$25,F382,0)","v":0},{"$f":"IF('Anhang Grundstücksverzeichnis'!G382=Texte!$A$26,F382,0)","v":0},{"$f":"IF('Anhang Grundstücksverzeichnis'!G382=Texte!$A$27,F382,0)","v":0},{"$f":"IF('Anhang Grundstücksverzeichnis'!G382=Texte!$A$28,F382,0)","v":0}]
[373,{"$f":"IF(C383<>\"\",IF(ISNA(VLOOKUP(C383,Katastralgemeinden!$A$2:$B$3041,2,FALSE)),\"Ungültige KG-Nummer!\",VLOOKUP(C383,Katastralgemeinden!A$2:$B$3041,2,\"falsch\")),\"\")","v":""},null,null,null,null,null,null,null,null,"",0,{"$f":"IF('Anhang Grundstücksverzeichnis'!G383=Texte!$A$25,F383,0)","v":0},{"$f":"IF('Anhang Grundstücksverzeichnis'!G383=Texte!$A$26,F383,0)","v":0},{"$f":"IF('Anhang Grundstücksverzeichnis'!G383=Texte!$A$27,F383,0)","v":0},{"$f":"IF('Anhang Grundstücksverzeichnis'!G383=Texte!$A$28,F383,0)","v":0}]
[374,{"$f":"IF(C384<>\"\",IF(ISNA(VLOOKUP(C384,Katastralgemeinden!$A$2:$B$3041,2,FALSE)),\"Ungültige KG-Nummer!\",VLOOKUP(C384,Katastralgemeinden!A$2:$B$3041,2,\"falsch\")),\"\")","v":""},null,null,null,null,null,null,null,null,"",0,{"$f":"IF('Anhang Grundstücksverzeichnis'!G384=Texte!$A$25,F384,0)","v":0},{"$f":"IF('Anhang Grundstücksverzeichnis'!G384=Texte!$A$26,F384,0)","v":0},{"$f":"IF('Anhang Grundstücksverzeichnis'!G384=Texte!$A$27,F384,0)","v":0},{"$f":"IF('Anhang Grundstücksverzeichnis'!G384=Texte!$A$28,F384,0)","v":0}]
[375,{"$f":"IF(C385<>\"\",IF(ISNA(VLOOKUP(C385,Katastralgemeinden!$A$2:$B$3041,2,FALSE)),\"Ungültige KG-Nummer!\",VLOOKUP(C385,Katastralgemeinden!A$2:$B$3041,2,\"falsch\")),\"\")","v":""},null,null,null,null,null,null,null,null,"",0,{"$f":"IF('Anhang Grundstücksverzeichnis'!G385=Texte!$A$25,F385,0)","v":0},{"$f":"IF('Anhang Grundstücksverzeichnis'!G385=Texte!$A$26,F385,0)","v":0},{"$f":"IF('Anhang Grundstücksverzeichnis'!G385=Texte!$A$27,F385,0)","v":0},{"$f":"IF('Anhang Grundstücksverzeichnis'!G385=Texte!$A$28,F385,0)","v":0}]
[376,{"$f":"IF(C386<>\"\",IF(ISNA(VLOOKUP(C386,Katastralgemeinden!$A$2:$B$3041,2,FALSE)),\"Ungültige KG-Nummer!\",VLOOKUP(C386,Katastralgemeinden!A$2:$B$3041,2,\"falsch\")),\"\")","v":""},null,null,null,null,null,null,null,null,"",0,{"$f":"IF('Anhang Grundstücksverzeichnis'!G386=Texte!$A$25,F386,0)","v":0},{"$f":"IF('Anhang Grundstücksverzeichnis'!G386=Texte!$A$26,F386,0)","v":0},{"$f":"IF('Anhang Grundstücksverzeichnis'!G386=Texte!$A$27,F386,0)","v":0},{"$f":"IF('Anhang Grundstücksverzeichnis'!G386=Texte!$A$28,F386,0)","v":0}]
[377,{"$f":"IF(C387<>\"\",IF(ISNA(VLOOKUP(C387,Katastralgemeinden!$A$2:$B$3041,2,FALSE)),\"Ungültige KG-Nummer!\",VLOOKUP(C387,Katastralgemeinden!A$2:$B$3041,2,\"falsch\")),\"\")","v":""},null,null,null,null,null,null,null,null,"",0,{"$f":"IF('Anhang Grundstücksverzeichnis'!G387=Texte!$A$25,F387,0)","v":0},{"$f":"IF('Anhang Grundstücksverzeichnis'!G387=Texte!$A$26,F387,0)","v":0},{"$f":"IF('Anhang Grundstücksverzeichnis'!G387=Texte!$A$27,F387,0)","v":0},{"$f":"IF('Anhang Grundstücksverzeichnis'!G387=Texte!$A$28,F387,0)","v":0}]
[378,{"$f":"IF(C388<>\"\",IF(ISNA(VLOOKUP(C388,Katastralgemeinden!$A$2:$B$3041,2,FALSE)),\"Ungültige KG-Nummer!\",VLOOKUP(C388,Katastralgemeinden!A$2:$B$3041,2,\"falsch\")),\"\")","v":""},null,null,null,null,null,null,null,null,"",0,{"$f":"IF('Anhang Grundstücksverzeichnis'!G388=Texte!$A$25,F388,0)","v":0},{"$f":"IF('Anhang Grundstücksverzeichnis'!G388=Texte!$A$26,F388,0)","v":0},{"$f":"IF('Anhang Grundstücksverzeichnis'!G388=Texte!$A$27,F388,0)","v":0},{"$f":"IF('Anhang Grundstücksverzeichnis'!G388=Texte!$A$28,F388,0)","v":0}]
[379,{"$f":"IF(C389<>\"\",IF(ISNA(VLOOKUP(C389,Katastralgemeinden!$A$2:$B$3041,2,FALSE)),\"Ungültige KG-Nummer!\",VLOOKUP(C389,Katastralgemeinden!A$2:$B$3041,2,\"falsch\")),\"\")","v":""},null,null,null,null,null,null,null,null,"",0,{"$f":"IF('Anhang Grundstücksverzeichnis'!G389=Texte!$A$25,F389,0)","v":0},{"$f":"IF('Anhang Grundstücksverzeichnis'!G389=Texte!$A$26,F389,0)","v":0},{"$f":"IF('Anhang Grundstücksverzeichnis'!G389=Texte!$A$27,F389,0)","v":0},{"$f":"IF('Anhang Grundstücksverzeichnis'!G389=Texte!$A$28,F389,0)","v":0}]
[380,{"$f":"IF(C390<>\"\",IF(ISNA(VLOOKUP(C390,Katastralgemeinden!$A$2:$B$3041,2,FALSE)),\"Ungültige KG-Nummer!\",VLOOKUP(C390,Katastralgemeinden!A$2:$B$3041,2,\"falsch\")),\"\")","v":""},null,null,null,null,null,null,null,null,"",0,{"$f":"IF('Anhang Grundstücksverzeichnis'!G390=Texte!$A$25,F390,0)","v":0},{"$f":"IF('Anhang Grundstücksverzeichnis'!G390=Texte!$A$26,F390,0)","v":0},{"$f":"IF('Anhang Grundstücksverzeichnis'!G390=Texte!$A$27,F390,0)","v":0},{"$f":"IF('Anhang Grundstücksverzeichnis'!G390=Texte!$A$28,F390,0)","v":0}]
[381,{"$f":"IF(C391<>\"\",IF(ISNA(VLOOKUP(C391,Katastralgemeinden!$A$2:$B$3041,2,FALSE)),\"Ungültige KG-Nummer!\",VLOOKUP(C391,Katastralgemeinden!A$2:$B$3041,2,\"falsch\")),\"\")","v":""},null,null,null,null,null,null,null,null,"",0,{"$f":"IF('Anhang Grundstücksverzeichnis'!G391=Texte!$A$25,F391,0)","v":0},{"$f":"IF('Anhang Grundstücksverzeichnis'!G391=Texte!$A$26,F391,0)","v":0},{"$f":"IF('Anhang Grundstücksverzeichnis'!G391=Texte!$A$27,F391,0)","v":0},{"$f":"IF('Anhang Grundstücksverzeichnis'!G391=Texte!$A$28,F391,0)","v":0}]
[382,{"$f":"IF(C392<>\"\",IF(ISNA(VLOOKUP(C392,Katastralgemeinden!$A$2:$B$3041,2,FALSE)),\"Ungültige KG-Nummer!\",VLOOKUP(C392,Katastralgemeinden!A$2:$B$3041,2,\"falsch\")),\"\")","v":""},null,null,null,null,null,null,null,null,"",0,{"$f":"IF('Anhang Grundstücksverzeichnis'!G392=Texte!$A$25,F392,0)","v":0},{"$f":"IF('Anhang Grundstücksverzeichnis'!G392=Texte!$A$26,F392,0)","v":0},{"$f":"IF('Anhang Grundstücksverzeichnis'!G392=Texte!$A$27,F392,0)","v":0},{"$f":"IF('Anhang Grundstücksverzeichnis'!G392=Texte!$A$28,F392,0)","v":0}]
[383,{"$f":"IF(C393<>\"\",IF(ISNA(VLOOKUP(C393,Katastralgemeinden!$A$2:$B$3041,2,FALSE)),\"Ungültige KG-Nummer!\",VLOOKUP(C393,Katastralgemeinden!A$2:$B$3041,2,\"falsch\")),\"\")","v":""},null,null,null,null,null,null,null,null,"",0,{"$f":"IF('Anhang Grundstücksverzeichnis'!G393=Texte!$A$25,F393,0)","v":0},{"$f":"IF('Anhang Grundstücksverzeichnis'!G393=Texte!$A$26,F393,0)","v":0},{"$f":"IF('Anhang Grundstücksverzeichnis'!G393=Texte!$A$27,F393,0)","v":0},{"$f":"IF('Anhang Grundstücksverzeichnis'!G393=Texte!$A$28,F393,0)","v":0}]
[384,{"$f":"IF(C394<>\"\",IF(ISNA(VLOOKUP(C394,Katastralgemeinden!$A$2:$B$3041,2,FALSE)),\"Ungültige KG-Nummer!\",VLOOKUP(C394,Katastralgemeinden!A$2:$B$3041,2,\"falsch\")),\"\")","v":""},null,null,null,null,null,null,null,null,"",0,{"$f":"IF('Anhang Grundstücksverzeichnis'!G394=Texte!$A$25,F394,0)","v":0},{"$f":"IF('Anhang Grundstücksverzeichnis'!G394=Texte!$A$26,F394,0)","v":0},{"$f":"IF('Anhang Grundstücksverzeichnis'!G394=Texte!$A$27,F394,0)","v":0},{"$f":"IF('Anhang Grundstücksverzeichnis'!G394=Texte!$A$28,F394,0)","v":0}]
[385,{"$f":"IF(C395<>\"\",IF(ISNA(VLOOKUP(C395,Katastralgemeinden!$A$2:$B$3041,2,FALSE)),\"Ungültige KG-Nummer!\",VLOOKUP(C395,Katastralgemeinden!A$2:$B$3041,2,\"falsch\")),\"\")","v":""},null,null,null,null,null,null,null,null,"",0,{"$f":"IF('Anhang Grundstücksverzeichnis'!G395=Texte!$A$25,F395,0)","v":0},{"$f":"IF('Anhang Grundstücksverzeichnis'!G395=Texte!$A$26,F395,0)","v":0},{"$f":"IF('Anhang Grundstücksverzeichnis'!G395=Texte!$A$27,F395,0)","v":0},{"$f":"IF('Anhang Grundstücksverzeichnis'!G395=Texte!$A$28,F395,0)","v":0}]
[386,{"$f":"IF(C396<>\"\",IF(ISNA(VLOOKUP(C396,Katastralgemeinden!$A$2:$B$3041,2,FALSE)),\"Ungültige KG-Nummer!\",VLOOKUP(C396,Katastralgemeinden!A$2:$B$3041,2,\"falsch\")),\"\")","v":""},null,null,null,null,null,null,null,null,{"$f":"IF(G396<>\"\",IF(G396=\"Eigengrundfläche\",0,IF(G396=\"Vorpachtfläche\",1,IF(G396=\"Abrundung +\",3,IF(G396=\"Abrundung -\",4,5)))),\"\")","v":""},{"$f":"IF(OR(LOWER(H396)=\"x\",LOWER(H396)=\"j\"),1,0)","v":0},{"$f":"IF('Anhang Grundstücksverzeichnis'!G396=Texte!$A$25,F396,0)","v":0},{"$f":"IF('Anhang Grundstücksverzeichnis'!G396=Texte!$A$26,F396,0)","v":0},{"$f":"IF('Anhang Grundstücksverzeichnis'!G396=Texte!$A$27,F396,0)","v":0},{"$f":"IF('Anhang Grundstücksverzeichnis'!G396=Texte!$A$28,F396,0)","v":0}]
[387,{"$f":"IF(C397<>\"\",IF(ISNA(VLOOKUP(C397,Katastralgemeinden!$A$2:$B$3041,2,FALSE)),\"Ungültige KG-Nummer!\",VLOOKUP(C397,Katastralgemeinden!A$2:$B$3041,2,\"falsch\")),\"\")","v":""},null,null,null,null,null,null,null,null,"",0,{"$f":"IF('Anhang Grundstücksverzeichnis'!G397=Texte!$A$25,F397,0)","v":0},{"$f":"IF('Anhang Grundstücksverzeichnis'!G397=Texte!$A$26,F397,0)","v":0},{"$f":"IF('Anhang Grundstücksverzeichnis'!G397=Texte!$A$27,F397,0)","v":0},{"$f":"IF('Anhang Grundstücksverzeichnis'!G397=Texte!$A$28,F397,0)","v":0}]
[388,{"$f":"IF(C398<>\"\",IF(ISNA(VLOOKUP(C398,Katastralgemeinden!$A$2:$B$3041,2,FALSE)),\"Ungültige KG-Nummer!\",VLOOKUP(C398,Katastralgemeinden!A$2:$B$3041,2,\"falsch\")),\"\")","v":""},null,null,null,null,null,null,null,null,"",0,{"$f":"IF('Anhang Grundstücksverzeichnis'!G398=Texte!$A$25,F398,0)","v":0},{"$f":"IF('Anhang Grundstücksverzeichnis'!G398=Texte!$A$26,F398,0)","v":0},{"$f":"IF('Anhang Grundstücksverzeichnis'!G398=Texte!$A$27,F398,0)","v":0},{"$f":"IF('Anhang Grundstücksverzeichnis'!G398=Texte!$A$28,F398,0)","v":0}]
[389,{"$f":"IF(C399<>\"\",IF(ISNA(VLOOKUP(C399,Katastralgemeinden!$A$2:$B$3041,2,FALSE)),\"Ungültige KG-Nummer!\",VLOOKUP(C399,Katastralgemeinden!A$2:$B$3041,2,\"falsch\")),\"\")","v":""},null,null,null,null,null,null,null,null,"",0,{"$f":"IF('Anhang Grundstücksverzeichnis'!G399=Texte!$A$25,F399,0)","v":0},{"$f":"IF('Anhang Grundstücksverzeichnis'!G399=Texte!$A$26,F399,0)","v":0},{"$f":"IF('Anhang Grundstücksverzeichnis'!G399=Texte!$A$27,F399,0)","v":0},{"$f":"IF('Anhang Grundstücksverzeichnis'!G399=Texte!$A$28,F399,0)","v":0}]
[390,{"$f":"IF(C400<>\"\",IF(ISNA(VLOOKUP(C400,Katastralgemeinden!$A$2:$B$3041,2,FALSE)),\"Ungültige KG-Nummer!\",VLOOKUP(C400,Katastralgemeinden!A$2:$B$3041,2,\"falsch\")),\"\")","v":""},null,null,null,null,null,null,null,null,"",0,{"$f":"IF('Anhang Grundstücksverzeichnis'!G400=Texte!$A$25,F400,0)","v":0},{"$f":"IF('Anhang Grundstücksverzeichnis'!G400=Texte!$A$26,F400,0)","v":0},{"$f":"IF('Anhang Grundstücksverzeichnis'!G400=Texte!$A$27,F400,0)","v":0},{"$f":"IF('Anhang Grundstücksverzeichnis'!G400=Texte!$A$28,F400,0)","v":0}]
[391,{"$f":"IF(C401<>\"\",IF(ISNA(VLOOKUP(C401,Katastralgemeinden!$A$2:$B$3041,2,FALSE)),\"Ungültige KG-Nummer!\",VLOOKUP(C401,Katastralgemeinden!A$2:$B$3041,2,\"falsch\")),\"\")","v":""},null,null,null,null,null,null,null,null,"",0,{"$f":"IF('Anhang Grundstücksverzeichnis'!G401=Texte!$A$25,F401,0)","v":0},{"$f":"IF('Anhang Grundstücksverzeichnis'!G401=Texte!$A$26,F401,0)","v":0},{"$f":"IF('Anhang Grundstücksverzeichnis'!G401=Texte!$A$27,F401,0)","v":0},{"$f":"IF('Anhang Grundstücksverzeichnis'!G401=Texte!$A$28,F401,0)","v":0}]
[392,{"$f":"IF(C402<>\"\",IF(ISNA(VLOOKUP(C402,Katastralgemeinden!$A$2:$B$3041,2,FALSE)),\"Ungültige KG-Nummer!\",VLOOKUP(C402,Katastralgemeinden!A$2:$B$3041,2,\"falsch\")),\"\")","v":""},null,null,null,null,null,null,null,null,"",0,{"$f":"IF('Anhang Grundstücksverzeichnis'!G402=Texte!$A$25,F402,0)","v":0},{"$f":"IF('Anhang Grundstücksverzeichnis'!G402=Texte!$A$26,F402,0)","v":0},{"$f":"IF('Anhang Grundstücksverzeichnis'!G402=Texte!$A$27,F402,0)","v":0},{"$f":"IF('Anhang Grundstücksverzeichnis'!G402=Texte!$A$28,F402,0)","v":0}]
[393,{"$f":"IF(C403<>\"\",IF(ISNA(VLOOKUP(C403,Katastralgemeinden!$A$2:$B$3041,2,FALSE)),\"Ungültige KG-Nummer!\",VLOOKUP(C403,Katastralgemeinden!A$2:$B$3041,2,\"falsch\")),\"\")","v":""},null,null,null,null,null,null,null,null,"",0,{"$f":"IF('Anhang Grundstücksverzeichnis'!G403=Texte!$A$25,F403,0)","v":0},{"$f":"IF('Anhang Grundstücksverzeichnis'!G403=Texte!$A$26,F403,0)","v":0},{"$f":"IF('Anhang Grundstücksverzeichnis'!G403=Texte!$A$27,F403,0)","v":0},{"$f":"IF('Anhang Grundstücksverzeichnis'!G403=Texte!$A$28,F403,0)","v":0}]
[394,{"$f":"IF(C404<>\"\",IF(ISNA(VLOOKUP(C404,Katastralgemeinden!$A$2:$B$3041,2,FALSE)),\"Ungültige KG-Nummer!\",VLOOKUP(C404,Katastralgemeinden!A$2:$B$3041,2,\"falsch\")),\"\")","v":""},null,null,null,null,null,null,null,null,"",0,{"$f":"IF('Anhang Grundstücksverzeichnis'!G404=Texte!$A$25,F404,0)","v":0},{"$f":"IF('Anhang Grundstücksverzeichnis'!G404=Texte!$A$26,F404,0)","v":0},{"$f":"IF('Anhang Grundstücksverzeichnis'!G404=Texte!$A$27,F404,0)","v":0},{"$f":"IF('Anhang Grundstücksverzeichnis'!G404=Texte!$A$28,F404,0)","v":0}]
[395,{"$f":"IF(C405<>\"\",IF(ISNA(VLOOKUP(C405,Katastralgemeinden!$A$2:$B$3041,2,FALSE)),\"Ungültige KG-Nummer!\",VLOOKUP(C405,Katastralgemeinden!A$2:$B$3041,2,\"falsch\")),\"\")","v":""},null,null,null,null,null,null,null,null,"",0,{"$f":"IF('Anhang Grundstücksverzeichnis'!G405=Texte!$A$25,F405,0)","v":0},{"$f":"IF('Anhang Grundstücksverzeichnis'!G405=Texte!$A$26,F405,0)","v":0},{"$f":"IF('Anhang Grundstücksverzeichnis'!G405=Texte!$A$27,F405,0)","v":0},{"$f":"IF('Anhang Grundstücksverzeichnis'!G405=Texte!$A$28,F405,0)","v":0}]
[396,{"$f":"IF(C406<>\"\",IF(ISNA(VLOOKUP(C406,Katastralgemeinden!$A$2:$B$3041,2,FALSE)),\"Ungültige KG-Nummer!\",VLOOKUP(C406,Katastralgemeinden!A$2:$B$3041,2,\"falsch\")),\"\")","v":""},null,null,null,null,null,null,null,null,"",0,{"$f":"IF('Anhang Grundstücksverzeichnis'!G406=Texte!$A$25,F406,0)","v":0},{"$f":"IF('Anhang Grundstücksverzeichnis'!G406=Texte!$A$26,F406,0)","v":0},{"$f":"IF('Anhang Grundstücksverzeichnis'!G406=Texte!$A$27,F406,0)","v":0},{"$f":"IF('Anhang Grundstücksverzeichnis'!G406=Texte!$A$28,F406,0)","v":0}]
[397,{"$f":"IF(C407<>\"\",IF(ISNA(VLOOKUP(C407,Katastralgemeinden!$A$2:$B$3041,2,FALSE)),\"Ungültige KG-Nummer!\",VLOOKUP(C407,Katastralgemeinden!A$2:$B$3041,2,\"falsch\")),\"\")","v":""},null,null,null,null,null,null,null,null,"",0,{"$f":"IF('Anhang Grundstücksverzeichnis'!G407=Texte!$A$25,F407,0)","v":0},{"$f":"IF('Anhang Grundstücksverzeichnis'!G407=Texte!$A$26,F407,0)","v":0},{"$f":"IF('Anhang Grundstücksverzeichnis'!G407=Texte!$A$27,F407,0)","v":0},{"$f":"IF('Anhang Grundstücksverzeichnis'!G407=Texte!$A$28,F407,0)","v":0}]
[398,{"$f":"IF(C408<>\"\",IF(ISNA(VLOOKUP(C408,Katastralgemeinden!$A$2:$B$3041,2,FALSE)),\"Ungültige KG-Nummer!\",VLOOKUP(C408,Katastralgemeinden!A$2:$B$3041,2,\"falsch\")),\"\")","v":""},null,null,null,null,null,null,null,null,"",0,{"$f":"IF('Anhang Grundstücksverzeichnis'!G408=Texte!$A$25,F408,0)","v":0},{"$f":"IF('Anhang Grundstücksverzeichnis'!G408=Texte!$A$26,F408,0)","v":0},{"$f":"IF('Anhang Grundstücksverzeichnis'!G408=Texte!$A$27,F408,0)","v":0},{"$f":"IF('Anhang Grundstücksverzeichnis'!G408=Texte!$A$28,F408,0)","v":0}]
[399,{"$f":"IF(C409<>\"\",IF(ISNA(VLOOKUP(C409,Katastralgemeinden!$A$2:$B$3041,2,FALSE)),\"Ungültige KG-Nummer!\",VLOOKUP(C409,Katastralgemeinden!A$2:$B$3041,2,\"falsch\")),\"\")","v":""},null,null,null,null,null,null,null,null,"",0,{"$f":"IF('Anhang Grundstücksverzeichnis'!G409=Texte!$A$25,F409,0)","v":0},{"$f":"IF('Anhang Grundstücksverzeichnis'!G409=Texte!$A$26,F409,0)","v":0},{"$f":"IF('Anhang Grundstücksverzeichnis'!G409=Texte!$A$27,F409,0)","v":0},{"$f":"IF('Anhang Grundstücksverzeichnis'!G409=Texte!$A$28,F409,0)","v":0}]
[400,{"$f":"IF(C410<>\"\",IF(ISNA(VLOOKUP(C410,Katastralgemeinden!$A$2:$B$3041,2,FALSE)),\"Ungültige KG-Nummer!\",VLOOKUP(C410,Katastralgemeinden!A$2:$B$3041,2,\"falsch\")),\"\")","v":""},null,null,null,null,null,null,null,null,"",0,{"$f":"IF('Anhang Grundstücksverzeichnis'!G410=Texte!$A$25,F410,0)","v":0},{"$f":"IF('Anhang Grundstücksverzeichnis'!G410=Texte!$A$26,F410,0)","v":0},{"$f":"IF('Anhang Grundstücksverzeichnis'!G410=Texte!$A$27,F410,0)","v":0},{"$f":"IF('Anhang Grundstücksverzeichnis'!G410=Texte!$A$28,F410,0)","v":0}]
[401,{"$f":"IF(C411<>\"\",IF(ISNA(VLOOKUP(C411,Katastralgemeinden!$A$2:$B$3041,2,FALSE)),\"Ungültige KG-Nummer!\",VLOOKUP(C411,Katastralgemeinden!A$2:$B$3041,2,\"falsch\")),\"\")","v":""},null,null,null,null,null,null,null,null,"",0,{"$f":"IF('Anhang Grundstücksverzeichnis'!G411=Texte!$A$25,F411,0)","v":0},{"$f":"IF('Anhang Grundstücksverzeichnis'!G411=Texte!$A$26,F411,0)","v":0},{"$f":"IF('Anhang Grundstücksverzeichnis'!G411=Texte!$A$27,F411,0)","v":0},{"$f":"IF('Anhang Grundstücksverzeichnis'!G411=Texte!$A$28,F411,0)","v":0}]
[402,{"$f":"IF(C412<>\"\",IF(ISNA(VLOOKUP(C412,Katastralgemeinden!$A$2:$B$3041,2,FALSE)),\"Ungültige KG-Nummer!\",VLOOKUP(C412,Katastralgemeinden!A$2:$B$3041,2,\"falsch\")),\"\")","v":""},null,null,null,null,null,null,null,null,"",0,{"$f":"IF('Anhang Grundstücksverzeichnis'!G412=Texte!$A$25,F412,0)","v":0},{"$f":"IF('Anhang Grundstücksverzeichnis'!G412=Texte!$A$26,F412,0)","v":0},{"$f":"IF('Anhang Grundstücksverzeichnis'!G412=Texte!$A$27,F412,0)","v":0},{"$f":"IF('Anhang Grundstücksverzeichnis'!G412=Texte!$A$28,F412,0)","v":0}]
[403,{"$f":"IF(C413<>\"\",IF(ISNA(VLOOKUP(C413,Katastralgemeinden!$A$2:$B$3041,2,FALSE)),\"Ungültige KG-Nummer!\",VLOOKUP(C413,Katastralgemeinden!A$2:$B$3041,2,\"falsch\")),\"\")","v":""},null,null,null,null,null,null,null,null,"",0,{"$f":"IF('Anhang Grundstücksverzeichnis'!G413=Texte!$A$25,F413,0)","v":0},{"$f":"IF('Anhang Grundstücksverzeichnis'!G413=Texte!$A$26,F413,0)","v":0},{"$f":"IF('Anhang Grundstücksverzeichnis'!G413=Texte!$A$27,F413,0)","v":0},{"$f":"IF('Anhang Grundstücksverzeichnis'!G413=Texte!$A$28,F413,0)","v":0}]
[404,{"$f":"IF(C414<>\"\",IF(ISNA(VLOOKUP(C414,Katastralgemeinden!$A$2:$B$3041,2,FALSE)),\"Ungültige KG-Nummer!\",VLOOKUP(C414,Katastralgemeinden!A$2:$B$3041,2,\"falsch\")),\"\")","v":""},null,null,null,null,null,null,null,null,"",0,{"$f":"IF('Anhang Grundstücksverzeichnis'!G414=Texte!$A$25,F414,0)","v":0},{"$f":"IF('Anhang Grundstücksverzeichnis'!G414=Texte!$A$26,F414,0)","v":0},{"$f":"IF('Anhang Grundstücksverzeichnis'!G414=Texte!$A$27,F414,0)","v":0},{"$f":"IF('Anhang Grundstücksverzeichnis'!G414=Texte!$A$28,F414,0)","v":0}]
[405,{"$f":"IF(C415<>\"\",IF(ISNA(VLOOKUP(C415,Katastralgemeinden!$A$2:$B$3041,2,FALSE)),\"Ungültige KG-Nummer!\",VLOOKUP(C415,Katastralgemeinden!A$2:$B$3041,2,\"falsch\")),\"\")","v":""},null,null,null,null,null,null,null,null,"",0,{"$f":"IF('Anhang Grundstücksverzeichnis'!G415=Texte!$A$25,F415,0)","v":0},{"$f":"IF('Anhang Grundstücksverzeichnis'!G415=Texte!$A$26,F415,0)","v":0},{"$f":"IF('Anhang Grundstücksverzeichnis'!G415=Texte!$A$27,F415,0)","v":0},{"$f":"IF('Anhang Grundstücksverzeichnis'!G415=Texte!$A$28,F415,0)","v":0}]
[406,{"$f":"IF(C416<>\"\",IF(ISNA(VLOOKUP(C416,Katastralgemeinden!$A$2:$B$3041,2,FALSE)),\"Ungültige KG-Nummer!\",VLOOKUP(C416,Katastralgemeinden!A$2:$B$3041,2,\"falsch\")),\"\")","v":""},null,null,null,null,null,null,null,null,"",0,{"$f":"IF('Anhang Grundstücksverzeichnis'!G416=Texte!$A$25,F416,0)","v":0},{"$f":"IF('Anhang Grundstücksverzeichnis'!G416=Texte!$A$26,F416,0)","v":0},{"$f":"IF('Anhang Grundstücksverzeichnis'!G416=Texte!$A$27,F416,0)","v":0},{"$f":"IF('Anhang Grundstücksverzeichnis'!G416=Texte!$A$28,F416,0)","v":0}]
[407,{"$f":"IF(C417<>\"\",IF(ISNA(VLOOKUP(C417,Katastralgemeinden!$A$2:$B$3041,2,FALSE)),\"Ungültige KG-Nummer!\",VLOOKUP(C417,Katastralgemeinden!A$2:$B$3041,2,\"falsch\")),\"\")","v":""},null,null,null,null,null,null,null,null,"",0,{"$f":"IF('Anhang Grundstücksverzeichnis'!G417=Texte!$A$25,F417,0)","v":0},{"$f":"IF('Anhang Grundstücksverzeichnis'!G417=Texte!$A$26,F417,0)","v":0},{"$f":"IF('Anhang Grundstücksverzeichnis'!G417=Texte!$A$27,F417,0)","v":0},{"$f":"IF('Anhang Grundstücksverzeichnis'!G417=Texte!$A$28,F417,0)","v":0}]
[408,{"$f":"IF(C418<>\"\",IF(ISNA(VLOOKUP(C418,Katastralgemeinden!$A$2:$B$3041,2,FALSE)),\"Ungültige KG-Nummer!\",VLOOKUP(C418,Katastralgemeinden!A$2:$B$3041,2,\"falsch\")),\"\")","v":""},null,null,null,null,null,null,null,null,"",0,{"$f":"IF('Anhang Grundstücksverzeichnis'!G418=Texte!$A$25,F418,0)","v":0},{"$f":"IF('Anhang Grundstücksverzeichnis'!G418=Texte!$A$26,F418,0)","v":0},{"$f":"IF('Anhang Grundstücksverzeichnis'!G418=Texte!$A$27,F418,0)","v":0},{"$f":"IF('Anhang Grundstücksverzeichnis'!G418=Texte!$A$28,F418,0)","v":0}]
[409,{"$f":"IF(C419<>\"\",IF(ISNA(VLOOKUP(C419,Katastralgemeinden!$A$2:$B$3041,2,FALSE)),\"Ungültige KG-Nummer!\",VLOOKUP(C419,Katastralgemeinden!A$2:$B$3041,2,\"falsch\")),\"\")","v":""},null,null,null,null,null,null,null,null,"",0,{"$f":"IF('Anhang Grundstücksverzeichnis'!G419=Texte!$A$25,F419,0)","v":0},{"$f":"IF('Anhang Grundstücksverzeichnis'!G419=Texte!$A$26,F419,0)","v":0},{"$f":"IF('Anhang Grundstücksverzeichnis'!G419=Texte!$A$27,F419,0)","v":0},{"$f":"IF('Anhang Grundstücksverzeichnis'!G419=Texte!$A$28,F419,0)","v":0}]
[410,{"$f":"IF(C420<>\"\",IF(ISNA(VLOOKUP(C420,Katastralgemeinden!$A$2:$B$3041,2,FALSE)),\"Ungültige KG-Nummer!\",VLOOKUP(C420,Katastralgemeinden!A$2:$B$3041,2,\"falsch\")),\"\")","v":""},null,null,null,null,null,null,null,null,"",0,{"$f":"IF('Anhang Grundstücksverzeichnis'!G420=Texte!$A$25,F420,0)","v":0},{"$f":"IF('Anhang Grundstücksverzeichnis'!G420=Texte!$A$26,F420,0)","v":0},{"$f":"IF('Anhang Grundstücksverzeichnis'!G420=Texte!$A$27,F420,0)","v":0},{"$f":"IF('Anhang Grundstücksverzeichnis'!G420=Texte!$A$28,F420,0)","v":0}]
[411,{"$f":"IF(C421<>\"\",IF(ISNA(VLOOKUP(C421,Katastralgemeinden!$A$2:$B$3041,2,FALSE)),\"Ungültige KG-Nummer!\",VLOOKUP(C421,Katastralgemeinden!A$2:$B$3041,2,\"falsch\")),\"\")","v":""},null,null,null,null,null,null,null,null,"",0,{"$f":"IF('Anhang Grundstücksverzeichnis'!G421=Texte!$A$25,F421,0)","v":0},{"$f":"IF('Anhang Grundstücksverzeichnis'!G421=Texte!$A$26,F421,0)","v":0},{"$f":"IF('Anhang Grundstücksverzeichnis'!G421=Texte!$A$27,F421,0)","v":0},{"$f":"IF('Anhang Grundstücksverzeichnis'!G421=Texte!$A$28,F421,0)","v":0}]
[412,{"$f":"IF(C422<>\"\",IF(ISNA(VLOOKUP(C422,Katastralgemeinden!$A$2:$B$3041,2,FALSE)),\"Ungültige KG-Nummer!\",VLOOKUP(C422,Katastralgemeinden!A$2:$B$3041,2,\"falsch\")),\"\")","v":""},null,null,null,null,null,null,null,null,"",0,{"$f":"IF('Anhang Grundstücksverzeichnis'!G422=Texte!$A$25,F422,0)","v":0},{"$f":"IF('Anhang Grundstücksverzeichnis'!G422=Texte!$A$26,F422,0)","v":0},{"$f":"IF('Anhang Grundstücksverzeichnis'!G422=Texte!$A$27,F422,0)","v":0},{"$f":"IF('Anhang Grundstücksverzeichnis'!G422=Texte!$A$28,F422,0)","v":0}]
[413,{"$f":"IF(C423<>\"\",IF(ISNA(VLOOKUP(C423,Katastralgemeinden!$A$2:$B$3041,2,FALSE)),\"Ungültige KG-Nummer!\",VLOOKUP(C423,Katastralgemeinden!A$2:$B$3041,2,\"falsch\")),\"\")","v":""},null,null,null,null,null,null,null,null,"",0,{"$f":"IF('Anhang Grundstücksverzeichnis'!G423=Texte!$A$25,F423,0)","v":0},{"$f":"IF('Anhang Grundstücksverzeichnis'!G423=Texte!$A$26,F423,0)","v":0},{"$f":"IF('Anhang Grundstücksverzeichnis'!G423=Texte!$A$27,F423,0)","v":0},{"$f":"IF('Anhang Grundstücksverzeichnis'!G423=Texte!$A$28,F423,0)","v":0}]
[414,{"$f":"IF(C424<>\"\",IF(ISNA(VLOOKUP(C424,Katastralgemeinden!$A$2:$B$3041,2,FALSE)),\"Ungültige KG-Nummer!\",VLOOKUP(C424,Katastralgemeinden!A$2:$B$3041,2,\"falsch\")),\"\")","v":""},null,null,null,null,null,null,null,null,"",0,{"$f":"IF('Anhang Grundstücksverzeichnis'!G424=Texte!$A$25,F424,0)","v":0},{"$f":"IF('Anhang Grundstücksverzeichnis'!G424=Texte!$A$26,F424,0)","v":0},{"$f":"IF('Anhang Grundstücksverzeichnis'!G424=Texte!$A$27,F424,0)","v":0},{"$f":"IF('Anhang Grundstücksverzeichnis'!G424=Texte!$A$28,F424,0)","v":0}]
[415,{"$f":"IF(C425<>\"\",IF(ISNA(VLOOKUP(C425,Katastralgemeinden!$A$2:$B$3041,2,FALSE)),\"Ungültige KG-Nummer!\",VLOOKUP(C425,Katastralgemeinden!A$2:$B$3041,2,\"falsch\")),\"\")","v":""},null,null,null,null,null,null,null,null,"",0,{"$f":"IF('Anhang Grundstücksverzeichnis'!G425=Texte!$A$25,F425,0)","v":0},{"$f":"IF('Anhang Grundstücksverzeichnis'!G425=Texte!$A$26,F425,0)","v":0},{"$f":"IF('Anhang Grundstücksverzeichnis'!G425=Texte!$A$27,F425,0)","v":0},{"$f":"IF('Anhang Grundstücksverzeichnis'!G425=Texte!$A$28,F425,0)","v":0}]
[416,{"$f":"IF(C426<>\"\",IF(ISNA(VLOOKUP(C426,Katastralgemeinden!$A$2:$B$3041,2,FALSE)),\"Ungültige KG-Nummer!\",VLOOKUP(C426,Katastralgemeinden!A$2:$B$3041,2,\"falsch\")),\"\")","v":""},null,null,null,null,null,null,null,null,"",0,{"$f":"IF('Anhang Grundstücksverzeichnis'!G426=Texte!$A$25,F426,0)","v":0},{"$f":"IF('Anhang Grundstücksverzeichnis'!G426=Texte!$A$26,F426,0)","v":0},{"$f":"IF('Anhang Grundstücksverzeichnis'!G426=Texte!$A$27,F426,0)","v":0},{"$f":"IF('Anhang Grundstücksverzeichnis'!G426=Texte!$A$28,F426,0)","v":0}]
[417,{"$f":"IF(C427<>\"\",IF(ISNA(VLOOKUP(C427,Katastralgemeinden!$A$2:$B$3041,2,FALSE)),\"Ungültige KG-Nummer!\",VLOOKUP(C427,Katastralgemeinden!A$2:$B$3041,2,\"falsch\")),\"\")","v":""},null,null,null,null,null,null,null,null,"",0,{"$f":"IF('Anhang Grundstücksverzeichnis'!G427=Texte!$A$25,F427,0)","v":0},{"$f":"IF('Anhang Grundstücksverzeichnis'!G427=Texte!$A$26,F427,0)","v":0},{"$f":"IF('Anhang Grundstücksverzeichnis'!G427=Texte!$A$27,F427,0)","v":0},{"$f":"IF('Anhang Grundstücksverzeichnis'!G427=Texte!$A$28,F427,0)","v":0}]
[418,{"$f":"IF(C428<>\"\",IF(ISNA(VLOOKUP(C428,Katastralgemeinden!$A$2:$B$3041,2,FALSE)),\"Ungültige KG-Nummer!\",VLOOKUP(C428,Katastralgemeinden!A$2:$B$3041,2,\"falsch\")),\"\")","v":""},null,null,null,null,null,null,null,null,"",0,{"$f":"IF('Anhang Grundstücksverzeichnis'!G428=Texte!$A$25,F428,0)","v":0},{"$f":"IF('Anhang Grundstücksverzeichnis'!G428=Texte!$A$26,F428,0)","v":0},{"$f":"IF('Anhang Grundstücksverzeichnis'!G428=Texte!$A$27,F428,0)","v":0},{"$f":"IF('Anhang Grundstücksverzeichnis'!G428=Texte!$A$28,F428,0)","v":0}]
[419,{"$f":"IF(C429<>\"\",IF(ISNA(VLOOKUP(C429,Katastralgemeinden!$A$2:$B$3041,2,FALSE)),\"Ungültige KG-Nummer!\",VLOOKUP(C429,Katastralgemeinden!A$2:$B$3041,2,\"falsch\")),\"\")","v":""},null,null,null,null,null,null,null,null,"",0,{"$f":"IF('Anhang Grundstücksverzeichnis'!G429=Texte!$A$25,F429,0)","v":0},{"$f":"IF('Anhang Grundstücksverzeichnis'!G429=Texte!$A$26,F429,0)","v":0},{"$f":"IF('Anhang Grundstücksverzeichnis'!G429=Texte!$A$27,F429,0)","v":0},{"$f":"IF('Anhang Grundstücksverzeichnis'!G429=Texte!$A$28,F429,0)","v":0}]
[420,{"$f":"IF(C430<>\"\",IF(ISNA(VLOOKUP(C430,Katastralgemeinden!$A$2:$B$3041,2,FALSE)),\"Ungültige KG-Nummer!\",VLOOKUP(C430,Katastralgemeinden!A$2:$B$3041,2,\"falsch\")),\"\")","v":""},null,null,null,null,null,null,null,null,"",0,{"$f":"IF('Anhang Grundstücksverzeichnis'!G430=Texte!$A$25,F430,0)","v":0},{"$f":"IF('Anhang Grundstücksverzeichnis'!G430=Texte!$A$26,F430,0)","v":0},{"$f":"IF('Anhang Grundstücksverzeichnis'!G430=Texte!$A$27,F430,0)","v":0},{"$f":"IF('Anhang Grundstücksverzeichnis'!G430=Texte!$A$28,F430,0)","v":0}]
[421,{"$f":"IF(C431<>\"\",IF(ISNA(VLOOKUP(C431,Katastralgemeinden!$A$2:$B$3041,2,FALSE)),\"Ungültige KG-Nummer!\",VLOOKUP(C431,Katastralgemeinden!A$2:$B$3041,2,\"falsch\")),\"\")","v":""},null,null,null,null,null,null,null,null,"",0,{"$f":"IF('Anhang Grundstücksverzeichnis'!G431=Texte!$A$25,F431,0)","v":0},{"$f":"IF('Anhang Grundstücksverzeichnis'!G431=Texte!$A$26,F431,0)","v":0},{"$f":"IF('Anhang Grundstücksverzeichnis'!G431=Texte!$A$27,F431,0)","v":0},{"$f":"IF('Anhang Grundstücksverzeichnis'!G431=Texte!$A$28,F431,0)","v":0}]
[422,{"$f":"IF(C432<>\"\",IF(ISNA(VLOOKUP(C432,Katastralgemeinden!$A$2:$B$3041,2,FALSE)),\"Ungültige KG-Nummer!\",VLOOKUP(C432,Katastralgemeinden!A$2:$B$3041,2,\"falsch\")),\"\")","v":""},null,null,null,null,null,null,null,null,"",0,{"$f":"IF('Anhang Grundstücksverzeichnis'!G432=Texte!$A$25,F432,0)","v":0},{"$f":"IF('Anhang Grundstücksverzeichnis'!G432=Texte!$A$26,F432,0)","v":0},{"$f":"IF('Anhang Grundstücksverzeichnis'!G432=Texte!$A$27,F432,0)","v":0},{"$f":"IF('Anhang Grundstücksverzeichnis'!G432=Texte!$A$28,F432,0)","v":0}]
[423,{"$f":"IF(C433<>\"\",IF(ISNA(VLOOKUP(C433,Katastralgemeinden!$A$2:$B$3041,2,FALSE)),\"Ungültige KG-Nummer!\",VLOOKUP(C433,Katastralgemeinden!A$2:$B$3041,2,\"falsch\")),\"\")","v":""},null,null,null,null,null,null,null,null,"",0,{"$f":"IF('Anhang Grundstücksverzeichnis'!G433=Texte!$A$25,F433,0)","v":0},{"$f":"IF('Anhang Grundstücksverzeichnis'!G433=Texte!$A$26,F433,0)","v":0},{"$f":"IF('Anhang Grundstücksverzeichnis'!G433=Texte!$A$27,F433,0)","v":0},{"$f":"IF('Anhang Grundstücksverzeichnis'!G433=Texte!$A$28,F433,0)","v":0}]
[424,{"$f":"IF(C434<>\"\",IF(ISNA(VLOOKUP(C434,Katastralgemeinden!$A$2:$B$3041,2,FALSE)),\"Ungültige KG-Nummer!\",VLOOKUP(C434,Katastralgemeinden!A$2:$B$3041,2,\"falsch\")),\"\")","v":""},null,null,null,null,null,null,null,null,"",0,{"$f":"IF('Anhang Grundstücksverzeichnis'!G434=Texte!$A$25,F434,0)","v":0},{"$f":"IF('Anhang Grundstücksverzeichnis'!G434=Texte!$A$26,F434,0)","v":0},{"$f":"IF('Anhang Grundstücksverzeichnis'!G434=Texte!$A$27,F434,0)","v":0},{"$f":"IF('Anhang Grundstücksverzeichnis'!G434=Texte!$A$28,F434,0)","v":0}]
[425,{"$f":"IF(C435<>\"\",IF(ISNA(VLOOKUP(C435,Katastralgemeinden!$A$2:$B$3041,2,FALSE)),\"Ungültige KG-Nummer!\",VLOOKUP(C435,Katastralgemeinden!A$2:$B$3041,2,\"falsch\")),\"\")","v":""},null,null,null,null,null,null,null,null,"",0,{"$f":"IF('Anhang Grundstücksverzeichnis'!G435=Texte!$A$25,F435,0)","v":0},{"$f":"IF('Anhang Grundstücksverzeichnis'!G435=Texte!$A$26,F435,0)","v":0},{"$f":"IF('Anhang Grundstücksverzeichnis'!G435=Texte!$A$27,F435,0)","v":0},{"$f":"IF('Anhang Grundstücksverzeichnis'!G435=Texte!$A$28,F435,0)","v":0}]
[426,{"$f":"IF(C436<>\"\",IF(ISNA(VLOOKUP(C436,Katastralgemeinden!$A$2:$B$3041,2,FALSE)),\"Ungültige KG-Nummer!\",VLOOKUP(C436,Katastralgemeinden!A$2:$B$3041,2,\"falsch\")),\"\")","v":""},null,null,null,null,null,null,null,null,"",0,{"$f":"IF('Anhang Grundstücksverzeichnis'!G436=Texte!$A$25,F436,0)","v":0},{"$f":"IF('Anhang Grundstücksverzeichnis'!G436=Texte!$A$26,F436,0)","v":0},{"$f":"IF('Anhang Grundstücksverzeichnis'!G436=Texte!$A$27,F436,0)","v":0},{"$f":"IF('Anhang Grundstücksverzeichnis'!G436=Texte!$A$28,F436,0)","v":0}]
[427,{"$f":"IF(C437<>\"\",IF(ISNA(VLOOKUP(C437,Katastralgemeinden!$A$2:$B$3041,2,FALSE)),\"Ungültige KG-Nummer!\",VLOOKUP(C437,Katastralgemeinden!A$2:$B$3041,2,\"falsch\")),\"\")","v":""},null,null,null,null,null,null,null,null,"",0,{"$f":"IF('Anhang Grundstücksverzeichnis'!G437=Texte!$A$25,F437,0)","v":0},{"$f":"IF('Anhang Grundstücksverzeichnis'!G437=Texte!$A$26,F437,0)","v":0},{"$f":"IF('Anhang Grundstücksverzeichnis'!G437=Texte!$A$27,F437,0)","v":0},{"$f":"IF('Anhang Grundstücksverzeichnis'!G437=Texte!$A$28,F437,0)","v":0}]
[428,{"$f":"IF(C438<>\"\",IF(ISNA(VLOOKUP(C438,Katastralgemeinden!$A$2:$B$3041,2,FALSE)),\"Ungültige KG-Nummer!\",VLOOKUP(C438,Katastralgemeinden!A$2:$B$3041,2,\"falsch\")),\"\")","v":""},null,null,null,null,null,null,null,null,"",0,{"$f":"IF('Anhang Grundstücksverzeichnis'!G438=Texte!$A$25,F438,0)","v":0},{"$f":"IF('Anhang Grundstücksverzeichnis'!G438=Texte!$A$26,F438,0)","v":0},{"$f":"IF('Anhang Grundstücksverzeichnis'!G438=Texte!$A$27,F438,0)","v":0},{"$f":"IF('Anhang Grundstücksverzeichnis'!G438=Texte!$A$28,F438,0)","v":0}]
[429,{"$f":"IF(C439<>\"\",IF(ISNA(VLOOKUP(C439,Katastralgemeinden!$A$2:$B$3041,2,FALSE)),\"Ungültige KG-Nummer!\",VLOOKUP(C439,Katastralgemeinden!A$2:$B$3041,2,\"falsch\")),\"\")","v":""},null,null,null,null,null,null,null,null,"",0,{"$f":"IF('Anhang Grundstücksverzeichnis'!G439=Texte!$A$25,F439,0)","v":0},{"$f":"IF('Anhang Grundstücksverzeichnis'!G439=Texte!$A$26,F439,0)","v":0},{"$f":"IF('Anhang Grundstücksverzeichnis'!G439=Texte!$A$27,F439,0)","v":0},{"$f":"IF('Anhang Grundstücksverzeichnis'!G439=Texte!$A$28,F439,0)","v":0}]
[430,{"$f":"IF(C440<>\"\",IF(ISNA(VLOOKUP(C440,Katastralgemeinden!$A$2:$B$3041,2,FALSE)),\"Ungültige KG-Nummer!\",VLOOKUP(C440,Katastralgemeinden!A$2:$B$3041,2,\"falsch\")),\"\")","v":""},null,null,null,null,null,null,null,null,"",0,{"$f":"IF('Anhang Grundstücksverzeichnis'!G440=Texte!$A$25,F440,0)","v":0},{"$f":"IF('Anhang Grundstücksverzeichnis'!G440=Texte!$A$26,F440,0)","v":0},{"$f":"IF('Anhang Grundstücksverzeichnis'!G440=Texte!$A$27,F440,0)","v":0},{"$f":"IF('Anhang Grundstücksverzeichnis'!G440=Texte!$A$28,F440,0)","v":0}]
[431,{"$f":"IF(C441<>\"\",IF(ISNA(VLOOKUP(C441,Katastralgemeinden!$A$2:$B$3041,2,FALSE)),\"Ungültige KG-Nummer!\",VLOOKUP(C441,Katastralgemeinden!A$2:$B$3041,2,\"falsch\")),\"\")","v":""},null,null,null,null,null,null,null,null,"",0,{"$f":"IF('Anhang Grundstücksverzeichnis'!G441=Texte!$A$25,F441,0)","v":0},{"$f":"IF('Anhang Grundstücksverzeichnis'!G441=Texte!$A$26,F441,0)","v":0},{"$f":"IF('Anhang Grundstücksverzeichnis'!G441=Texte!$A$27,F441,0)","v":0},{"$f":"IF('Anhang Grundstücksverzeichnis'!G441=Texte!$A$28,F441,0)","v":0}]
[432,{"$f":"IF(C442<>\"\",IF(ISNA(VLOOKUP(C442,Katastralgemeinden!$A$2:$B$3041,2,FALSE)),\"Ungültige KG-Nummer!\",VLOOKUP(C442,Katastralgemeinden!A$2:$B$3041,2,\"falsch\")),\"\")","v":""},null,null,null,null,null,null,null,null,"",0,{"$f":"IF('Anhang Grundstücksverzeichnis'!G442=Texte!$A$25,F442,0)","v":0},{"$f":"IF('Anhang Grundstücksverzeichnis'!G442=Texte!$A$26,F442,0)","v":0},{"$f":"IF('Anhang Grundstücksverzeichnis'!G442=Texte!$A$27,F442,0)","v":0},{"$f":"IF('Anhang Grundstücksverzeichnis'!G442=Texte!$A$28,F442,0)","v":0}]
[433,{"$f":"IF(C443<>\"\",IF(ISNA(VLOOKUP(C443,Katastralgemeinden!$A$2:$B$3041,2,FALSE)),\"Ungültige KG-Nummer!\",VLOOKUP(C443,Katastralgemeinden!A$2:$B$3041,2,\"falsch\")),\"\")","v":""},null,null,null,null,null,null,null,null,"",0,{"$f":"IF('Anhang Grundstücksverzeichnis'!G443=Texte!$A$25,F443,0)","v":0},{"$f":"IF('Anhang Grundstücksverzeichnis'!G443=Texte!$A$26,F443,0)","v":0},{"$f":"IF('Anhang Grundstücksverzeichnis'!G443=Texte!$A$27,F443,0)","v":0},{"$f":"IF('Anhang Grundstücksverzeichnis'!G443=Texte!$A$28,F443,0)","v":0}]
[434,{"$f":"IF(C444<>\"\",IF(ISNA(VLOOKUP(C444,Katastralgemeinden!$A$2:$B$3041,2,FALSE)),\"Ungültige KG-Nummer!\",VLOOKUP(C444,Katastralgemeinden!A$2:$B$3041,2,\"falsch\")),\"\")","v":""},null,null,null,null,null,null,null,null,"",0,{"$f":"IF('Anhang Grundstücksverzeichnis'!G444=Texte!$A$25,F444,0)","v":0},{"$f":"IF('Anhang Grundstücksverzeichnis'!G444=Texte!$A$26,F444,0)","v":0},{"$f":"IF('Anhang Grundstücksverzeichnis'!G444=Texte!$A$27,F444,0)","v":0},{"$f":"IF('Anhang Grundstücksverzeichnis'!G444=Texte!$A$28,F444,0)","v":0}]
[435,{"$f":"IF(C445<>\"\",IF(ISNA(VLOOKUP(C445,Katastralgemeinden!$A$2:$B$3041,2,FALSE)),\"Ungültige KG-Nummer!\",VLOOKUP(C445,Katastralgemeinden!A$2:$B$3041,2,\"falsch\")),\"\")","v":""},null,null,null,null,null,null,null,null,"",0,{"$f":"IF('Anhang Grundstücksverzeichnis'!G445=Texte!$A$25,F445,0)","v":0},{"$f":"IF('Anhang Grundstücksverzeichnis'!G445=Texte!$A$26,F445,0)","v":0},{"$f":"IF('Anhang Grundstücksverzeichnis'!G445=Texte!$A$27,F445,0)","v":0},{"$f":"IF('Anhang Grundstücksverzeichnis'!G445=Texte!$A$28,F445,0)","v":0}]
[436,{"$f":"IF(C446<>\"\",IF(ISNA(VLOOKUP(C446,Katastralgemeinden!$A$2:$B$3041,2,FALSE)),\"Ungültige KG-Nummer!\",VLOOKUP(C446,Katastralgemeinden!A$2:$B$3041,2,\"falsch\")),\"\")","v":""},null,null,null,null,null,null,null,null,"",0,{"$f":"IF('Anhang Grundstücksverzeichnis'!G446=Texte!$A$25,F446,0)","v":0},{"$f":"IF('Anhang Grundstücksverzeichnis'!G446=Texte!$A$26,F446,0)","v":0},{"$f":"IF('Anhang Grundstücksverzeichnis'!G446=Texte!$A$27,F446,0)","v":0},{"$f":"IF('Anhang Grundstücksverzeichnis'!G446=Texte!$A$28,F446,0)","v":0}]
[437,{"$f":"IF(C447<>\"\",IF(ISNA(VLOOKUP(C447,Katastralgemeinden!$A$2:$B$3041,2,FALSE)),\"Ungültige KG-Nummer!\",VLOOKUP(C447,Katastralgemeinden!A$2:$B$3041,2,\"falsch\")),\"\")","v":""},null,null,null,null,null,null,null,null,"",0,{"$f":"IF('Anhang Grundstücksverzeichnis'!G447=Texte!$A$25,F447,0)","v":0},{"$f":"IF('Anhang Grundstücksverzeichnis'!G447=Texte!$A$26,F447,0)","v":0},{"$f":"IF('Anhang Grundstücksverzeichnis'!G447=Texte!$A$27,F447,0)","v":0},{"$f":"IF('Anhang Grundstücksverzeichnis'!G447=Texte!$A$28,F447,0)","v":0}]
[438,{"$f":"IF(C448<>\"\",IF(ISNA(VLOOKUP(C448,Katastralgemeinden!$A$2:$B$3041,2,FALSE)),\"Ungültige KG-Nummer!\",VLOOKUP(C448,Katastralgemeinden!A$2:$B$3041,2,\"falsch\")),\"\")","v":""},null,null,null,null,null,null,null,null,"",0,{"$f":"IF('Anhang Grundstücksverzeichnis'!G448=Texte!$A$25,F448,0)","v":0},{"$f":"IF('Anhang Grundstücksverzeichnis'!G448=Texte!$A$26,F448,0)","v":0},{"$f":"IF('Anhang Grundstücksverzeichnis'!G448=Texte!$A$27,F448,0)","v":0},{"$f":"IF('Anhang Grundstücksverzeichnis'!G448=Texte!$A$28,F448,0)","v":0}]
[439,{"$f":"IF(C449<>\"\",IF(ISNA(VLOOKUP(C449,Katastralgemeinden!$A$2:$B$3041,2,FALSE)),\"Ungültige KG-Nummer!\",VLOOKUP(C449,Katastralgemeinden!A$2:$B$3041,2,\"falsch\")),\"\")","v":""},null,null,null,null,null,null,null,null,"",0,{"$f":"IF('Anhang Grundstücksverzeichnis'!G449=Texte!$A$25,F449,0)","v":0},{"$f":"IF('Anhang Grundstücksverzeichnis'!G449=Texte!$A$26,F449,0)","v":0},{"$f":"IF('Anhang Grundstücksverzeichnis'!G449=Texte!$A$27,F449,0)","v":0},{"$f":"IF('Anhang Grundstücksverzeichnis'!G449=Texte!$A$28,F449,0)","v":0}]
[440,{"$f":"IF(C450<>\"\",IF(ISNA(VLOOKUP(C450,Katastralgemeinden!$A$2:$B$3041,2,FALSE)),\"Ungültige KG-Nummer!\",VLOOKUP(C450,Katastralgemeinden!A$2:$B$3041,2,\"falsch\")),\"\")","v":""},null,null,null,null,null,null,null,null,"",0,{"$f":"IF('Anhang Grundstücksverzeichnis'!G450=Texte!$A$25,F450,0)","v":0},{"$f":"IF('Anhang Grundstücksverzeichnis'!G450=Texte!$A$26,F450,0)","v":0},{"$f":"IF('Anhang Grundstücksverzeichnis'!G450=Texte!$A$27,F450,0)","v":0},{"$f":"IF('Anhang Grundstücksverzeichnis'!G450=Texte!$A$28,F450,0)","v":0}]
[441,{"$f":"IF(C451<>\"\",IF(ISNA(VLOOKUP(C451,Katastralgemeinden!$A$2:$B$3041,2,FALSE)),\"Ungültige KG-Nummer!\",VLOOKUP(C451,Katastralgemeinden!A$2:$B$3041,2,\"falsch\")),\"\")","v":""},null,null,null,null,null,null,null,null,"",0,{"$f":"IF('Anhang Grundstücksverzeichnis'!G451=Texte!$A$25,F451,0)","v":0},{"$f":"IF('Anhang Grundstücksverzeichnis'!G451=Texte!$A$26,F451,0)","v":0},{"$f":"IF('Anhang Grundstücksverzeichnis'!G451=Texte!$A$27,F451,0)","v":0},{"$f":"IF('Anhang Grundstücksverzeichnis'!G451=Texte!$A$28,F451,0)","v":0}]
[442,{"$f":"IF(C452<>\"\",IF(ISNA(VLOOKUP(C452,Katastralgemeinden!$A$2:$B$3041,2,FALSE)),\"Ungültige KG-Nummer!\",VLOOKUP(C452,Katastralgemeinden!A$2:$B$3041,2,\"falsch\")),\"\")","v":""},null,null,null,null,null,null,null,null,"",0,{"$f":"IF('Anhang Grundstücksverzeichnis'!G452=Texte!$A$25,F452,0)","v":0},{"$f":"IF('Anhang Grundstücksverzeichnis'!G452=Texte!$A$26,F452,0)","v":0},{"$f":"IF('Anhang Grundstücksverzeichnis'!G452=Texte!$A$27,F452,0)","v":0},{"$f":"IF('Anhang Grundstücksverzeichnis'!G452=Texte!$A$28,F452,0)","v":0}]
[443,{"$f":"IF(C453<>\"\",IF(ISNA(VLOOKUP(C453,Katastralgemeinden!$A$2:$B$3041,2,FALSE)),\"Ungültige KG-Nummer!\",VLOOKUP(C453,Katastralgemeinden!A$2:$B$3041,2,\"falsch\")),\"\")","v":""},null,null,null,null,null,null,null,null,"",0,{"$f":"IF('Anhang Grundstücksverzeichnis'!G453=Texte!$A$25,F453,0)","v":0},{"$f":"IF('Anhang Grundstücksverzeichnis'!G453=Texte!$A$26,F453,0)","v":0},{"$f":"IF('Anhang Grundstücksverzeichnis'!G453=Texte!$A$27,F453,0)","v":0},{"$f":"IF('Anhang Grundstücksverzeichnis'!G453=Texte!$A$28,F453,0)","v":0}]
[444,{"$f":"IF(C454<>\"\",IF(ISNA(VLOOKUP(C454,Katastralgemeinden!$A$2:$B$3041,2,FALSE)),\"Ungültige KG-Nummer!\",VLOOKUP(C454,Katastralgemeinden!A$2:$B$3041,2,\"falsch\")),\"\")","v":""},null,null,null,null,null,null,null,null,"",0,{"$f":"IF('Anhang Grundstücksverzeichnis'!G454=Texte!$A$25,F454,0)","v":0},{"$f":"IF('Anhang Grundstücksverzeichnis'!G454=Texte!$A$26,F454,0)","v":0},{"$f":"IF('Anhang Grundstücksverzeichnis'!G454=Texte!$A$27,F454,0)","v":0},{"$f":"IF('Anhang Grundstücksverzeichnis'!G454=Texte!$A$28,F454,0)","v":0}]
[445,{"$f":"IF(C455<>\"\",IF(ISNA(VLOOKUP(C455,Katastralgemeinden!$A$2:$B$3041,2,FALSE)),\"Ungültige KG-Nummer!\",VLOOKUP(C455,Katastralgemeinden!A$2:$B$3041,2,\"falsch\")),\"\")","v":""},null,null,null,null,null,null,null,null,"",0,{"$f":"IF('Anhang Grundstücksverzeichnis'!G455=Texte!$A$25,F455,0)","v":0},{"$f":"IF('Anhang Grundstücksverzeichnis'!G455=Texte!$A$26,F455,0)","v":0},{"$f":"IF('Anhang Grundstücksverzeichnis'!G455=Texte!$A$27,F455,0)","v":0},{"$f":"IF('Anhang Grundstücksverzeichnis'!G455=Texte!$A$28,F455,0)","v":0}]
[446,{"$f":"IF(C456<>\"\",IF(ISNA(VLOOKUP(C456,Katastralgemeinden!$A$2:$B$3041,2,FALSE)),\"Ungültige KG-Nummer!\",VLOOKUP(C456,Katastralgemeinden!A$2:$B$3041,2,\"falsch\")),\"\")","v":""},null,null,null,null,null,null,null,null,"",0,{"$f":"IF('Anhang Grundstücksverzeichnis'!G456=Texte!$A$25,F456,0)","v":0},{"$f":"IF('Anhang Grundstücksverzeichnis'!G456=Texte!$A$26,F456,0)","v":0},{"$f":"IF('Anhang Grundstücksverzeichnis'!G456=Texte!$A$27,F456,0)","v":0},{"$f":"IF('Anhang Grundstücksverzeichnis'!G456=Texte!$A$28,F456,0)","v":0}]
[447,{"$f":"IF(C457<>\"\",IF(ISNA(VLOOKUP(C457,Katastralgemeinden!$A$2:$B$3041,2,FALSE)),\"Ungültige KG-Nummer!\",VLOOKUP(C457,Katastralgemeinden!A$2:$B$3041,2,\"falsch\")),\"\")","v":""},null,null,null,null,null,null,null,null,"",0,{"$f":"IF('Anhang Grundstücksverzeichnis'!G457=Texte!$A$25,F457,0)","v":0},{"$f":"IF('Anhang Grundstücksverzeichnis'!G457=Texte!$A$26,F457,0)","v":0},{"$f":"IF('Anhang Grundstücksverzeichnis'!G457=Texte!$A$27,F457,0)","v":0},{"$f":"IF('Anhang Grundstücksverzeichnis'!G457=Texte!$A$28,F457,0)","v":0}]
[448,{"$f":"IF(C458<>\"\",IF(ISNA(VLOOKUP(C458,Katastralgemeinden!$A$2:$B$3041,2,FALSE)),\"Ungültige KG-Nummer!\",VLOOKUP(C458,Katastralgemeinden!A$2:$B$3041,2,\"falsch\")),\"\")","v":""},null,null,null,null,null,null,null,null,"",0,{"$f":"IF('Anhang Grundstücksverzeichnis'!G458=Texte!$A$25,F458,0)","v":0},{"$f":"IF('Anhang Grundstücksverzeichnis'!G458=Texte!$A$26,F458,0)","v":0},{"$f":"IF('Anhang Grundstücksverzeichnis'!G458=Texte!$A$27,F458,0)","v":0},{"$f":"IF('Anhang Grundstücksverzeichnis'!G458=Texte!$A$28,F458,0)","v":0}]
[449,{"$f":"IF(C459<>\"\",IF(ISNA(VLOOKUP(C459,Katastralgemeinden!$A$2:$B$3041,2,FALSE)),\"Ungültige KG-Nummer!\",VLOOKUP(C459,Katastralgemeinden!A$2:$B$3041,2,\"falsch\")),\"\")","v":""},null,null,null,null,null,null,null,null,"",0,{"$f":"IF('Anhang Grundstücksverzeichnis'!G459=Texte!$A$25,F459,0)","v":0},{"$f":"IF('Anhang Grundstücksverzeichnis'!G459=Texte!$A$26,F459,0)","v":0},{"$f":"IF('Anhang Grundstücksverzeichnis'!G459=Texte!$A$27,F459,0)","v":0},{"$f":"IF('Anhang Grundstücksverzeichnis'!G459=Texte!$A$28,F459,0)","v":0}]
[450,{"$f":"IF(C460<>\"\",IF(ISNA(VLOOKUP(C460,Katastralgemeinden!$A$2:$B$3041,2,FALSE)),\"Ungültige KG-Nummer!\",VLOOKUP(C460,Katastralgemeinden!A$2:$B$3041,2,\"falsch\")),\"\")","v":""},null,null,null,null,null,null,null,null,{"$f":"IF(G460<>\"\",IF(G460=\"Eigengrundfläche\",0,IF(G460=\"Vorpachtfläche\",1,IF(G460=\"Abrundung +\",3,IF(G460=\"Abrundung -\",4,5)))),\"\")","v":""},{"$f":"IF(OR(LOWER(H460)=\"x\",LOWER(H460)=\"j\"),1,0)","v":0},{"$f":"IF('Anhang Grundstücksverzeichnis'!G460=Texte!$A$25,F460,0)","v":0},{"$f":"IF('Anhang Grundstücksverzeichnis'!G460=Texte!$A$26,F460,0)","v":0},{"$f":"IF('Anhang Grundstücksverzeichnis'!G460=Texte!$A$27,F460,0)","v":0},{"$f":"IF('Anhang Grundstücksverzeichnis'!G460=Texte!$A$28,F460,0)","v":0}]
[451,{"$f":"IF(C461<>\"\",IF(ISNA(VLOOKUP(C461,Katastralgemeinden!$A$2:$B$3041,2,FALSE)),\"Ungültige KG-Nummer!\",VLOOKUP(C461,Katastralgemeinden!A$2:$B$3041,2,\"falsch\")),\"\")","v":""},null,null,null,null,null,null,null,null,"",0,{"$f":"IF('Anhang Grundstücksverzeichnis'!G461=Texte!$A$25,F461,0)","v":0},{"$f":"IF('Anhang Grundstücksverzeichnis'!G461=Texte!$A$26,F461,0)","v":0},{"$f":"IF('Anhang Grundstücksverzeichnis'!G461=Texte!$A$27,F461,0)","v":0},{"$f":"IF('Anhang Grundstücksverzeichnis'!G461=Texte!$A$28,F461,0)","v":0}]
[452,{"$f":"IF(C462<>\"\",IF(ISNA(VLOOKUP(C462,Katastralgemeinden!$A$2:$B$3041,2,FALSE)),\"Ungültige KG-Nummer!\",VLOOKUP(C462,Katastralgemeinden!A$2:$B$3041,2,\"falsch\")),\"\")","v":""},null,null,null,null,null,null,null,null,"",0,{"$f":"IF('Anhang Grundstücksverzeichnis'!G462=Texte!$A$25,F462,0)","v":0},{"$f":"IF('Anhang Grundstücksverzeichnis'!G462=Texte!$A$26,F462,0)","v":0},{"$f":"IF('Anhang Grundstücksverzeichnis'!G462=Texte!$A$27,F462,0)","v":0},{"$f":"IF('Anhang Grundstücksverzeichnis'!G462=Texte!$A$28,F462,0)","v":0}]
[453,{"$f":"IF(C463<>\"\",IF(ISNA(VLOOKUP(C463,Katastralgemeinden!$A$2:$B$3041,2,FALSE)),\"Ungültige KG-Nummer!\",VLOOKUP(C463,Katastralgemeinden!A$2:$B$3041,2,\"falsch\")),\"\")","v":""},null,null,null,null,null,null,null,null,"",0,{"$f":"IF('Anhang Grundstücksverzeichnis'!G463=Texte!$A$25,F463,0)","v":0},{"$f":"IF('Anhang Grundstücksverzeichnis'!G463=Texte!$A$26,F463,0)","v":0},{"$f":"IF('Anhang Grundstücksverzeichnis'!G463=Texte!$A$27,F463,0)","v":0},{"$f":"IF('Anhang Grundstücksverzeichnis'!G463=Texte!$A$28,F463,0)","v":0}]
[454,{"$f":"IF(C464<>\"\",IF(ISNA(VLOOKUP(C464,Katastralgemeinden!$A$2:$B$3041,2,FALSE)),\"Ungültige KG-Nummer!\",VLOOKUP(C464,Katastralgemeinden!A$2:$B$3041,2,\"falsch\")),\"\")","v":""},null,null,null,null,null,null,null,null,"",0,{"$f":"IF('Anhang Grundstücksverzeichnis'!G464=Texte!$A$25,F464,0)","v":0},{"$f":"IF('Anhang Grundstücksverzeichnis'!G464=Texte!$A$26,F464,0)","v":0},{"$f":"IF('Anhang Grundstücksverzeichnis'!G464=Texte!$A$27,F464,0)","v":0},{"$f":"IF('Anhang Grundstücksverzeichnis'!G464=Texte!$A$28,F464,0)","v":0}]
[455,{"$f":"IF(C465<>\"\",IF(ISNA(VLOOKUP(C465,Katastralgemeinden!$A$2:$B$3041,2,FALSE)),\"Ungültige KG-Nummer!\",VLOOKUP(C465,Katastralgemeinden!A$2:$B$3041,2,\"falsch\")),\"\")","v":""},null,null,null,null,null,null,null,null,"",0,{"$f":"IF('Anhang Grundstücksverzeichnis'!G465=Texte!$A$25,F465,0)","v":0},{"$f":"IF('Anhang Grundstücksverzeichnis'!G465=Texte!$A$26,F465,0)","v":0},{"$f":"IF('Anhang Grundstücksverzeichnis'!G465=Texte!$A$27,F465,0)","v":0},{"$f":"IF('Anhang Grundstücksverzeichnis'!G465=Texte!$A$28,F465,0)","v":0}]
[456,{"$f":"IF(C466<>\"\",IF(ISNA(VLOOKUP(C466,Katastralgemeinden!$A$2:$B$3041,2,FALSE)),\"Ungültige KG-Nummer!\",VLOOKUP(C466,Katastralgemeinden!A$2:$B$3041,2,\"falsch\")),\"\")","v":""},null,null,null,null,null,null,null,null,"",0,{"$f":"IF('Anhang Grundstücksverzeichnis'!G466=Texte!$A$25,F466,0)","v":0},{"$f":"IF('Anhang Grundstücksverzeichnis'!G466=Texte!$A$26,F466,0)","v":0},{"$f":"IF('Anhang Grundstücksverzeichnis'!G466=Texte!$A$27,F466,0)","v":0},{"$f":"IF('Anhang Grundstücksverzeichnis'!G466=Texte!$A$28,F466,0)","v":0}]
[457,{"$f":"IF(C467<>\"\",IF(ISNA(VLOOKUP(C467,Katastralgemeinden!$A$2:$B$3041,2,FALSE)),\"Ungültige KG-Nummer!\",VLOOKUP(C467,Katastralgemeinden!A$2:$B$3041,2,\"falsch\")),\"\")","v":""},null,null,null,null,null,null,null,null,"",0,{"$f":"IF('Anhang Grundstücksverzeichnis'!G467=Texte!$A$25,F467,0)","v":0},{"$f":"IF('Anhang Grundstücksverzeichnis'!G467=Texte!$A$26,F467,0)","v":0},{"$f":"IF('Anhang Grundstücksverzeichnis'!G467=Texte!$A$27,F467,0)","v":0},{"$f":"IF('Anhang Grundstücksverzeichnis'!G467=Texte!$A$28,F467,0)","v":0}]
[458,{"$f":"IF(C468<>\"\",IF(ISNA(VLOOKUP(C468,Katastralgemeinden!$A$2:$B$3041,2,FALSE)),\"Ungültige KG-Nummer!\",VLOOKUP(C468,Katastralgemeinden!A$2:$B$3041,2,\"falsch\")),\"\")","v":""},null,null,null,null,null,null,null,null,"",0,{"$f":"IF('Anhang Grundstücksverzeichnis'!G468=Texte!$A$25,F468,0)","v":0},{"$f":"IF('Anhang Grundstücksverzeichnis'!G468=Texte!$A$26,F468,0)","v":0},{"$f":"IF('Anhang Grundstücksverzeichnis'!G468=Texte!$A$27,F468,0)","v":0},{"$f":"IF('Anhang Grundstücksverzeichnis'!G468=Texte!$A$28,F468,0)","v":0}]
[459,{"$f":"IF(C469<>\"\",IF(ISNA(VLOOKUP(C469,Katastralgemeinden!$A$2:$B$3041,2,FALSE)),\"Ungültige KG-Nummer!\",VLOOKUP(C469,Katastralgemeinden!A$2:$B$3041,2,\"falsch\")),\"\")","v":""},null,null,null,null,null,null,null,null,"",0,{"$f":"IF('Anhang Grundstücksverzeichnis'!G469=Texte!$A$25,F469,0)","v":0},{"$f":"IF('Anhang Grundstücksverzeichnis'!G469=Texte!$A$26,F469,0)","v":0},{"$f":"IF('Anhang Grundstücksverzeichnis'!G469=Texte!$A$27,F469,0)","v":0},{"$f":"IF('Anhang Grundstücksverzeichnis'!G469=Texte!$A$28,F469,0)","v":0}]
[460,{"$f":"IF(C470<>\"\",IF(ISNA(VLOOKUP(C470,Katastralgemeinden!$A$2:$B$3041,2,FALSE)),\"Ungültige KG-Nummer!\",VLOOKUP(C470,Katastralgemeinden!A$2:$B$3041,2,\"falsch\")),\"\")","v":""},null,null,null,null,null,null,null,null,"",0,{"$f":"IF('Anhang Grundstücksverzeichnis'!G470=Texte!$A$25,F470,0)","v":0},{"$f":"IF('Anhang Grundstücksverzeichnis'!G470=Texte!$A$26,F470,0)","v":0},{"$f":"IF('Anhang Grundstücksverzeichnis'!G470=Texte!$A$27,F470,0)","v":0},{"$f":"IF('Anhang Grundstücksverzeichnis'!G470=Texte!$A$28,F470,0)","v":0}]
[461,{"$f":"IF(C471<>\"\",IF(ISNA(VLOOKUP(C471,Katastralgemeinden!$A$2:$B$3041,2,FALSE)),\"Ungültige KG-Nummer!\",VLOOKUP(C471,Katastralgemeinden!A$2:$B$3041,2,\"falsch\")),\"\")","v":""},null,null,null,null,null,null,null,null,"",0,{"$f":"IF('Anhang Grundstücksverzeichnis'!G471=Texte!$A$25,F471,0)","v":0},{"$f":"IF('Anhang Grundstücksverzeichnis'!G471=Texte!$A$26,F471,0)","v":0},{"$f":"IF('Anhang Grundstücksverzeichnis'!G471=Texte!$A$27,F471,0)","v":0},{"$f":"IF('Anhang Grundstücksverzeichnis'!G471=Texte!$A$28,F471,0)","v":0}]
[462,{"$f":"IF(C472<>\"\",IF(ISNA(VLOOKUP(C472,Katastralgemeinden!$A$2:$B$3041,2,FALSE)),\"Ungültige KG-Nummer!\",VLOOKUP(C472,Katastralgemeinden!A$2:$B$3041,2,\"falsch\")),\"\")","v":""},null,null,null,null,null,null,null,null,"",0,{"$f":"IF('Anhang Grundstücksverzeichnis'!G472=Texte!$A$25,F472,0)","v":0},{"$f":"IF('Anhang Grundstücksverzeichnis'!G472=Texte!$A$26,F472,0)","v":0},{"$f":"IF('Anhang Grundstücksverzeichnis'!G472=Texte!$A$27,F472,0)","v":0},{"$f":"IF('Anhang Grundstücksverzeichnis'!G472=Texte!$A$28,F472,0)","v":0}]
[463,{"$f":"IF(C473<>\"\",IF(ISNA(VLOOKUP(C473,Katastralgemeinden!$A$2:$B$3041,2,FALSE)),\"Ungültige KG-Nummer!\",VLOOKUP(C473,Katastralgemeinden!A$2:$B$3041,2,\"falsch\")),\"\")","v":""},null,null,null,null,null,null,null,null,"",0,{"$f":"IF('Anhang Grundstücksverzeichnis'!G473=Texte!$A$25,F473,0)","v":0},{"$f":"IF('Anhang Grundstücksverzeichnis'!G473=Texte!$A$26,F473,0)","v":0},{"$f":"IF('Anhang Grundstücksverzeichnis'!G473=Texte!$A$27,F473,0)","v":0},{"$f":"IF('Anhang Grundstücksverzeichnis'!G473=Texte!$A$28,F473,0)","v":0}]
[464,{"$f":"IF(C474<>\"\",IF(ISNA(VLOOKUP(C474,Katastralgemeinden!$A$2:$B$3041,2,FALSE)),\"Ungültige KG-Nummer!\",VLOOKUP(C474,Katastralgemeinden!A$2:$B$3041,2,\"falsch\")),\"\")","v":""},null,null,null,null,null,null,null,null,"",0,{"$f":"IF('Anhang Grundstücksverzeichnis'!G474=Texte!$A$25,F474,0)","v":0},{"$f":"IF('Anhang Grundstücksverzeichnis'!G474=Texte!$A$26,F474,0)","v":0},{"$f":"IF('Anhang Grundstücksverzeichnis'!G474=Texte!$A$27,F474,0)","v":0},{"$f":"IF('Anhang Grundstücksverzeichnis'!G474=Texte!$A$28,F474,0)","v":0}]
[465,{"$f":"IF(C475<>\"\",IF(ISNA(VLOOKUP(C475,Katastralgemeinden!$A$2:$B$3041,2,FALSE)),\"Ungültige KG-Nummer!\",VLOOKUP(C475,Katastralgemeinden!A$2:$B$3041,2,\"falsch\")),\"\")","v":""},null,null,null,null,null,null,null,null,"",0,{"$f":"IF('Anhang Grundstücksverzeichnis'!G475=Texte!$A$25,F475,0)","v":0},{"$f":"IF('Anhang Grundstücksverzeichnis'!G475=Texte!$A$26,F475,0)","v":0},{"$f":"IF('Anhang Grundstücksverzeichnis'!G475=Texte!$A$27,F475,0)","v":0},{"$f":"IF('Anhang Grundstücksverzeichnis'!G475=Texte!$A$28,F475,0)","v":0}]
[466,{"$f":"IF(C476<>\"\",IF(ISNA(VLOOKUP(C476,Katastralgemeinden!$A$2:$B$3041,2,FALSE)),\"Ungültige KG-Nummer!\",VLOOKUP(C476,Katastralgemeinden!A$2:$B$3041,2,\"falsch\")),\"\")","v":""},null,null,null,null,null,null,null,null,"",0,{"$f":"IF('Anhang Grundstücksverzeichnis'!G476=Texte!$A$25,F476,0)","v":0},{"$f":"IF('Anhang Grundstücksverzeichnis'!G476=Texte!$A$26,F476,0)","v":0},{"$f":"IF('Anhang Grundstücksverzeichnis'!G476=Texte!$A$27,F476,0)","v":0},{"$f":"IF('Anhang Grundstücksverzeichnis'!G476=Texte!$A$28,F476,0)","v":0}]
[467,{"$f":"IF(C477<>\"\",IF(ISNA(VLOOKUP(C477,Katastralgemeinden!$A$2:$B$3041,2,FALSE)),\"Ungültige KG-Nummer!\",VLOOKUP(C477,Katastralgemeinden!A$2:$B$3041,2,\"falsch\")),\"\")","v":""},null,null,null,null,null,null,null,null,"",0,{"$f":"IF('Anhang Grundstücksverzeichnis'!G477=Texte!$A$25,F477,0)","v":0},{"$f":"IF('Anhang Grundstücksverzeichnis'!G477=Texte!$A$26,F477,0)","v":0},{"$f":"IF('Anhang Grundstücksverzeichnis'!G477=Texte!$A$27,F477,0)","v":0},{"$f":"IF('Anhang Grundstücksverzeichnis'!G477=Texte!$A$28,F477,0)","v":0}]
[468,{"$f":"IF(C478<>\"\",IF(ISNA(VLOOKUP(C478,Katastralgemeinden!$A$2:$B$3041,2,FALSE)),\"Ungültige KG-Nummer!\",VLOOKUP(C478,Katastralgemeinden!A$2:$B$3041,2,\"falsch\")),\"\")","v":""},null,null,null,null,null,null,null,null,"",0,{"$f":"IF('Anhang Grundstücksverzeichnis'!G478=Texte!$A$25,F478,0)","v":0},{"$f":"IF('Anhang Grundstücksverzeichnis'!G478=Texte!$A$26,F478,0)","v":0},{"$f":"IF('Anhang Grundstücksverzeichnis'!G478=Texte!$A$27,F478,0)","v":0},{"$f":"IF('Anhang Grundstücksverzeichnis'!G478=Texte!$A$28,F478,0)","v":0}]
[469,{"$f":"IF(C479<>\"\",IF(ISNA(VLOOKUP(C479,Katastralgemeinden!$A$2:$B$3041,2,FALSE)),\"Ungültige KG-Nummer!\",VLOOKUP(C479,Katastralgemeinden!A$2:$B$3041,2,\"falsch\")),\"\")","v":""},null,null,null,null,null,null,null,null,"",0,{"$f":"IF('Anhang Grundstücksverzeichnis'!G479=Texte!$A$25,F479,0)","v":0},{"$f":"IF('Anhang Grundstücksverzeichnis'!G479=Texte!$A$26,F479,0)","v":0},{"$f":"IF('Anhang Grundstücksverzeichnis'!G479=Texte!$A$27,F479,0)","v":0},{"$f":"IF('Anhang Grundstücksverzeichnis'!G479=Texte!$A$28,F479,0)","v":0}]
[470,{"$f":"IF(C480<>\"\",IF(ISNA(VLOOKUP(C480,Katastralgemeinden!$A$2:$B$3041,2,FALSE)),\"Ungültige KG-Nummer!\",VLOOKUP(C480,Katastralgemeinden!A$2:$B$3041,2,\"falsch\")),\"\")","v":""},null,null,null,null,null,null,null,null,"",0,{"$f":"IF('Anhang Grundstücksverzeichnis'!G480=Texte!$A$25,F480,0)","v":0},{"$f":"IF('Anhang Grundstücksverzeichnis'!G480=Texte!$A$26,F480,0)","v":0},{"$f":"IF('Anhang Grundstücksverzeichnis'!G480=Texte!$A$27,F480,0)","v":0},{"$f":"IF('Anhang Grundstücksverzeichnis'!G480=Texte!$A$28,F480,0)","v":0}]
[471,{"$f":"IF(C481<>\"\",IF(ISNA(VLOOKUP(C481,Katastralgemeinden!$A$2:$B$3041,2,FALSE)),\"Ungültige KG-Nummer!\",VLOOKUP(C481,Katastralgemeinden!A$2:$B$3041,2,\"falsch\")),\"\")","v":""},null,null,null,null,null,null,null,null,"",0,{"$f":"IF('Anhang Grundstücksverzeichnis'!G481=Texte!$A$25,F481,0)","v":0},{"$f":"IF('Anhang Grundstücksverzeichnis'!G481=Texte!$A$26,F481,0)","v":0},{"$f":"IF('Anhang Grundstücksverzeichnis'!G481=Texte!$A$27,F481,0)","v":0},{"$f":"IF('Anhang Grundstücksverzeichnis'!G481=Texte!$A$28,F481,0)","v":0}]
[472,{"$f":"IF(C482<>\"\",IF(ISNA(VLOOKUP(C482,Katastralgemeinden!$A$2:$B$3041,2,FALSE)),\"Ungültige KG-Nummer!\",VLOOKUP(C482,Katastralgemeinden!A$2:$B$3041,2,\"falsch\")),\"\")","v":""},null,null,null,null,null,null,null,null,"",0,{"$f":"IF('Anhang Grundstücksverzeichnis'!G482=Texte!$A$25,F482,0)","v":0},{"$f":"IF('Anhang Grundstücksverzeichnis'!G482=Texte!$A$26,F482,0)","v":0},{"$f":"IF('Anhang Grundstücksverzeichnis'!G482=Texte!$A$27,F482,0)","v":0},{"$f":"IF('Anhang Grundstücksverzeichnis'!G482=Texte!$A$28,F482,0)","v":0}]
[473,{"$f":"IF(C483<>\"\",IF(ISNA(VLOOKUP(C483,Katastralgemeinden!$A$2:$B$3041,2,FALSE)),\"Ungültige KG-Nummer!\",VLOOKUP(C483,Katastralgemeinden!A$2:$B$3041,2,\"falsch\")),\"\")","v":""},null,null,null,null,null,null,null,null,"",0,{"$f":"IF('Anhang Grundstücksverzeichnis'!G483=Texte!$A$25,F483,0)","v":0},{"$f":"IF('Anhang Grundstücksverzeichnis'!G483=Texte!$A$26,F483,0)","v":0},{"$f":"IF('Anhang Grundstücksverzeichnis'!G483=Texte!$A$27,F483,0)","v":0},{"$f":"IF('Anhang Grundstücksverzeichnis'!G483=Texte!$A$28,F483,0)","v":0}]
[474,{"$f":"IF(C484<>\"\",IF(ISNA(VLOOKUP(C484,Katastralgemeinden!$A$2:$B$3041,2,FALSE)),\"Ungültige KG-Nummer!\",VLOOKUP(C484,Katastralgemeinden!A$2:$B$3041,2,\"falsch\")),\"\")","v":""},null,null,null,null,null,null,null,null,"",0,{"$f":"IF('Anhang Grundstücksverzeichnis'!G484=Texte!$A$25,F484,0)","v":0},{"$f":"IF('Anhang Grundstücksverzeichnis'!G484=Texte!$A$26,F484,0)","v":0},{"$f":"IF('Anhang Grundstücksverzeichnis'!G484=Texte!$A$27,F484,0)","v":0},{"$f":"IF('Anhang Grundstücksverzeichnis'!G484=Texte!$A$28,F484,0)","v":0}]
[475,{"$f":"IF(C485<>\"\",IF(ISNA(VLOOKUP(C485,Katastralgemeinden!$A$2:$B$3041,2,FALSE)),\"Ungültige KG-Nummer!\",VLOOKUP(C485,Katastralgemeinden!A$2:$B$3041,2,\"falsch\")),\"\")","v":""},null,null,null,null,null,null,null,null,"",0,{"$f":"IF('Anhang Grundstücksverzeichnis'!G485=Texte!$A$25,F485,0)","v":0},{"$f":"IF('Anhang Grundstücksverzeichnis'!G485=Texte!$A$26,F485,0)","v":0},{"$f":"IF('Anhang Grundstücksverzeichnis'!G485=Texte!$A$27,F485,0)","v":0},{"$f":"IF('Anhang Grundstücksverzeichnis'!G485=Texte!$A$28,F485,0)","v":0}]
[476,{"$f":"IF(C486<>\"\",IF(ISNA(VLOOKUP(C486,Katastralgemeinden!$A$2:$B$3041,2,FALSE)),\"Ungültige KG-Nummer!\",VLOOKUP(C486,Katastralgemeinden!A$2:$B$3041,2,\"falsch\")),\"\")","v":""},null,null,null,null,null,null,null,null,"",0,{"$f":"IF('Anhang Grundstücksverzeichnis'!G486=Texte!$A$25,F486,0)","v":0},{"$f":"IF('Anhang Grundstücksverzeichnis'!G486=Texte!$A$26,F486,0)","v":0},{"$f":"IF('Anhang Grundstücksverzeichnis'!G486=Texte!$A$27,F486,0)","v":0},{"$f":"IF('Anhang Grundstücksverzeichnis'!G486=Texte!$A$28,F486,0)","v":0}]
[477,{"$f":"IF(C487<>\"\",IF(ISNA(VLOOKUP(C487,Katastralgemeinden!$A$2:$B$3041,2,FALSE)),\"Ungültige KG-Nummer!\",VLOOKUP(C487,Katastralgemeinden!A$2:$B$3041,2,\"falsch\")),\"\")","v":""},null,null,null,null,null,null,null,null,"",0,{"$f":"IF('Anhang Grundstücksverzeichnis'!G487=Texte!$A$25,F487,0)","v":0},{"$f":"IF('Anhang Grundstücksverzeichnis'!G487=Texte!$A$26,F487,0)","v":0},{"$f":"IF('Anhang Grundstücksverzeichnis'!G487=Texte!$A$27,F487,0)","v":0},{"$f":"IF('Anhang Grundstücksverzeichnis'!G487=Texte!$A$28,F487,0)","v":0}]
[478,{"$f":"IF(C488<>\"\",IF(ISNA(VLOOKUP(C488,Katastralgemeinden!$A$2:$B$3041,2,FALSE)),\"Ungültige KG-Nummer!\",VLOOKUP(C488,Katastralgemeinden!A$2:$B$3041,2,\"falsch\")),\"\")","v":""},null,null,null,null,null,null,null,null,"",0,{"$f":"IF('Anhang Grundstücksverzeichnis'!G488=Texte!$A$25,F488,0)","v":0},{"$f":"IF('Anhang Grundstücksverzeichnis'!G488=Texte!$A$26,F488,0)","v":0},{"$f":"IF('Anhang Grundstücksverzeichnis'!G488=Texte!$A$27,F488,0)","v":0},{"$f":"IF('Anhang Grundstücksverzeichnis'!G488=Texte!$A$28,F488,0)","v":0}]
[479,{"$f":"IF(C489<>\"\",IF(ISNA(VLOOKUP(C489,Katastralgemeinden!$A$2:$B$3041,2,FALSE)),\"Ungültige KG-Nummer!\",VLOOKUP(C489,Katastralgemeinden!A$2:$B$3041,2,\"falsch\")),\"\")","v":""},null,null,null,null,null,null,null,null,"",0,{"$f":"IF('Anhang Grundstücksverzeichnis'!G489=Texte!$A$25,F489,0)","v":0},{"$f":"IF('Anhang Grundstücksverzeichnis'!G489=Texte!$A$26,F489,0)","v":0},{"$f":"IF('Anhang Grundstücksverzeichnis'!G489=Texte!$A$27,F489,0)","v":0},{"$f":"IF('Anhang Grundstücksverzeichnis'!G489=Texte!$A$28,F489,0)","v":0}]
[480,{"$f":"IF(C490<>\"\",IF(ISNA(VLOOKUP(C490,Katastralgemeinden!$A$2:$B$3041,2,FALSE)),\"Ungültige KG-Nummer!\",VLOOKUP(C490,Katastralgemeinden!A$2:$B$3041,2,\"falsch\")),\"\")","v":""},null,null,null,null,null,null,null,null,"",0,{"$f":"IF('Anhang Grundstücksverzeichnis'!G490=Texte!$A$25,F490,0)","v":0},{"$f":"IF('Anhang Grundstücksverzeichnis'!G490=Texte!$A$26,F490,0)","v":0},{"$f":"IF('Anhang Grundstücksverzeichnis'!G490=Texte!$A$27,F490,0)","v":0},{"$f":"IF('Anhang Grundstücksverzeichnis'!G490=Texte!$A$28,F490,0)","v":0}]
[481,{"$f":"IF(C491<>\"\",IF(ISNA(VLOOKUP(C491,Katastralgemeinden!$A$2:$B$3041,2,FALSE)),\"Ungültige KG-Nummer!\",VLOOKUP(C491,Katastralgemeinden!A$2:$B$3041,2,\"falsch\")),\"\")","v":""},null,null,null,null,null,null,null,null,"",0,{"$f":"IF('Anhang Grundstücksverzeichnis'!G491=Texte!$A$25,F491,0)","v":0},{"$f":"IF('Anhang Grundstücksverzeichnis'!G491=Texte!$A$26,F491,0)","v":0},{"$f":"IF('Anhang Grundstücksverzeichnis'!G491=Texte!$A$27,F491,0)","v":0},{"$f":"IF('Anhang Grundstücksverzeichnis'!G491=Texte!$A$28,F491,0)","v":0}]
[482,{"$f":"IF(C492<>\"\",IF(ISNA(VLOOKUP(C492,Katastralgemeinden!$A$2:$B$3041,2,FALSE)),\"Ungültige KG-Nummer!\",VLOOKUP(C492,Katastralgemeinden!A$2:$B$3041,2,\"falsch\")),\"\")","v":""},null,null,null,null,null,null,null,null,"",0,{"$f":"IF('Anhang Grundstücksverzeichnis'!G492=Texte!$A$25,F492,0)","v":0},{"$f":"IF('Anhang Grundstücksverzeichnis'!G492=Texte!$A$26,F492,0)","v":0},{"$f":"IF('Anhang Grundstücksverzeichnis'!G492=Texte!$A$27,F492,0)","v":0},{"$f":"IF('Anhang Grundstücksverzeichnis'!G492=Texte!$A$28,F492,0)","v":0}]
[483,{"$f":"IF(C493<>\"\",IF(ISNA(VLOOKUP(C493,Katastralgemeinden!$A$2:$B$3041,2,FALSE)),\"Ungültige KG-Nummer!\",VLOOKUP(C493,Katastralgemeinden!A$2:$B$3041,2,\"falsch\")),\"\")","v":""},null,null,null,null,null,null,null,null,"",0,{"$f":"IF('Anhang Grundstücksverzeichnis'!G493=Texte!$A$25,F493,0)","v":0},{"$f":"IF('Anhang Grundstücksverzeichnis'!G493=Texte!$A$26,F493,0)","v":0},{"$f":"IF('Anhang Grundstücksverzeichnis'!G493=Texte!$A$27,F493,0)","v":0},{"$f":"IF('Anhang Grundstücksverzeichnis'!G493=Texte!$A$28,F493,0)","v":0}]
[484,{"$f":"IF(C494<>\"\",IF(ISNA(VLOOKUP(C494,Katastralgemeinden!$A$2:$B$3041,2,FALSE)),\"Ungültige KG-Nummer!\",VLOOKUP(C494,Katastralgemeinden!A$2:$B$3041,2,\"falsch\")),\"\")","v":""},null,null,null,null,null,null,null,null,"",0,{"$f":"IF('Anhang Grundstücksverzeichnis'!G494=Texte!$A$25,F494,0)","v":0},{"$f":"IF('Anhang Grundstücksverzeichnis'!G494=Texte!$A$26,F494,0)","v":0},{"$f":"IF('Anhang Grundstücksverzeichnis'!G494=Texte!$A$27,F494,0)","v":0},{"$f":"IF('Anhang Grundstücksverzeichnis'!G494=Texte!$A$28,F494,0)","v":0}]
[485,{"$f":"IF(C495<>\"\",IF(ISNA(VLOOKUP(C495,Katastralgemeinden!$A$2:$B$3041,2,FALSE)),\"Ungültige KG-Nummer!\",VLOOKUP(C495,Katastralgemeinden!A$2:$B$3041,2,\"falsch\")),\"\")","v":""},null,null,null,null,null,null,null,null,"",0,{"$f":"IF('Anhang Grundstücksverzeichnis'!G495=Texte!$A$25,F495,0)","v":0},{"$f":"IF('Anhang Grundstücksverzeichnis'!G495=Texte!$A$26,F495,0)","v":0},{"$f":"IF('Anhang Grundstücksverzeichnis'!G495=Texte!$A$27,F495,0)","v":0},{"$f":"IF('Anhang Grundstücksverzeichnis'!G495=Texte!$A$28,F495,0)","v":0}]
[486,{"$f":"IF(C496<>\"\",IF(ISNA(VLOOKUP(C496,Katastralgemeinden!$A$2:$B$3041,2,FALSE)),\"Ungültige KG-Nummer!\",VLOOKUP(C496,Katastralgemeinden!A$2:$B$3041,2,\"falsch\")),\"\")","v":""},null,null,null,null,null,null,null,null,"",0,{"$f":"IF('Anhang Grundstücksverzeichnis'!G496=Texte!$A$25,F496,0)","v":0},{"$f":"IF('Anhang Grundstücksverzeichnis'!G496=Texte!$A$26,F496,0)","v":0},{"$f":"IF('Anhang Grundstücksverzeichnis'!G496=Texte!$A$27,F496,0)","v":0},{"$f":"IF('Anhang Grundstücksverzeichnis'!G496=Texte!$A$28,F496,0)","v":0}]
[487,{"$f":"IF(C497<>\"\",IF(ISNA(VLOOKUP(C497,Katastralgemeinden!$A$2:$B$3041,2,FALSE)),\"Ungültige KG-Nummer!\",VLOOKUP(C497,Katastralgemeinden!A$2:$B$3041,2,\"falsch\")),\"\")","v":""},null,null,null,null,null,null,null,null,"",0,{"$f":"IF('Anhang Grundstücksverzeichnis'!G497=Texte!$A$25,F497,0)","v":0},{"$f":"IF('Anhang Grundstücksverzeichnis'!G497=Texte!$A$26,F497,0)","v":0},{"$f":"IF('Anhang Grundstücksverzeichnis'!G497=Texte!$A$27,F497,0)","v":0},{"$f":"IF('Anhang Grundstücksverzeichnis'!G497=Texte!$A$28,F497,0)","v":0}]
[488,{"$f":"IF(C498<>\"\",IF(ISNA(VLOOKUP(C498,Katastralgemeinden!$A$2:$B$3041,2,FALSE)),\"Ungültige KG-Nummer!\",VLOOKUP(C498,Katastralgemeinden!A$2:$B$3041,2,\"falsch\")),\"\")","v":""},null,null,null,null,null,null,null,null,"",0,{"$f":"IF('Anhang Grundstücksverzeichnis'!G498=Texte!$A$25,F498,0)","v":0},{"$f":"IF('Anhang Grundstücksverzeichnis'!G498=Texte!$A$26,F498,0)","v":0},{"$f":"IF('Anhang Grundstücksverzeichnis'!G498=Texte!$A$27,F498,0)","v":0},{"$f":"IF('Anhang Grundstücksverzeichnis'!G498=Texte!$A$28,F498,0)","v":0}]
[489,{"$f":"IF(C499<>\"\",IF(ISNA(VLOOKUP(C499,Katastralgemeinden!$A$2:$B$3041,2,FALSE)),\"Ungültige KG-Nummer!\",VLOOKUP(C499,Katastralgemeinden!A$2:$B$3041,2,\"falsch\")),\"\")","v":""},null,null,null,null,null,null,null,null,"",0,{"$f":"IF('Anhang Grundstücksverzeichnis'!G499=Texte!$A$25,F499,0)","v":0},{"$f":"IF('Anhang Grundstücksverzeichnis'!G499=Texte!$A$26,F499,0)","v":0},{"$f":"IF('Anhang Grundstücksverzeichnis'!G499=Texte!$A$27,F499,0)","v":0},{"$f":"IF('Anhang Grundstücksverzeichnis'!G499=Texte!$A$28,F499,0)","v":0}]
[490,{"$f":"IF(C500<>\"\",IF(ISNA(VLOOKUP(C500,Katastralgemeinden!$A$2:$B$3041,2,FALSE)),\"Ungültige KG-Nummer!\",VLOOKUP(C500,Katastralgemeinden!A$2:$B$3041,2,\"falsch\")),\"\")","v":""},null,null,null,null,null,null,null,null,"",0,{"$f":"IF('Anhang Grundstücksverzeichnis'!G500=Texte!$A$25,F500,0)","v":0},{"$f":"IF('Anhang Grundstücksverzeichnis'!G500=Texte!$A$26,F500,0)","v":0},{"$f":"IF('Anhang Grundstücksverzeichnis'!G500=Texte!$A$27,F500,0)","v":0},{"$f":"IF('Anhang Grundstücksverzeichnis'!G500=Texte!$A$28,F500,0)","v":0}]
[491,{"$f":"IF(C501<>\"\",IF(ISNA(VLOOKUP(C501,Katastralgemeinden!$A$2:$B$3041,2,FALSE)),\"Ungültige KG-Nummer!\",VLOOKUP(C501,Katastralgemeinden!A$2:$B$3041,2,\"falsch\")),\"\")","v":""},null,null,null,null,null,null,null,null,"",0,{"$f":"IF('Anhang Grundstücksverzeichnis'!G501=Texte!$A$25,F501,0)","v":0},{"$f":"IF('Anhang Grundstücksverzeichnis'!G501=Texte!$A$26,F501,0)","v":0},{"$f":"IF('Anhang Grundstücksverzeichnis'!G501=Texte!$A$27,F501,0)","v":0},{"$f":"IF('Anhang Grundstücksverzeichnis'!G501=Texte!$A$28,F501,0)","v":0}]
[492,{"$f":"IF(C502<>\"\",IF(ISNA(VLOOKUP(C502,Katastralgemeinden!$A$2:$B$3041,2,FALSE)),\"Ungültige KG-Nummer!\",VLOOKUP(C502,Katastralgemeinden!A$2:$B$3041,2,\"falsch\")),\"\")","v":""},null,null,null,null,null,null,null,null,"",0,{"$f":"IF('Anhang Grundstücksverzeichnis'!G502=Texte!$A$25,F502,0)","v":0},{"$f":"IF('Anhang Grundstücksverzeichnis'!G502=Texte!$A$26,F502,0)","v":0},{"$f":"IF('Anhang Grundstücksverzeichnis'!G502=Texte!$A$27,F502,0)","v":0},{"$f":"IF('Anhang Grundstücksverzeichnis'!G502=Texte!$A$28,F502,0)","v":0}]
[493,{"$f":"IF(C503<>\"\",IF(ISNA(VLOOKUP(C503,Katastralgemeinden!$A$2:$B$3041,2,FALSE)),\"Ungültige KG-Nummer!\",VLOOKUP(C503,Katastralgemeinden!A$2:$B$3041,2,\"falsch\")),\"\")","v":""},null,null,null,null,null,null,null,null,"",0,{"$f":"IF('Anhang Grundstücksverzeichnis'!G503=Texte!$A$25,F503,0)","v":0},{"$f":"IF('Anhang Grundstücksverzeichnis'!G503=Texte!$A$26,F503,0)","v":0},{"$f":"IF('Anhang Grundstücksverzeichnis'!G503=Texte!$A$27,F503,0)","v":0},{"$f":"IF('Anhang Grundstücksverzeichnis'!G503=Texte!$A$28,F503,0)","v":0}]
[494,{"$f":"IF(C504<>\"\",IF(ISNA(VLOOKUP(C504,Katastralgemeinden!$A$2:$B$3041,2,FALSE)),\"Ungültige KG-Nummer!\",VLOOKUP(C504,Katastralgemeinden!A$2:$B$3041,2,\"falsch\")),\"\")","v":""},null,null,null,null,null,null,null,null,"",0,{"$f":"IF('Anhang Grundstücksverzeichnis'!G504=Texte!$A$25,F504,0)","v":0},{"$f":"IF('Anhang Grundstücksverzeichnis'!G504=Texte!$A$26,F504,0)","v":0},{"$f":"IF('Anhang Grundstücksverzeichnis'!G504=Texte!$A$27,F504,0)","v":0},{"$f":"IF('Anhang Grundstücksverzeichnis'!G504=Texte!$A$28,F504,0)","v":0}]
[495,{"$f":"IF(C505<>\"\",IF(ISNA(VLOOKUP(C505,Katastralgemeinden!$A$2:$B$3041,2,FALSE)),\"Ungültige KG-Nummer!\",VLOOKUP(C505,Katastralgemeinden!A$2:$B$3041,2,\"falsch\")),\"\")","v":""},null,null,null,null,null,null,null,null,"",0,{"$f":"IF('Anhang Grundstücksverzeichnis'!G505=Texte!$A$25,F505,0)","v":0},{"$f":"IF('Anhang Grundstücksverzeichnis'!G505=Texte!$A$26,F505,0)","v":0},{"$f":"IF('Anhang Grundstücksverzeichnis'!G505=Texte!$A$27,F505,0)","v":0},{"$f":"IF('Anhang Grundstücksverzeichnis'!G505=Texte!$A$28,F505,0)","v":0}]
[496,{"$f":"IF(C506<>\"\",IF(ISNA(VLOOKUP(C506,Katastralgemeinden!$A$2:$B$3041,2,FALSE)),\"Ungültige KG-Nummer!\",VLOOKUP(C506,Katastralgemeinden!A$2:$B$3041,2,\"falsch\")),\"\")","v":""},null,null,null,null,null,null,null,null,"",0,{"$f":"IF('Anhang Grundstücksverzeichnis'!G506=Texte!$A$25,F506,0)","v":0},{"$f":"IF('Anhang Grundstücksverzeichnis'!G506=Texte!$A$26,F506,0)","v":0},{"$f":"IF('Anhang Grundstücksverzeichnis'!G506=Texte!$A$27,F506,0)","v":0},{"$f":"IF('Anhang Grundstücksverzeichnis'!G506=Texte!$A$28,F506,0)","v":0}]
[497,{"$f":"IF(C507<>\"\",IF(ISNA(VLOOKUP(C507,Katastralgemeinden!$A$2:$B$3041,2,FALSE)),\"Ungültige KG-Nummer!\",VLOOKUP(C507,Katastralgemeinden!A$2:$B$3041,2,\"falsch\")),\"\")","v":""},null,null,null,null,null,null,null,null,"",0,{"$f":"IF('Anhang Grundstücksverzeichnis'!G507=Texte!$A$25,F507,0)","v":0},{"$f":"IF('Anhang Grundstücksverzeichnis'!G507=Texte!$A$26,F507,0)","v":0},{"$f":"IF('Anhang Grundstücksverzeichnis'!G507=Texte!$A$27,F507,0)","v":0},{"$f":"IF('Anhang Grundstücksverzeichnis'!G507=Texte!$A$28,F507,0)","v":0}]
[498,{"$f":"IF(C508<>\"\",IF(ISNA(VLOOKUP(C508,Katastralgemeinden!$A$2:$B$3041,2,FALSE)),\"Ungültige KG-Nummer!\",VLOOKUP(C508,Katastralgemeinden!A$2:$B$3041,2,\"falsch\")),\"\")","v":""},null,null,null,null,null,null,null,null,"",0,{"$f":"IF('Anhang Grundstücksverzeichnis'!G508=Texte!$A$25,F508,0)","v":0},{"$f":"IF('Anhang Grundstücksverzeichnis'!G508=Texte!$A$26,F508,0)","v":0},{"$f":"IF('Anhang Grundstücksverzeichnis'!G508=Texte!$A$27,F508,0)","v":0},{"$f":"IF('Anhang Grundstücksverzeichnis'!G508=Texte!$A$28,F508,0)","v":0}]
[499,{"$f":"IF(C509<>\"\",IF(ISNA(VLOOKUP(C509,Katastralgemeinden!$A$2:$B$3041,2,FALSE)),\"Ungültige KG-Nummer!\",VLOOKUP(C509,Katastralgemeinden!A$2:$B$3041,2,\"falsch\")),\"\")","v":""},null,null,null,null,null,null,null,null,"",0,{"$f":"IF('Anhang Grundstücksverzeichnis'!G509=Texte!$A$25,F509,0)","v":0},{"$f":"IF('Anhang Grundstücksverzeichnis'!G509=Texte!$A$26,F509,0)","v":0},{"$f":"IF('Anhang Grundstücksverzeichnis'!G509=Texte!$A$27,F509,0)","v":0},{"$f":"IF('Anhang Grundstücksverzeichnis'!G509=Texte!$A$28,F509,0)","v":0}]
[500,{"$f":"IF(C510<>\"\",IF(ISNA(VLOOKUP(C510,Katastralgemeinden!$A$2:$B$3041,2,FALSE)),\"Ungültige KG-Nummer!\",VLOOKUP(C510,Katastralgemeinden!A$2:$B$3041,2,\"falsch\")),\"\")","v":""},null,null,null,null,null,null,null,null,"",0,{"$f":"IF('Anhang Grundstücksverzeichnis'!G510=Texte!$A$25,F510,0)","v":0},{"$f":"IF('Anhang Grundstücksverzeichnis'!G510=Texte!$A$26,F510,0)","v":0},{"$f":"IF('Anhang Grundstücksverzeichnis'!G510=Texte!$A$27,F510,0)","v":0},{"$f":"IF('Anhang Grundstücksverzeichnis'!G510=Texte!$A$28,F510,0)","v":0}]
[501,{"$f":"IF(C511<>\"\",IF(ISNA(VLOOKUP(C511,Katastralgemeinden!$A$2:$B$3041,2,FALSE)),\"Ungültige KG-Nummer!\",VLOOKUP(C511,Katastralgemeinden!A$2:$B$3041,2,\"falsch\")),\"\")","v":""},null,null,null,null,null,null,null,null,"",0,{"$f":"IF('Anhang Grundstücksverzeichnis'!G511=Texte!$A$25,F511,0)","v":0},{"$f":"IF('Anhang Grundstücksverzeichnis'!G511=Texte!$A$26,F511,0)","v":0},{"$f":"IF('Anhang Grundstücksverzeichnis'!G511=Texte!$A$27,F511,0)","v":0},{"$f":"IF('Anhang Grundstücksverzeichnis'!G511=Texte!$A$28,F511,0)","v":0}]
[502,{"$f":"IF(C512<>\"\",IF(ISNA(VLOOKUP(C512,Katastralgemeinden!$A$2:$B$3041,2,FALSE)),\"Ungültige KG-Nummer!\",VLOOKUP(C512,Katastralgemeinden!A$2:$B$3041,2,\"falsch\")),\"\")","v":""},null,null,null,null,null,null,null,null,"",0,{"$f":"IF('Anhang Grundstücksverzeichnis'!G512=Texte!$A$25,F512,0)","v":0},{"$f":"IF('Anhang Grundstücksverzeichnis'!G512=Texte!$A$26,F512,0)","v":0},{"$f":"IF('Anhang Grundstücksverzeichnis'!G512=Texte!$A$27,F512,0)","v":0},{"$f":"IF('Anhang Grundstücksverzeichnis'!G512=Texte!$A$28,F512,0)","v":0}]
[503,{"$f":"IF(C513<>\"\",IF(ISNA(VLOOKUP(C513,Katastralgemeinden!$A$2:$B$3041,2,FALSE)),\"Ungültige KG-Nummer!\",VLOOKUP(C513,Katastralgemeinden!A$2:$B$3041,2,\"falsch\")),\"\")","v":""},null,null,null,null,null,null,null,null,"",0,{"$f":"IF('Anhang Grundstücksverzeichnis'!G513=Texte!$A$25,F513,0)","v":0},{"$f":"IF('Anhang Grundstücksverzeichnis'!G513=Texte!$A$26,F513,0)","v":0},{"$f":"IF('Anhang Grundstücksverzeichnis'!G513=Texte!$A$27,F513,0)","v":0},{"$f":"IF('Anhang Grundstücksverzeichnis'!G513=Texte!$A$28,F513,0)","v":0}]
[504,{"$f":"IF(C514<>\"\",IF(ISNA(VLOOKUP(C514,Katastralgemeinden!$A$2:$B$3041,2,FALSE)),\"Ungültige KG-Nummer!\",VLOOKUP(C514,Katastralgemeinden!A$2:$B$3041,2,\"falsch\")),\"\")","v":""},null,null,null,null,null,null,null,null,"",0,{"$f":"IF('Anhang Grundstücksverzeichnis'!G514=Texte!$A$25,F514,0)","v":0},{"$f":"IF('Anhang Grundstücksverzeichnis'!G514=Texte!$A$26,F514,0)","v":0},{"$f":"IF('Anhang Grundstücksverzeichnis'!G514=Texte!$A$27,F514,0)","v":0},{"$f":"IF('Anhang Grundstücksverzeichnis'!G514=Texte!$A$28,F514,0)","v":0}]
[505,{"$f":"IF(C515<>\"\",IF(ISNA(VLOOKUP(C515,Katastralgemeinden!$A$2:$B$3041,2,FALSE)),\"Ungültige KG-Nummer!\",VLOOKUP(C515,Katastralgemeinden!A$2:$B$3041,2,\"falsch\")),\"\")","v":""},null,null,null,null,null,null,null,null,"",0,{"$f":"IF('Anhang Grundstücksverzeichnis'!G515=Texte!$A$25,F515,0)","v":0},{"$f":"IF('Anhang Grundstücksverzeichnis'!G515=Texte!$A$26,F515,0)","v":0},{"$f":"IF('Anhang Grundstücksverzeichnis'!G515=Texte!$A$27,F515,0)","v":0},{"$f":"IF('Anhang Grundstücksverzeichnis'!G515=Texte!$A$28,F515,0)","v":0}]
[506,{"$f":"IF(C516<>\"\",IF(ISNA(VLOOKUP(C516,Katastralgemeinden!$A$2:$B$3041,2,FALSE)),\"Ungültige KG-Nummer!\",VLOOKUP(C516,Katastralgemeinden!A$2:$B$3041,2,\"falsch\")),\"\")","v":""},null,null,null,null,null,null,null,null,"",0,{"$f":"IF('Anhang Grundstücksverzeichnis'!G516=Texte!$A$25,F516,0)","v":0},{"$f":"IF('Anhang Grundstücksverzeichnis'!G516=Texte!$A$26,F516,0)","v":0},{"$f":"IF('Anhang Grundstücksverzeichnis'!G516=Texte!$A$27,F516,0)","v":0},{"$f":"IF('Anhang Grundstücksverzeichnis'!G516=Texte!$A$28,F516,0)","v":0}]
[507,{"$f":"IF(C517<>\"\",IF(ISNA(VLOOKUP(C517,Katastralgemeinden!$A$2:$B$3041,2,FALSE)),\"Ungültige KG-Nummer!\",VLOOKUP(C517,Katastralgemeinden!A$2:$B$3041,2,\"falsch\")),\"\")","v":""},null,null,null,null,null,null,null,null,"",0,{"$f":"IF('Anhang Grundstücksverzeichnis'!G517=Texte!$A$25,F517,0)","v":0},{"$f":"IF('Anhang Grundstücksverzeichnis'!G517=Texte!$A$26,F517,0)","v":0},{"$f":"IF('Anhang Grundstücksverzeichnis'!G517=Texte!$A$27,F517,0)","v":0},{"$f":"IF('Anhang Grundstücksverzeichnis'!G517=Texte!$A$28,F517,0)","v":0}]
[508,{"$f":"IF(C518<>\"\",IF(ISNA(VLOOKUP(C518,Katastralgemeinden!$A$2:$B$3041,2,FALSE)),\"Ungültige KG-Nummer!\",VLOOKUP(C518,Katastralgemeinden!A$2:$B$3041,2,\"falsch\")),\"\")","v":""},null,null,null,null,null,null,null,null,"",0,{"$f":"IF('Anhang Grundstücksverzeichnis'!G518=Texte!$A$25,F518,0)","v":0},{"$f":"IF('Anhang Grundstücksverzeichnis'!G518=Texte!$A$26,F518,0)","v":0},{"$f":"IF('Anhang Grundstücksverzeichnis'!G518=Texte!$A$27,F518,0)","v":0},{"$f":"IF('Anhang Grundstücksverzeichnis'!G518=Texte!$A$28,F518,0)","v":0}]
[509,{"$f":"IF(C519<>\"\",IF(ISNA(VLOOKUP(C519,Katastralgemeinden!$A$2:$B$3041,2,FALSE)),\"Ungültige KG-Nummer!\",VLOOKUP(C519,Katastralgemeinden!A$2:$B$3041,2,\"falsch\")),\"\")","v":""},null,null,null,null,null,null,null,null,"",0,{"$f":"IF('Anhang Grundstücksverzeichnis'!G519=Texte!$A$25,F519,0)","v":0},{"$f":"IF('Anhang Grundstücksverzeichnis'!G519=Texte!$A$26,F519,0)","v":0},{"$f":"IF('Anhang Grundstücksverzeichnis'!G519=Texte!$A$27,F519,0)","v":0},{"$f":"IF('Anhang Grundstücksverzeichnis'!G519=Texte!$A$28,F519,0)","v":0}]
[510,{"$f":"IF(C520<>\"\",IF(ISNA(VLOOKUP(C520,Katastralgemeinden!$A$2:$B$3041,2,FALSE)),\"Ungültige KG-Nummer!\",VLOOKUP(C520,Katastralgemeinden!A$2:$B$3041,2,\"falsch\")),\"\")","v":""},null,null,null,null,null,null,null,null,"",0,{"$f":"IF('Anhang Grundstücksverzeichnis'!G520=Texte!$A$25,F520,0)","v":0},{"$f":"IF('Anhang Grundstücksverzeichnis'!G520=Texte!$A$26,F520,0)","v":0},{"$f":"IF('Anhang Grundstücksverzeichnis'!G520=Texte!$A$27,F520,0)","v":0},{"$f":"IF('Anhang Grundstücksverzeichnis'!G520=Texte!$A$28,F520,0)","v":0}]
[511,{"$f":"IF(C521<>\"\",IF(ISNA(VLOOKUP(C521,Katastralgemeinden!$A$2:$B$3041,2,FALSE)),\"Ungültige KG-Nummer!\",VLOOKUP(C521,Katastralgemeinden!A$2:$B$3041,2,\"falsch\")),\"\")","v":""},null,null,null,null,null,null,null,null,"",0,{"$f":"IF('Anhang Grundstücksverzeichnis'!G521=Texte!$A$25,F521,0)","v":0},{"$f":"IF('Anhang Grundstücksverzeichnis'!G521=Texte!$A$26,F521,0)","v":0},{"$f":"IF('Anhang Grundstücksverzeichnis'!G521=Texte!$A$27,F521,0)","v":0},{"$f":"IF('Anhang Grundstücksverzeichnis'!G521=Texte!$A$28,F521,0)","v":0}]
[512,{"$f":"IF(C522<>\"\",IF(ISNA(VLOOKUP(C522,Katastralgemeinden!$A$2:$B$3041,2,FALSE)),\"Ungültige KG-Nummer!\",VLOOKUP(C522,Katastralgemeinden!A$2:$B$3041,2,\"falsch\")),\"\")","v":""},null,null,null,null,null,null,null,null,"",0,{"$f":"IF('Anhang Grundstücksverzeichnis'!G522=Texte!$A$25,F522,0)","v":0},{"$f":"IF('Anhang Grundstücksverzeichnis'!G522=Texte!$A$26,F522,0)","v":0},{"$f":"IF('Anhang Grundstücksverzeichnis'!G522=Texte!$A$27,F522,0)","v":0},{"$f":"IF('Anhang Grundstücksverzeichnis'!G522=Texte!$A$28,F522,0)","v":0}]
[513,{"$f":"IF(C523<>\"\",IF(ISNA(VLOOKUP(C523,Katastralgemeinden!$A$2:$B$3041,2,FALSE)),\"Ungültige KG-Nummer!\",VLOOKUP(C523,Katastralgemeinden!A$2:$B$3041,2,\"falsch\")),\"\")","v":""},null,null,null,null,null,null,null,null,"",0,{"$f":"IF('Anhang Grundstücksverzeichnis'!G523=Texte!$A$25,F523,0)","v":0},{"$f":"IF('Anhang Grundstücksverzeichnis'!G523=Texte!$A$26,F523,0)","v":0},{"$f":"IF('Anhang Grundstücksverzeichnis'!G523=Texte!$A$27,F523,0)","v":0},{"$f":"IF('Anhang Grundstücksverzeichnis'!G523=Texte!$A$28,F523,0)","v":0}]
[514,{"$f":"IF(C524<>\"\",IF(ISNA(VLOOKUP(C524,Katastralgemeinden!$A$2:$B$3041,2,FALSE)),\"Ungültige KG-Nummer!\",VLOOKUP(C524,Katastralgemeinden!A$2:$B$3041,2,\"falsch\")),\"\")","v":""},null,null,null,null,null,null,null,null,{"$f":"IF(G524<>\"\",IF(G524=\"Eigengrundfläche\",0,IF(G524=\"Vorpachtfläche\",1,IF(G524=\"Abrundung +\",3,IF(G524=\"Abrundung -\",4,5)))),\"\")","v":""},{"$f":"IF(OR(LOWER(H524)=\"x\",LOWER(H524)=\"j\"),1,0)","v":0},{"$f":"IF('Anhang Grundstücksverzeichnis'!G524=Texte!$A$25,F524,0)","v":0},{"$f":"IF('Anhang Grundstücksverzeichnis'!G524=Texte!$A$26,F524,0)","v":0},{"$f":"IF('Anhang Grundstücksverzeichnis'!G524=Texte!$A$27,F524,0)","v":0},{"$f":"IF('Anhang Grundstücksverzeichnis'!G524=Texte!$A$28,F524,0)","v":0}]
[515,{"$f":"IF(C525<>\"\",IF(ISNA(VLOOKUP(C525,Katastralgemeinden!$A$2:$B$3041,2,FALSE)),\"Ungültige KG-Nummer!\",VLOOKUP(C525,Katastralgemeinden!A$2:$B$3041,2,\"falsch\")),\"\")","v":""},null,null,null,null,null,null,null,null,"",0,{"$f":"IF('Anhang Grundstücksverzeichnis'!G525=Texte!$A$25,F525,0)","v":0},{"$f":"IF('Anhang Grundstücksverzeichnis'!G525=Texte!$A$26,F525,0)","v":0},{"$f":"IF('Anhang Grundstücksverzeichnis'!G525=Texte!$A$27,F525,0)","v":0},{"$f":"IF('Anhang Grundstücksverzeichnis'!G525=Texte!$A$28,F525,0)","v":0}]
[516,{"$f":"IF(C526<>\"\",IF(ISNA(VLOOKUP(C526,Katastralgemeinden!$A$2:$B$3041,2,FALSE)),\"Ungültige KG-Nummer!\",VLOOKUP(C526,Katastralgemeinden!A$2:$B$3041,2,\"falsch\")),\"\")","v":""},null,null,null,null,null,null,null,null,"",0,{"$f":"IF('Anhang Grundstücksverzeichnis'!G526=Texte!$A$25,F526,0)","v":0},{"$f":"IF('Anhang Grundstücksverzeichnis'!G526=Texte!$A$26,F526,0)","v":0},{"$f":"IF('Anhang Grundstücksverzeichnis'!G526=Texte!$A$27,F526,0)","v":0},{"$f":"IF('Anhang Grundstücksverzeichnis'!G526=Texte!$A$28,F526,0)","v":0}]
[517,{"$f":"IF(C527<>\"\",IF(ISNA(VLOOKUP(C527,Katastralgemeinden!$A$2:$B$3041,2,FALSE)),\"Ungültige KG-Nummer!\",VLOOKUP(C527,Katastralgemeinden!A$2:$B$3041,2,\"falsch\")),\"\")","v":""},null,null,null,null,null,null,null,null,"",0,{"$f":"IF('Anhang Grundstücksverzeichnis'!G527=Texte!$A$25,F527,0)","v":0},{"$f":"IF('Anhang Grundstücksverzeichnis'!G527=Texte!$A$26,F527,0)","v":0},{"$f":"IF('Anhang Grundstücksverzeichnis'!G527=Texte!$A$27,F527,0)","v":0},{"$f":"IF('Anhang Grundstücksverzeichnis'!G527=Texte!$A$28,F527,0)","v":0}]
[518,{"$f":"IF(C528<>\"\",IF(ISNA(VLOOKUP(C528,Katastralgemeinden!$A$2:$B$3041,2,FALSE)),\"Ungültige KG-Nummer!\",VLOOKUP(C528,Katastralgemeinden!A$2:$B$3041,2,\"falsch\")),\"\")","v":""},null,null,null,null,null,null,null,null,"",0,{"$f":"IF('Anhang Grundstücksverzeichnis'!G528=Texte!$A$25,F528,0)","v":0},{"$f":"IF('Anhang Grundstücksverzeichnis'!G528=Texte!$A$26,F528,0)","v":0},{"$f":"IF('Anhang Grundstücksverzeichnis'!G528=Texte!$A$27,F528,0)","v":0},{"$f":"IF('Anhang Grundstücksverzeichnis'!G528=Texte!$A$28,F528,0)","v":0}]
[519,{"$f":"IF(C529<>\"\",IF(ISNA(VLOOKUP(C529,Katastralgemeinden!$A$2:$B$3041,2,FALSE)),\"Ungültige KG-Nummer!\",VLOOKUP(C529,Katastralgemeinden!A$2:$B$3041,2,\"falsch\")),\"\")","v":""},null,null,null,null,null,null,null,null,"",0,{"$f":"IF('Anhang Grundstücksverzeichnis'!G529=Texte!$A$25,F529,0)","v":0},{"$f":"IF('Anhang Grundstücksverzeichnis'!G529=Texte!$A$26,F529,0)","v":0},{"$f":"IF('Anhang Grundstücksverzeichnis'!G529=Texte!$A$27,F529,0)","v":0},{"$f":"IF('Anhang Grundstücksverzeichnis'!G529=Texte!$A$28,F529,0)","v":0}]
[520,{"$f":"IF(C530<>\"\",IF(ISNA(VLOOKUP(C530,Katastralgemeinden!$A$2:$B$3041,2,FALSE)),\"Ungültige KG-Nummer!\",VLOOKUP(C530,Katastralgemeinden!A$2:$B$3041,2,\"falsch\")),\"\")","v":""},null,null,null,null,null,null,null,null,"",0,{"$f":"IF('Anhang Grundstücksverzeichnis'!G530=Texte!$A$25,F530,0)","v":0},{"$f":"IF('Anhang Grundstücksverzeichnis'!G530=Texte!$A$26,F530,0)","v":0},{"$f":"IF('Anhang Grundstücksverzeichnis'!G530=Texte!$A$27,F530,0)","v":0},{"$f":"IF('Anhang Grundstücksverzeichnis'!G530=Texte!$A$28,F530,0)","v":0}]
[521,{"$f":"IF(C531<>\"\",IF(ISNA(VLOOKUP(C531,Katastralgemeinden!$A$2:$B$3041,2,FALSE)),\"Ungültige KG-Nummer!\",VLOOKUP(C531,Katastralgemeinden!A$2:$B$3041,2,\"falsch\")),\"\")","v":""},null,null,null,null,null,null,null,null,"",0,{"$f":"IF('Anhang Grundstücksverzeichnis'!G531=Texte!$A$25,F531,0)","v":0},{"$f":"IF('Anhang Grundstücksverzeichnis'!G531=Texte!$A$26,F531,0)","v":0},{"$f":"IF('Anhang Grundstücksverzeichnis'!G531=Texte!$A$27,F531,0)","v":0},{"$f":"IF('Anhang Grundstücksverzeichnis'!G531=Texte!$A$28,F531,0)","v":0}]
[522,{"$f":"IF(C532<>\"\",IF(ISNA(VLOOKUP(C532,Katastralgemeinden!$A$2:$B$3041,2,FALSE)),\"Ungültige KG-Nummer!\",VLOOKUP(C532,Katastralgemeinden!A$2:$B$3041,2,\"falsch\")),\"\")","v":""},null,null,null,null,null,null,null,null,"",0,{"$f":"IF('Anhang Grundstücksverzeichnis'!G532=Texte!$A$25,F532,0)","v":0},{"$f":"IF('Anhang Grundstücksverzeichnis'!G532=Texte!$A$26,F532,0)","v":0},{"$f":"IF('Anhang Grundstücksverzeichnis'!G532=Texte!$A$27,F532,0)","v":0},{"$f":"IF('Anhang Grundstücksverzeichnis'!G532=Texte!$A$28,F532,0)","v":0}]
[523,{"$f":"IF(C533<>\"\",IF(ISNA(VLOOKUP(C533,Katastralgemeinden!$A$2:$B$3041,2,FALSE)),\"Ungültige KG-Nummer!\",VLOOKUP(C533,Katastralgemeinden!A$2:$B$3041,2,\"falsch\")),\"\")","v":""},null,null,null,null,null,null,null,null,"",0,{"$f":"IF('Anhang Grundstücksverzeichnis'!G533=Texte!$A$25,F533,0)","v":0},{"$f":"IF('Anhang Grundstücksverzeichnis'!G533=Texte!$A$26,F533,0)","v":0},{"$f":"IF('Anhang Grundstücksverzeichnis'!G533=Texte!$A$27,F533,0)","v":0},{"$f":"IF('Anhang Grundstücksverzeichnis'!G533=Texte!$A$28,F533,0)","v":0}]
[524,{"$f":"IF(C534<>\"\",IF(ISNA(VLOOKUP(C534,Katastralgemeinden!$A$2:$B$3041,2,FALSE)),\"Ungültige KG-Nummer!\",VLOOKUP(C534,Katastralgemeinden!A$2:$B$3041,2,\"falsch\")),\"\")","v":""},null,null,null,null,null,null,null,null,"",0,{"$f":"IF('Anhang Grundstücksverzeichnis'!G534=Texte!$A$25,F534,0)","v":0},{"$f":"IF('Anhang Grundstücksverzeichnis'!G534=Texte!$A$26,F534,0)","v":0},{"$f":"IF('Anhang Grundstücksverzeichnis'!G534=Texte!$A$27,F534,0)","v":0},{"$f":"IF('Anhang Grundstücksverzeichnis'!G534=Texte!$A$28,F534,0)","v":0}]
[525,{"$f":"IF(C535<>\"\",IF(ISNA(VLOOKUP(C535,Katastralgemeinden!$A$2:$B$3041,2,FALSE)),\"Ungültige KG-Nummer!\",VLOOKUP(C535,Katastralgemeinden!A$2:$B$3041,2,\"falsch\")),\"\")","v":""},null,null,null,null,null,null,null,null,"",0,{"$f":"IF('Anhang Grundstücksverzeichnis'!G535=Texte!$A$25,F535,0)","v":0},{"$f":"IF('Anhang Grundstücksverzeichnis'!G535=Texte!$A$26,F535,0)","v":0},{"$f":"IF('Anhang Grundstücksverzeichnis'!G535=Texte!$A$27,F535,0)","v":0},{"$f":"IF('Anhang Grundstücksverzeichnis'!G535=Texte!$A$28,F535,0)","v":0}]
[526,{"$f":"IF(C536<>\"\",IF(ISNA(VLOOKUP(C536,Katastralgemeinden!$A$2:$B$3041,2,FALSE)),\"Ungültige KG-Nummer!\",VLOOKUP(C536,Katastralgemeinden!A$2:$B$3041,2,\"falsch\")),\"\")","v":""},null,null,null,null,null,null,null,null,"",0,{"$f":"IF('Anhang Grundstücksverzeichnis'!G536=Texte!$A$25,F536,0)","v":0},{"$f":"IF('Anhang Grundstücksverzeichnis'!G536=Texte!$A$26,F536,0)","v":0},{"$f":"IF('Anhang Grundstücksverzeichnis'!G536=Texte!$A$27,F536,0)","v":0},{"$f":"IF('Anhang Grundstücksverzeichnis'!G536=Texte!$A$28,F536,0)","v":0}]
[527,{"$f":"IF(C537<>\"\",IF(ISNA(VLOOKUP(C537,Katastralgemeinden!$A$2:$B$3041,2,FALSE)),\"Ungültige KG-Nummer!\",VLOOKUP(C537,Katastralgemeinden!A$2:$B$3041,2,\"falsch\")),\"\")","v":""},null,null,null,null,null,null,null,null,"",0,{"$f":"IF('Anhang Grundstücksverzeichnis'!G537=Texte!$A$25,F537,0)","v":0},{"$f":"IF('Anhang Grundstücksverzeichnis'!G537=Texte!$A$26,F537,0)","v":0},{"$f":"IF('Anhang Grundstücksverzeichnis'!G537=Texte!$A$27,F537,0)","v":0},{"$f":"IF('Anhang Grundstücksverzeichnis'!G537=Texte!$A$28,F537,0)","v":0}]
[528,{"$f":"IF(C538<>\"\",IF(ISNA(VLOOKUP(C538,Katastralgemeinden!$A$2:$B$3041,2,FALSE)),\"Ungültige KG-Nummer!\",VLOOKUP(C538,Katastralgemeinden!A$2:$B$3041,2,\"falsch\")),\"\")","v":""},null,null,null,null,null,null,null,null,"",0,{"$f":"IF('Anhang Grundstücksverzeichnis'!G538=Texte!$A$25,F538,0)","v":0},{"$f":"IF('Anhang Grundstücksverzeichnis'!G538=Texte!$A$26,F538,0)","v":0},{"$f":"IF('Anhang Grundstücksverzeichnis'!G538=Texte!$A$27,F538,0)","v":0},{"$f":"IF('Anhang Grundstücksverzeichnis'!G538=Texte!$A$28,F538,0)","v":0}]
[529,{"$f":"IF(C539<>\"\",IF(ISNA(VLOOKUP(C539,Katastralgemeinden!$A$2:$B$3041,2,FALSE)),\"Ungültige KG-Nummer!\",VLOOKUP(C539,Katastralgemeinden!A$2:$B$3041,2,\"falsch\")),\"\")","v":""},null,null,null,null,null,null,null,null,"",0,{"$f":"IF('Anhang Grundstücksverzeichnis'!G539=Texte!$A$25,F539,0)","v":0},{"$f":"IF('Anhang Grundstücksverzeichnis'!G539=Texte!$A$26,F539,0)","v":0},{"$f":"IF('Anhang Grundstücksverzeichnis'!G539=Texte!$A$27,F539,0)","v":0},{"$f":"IF('Anhang Grundstücksverzeichnis'!G539=Texte!$A$28,F539,0)","v":0}]
[530,{"$f":"IF(C540<>\"\",IF(ISNA(VLOOKUP(C540,Katastralgemeinden!$A$2:$B$3041,2,FALSE)),\"Ungültige KG-Nummer!\",VLOOKUP(C540,Katastralgemeinden!A$2:$B$3041,2,\"falsch\")),\"\")","v":""},null,null,null,null,null,null,null,null,"",0,{"$f":"IF('Anhang Grundstücksverzeichnis'!G540=Texte!$A$25,F540,0)","v":0},{"$f":"IF('Anhang Grundstücksverzeichnis'!G540=Texte!$A$26,F540,0)","v":0},{"$f":"IF('Anhang Grundstücksverzeichnis'!G540=Texte!$A$27,F540,0)","v":0},{"$f":"IF('Anhang Grundstücksverzeichnis'!G540=Texte!$A$28,F540,0)","v":0}]
[531,{"$f":"IF(C541<>\"\",IF(ISNA(VLOOKUP(C541,Katastralgemeinden!$A$2:$B$3041,2,FALSE)),\"Ungültige KG-Nummer!\",VLOOKUP(C541,Katastralgemeinden!A$2:$B$3041,2,\"falsch\")),\"\")","v":""},null,null,null,null,null,null,null,null,"",0,{"$f":"IF('Anhang Grundstücksverzeichnis'!G541=Texte!$A$25,F541,0)","v":0},{"$f":"IF('Anhang Grundstücksverzeichnis'!G541=Texte!$A$26,F541,0)","v":0},{"$f":"IF('Anhang Grundstücksverzeichnis'!G541=Texte!$A$27,F541,0)","v":0},{"$f":"IF('Anhang Grundstücksverzeichnis'!G541=Texte!$A$28,F541,0)","v":0}]
[532,{"$f":"IF(C542<>\"\",IF(ISNA(VLOOKUP(C542,Katastralgemeinden!$A$2:$B$3041,2,FALSE)),\"Ungültige KG-Nummer!\",VLOOKUP(C542,Katastralgemeinden!A$2:$B$3041,2,\"falsch\")),\"\")","v":""},null,null,null,null,null,null,null,null,"",0,{"$f":"IF('Anhang Grundstücksverzeichnis'!G542=Texte!$A$25,F542,0)","v":0},{"$f":"IF('Anhang Grundstücksverzeichnis'!G542=Texte!$A$26,F542,0)","v":0},{"$f":"IF('Anhang Grundstücksverzeichnis'!G542=Texte!$A$27,F542,0)","v":0},{"$f":"IF('Anhang Grundstücksverzeichnis'!G542=Texte!$A$28,F542,0)","v":0}]
[533,{"$f":"IF(C543<>\"\",IF(ISNA(VLOOKUP(C543,Katastralgemeinden!$A$2:$B$3041,2,FALSE)),\"Ungültige KG-Nummer!\",VLOOKUP(C543,Katastralgemeinden!A$2:$B$3041,2,\"falsch\")),\"\")","v":""},null,null,null,null,null,null,null,null,"",0,{"$f":"IF('Anhang Grundstücksverzeichnis'!G543=Texte!$A$25,F543,0)","v":0},{"$f":"IF('Anhang Grundstücksverzeichnis'!G543=Texte!$A$26,F543,0)","v":0},{"$f":"IF('Anhang Grundstücksverzeichnis'!G543=Texte!$A$27,F543,0)","v":0},{"$f":"IF('Anhang Grundstücksverzeichnis'!G543=Texte!$A$28,F543,0)","v":0}]
[534,{"$f":"IF(C544<>\"\",IF(ISNA(VLOOKUP(C544,Katastralgemeinden!$A$2:$B$3041,2,FALSE)),\"Ungültige KG-Nummer!\",VLOOKUP(C544,Katastralgemeinden!A$2:$B$3041,2,\"falsch\")),\"\")","v":""},null,null,null,null,null,null,null,null,"",0,{"$f":"IF('Anhang Grundstücksverzeichnis'!G544=Texte!$A$25,F544,0)","v":0},{"$f":"IF('Anhang Grundstücksverzeichnis'!G544=Texte!$A$26,F544,0)","v":0},{"$f":"IF('Anhang Grundstücksverzeichnis'!G544=Texte!$A$27,F544,0)","v":0},{"$f":"IF('Anhang Grundstücksverzeichnis'!G544=Texte!$A$28,F544,0)","v":0}]
[535,{"$f":"IF(C545<>\"\",IF(ISNA(VLOOKUP(C545,Katastralgemeinden!$A$2:$B$3041,2,FALSE)),\"Ungültige KG-Nummer!\",VLOOKUP(C545,Katastralgemeinden!A$2:$B$3041,2,\"falsch\")),\"\")","v":""},null,null,null,null,null,null,null,null,"",0,{"$f":"IF('Anhang Grundstücksverzeichnis'!G545=Texte!$A$25,F545,0)","v":0},{"$f":"IF('Anhang Grundstücksverzeichnis'!G545=Texte!$A$26,F545,0)","v":0},{"$f":"IF('Anhang Grundstücksverzeichnis'!G545=Texte!$A$27,F545,0)","v":0},{"$f":"IF('Anhang Grundstücksverzeichnis'!G545=Texte!$A$28,F545,0)","v":0}]
[536,{"$f":"IF(C546<>\"\",IF(ISNA(VLOOKUP(C546,Katastralgemeinden!$A$2:$B$3041,2,FALSE)),\"Ungültige KG-Nummer!\",VLOOKUP(C546,Katastralgemeinden!A$2:$B$3041,2,\"falsch\")),\"\")","v":""},null,null,null,null,null,null,null,null,"",0,{"$f":"IF('Anhang Grundstücksverzeichnis'!G546=Texte!$A$25,F546,0)","v":0},{"$f":"IF('Anhang Grundstücksverzeichnis'!G546=Texte!$A$26,F546,0)","v":0},{"$f":"IF('Anhang Grundstücksverzeichnis'!G546=Texte!$A$27,F546,0)","v":0},{"$f":"IF('Anhang Grundstücksverzeichnis'!G546=Texte!$A$28,F546,0)","v":0}]
[537,{"$f":"IF(C547<>\"\",IF(ISNA(VLOOKUP(C547,Katastralgemeinden!$A$2:$B$3041,2,FALSE)),\"Ungültige KG-Nummer!\",VLOOKUP(C547,Katastralgemeinden!A$2:$B$3041,2,\"falsch\")),\"\")","v":""},null,null,null,null,null,null,null,null,"",0,{"$f":"IF('Anhang Grundstücksverzeichnis'!G547=Texte!$A$25,F547,0)","v":0},{"$f":"IF('Anhang Grundstücksverzeichnis'!G547=Texte!$A$26,F547,0)","v":0},{"$f":"IF('Anhang Grundstücksverzeichnis'!G547=Texte!$A$27,F547,0)","v":0},{"$f":"IF('Anhang Grundstücksverzeichnis'!G547=Texte!$A$28,F547,0)","v":0}]
[538,{"$f":"IF(C548<>\"\",IF(ISNA(VLOOKUP(C548,Katastralgemeinden!$A$2:$B$3041,2,FALSE)),\"Ungültige KG-Nummer!\",VLOOKUP(C548,Katastralgemeinden!A$2:$B$3041,2,\"falsch\")),\"\")","v":""},null,null,null,null,null,null,null,null,"",0,{"$f":"IF('Anhang Grundstücksverzeichnis'!G548=Texte!$A$25,F548,0)","v":0},{"$f":"IF('Anhang Grundstücksverzeichnis'!G548=Texte!$A$26,F548,0)","v":0},{"$f":"IF('Anhang Grundstücksverzeichnis'!G548=Texte!$A$27,F548,0)","v":0},{"$f":"IF('Anhang Grundstücksverzeichnis'!G548=Texte!$A$28,F548,0)","v":0}]
[539,{"$f":"IF(C549<>\"\",IF(ISNA(VLOOKUP(C549,Katastralgemeinden!$A$2:$B$3041,2,FALSE)),\"Ungültige KG-Nummer!\",VLOOKUP(C549,Katastralgemeinden!A$2:$B$3041,2,\"falsch\")),\"\")","v":""},null,null,null,null,null,null,null,null,"",0,{"$f":"IF('Anhang Grundstücksverzeichnis'!G549=Texte!$A$25,F549,0)","v":0},{"$f":"IF('Anhang Grundstücksverzeichnis'!G549=Texte!$A$26,F549,0)","v":0},{"$f":"IF('Anhang Grundstücksverzeichnis'!G549=Texte!$A$27,F549,0)","v":0},{"$f":"IF('Anhang Grundstücksverzeichnis'!G549=Texte!$A$28,F549,0)","v":0}]
[540,{"$f":"IF(C550<>\"\",IF(ISNA(VLOOKUP(C550,Katastralgemeinden!$A$2:$B$3041,2,FALSE)),\"Ungültige KG-Nummer!\",VLOOKUP(C550,Katastralgemeinden!A$2:$B$3041,2,\"falsch\")),\"\")","v":""},null,null,null,null,null,null,null,null,"",0,{"$f":"IF('Anhang Grundstücksverzeichnis'!G550=Texte!$A$25,F550,0)","v":0},{"$f":"IF('Anhang Grundstücksverzeichnis'!G550=Texte!$A$26,F550,0)","v":0},{"$f":"IF('Anhang Grundstücksverzeichnis'!G550=Texte!$A$27,F550,0)","v":0},{"$f":"IF('Anhang Grundstücksverzeichnis'!G550=Texte!$A$28,F550,0)","v":0}]
[541,{"$f":"IF(C551<>\"\",IF(ISNA(VLOOKUP(C551,Katastralgemeinden!$A$2:$B$3041,2,FALSE)),\"Ungültige KG-Nummer!\",VLOOKUP(C551,Katastralgemeinden!A$2:$B$3041,2,\"falsch\")),\"\")","v":""},null,null,null,null,null,null,null,null,"",0,{"$f":"IF('Anhang Grundstücksverzeichnis'!G551=Texte!$A$25,F551,0)","v":0},{"$f":"IF('Anhang Grundstücksverzeichnis'!G551=Texte!$A$26,F551,0)","v":0},{"$f":"IF('Anhang Grundstücksverzeichnis'!G551=Texte!$A$27,F551,0)","v":0},{"$f":"IF('Anhang Grundstücksverzeichnis'!G551=Texte!$A$28,F551,0)","v":0}]
[542,{"$f":"IF(C552<>\"\",IF(ISNA(VLOOKUP(C552,Katastralgemeinden!$A$2:$B$3041,2,FALSE)),\"Ungültige KG-Nummer!\",VLOOKUP(C552,Katastralgemeinden!A$2:$B$3041,2,\"falsch\")),\"\")","v":""},null,null,null,null,null,null,null,null,"",0,{"$f":"IF('Anhang Grundstücksverzeichnis'!G552=Texte!$A$25,F552,0)","v":0},{"$f":"IF('Anhang Grundstücksverzeichnis'!G552=Texte!$A$26,F552,0)","v":0},{"$f":"IF('Anhang Grundstücksverzeichnis'!G552=Texte!$A$27,F552,0)","v":0},{"$f":"IF('Anhang Grundstücksverzeichnis'!G552=Texte!$A$28,F552,0)","v":0}]
[543,{"$f":"IF(C553<>\"\",IF(ISNA(VLOOKUP(C553,Katastralgemeinden!$A$2:$B$3041,2,FALSE)),\"Ungültige KG-Nummer!\",VLOOKUP(C553,Katastralgemeinden!A$2:$B$3041,2,\"falsch\")),\"\")","v":""},null,null,null,null,null,null,null,null,"",0,{"$f":"IF('Anhang Grundstücksverzeichnis'!G553=Texte!$A$25,F553,0)","v":0},{"$f":"IF('Anhang Grundstücksverzeichnis'!G553=Texte!$A$26,F553,0)","v":0},{"$f":"IF('Anhang Grundstücksverzeichnis'!G553=Texte!$A$27,F553,0)","v":0},{"$f":"IF('Anhang Grundstücksverzeichnis'!G553=Texte!$A$28,F553,0)","v":0}]
[544,{"$f":"IF(C554<>\"\",IF(ISNA(VLOOKUP(C554,Katastralgemeinden!$A$2:$B$3041,2,FALSE)),\"Ungültige KG-Nummer!\",VLOOKUP(C554,Katastralgemeinden!A$2:$B$3041,2,\"falsch\")),\"\")","v":""},null,null,null,null,null,null,null,null,"",0,{"$f":"IF('Anhang Grundstücksverzeichnis'!G554=Texte!$A$25,F554,0)","v":0},{"$f":"IF('Anhang Grundstücksverzeichnis'!G554=Texte!$A$26,F554,0)","v":0},{"$f":"IF('Anhang Grundstücksverzeichnis'!G554=Texte!$A$27,F554,0)","v":0},{"$f":"IF('Anhang Grundstücksverzeichnis'!G554=Texte!$A$28,F554,0)","v":0}]
[545,{"$f":"IF(C555<>\"\",IF(ISNA(VLOOKUP(C555,Katastralgemeinden!$A$2:$B$3041,2,FALSE)),\"Ungültige KG-Nummer!\",VLOOKUP(C555,Katastralgemeinden!A$2:$B$3041,2,\"falsch\")),\"\")","v":""},null,null,null,null,null,null,null,null,"",0,{"$f":"IF('Anhang Grundstücksverzeichnis'!G555=Texte!$A$25,F555,0)","v":0},{"$f":"IF('Anhang Grundstücksverzeichnis'!G555=Texte!$A$26,F555,0)","v":0},{"$f":"IF('Anhang Grundstücksverzeichnis'!G555=Texte!$A$27,F555,0)","v":0},{"$f":"IF('Anhang Grundstücksverzeichnis'!G555=Texte!$A$28,F555,0)","v":0}]
[546,{"$f":"IF(C556<>\"\",IF(ISNA(VLOOKUP(C556,Katastralgemeinden!$A$2:$B$3041,2,FALSE)),\"Ungültige KG-Nummer!\",VLOOKUP(C556,Katastralgemeinden!A$2:$B$3041,2,\"falsch\")),\"\")","v":""},null,null,null,null,null,null,null,null,"",0,{"$f":"IF('Anhang Grundstücksverzeichnis'!G556=Texte!$A$25,F556,0)","v":0},{"$f":"IF('Anhang Grundstücksverzeichnis'!G556=Texte!$A$26,F556,0)","v":0},{"$f":"IF('Anhang Grundstücksverzeichnis'!G556=Texte!$A$27,F556,0)","v":0},{"$f":"IF('Anhang Grundstücksverzeichnis'!G556=Texte!$A$28,F556,0)","v":0}]
[547,{"$f":"IF(C557<>\"\",IF(ISNA(VLOOKUP(C557,Katastralgemeinden!$A$2:$B$3041,2,FALSE)),\"Ungültige KG-Nummer!\",VLOOKUP(C557,Katastralgemeinden!A$2:$B$3041,2,\"falsch\")),\"\")","v":""},null,null,null,null,null,null,null,null,"",0,{"$f":"IF('Anhang Grundstücksverzeichnis'!G557=Texte!$A$25,F557,0)","v":0},{"$f":"IF('Anhang Grundstücksverzeichnis'!G557=Texte!$A$26,F557,0)","v":0},{"$f":"IF('Anhang Grundstücksverzeichnis'!G557=Texte!$A$27,F557,0)","v":0},{"$f":"IF('Anhang Grundstücksverzeichnis'!G557=Texte!$A$28,F557,0)","v":0}]
[548,{"$f":"IF(C558<>\"\",IF(ISNA(VLOOKUP(C558,Katastralgemeinden!$A$2:$B$3041,2,FALSE)),\"Ungültige KG-Nummer!\",VLOOKUP(C558,Katastralgemeinden!A$2:$B$3041,2,\"falsch\")),\"\")","v":""},null,null,null,null,null,null,null,null,"",0,{"$f":"IF('Anhang Grundstücksverzeichnis'!G558=Texte!$A$25,F558,0)","v":0},{"$f":"IF('Anhang Grundstücksverzeichnis'!G558=Texte!$A$26,F558,0)","v":0},{"$f":"IF('Anhang Grundstücksverzeichnis'!G558=Texte!$A$27,F558,0)","v":0},{"$f":"IF('Anhang Grundstücksverzeichnis'!G558=Texte!$A$28,F558,0)","v":0}]
[549,{"$f":"IF(C559<>\"\",IF(ISNA(VLOOKUP(C559,Katastralgemeinden!$A$2:$B$3041,2,FALSE)),\"Ungültige KG-Nummer!\",VLOOKUP(C559,Katastralgemeinden!A$2:$B$3041,2,\"falsch\")),\"\")","v":""},null,null,null,null,null,null,null,null,"",0,{"$f":"IF('Anhang Grundstücksverzeichnis'!G559=Texte!$A$25,F559,0)","v":0},{"$f":"IF('Anhang Grundstücksverzeichnis'!G559=Texte!$A$26,F559,0)","v":0},{"$f":"IF('Anhang Grundstücksverzeichnis'!G559=Texte!$A$27,F559,0)","v":0},{"$f":"IF('Anhang Grundstücksverzeichnis'!G559=Texte!$A$28,F559,0)","v":0}]
[550,{"$f":"IF(C560<>\"\",IF(ISNA(VLOOKUP(C560,Katastralgemeinden!$A$2:$B$3041,2,FALSE)),\"Ungültige KG-Nummer!\",VLOOKUP(C560,Katastralgemeinden!A$2:$B$3041,2,\"falsch\")),\"\")","v":""},null,null,null,null,null,null,null,null,"",0,{"$f":"IF('Anhang Grundstücksverzeichnis'!G560=Texte!$A$25,F560,0)","v":0},{"$f":"IF('Anhang Grundstücksverzeichnis'!G560=Texte!$A$26,F560,0)","v":0},{"$f":"IF('Anhang Grundstücksverzeichnis'!G560=Texte!$A$27,F560,0)","v":0},{"$f":"IF('Anhang Grundstücksverzeichnis'!G560=Texte!$A$28,F560,0)","v":0}]
[551,{"$f":"IF(C561<>\"\",IF(ISNA(VLOOKUP(C561,Katastralgemeinden!$A$2:$B$3041,2,FALSE)),\"Ungültige KG-Nummer!\",VLOOKUP(C561,Katastralgemeinden!A$2:$B$3041,2,\"falsch\")),\"\")","v":""},null,null,null,null,null,null,null,null,"",0,{"$f":"IF('Anhang Grundstücksverzeichnis'!G561=Texte!$A$25,F561,0)","v":0},{"$f":"IF('Anhang Grundstücksverzeichnis'!G561=Texte!$A$26,F561,0)","v":0},{"$f":"IF('Anhang Grundstücksverzeichnis'!G561=Texte!$A$27,F561,0)","v":0},{"$f":"IF('Anhang Grundstücksverzeichnis'!G561=Texte!$A$28,F561,0)","v":0}]
[552,{"$f":"IF(C562<>\"\",IF(ISNA(VLOOKUP(C562,Katastralgemeinden!$A$2:$B$3041,2,FALSE)),\"Ungültige KG-Nummer!\",VLOOKUP(C562,Katastralgemeinden!A$2:$B$3041,2,\"falsch\")),\"\")","v":""},null,null,null,null,null,null,null,null,"",0,{"$f":"IF('Anhang Grundstücksverzeichnis'!G562=Texte!$A$25,F562,0)","v":0},{"$f":"IF('Anhang Grundstücksverzeichnis'!G562=Texte!$A$26,F562,0)","v":0},{"$f":"IF('Anhang Grundstücksverzeichnis'!G562=Texte!$A$27,F562,0)","v":0},{"$f":"IF('Anhang Grundstücksverzeichnis'!G562=Texte!$A$28,F562,0)","v":0}]
[553,{"$f":"IF(C563<>\"\",IF(ISNA(VLOOKUP(C563,Katastralgemeinden!$A$2:$B$3041,2,FALSE)),\"Ungültige KG-Nummer!\",VLOOKUP(C563,Katastralgemeinden!A$2:$B$3041,2,\"falsch\")),\"\")","v":""},null,null,null,null,null,null,null,null,"",0,{"$f":"IF('Anhang Grundstücksverzeichnis'!G563=Texte!$A$25,F563,0)","v":0},{"$f":"IF('Anhang Grundstücksverzeichnis'!G563=Texte!$A$26,F563,0)","v":0},{"$f":"IF('Anhang Grundstücksverzeichnis'!G563=Texte!$A$27,F563,0)","v":0},{"$f":"IF('Anhang Grundstücksverzeichnis'!G563=Texte!$A$28,F563,0)","v":0}]
[554,{"$f":"IF(C564<>\"\",IF(ISNA(VLOOKUP(C564,Katastralgemeinden!$A$2:$B$3041,2,FALSE)),\"Ungültige KG-Nummer!\",VLOOKUP(C564,Katastralgemeinden!A$2:$B$3041,2,\"falsch\")),\"\")","v":""},null,null,null,null,null,null,null,null,"",0,{"$f":"IF('Anhang Grundstücksverzeichnis'!G564=Texte!$A$25,F564,0)","v":0},{"$f":"IF('Anhang Grundstücksverzeichnis'!G564=Texte!$A$26,F564,0)","v":0},{"$f":"IF('Anhang Grundstücksverzeichnis'!G564=Texte!$A$27,F564,0)","v":0},{"$f":"IF('Anhang Grundstücksverzeichnis'!G564=Texte!$A$28,F564,0)","v":0}]
[555,{"$f":"IF(C565<>\"\",IF(ISNA(VLOOKUP(C565,Katastralgemeinden!$A$2:$B$3041,2,FALSE)),\"Ungültige KG-Nummer!\",VLOOKUP(C565,Katastralgemeinden!A$2:$B$3041,2,\"falsch\")),\"\")","v":""},null,null,null,null,null,null,null,null,"",0,{"$f":"IF('Anhang Grundstücksverzeichnis'!G565=Texte!$A$25,F565,0)","v":0},{"$f":"IF('Anhang Grundstücksverzeichnis'!G565=Texte!$A$26,F565,0)","v":0},{"$f":"IF('Anhang Grundstücksverzeichnis'!G565=Texte!$A$27,F565,0)","v":0},{"$f":"IF('Anhang Grundstücksverzeichnis'!G565=Texte!$A$28,F565,0)","v":0}]
[556,{"$f":"IF(C566<>\"\",IF(ISNA(VLOOKUP(C566,Katastralgemeinden!$A$2:$B$3041,2,FALSE)),\"Ungültige KG-Nummer!\",VLOOKUP(C566,Katastralgemeinden!A$2:$B$3041,2,\"falsch\")),\"\")","v":""},null,null,null,null,null,null,null,null,"",0,{"$f":"IF('Anhang Grundstücksverzeichnis'!G566=Texte!$A$25,F566,0)","v":0},{"$f":"IF('Anhang Grundstücksverzeichnis'!G566=Texte!$A$26,F566,0)","v":0},{"$f":"IF('Anhang Grundstücksverzeichnis'!G566=Texte!$A$27,F566,0)","v":0},{"$f":"IF('Anhang Grundstücksverzeichnis'!G566=Texte!$A$28,F566,0)","v":0}]
[557,{"$f":"IF(C567<>\"\",IF(ISNA(VLOOKUP(C567,Katastralgemeinden!$A$2:$B$3041,2,FALSE)),\"Ungültige KG-Nummer!\",VLOOKUP(C567,Katastralgemeinden!A$2:$B$3041,2,\"falsch\")),\"\")","v":""},null,null,null,null,null,null,null,null,"",0,{"$f":"IF('Anhang Grundstücksverzeichnis'!G567=Texte!$A$25,F567,0)","v":0},{"$f":"IF('Anhang Grundstücksverzeichnis'!G567=Texte!$A$26,F567,0)","v":0},{"$f":"IF('Anhang Grundstücksverzeichnis'!G567=Texte!$A$27,F567,0)","v":0},{"$f":"IF('Anhang Grundstücksverzeichnis'!G567=Texte!$A$28,F567,0)","v":0}]
[558,{"$f":"IF(C568<>\"\",IF(ISNA(VLOOKUP(C568,Katastralgemeinden!$A$2:$B$3041,2,FALSE)),\"Ungültige KG-Nummer!\",VLOOKUP(C568,Katastralgemeinden!A$2:$B$3041,2,\"falsch\")),\"\")","v":""},null,null,null,null,null,null,null,null,"",0,{"$f":"IF('Anhang Grundstücksverzeichnis'!G568=Texte!$A$25,F568,0)","v":0},{"$f":"IF('Anhang Grundstücksverzeichnis'!G568=Texte!$A$26,F568,0)","v":0},{"$f":"IF('Anhang Grundstücksverzeichnis'!G568=Texte!$A$27,F568,0)","v":0},{"$f":"IF('Anhang Grundstücksverzeichnis'!G568=Texte!$A$28,F568,0)","v":0}]
[559,{"$f":"IF(C569<>\"\",IF(ISNA(VLOOKUP(C569,Katastralgemeinden!$A$2:$B$3041,2,FALSE)),\"Ungültige KG-Nummer!\",VLOOKUP(C569,Katastralgemeinden!A$2:$B$3041,2,\"falsch\")),\"\")","v":""},null,null,null,null,null,null,null,null,"",0,{"$f":"IF('Anhang Grundstücksverzeichnis'!G569=Texte!$A$25,F569,0)","v":0},{"$f":"IF('Anhang Grundstücksverzeichnis'!G569=Texte!$A$26,F569,0)","v":0},{"$f":"IF('Anhang Grundstücksverzeichnis'!G569=Texte!$A$27,F569,0)","v":0},{"$f":"IF('Anhang Grundstücksverzeichnis'!G569=Texte!$A$28,F569,0)","v":0}]
[560,{"$f":"IF(C570<>\"\",IF(ISNA(VLOOKUP(C570,Katastralgemeinden!$A$2:$B$3041,2,FALSE)),\"Ungültige KG-Nummer!\",VLOOKUP(C570,Katastralgemeinden!A$2:$B$3041,2,\"falsch\")),\"\")","v":""},null,null,null,null,null,null,null,null,"",0,{"$f":"IF('Anhang Grundstücksverzeichnis'!G570=Texte!$A$25,F570,0)","v":0},{"$f":"IF('Anhang Grundstücksverzeichnis'!G570=Texte!$A$26,F570,0)","v":0},{"$f":"IF('Anhang Grundstücksverzeichnis'!G570=Texte!$A$27,F570,0)","v":0},{"$f":"IF('Anhang Grundstücksverzeichnis'!G570=Texte!$A$28,F570,0)","v":0}]
[561,{"$f":"IF(C571<>\"\",IF(ISNA(VLOOKUP(C571,Katastralgemeinden!$A$2:$B$3041,2,FALSE)),\"Ungültige KG-Nummer!\",VLOOKUP(C571,Katastralgemeinden!A$2:$B$3041,2,\"falsch\")),\"\")","v":""},null,null,null,null,null,null,null,null,"",0,{"$f":"IF('Anhang Grundstücksverzeichnis'!G571=Texte!$A$25,F571,0)","v":0},{"$f":"IF('Anhang Grundstücksverzeichnis'!G571=Texte!$A$26,F571,0)","v":0},{"$f":"IF('Anhang Grundstücksverzeichnis'!G571=Texte!$A$27,F571,0)","v":0},{"$f":"IF('Anhang Grundstücksverzeichnis'!G571=Texte!$A$28,F571,0)","v":0}]
[562,{"$f":"IF(C572<>\"\",IF(ISNA(VLOOKUP(C572,Katastralgemeinden!$A$2:$B$3041,2,FALSE)),\"Ungültige KG-Nummer!\",VLOOKUP(C572,Katastralgemeinden!A$2:$B$3041,2,\"falsch\")),\"\")","v":""},null,null,null,null,null,null,null,null,"",0,{"$f":"IF('Anhang Grundstücksverzeichnis'!G572=Texte!$A$25,F572,0)","v":0},{"$f":"IF('Anhang Grundstücksverzeichnis'!G572=Texte!$A$26,F572,0)","v":0},{"$f":"IF('Anhang Grundstücksverzeichnis'!G572=Texte!$A$27,F572,0)","v":0},{"$f":"IF('Anhang Grundstücksverzeichnis'!G572=Texte!$A$28,F572,0)","v":0}]
[563,{"$f":"IF(C573<>\"\",IF(ISNA(VLOOKUP(C573,Katastralgemeinden!$A$2:$B$3041,2,FALSE)),\"Ungültige KG-Nummer!\",VLOOKUP(C573,Katastralgemeinden!A$2:$B$3041,2,\"falsch\")),\"\")","v":""},null,null,null,null,null,null,null,null,"",0,{"$f":"IF('Anhang Grundstücksverzeichnis'!G573=Texte!$A$25,F573,0)","v":0},{"$f":"IF('Anhang Grundstücksverzeichnis'!G573=Texte!$A$26,F573,0)","v":0},{"$f":"IF('Anhang Grundstücksverzeichnis'!G573=Texte!$A$27,F573,0)","v":0},{"$f":"IF('Anhang Grundstücksverzeichnis'!G573=Texte!$A$28,F573,0)","v":0}]
[564,{"$f":"IF(C574<>\"\",IF(ISNA(VLOOKUP(C574,Katastralgemeinden!$A$2:$B$3041,2,FALSE)),\"Ungültige KG-Nummer!\",VLOOKUP(C574,Katastralgemeinden!A$2:$B$3041,2,\"falsch\")),\"\")","v":""},null,null,null,null,null,null,null,null,"",0,{"$f":"IF('Anhang Grundstücksverzeichnis'!G574=Texte!$A$25,F574,0)","v":0},{"$f":"IF('Anhang Grundstücksverzeichnis'!G574=Texte!$A$26,F574,0)","v":0},{"$f":"IF('Anhang Grundstücksverzeichnis'!G574=Texte!$A$27,F574,0)","v":0},{"$f":"IF('Anhang Grundstücksverzeichnis'!G574=Texte!$A$28,F574,0)","v":0}]
[565,{"$f":"IF(C575<>\"\",IF(ISNA(VLOOKUP(C575,Katastralgemeinden!$A$2:$B$3041,2,FALSE)),\"Ungültige KG-Nummer!\",VLOOKUP(C575,Katastralgemeinden!A$2:$B$3041,2,\"falsch\")),\"\")","v":""},null,null,null,null,null,null,null,null,"",0,{"$f":"IF('Anhang Grundstücksverzeichnis'!G575=Texte!$A$25,F575,0)","v":0},{"$f":"IF('Anhang Grundstücksverzeichnis'!G575=Texte!$A$26,F575,0)","v":0},{"$f":"IF('Anhang Grundstücksverzeichnis'!G575=Texte!$A$27,F575,0)","v":0},{"$f":"IF('Anhang Grundstücksverzeichnis'!G575=Texte!$A$28,F575,0)","v":0}]
[566,{"$f":"IF(C576<>\"\",IF(ISNA(VLOOKUP(C576,Katastralgemeinden!$A$2:$B$3041,2,FALSE)),\"Ungültige KG-Nummer!\",VLOOKUP(C576,Katastralgemeinden!A$2:$B$3041,2,\"falsch\")),\"\")","v":""},null,null,null,null,null,null,null,null,"",0,{"$f":"IF('Anhang Grundstücksverzeichnis'!G576=Texte!$A$25,F576,0)","v":0},{"$f":"IF('Anhang Grundstücksverzeichnis'!G576=Texte!$A$26,F576,0)","v":0},{"$f":"IF('Anhang Grundstücksverzeichnis'!G576=Texte!$A$27,F576,0)","v":0},{"$f":"IF('Anhang Grundstücksverzeichnis'!G576=Texte!$A$28,F576,0)","v":0}]
[567,{"$f":"IF(C577<>\"\",IF(ISNA(VLOOKUP(C577,Katastralgemeinden!$A$2:$B$3041,2,FALSE)),\"Ungültige KG-Nummer!\",VLOOKUP(C577,Katastralgemeinden!A$2:$B$3041,2,\"falsch\")),\"\")","v":""},null,null,null,null,null,null,null,null,"",0,{"$f":"IF('Anhang Grundstücksverzeichnis'!G577=Texte!$A$25,F577,0)","v":0},{"$f":"IF('Anhang Grundstücksverzeichnis'!G577=Texte!$A$26,F577,0)","v":0},{"$f":"IF('Anhang Grundstücksverzeichnis'!G577=Texte!$A$27,F577,0)","v":0},{"$f":"IF('Anhang Grundstücksverzeichnis'!G577=Texte!$A$28,F577,0)","v":0}]
[568,{"$f":"IF(C578<>\"\",IF(ISNA(VLOOKUP(C578,Katastralgemeinden!$A$2:$B$3041,2,FALSE)),\"Ungültige KG-Nummer!\",VLOOKUP(C578,Katastralgemeinden!A$2:$B$3041,2,\"falsch\")),\"\")","v":""},null,null,null,null,null,null,null,null,"",0,{"$f":"IF('Anhang Grundstücksverzeichnis'!G578=Texte!$A$25,F578,0)","v":0},{"$f":"IF('Anhang Grundstücksverzeichnis'!G578=Texte!$A$26,F578,0)","v":0},{"$f":"IF('Anhang Grundstücksverzeichnis'!G578=Texte!$A$27,F578,0)","v":0},{"$f":"IF('Anhang Grundstücksverzeichnis'!G578=Texte!$A$28,F578,0)","v":0}]
[569,{"$f":"IF(C579<>\"\",IF(ISNA(VLOOKUP(C579,Katastralgemeinden!$A$2:$B$3041,2,FALSE)),\"Ungültige KG-Nummer!\",VLOOKUP(C579,Katastralgemeinden!A$2:$B$3041,2,\"falsch\")),\"\")","v":""},null,null,null,null,null,null,null,null,"",0,{"$f":"IF('Anhang Grundstücksverzeichnis'!G579=Texte!$A$25,F579,0)","v":0},{"$f":"IF('Anhang Grundstücksverzeichnis'!G579=Texte!$A$26,F579,0)","v":0},{"$f":"IF('Anhang Grundstücksverzeichnis'!G579=Texte!$A$27,F579,0)","v":0},{"$f":"IF('Anhang Grundstücksverzeichnis'!G579=Texte!$A$28,F579,0)","v":0}]
[570,{"$f":"IF(C580<>\"\",IF(ISNA(VLOOKUP(C580,Katastralgemeinden!$A$2:$B$3041,2,FALSE)),\"Ungültige KG-Nummer!\",VLOOKUP(C580,Katastralgemeinden!A$2:$B$3041,2,\"falsch\")),\"\")","v":""},null,null,null,null,null,null,null,null,"",0,{"$f":"IF('Anhang Grundstücksverzeichnis'!G580=Texte!$A$25,F580,0)","v":0},{"$f":"IF('Anhang Grundstücksverzeichnis'!G580=Texte!$A$26,F580,0)","v":0},{"$f":"IF('Anhang Grundstücksverzeichnis'!G580=Texte!$A$27,F580,0)","v":0},{"$f":"IF('Anhang Grundstücksverzeichnis'!G580=Texte!$A$28,F580,0)","v":0}]
[571,{"$f":"IF(C581<>\"\",IF(ISNA(VLOOKUP(C581,Katastralgemeinden!$A$2:$B$3041,2,FALSE)),\"Ungültige KG-Nummer!\",VLOOKUP(C581,Katastralgemeinden!A$2:$B$3041,2,\"falsch\")),\"\")","v":""},null,null,null,null,null,null,null,null,"",0,{"$f":"IF('Anhang Grundstücksverzeichnis'!G581=Texte!$A$25,F581,0)","v":0},{"$f":"IF('Anhang Grundstücksverzeichnis'!G581=Texte!$A$26,F581,0)","v":0},{"$f":"IF('Anhang Grundstücksverzeichnis'!G581=Texte!$A$27,F581,0)","v":0},{"$f":"IF('Anhang Grundstücksverzeichnis'!G581=Texte!$A$28,F581,0)","v":0}]
[572,{"$f":"IF(C582<>\"\",IF(ISNA(VLOOKUP(C582,Katastralgemeinden!$A$2:$B$3041,2,FALSE)),\"Ungültige KG-Nummer!\",VLOOKUP(C582,Katastralgemeinden!A$2:$B$3041,2,\"falsch\")),\"\")","v":""},null,null,null,null,null,null,null,null,"",0,{"$f":"IF('Anhang Grundstücksverzeichnis'!G582=Texte!$A$25,F582,0)","v":0},{"$f":"IF('Anhang Grundstücksverzeichnis'!G582=Texte!$A$26,F582,0)","v":0},{"$f":"IF('Anhang Grundstücksverzeichnis'!G582=Texte!$A$27,F582,0)","v":0},{"$f":"IF('Anhang Grundstücksverzeichnis'!G582=Texte!$A$28,F582,0)","v":0}]
[573,{"$f":"IF(C583<>\"\",IF(ISNA(VLOOKUP(C583,Katastralgemeinden!$A$2:$B$3041,2,FALSE)),\"Ungültige KG-Nummer!\",VLOOKUP(C583,Katastralgemeinden!A$2:$B$3041,2,\"falsch\")),\"\")","v":""},null,null,null,null,null,null,null,null,"",0,{"$f":"IF('Anhang Grundstücksverzeichnis'!G583=Texte!$A$25,F583,0)","v":0},{"$f":"IF('Anhang Grundstücksverzeichnis'!G583=Texte!$A$26,F583,0)","v":0},{"$f":"IF('Anhang Grundstücksverzeichnis'!G583=Texte!$A$27,F583,0)","v":0},{"$f":"IF('Anhang Grundstücksverzeichnis'!G583=Texte!$A$28,F583,0)","v":0}]
[574,{"$f":"IF(C584<>\"\",IF(ISNA(VLOOKUP(C584,Katastralgemeinden!$A$2:$B$3041,2,FALSE)),\"Ungültige KG-Nummer!\",VLOOKUP(C584,Katastralgemeinden!A$2:$B$3041,2,\"falsch\")),\"\")","v":""},null,null,null,null,null,null,null,null,"",0,{"$f":"IF('Anhang Grundstücksverzeichnis'!G584=Texte!$A$25,F584,0)","v":0},{"$f":"IF('Anhang Grundstücksverzeichnis'!G584=Texte!$A$26,F584,0)","v":0},{"$f":"IF('Anhang Grundstücksverzeichnis'!G584=Texte!$A$27,F584,0)","v":0},{"$f":"IF('Anhang Grundstücksverzeichnis'!G584=Texte!$A$28,F584,0)","v":0}]
[575,{"$f":"IF(C585<>\"\",IF(ISNA(VLOOKUP(C585,Katastralgemeinden!$A$2:$B$3041,2,FALSE)),\"Ungültige KG-Nummer!\",VLOOKUP(C585,Katastralgemeinden!A$2:$B$3041,2,\"falsch\")),\"\")","v":""},null,null,null,null,null,null,null,null,"",0,{"$f":"IF('Anhang Grundstücksverzeichnis'!G585=Texte!$A$25,F585,0)","v":0},{"$f":"IF('Anhang Grundstücksverzeichnis'!G585=Texte!$A$26,F585,0)","v":0},{"$f":"IF('Anhang Grundstücksverzeichnis'!G585=Texte!$A$27,F585,0)","v":0},{"$f":"IF('Anhang Grundstücksverzeichnis'!G585=Texte!$A$28,F585,0)","v":0}]
[576,{"$f":"IF(C586<>\"\",IF(ISNA(VLOOKUP(C586,Katastralgemeinden!$A$2:$B$3041,2,FALSE)),\"Ungültige KG-Nummer!\",VLOOKUP(C586,Katastralgemeinden!A$2:$B$3041,2,\"falsch\")),\"\")","v":""},null,null,null,null,null,null,null,null,"",0,{"$f":"IF('Anhang Grundstücksverzeichnis'!G586=Texte!$A$25,F586,0)","v":0},{"$f":"IF('Anhang Grundstücksverzeichnis'!G586=Texte!$A$26,F586,0)","v":0},{"$f":"IF('Anhang Grundstücksverzeichnis'!G586=Texte!$A$27,F586,0)","v":0},{"$f":"IF('Anhang Grundstücksverzeichnis'!G586=Texte!$A$28,F586,0)","v":0}]
[577,{"$f":"IF(C587<>\"\",IF(ISNA(VLOOKUP(C587,Katastralgemeinden!$A$2:$B$3041,2,FALSE)),\"Ungültige KG-Nummer!\",VLOOKUP(C587,Katastralgemeinden!A$2:$B$3041,2,\"falsch\")),\"\")","v":""},null,null,null,null,null,null,null,null,"",0,{"$f":"IF('Anhang Grundstücksverzeichnis'!G587=Texte!$A$25,F587,0)","v":0},{"$f":"IF('Anhang Grundstücksverzeichnis'!G587=Texte!$A$26,F587,0)","v":0},{"$f":"IF('Anhang Grundstücksverzeichnis'!G587=Texte!$A$27,F587,0)","v":0},{"$f":"IF('Anhang Grundstücksverzeichnis'!G587=Texte!$A$28,F587,0)","v":0}]
[578,{"$f":"IF(C588<>\"\",IF(ISNA(VLOOKUP(C588,Katastralgemeinden!$A$2:$B$3041,2,FALSE)),\"Ungültige KG-Nummer!\",VLOOKUP(C588,Katastralgemeinden!A$2:$B$3041,2,\"falsch\")),\"\")","v":""},null,null,null,null,null,null,null,null,{"$f":"IF(G588<>\"\",IF(G588=\"Eigengrundfläche\",0,IF(G588=\"Vorpachtfläche\",1,IF(G588=\"Abrundung +\",3,IF(G588=\"Abrundung -\",4,5)))),\"\")","v":""},{"$f":"IF(OR(LOWER(H588)=\"x\",LOWER(H588)=\"j\"),1,0)","v":0},{"$f":"IF('Anhang Grundstücksverzeichnis'!G588=Texte!$A$25,F588,0)","v":0},{"$f":"IF('Anhang Grundstücksverzeichnis'!G588=Texte!$A$26,F588,0)","v":0},{"$f":"IF('Anhang Grundstücksverzeichnis'!G588=Texte!$A$27,F588,0)","v":0},{"$f":"IF('Anhang Grundstücksverzeichnis'!G588=Texte!$A$28,F588,0)","v":0}]
[579,{"$f":"IF(C589<>\"\",IF(ISNA(VLOOKUP(C589,Katastralgemeinden!$A$2:$B$3041,2,FALSE)),\"Ungültige KG-Nummer!\",VLOOKUP(C589,Katastralgemeinden!A$2:$B$3041,2,\"falsch\")),\"\")","v":""},null,null,null,null,null,null,null,null,"",0,{"$f":"IF('Anhang Grundstücksverzeichnis'!G589=Texte!$A$25,F589,0)","v":0},{"$f":"IF('Anhang Grundstücksverzeichnis'!G589=Texte!$A$26,F589,0)","v":0},{"$f":"IF('Anhang Grundstücksverzeichnis'!G589=Texte!$A$27,F589,0)","v":0},{"$f":"IF('Anhang Grundstücksverzeichnis'!G589=Texte!$A$28,F589,0)","v":0}]
[580,{"$f":"IF(C590<>\"\",IF(ISNA(VLOOKUP(C590,Katastralgemeinden!$A$2:$B$3041,2,FALSE)),\"Ungültige KG-Nummer!\",VLOOKUP(C590,Katastralgemeinden!A$2:$B$3041,2,\"falsch\")),\"\")","v":""},null,null,null,null,null,null,null,null,"",0,{"$f":"IF('Anhang Grundstücksverzeichnis'!G590=Texte!$A$25,F590,0)","v":0},{"$f":"IF('Anhang Grundstücksverzeichnis'!G590=Texte!$A$26,F590,0)","v":0},{"$f":"IF('Anhang Grundstücksverzeichnis'!G590=Texte!$A$27,F590,0)","v":0},{"$f":"IF('Anhang Grundstücksverzeichnis'!G590=Texte!$A$28,F590,0)","v":0}]
[581,{"$f":"IF(C591<>\"\",IF(ISNA(VLOOKUP(C591,Katastralgemeinden!$A$2:$B$3041,2,FALSE)),\"Ungültige KG-Nummer!\",VLOOKUP(C591,Katastralgemeinden!A$2:$B$3041,2,\"falsch\")),\"\")","v":""},null,null,null,null,null,null,null,null,"",0,{"$f":"IF('Anhang Grundstücksverzeichnis'!G591=Texte!$A$25,F591,0)","v":0},{"$f":"IF('Anhang Grundstücksverzeichnis'!G591=Texte!$A$26,F591,0)","v":0},{"$f":"IF('Anhang Grundstücksverzeichnis'!G591=Texte!$A$27,F591,0)","v":0},{"$f":"IF('Anhang Grundstücksverzeichnis'!G591=Texte!$A$28,F591,0)","v":0}]
[582,{"$f":"IF(C592<>\"\",IF(ISNA(VLOOKUP(C592,Katastralgemeinden!$A$2:$B$3041,2,FALSE)),\"Ungültige KG-Nummer!\",VLOOKUP(C592,Katastralgemeinden!A$2:$B$3041,2,\"falsch\")),\"\")","v":""},null,null,null,null,null,null,null,null,"",0,{"$f":"IF('Anhang Grundstücksverzeichnis'!G592=Texte!$A$25,F592,0)","v":0},{"$f":"IF('Anhang Grundstücksverzeichnis'!G592=Texte!$A$26,F592,0)","v":0},{"$f":"IF('Anhang Grundstücksverzeichnis'!G592=Texte!$A$27,F592,0)","v":0},{"$f":"IF('Anhang Grundstücksverzeichnis'!G592=Texte!$A$28,F592,0)","v":0}]
[583,{"$f":"IF(C593<>\"\",IF(ISNA(VLOOKUP(C593,Katastralgemeinden!$A$2:$B$3041,2,FALSE)),\"Ungültige KG-Nummer!\",VLOOKUP(C593,Katastralgemeinden!A$2:$B$3041,2,\"falsch\")),\"\")","v":""},null,null,null,null,null,null,null,null,"",0,{"$f":"IF('Anhang Grundstücksverzeichnis'!G593=Texte!$A$25,F593,0)","v":0},{"$f":"IF('Anhang Grundstücksverzeichnis'!G593=Texte!$A$26,F593,0)","v":0},{"$f":"IF('Anhang Grundstücksverzeichnis'!G593=Texte!$A$27,F593,0)","v":0},{"$f":"IF('Anhang Grundstücksverzeichnis'!G593=Texte!$A$28,F593,0)","v":0}]
[584,{"$f":"IF(C594<>\"\",IF(ISNA(VLOOKUP(C594,Katastralgemeinden!$A$2:$B$3041,2,FALSE)),\"Ungültige KG-Nummer!\",VLOOKUP(C594,Katastralgemeinden!A$2:$B$3041,2,\"falsch\")),\"\")","v":""},null,null,null,null,null,null,null,null,"",0,{"$f":"IF('Anhang Grundstücksverzeichnis'!G594=Texte!$A$25,F594,0)","v":0},{"$f":"IF('Anhang Grundstücksverzeichnis'!G594=Texte!$A$26,F594,0)","v":0},{"$f":"IF('Anhang Grundstücksverzeichnis'!G594=Texte!$A$27,F594,0)","v":0},{"$f":"IF('Anhang Grundstücksverzeichnis'!G594=Texte!$A$28,F594,0)","v":0}]
[585,{"$f":"IF(C595<>\"\",IF(ISNA(VLOOKUP(C595,Katastralgemeinden!$A$2:$B$3041,2,FALSE)),\"Ungültige KG-Nummer!\",VLOOKUP(C595,Katastralgemeinden!A$2:$B$3041,2,\"falsch\")),\"\")","v":""},null,null,null,null,null,null,null,null,"",0,{"$f":"IF('Anhang Grundstücksverzeichnis'!G595=Texte!$A$25,F595,0)","v":0},{"$f":"IF('Anhang Grundstücksverzeichnis'!G595=Texte!$A$26,F595,0)","v":0},{"$f":"IF('Anhang Grundstücksverzeichnis'!G595=Texte!$A$27,F595,0)","v":0},{"$f":"IF('Anhang Grundstücksverzeichnis'!G595=Texte!$A$28,F595,0)","v":0}]
[586,{"$f":"IF(C596<>\"\",IF(ISNA(VLOOKUP(C596,Katastralgemeinden!$A$2:$B$3041,2,FALSE)),\"Ungültige KG-Nummer!\",VLOOKUP(C596,Katastralgemeinden!A$2:$B$3041,2,\"falsch\")),\"\")","v":""},null,null,null,null,null,null,null,null,"",0,{"$f":"IF('Anhang Grundstücksverzeichnis'!G596=Texte!$A$25,F596,0)","v":0},{"$f":"IF('Anhang Grundstücksverzeichnis'!G596=Texte!$A$26,F596,0)","v":0},{"$f":"IF('Anhang Grundstücksverzeichnis'!G596=Texte!$A$27,F596,0)","v":0},{"$f":"IF('Anhang Grundstücksverzeichnis'!G596=Texte!$A$28,F596,0)","v":0}]
[587,{"$f":"IF(C597<>\"\",IF(ISNA(VLOOKUP(C597,Katastralgemeinden!$A$2:$B$3041,2,FALSE)),\"Ungültige KG-Nummer!\",VLOOKUP(C597,Katastralgemeinden!A$2:$B$3041,2,\"falsch\")),\"\")","v":""},null,null,null,null,null,null,null,null,"",0,{"$f":"IF('Anhang Grundstücksverzeichnis'!G597=Texte!$A$25,F597,0)","v":0},{"$f":"IF('Anhang Grundstücksverzeichnis'!G597=Texte!$A$26,F597,0)","v":0},{"$f":"IF('Anhang Grundstücksverzeichnis'!G597=Texte!$A$27,F597,0)","v":0},{"$f":"IF('Anhang Grundstücksverzeichnis'!G597=Texte!$A$28,F597,0)","v":0}]
[588,{"$f":"IF(C598<>\"\",IF(ISNA(VLOOKUP(C598,Katastralgemeinden!$A$2:$B$3041,2,FALSE)),\"Ungültige KG-Nummer!\",VLOOKUP(C598,Katastralgemeinden!A$2:$B$3041,2,\"falsch\")),\"\")","v":""},null,null,null,null,null,null,null,null,"",0,{"$f":"IF('Anhang Grundstücksverzeichnis'!G598=Texte!$A$25,F598,0)","v":0},{"$f":"IF('Anhang Grundstücksverzeichnis'!G598=Texte!$A$26,F598,0)","v":0},{"$f":"IF('Anhang Grundstücksverzeichnis'!G598=Texte!$A$27,F598,0)","v":0},{"$f":"IF('Anhang Grundstücksverzeichnis'!G598=Texte!$A$28,F598,0)","v":0}]
[589,{"$f":"IF(C599<>\"\",IF(ISNA(VLOOKUP(C599,Katastralgemeinden!$A$2:$B$3041,2,FALSE)),\"Ungültige KG-Nummer!\",VLOOKUP(C599,Katastralgemeinden!A$2:$B$3041,2,\"falsch\")),\"\")","v":""},null,null,null,null,null,null,null,null,"",0,{"$f":"IF('Anhang Grundstücksverzeichnis'!G599=Texte!$A$25,F599,0)","v":0},{"$f":"IF('Anhang Grundstücksverzeichnis'!G599=Texte!$A$26,F599,0)","v":0},{"$f":"IF('Anhang Grundstücksverzeichnis'!G599=Texte!$A$27,F599,0)","v":0},{"$f":"IF('Anhang Grundstücksverzeichnis'!G599=Texte!$A$28,F599,0)","v":0}]
[590,{"$f":"IF(C600<>\"\",IF(ISNA(VLOOKUP(C600,Katastralgemeinden!$A$2:$B$3041,2,FALSE)),\"Ungültige KG-Nummer!\",VLOOKUP(C600,Katastralgemeinden!A$2:$B$3041,2,\"falsch\")),\"\")","v":""},null,null,null,null,null,null,null,null,"",0,{"$f":"IF('Anhang Grundstücksverzeichnis'!G600=Texte!$A$25,F600,0)","v":0},{"$f":"IF('Anhang Grundstücksverzeichnis'!G600=Texte!$A$26,F600,0)","v":0},{"$f":"IF('Anhang Grundstücksverzeichnis'!G600=Texte!$A$27,F600,0)","v":0},{"$f":"IF('Anhang Grundstücksverzeichnis'!G600=Texte!$A$28,F600,0)","v":0}]
[591,{"$f":"IF(C601<>\"\",IF(ISNA(VLOOKUP(C601,Katastralgemeinden!$A$2:$B$3041,2,FALSE)),\"Ungültige KG-Nummer!\",VLOOKUP(C601,Katastralgemeinden!A$2:$B$3041,2,\"falsch\")),\"\")","v":""},null,null,null,null,null,null,null,null,"",0,{"$f":"IF('Anhang Grundstücksverzeichnis'!G601=Texte!$A$25,F601,0)","v":0},{"$f":"IF('Anhang Grundstücksverzeichnis'!G601=Texte!$A$26,F601,0)","v":0},{"$f":"IF('Anhang Grundstücksverzeichnis'!G601=Texte!$A$27,F601,0)","v":0},{"$f":"IF('Anhang Grundstücksverzeichnis'!G601=Texte!$A$28,F601,0)","v":0}]
[592,{"$f":"IF(C602<>\"\",IF(ISNA(VLOOKUP(C602,Katastralgemeinden!$A$2:$B$3041,2,FALSE)),\"Ungültige KG-Nummer!\",VLOOKUP(C602,Katastralgemeinden!A$2:$B$3041,2,\"falsch\")),\"\")","v":""},null,null,null,null,null,null,null,null,"",0,{"$f":"IF('Anhang Grundstücksverzeichnis'!G602=Texte!$A$25,F602,0)","v":0},{"$f":"IF('Anhang Grundstücksverzeichnis'!G602=Texte!$A$26,F602,0)","v":0},{"$f":"IF('Anhang Grundstücksverzeichnis'!G602=Texte!$A$27,F602,0)","v":0},{"$f":"IF('Anhang Grundstücksverzeichnis'!G602=Texte!$A$28,F602,0)","v":0}]
[593,{"$f":"IF(C603<>\"\",IF(ISNA(VLOOKUP(C603,Katastralgemeinden!$A$2:$B$3041,2,FALSE)),\"Ungültige KG-Nummer!\",VLOOKUP(C603,Katastralgemeinden!A$2:$B$3041,2,\"falsch\")),\"\")","v":""},null,null,null,null,null,null,null,null,"",0,{"$f":"IF('Anhang Grundstücksverzeichnis'!G603=Texte!$A$25,F603,0)","v":0},{"$f":"IF('Anhang Grundstücksverzeichnis'!G603=Texte!$A$26,F603,0)","v":0},{"$f":"IF('Anhang Grundstücksverzeichnis'!G603=Texte!$A$27,F603,0)","v":0},{"$f":"IF('Anhang Grundstücksverzeichnis'!G603=Texte!$A$28,F603,0)","v":0}]
[594,{"$f":"IF(C604<>\"\",IF(ISNA(VLOOKUP(C604,Katastralgemeinden!$A$2:$B$3041,2,FALSE)),\"Ungültige KG-Nummer!\",VLOOKUP(C604,Katastralgemeinden!A$2:$B$3041,2,\"falsch\")),\"\")","v":""},null,null,null,null,null,null,null,null,"",0,{"$f":"IF('Anhang Grundstücksverzeichnis'!G604=Texte!$A$25,F604,0)","v":0},{"$f":"IF('Anhang Grundstücksverzeichnis'!G604=Texte!$A$26,F604,0)","v":0},{"$f":"IF('Anhang Grundstücksverzeichnis'!G604=Texte!$A$27,F604,0)","v":0},{"$f":"IF('Anhang Grundstücksverzeichnis'!G604=Texte!$A$28,F604,0)","v":0}]
[595,{"$f":"IF(C605<>\"\",IF(ISNA(VLOOKUP(C605,Katastralgemeinden!$A$2:$B$3041,2,FALSE)),\"Ungültige KG-Nummer!\",VLOOKUP(C605,Katastralgemeinden!A$2:$B$3041,2,\"falsch\")),\"\")","v":""},null,null,null,null,null,null,null,null,"",0,{"$f":"IF('Anhang Grundstücksverzeichnis'!G605=Texte!$A$25,F605,0)","v":0},{"$f":"IF('Anhang Grundstücksverzeichnis'!G605=Texte!$A$26,F605,0)","v":0},{"$f":"IF('Anhang Grundstücksverzeichnis'!G605=Texte!$A$27,F605,0)","v":0},{"$f":"IF('Anhang Grundstücksverzeichnis'!G605=Texte!$A$28,F605,0)","v":0}]
[596,{"$f":"IF(C606<>\"\",IF(ISNA(VLOOKUP(C606,Katastralgemeinden!$A$2:$B$3041,2,FALSE)),\"Ungültige KG-Nummer!\",VLOOKUP(C606,Katastralgemeinden!A$2:$B$3041,2,\"falsch\")),\"\")","v":""},null,null,null,null,null,null,null,null,"",0,{"$f":"IF('Anhang Grundstücksverzeichnis'!G606=Texte!$A$25,F606,0)","v":0},{"$f":"IF('Anhang Grundstücksverzeichnis'!G606=Texte!$A$26,F606,0)","v":0},{"$f":"IF('Anhang Grundstücksverzeichnis'!G606=Texte!$A$27,F606,0)","v":0},{"$f":"IF('Anhang Grundstücksverzeichnis'!G606=Texte!$A$28,F606,0)","v":0}]
[597,{"$f":"IF(C607<>\"\",IF(ISNA(VLOOKUP(C607,Katastralgemeinden!$A$2:$B$3041,2,FALSE)),\"Ungültige KG-Nummer!\",VLOOKUP(C607,Katastralgemeinden!A$2:$B$3041,2,\"falsch\")),\"\")","v":""},null,null,null,null,null,null,null,null,"",0,{"$f":"IF('Anhang Grundstücksverzeichnis'!G607=Texte!$A$25,F607,0)","v":0},{"$f":"IF('Anhang Grundstücksverzeichnis'!G607=Texte!$A$26,F607,0)","v":0},{"$f":"IF('Anhang Grundstücksverzeichnis'!G607=Texte!$A$27,F607,0)","v":0},{"$f":"IF('Anhang Grundstücksverzeichnis'!G607=Texte!$A$28,F607,0)","v":0}]
[598,{"$f":"IF(C608<>\"\",IF(ISNA(VLOOKUP(C608,Katastralgemeinden!$A$2:$B$3041,2,FALSE)),\"Ungültige KG-Nummer!\",VLOOKUP(C608,Katastralgemeinden!A$2:$B$3041,2,\"falsch\")),\"\")","v":""},null,null,null,null,null,null,null,null,"",0,{"$f":"IF('Anhang Grundstücksverzeichnis'!G608=Texte!$A$25,F608,0)","v":0},{"$f":"IF('Anhang Grundstücksverzeichnis'!G608=Texte!$A$26,F608,0)","v":0},{"$f":"IF('Anhang Grundstücksverzeichnis'!G608=Texte!$A$27,F608,0)","v":0},{"$f":"IF('Anhang Grundstücksverzeichnis'!G608=Texte!$A$28,F608,0)","v":0}]
[599,{"$f":"IF(C609<>\"\",IF(ISNA(VLOOKUP(C609,Katastralgemeinden!$A$2:$B$3041,2,FALSE)),\"Ungültige KG-Nummer!\",VLOOKUP(C609,Katastralgemeinden!A$2:$B$3041,2,\"falsch\")),\"\")","v":""},null,null,null,null,null,null,null,null,"",0,{"$f":"IF('Anhang Grundstücksverzeichnis'!G609=Texte!$A$25,F609,0)","v":0},{"$f":"IF('Anhang Grundstücksverzeichnis'!G609=Texte!$A$26,F609,0)","v":0},{"$f":"IF('Anhang Grundstücksverzeichnis'!G609=Texte!$A$27,F609,0)","v":0},{"$f":"IF('Anhang Grundstücksverzeichnis'!G609=Texte!$A$28,F609,0)","v":0}]
[600,{"$f":"IF(C610<>\"\",IF(ISNA(VLOOKUP(C610,Katastralgemeinden!$A$2:$B$3041,2,FALSE)),\"Ungültige KG-Nummer!\",VLOOKUP(C610,Katastralgemeinden!A$2:$B$3041,2,\"falsch\")),\"\")","v":""},null,null,null,null,null,null,null,null,"",0,{"$f":"IF('Anhang Grundstücksverzeichnis'!G610=Texte!$A$25,F610,0)","v":0},{"$f":"IF('Anhang Grundstücksverzeichnis'!G610=Texte!$A$26,F610,0)","v":0},{"$f":"IF('Anhang Grundstücksverzeichnis'!G610=Texte!$A$27,F610,0)","v":0},{"$f":"IF('Anhang Grundstücksverzeichnis'!G610=Texte!$A$28,F610,0)","v":0}]
[601,{"$f":"IF(C611<>\"\",IF(ISNA(VLOOKUP(C611,Katastralgemeinden!$A$2:$B$3041,2,FALSE)),\"Ungültige KG-Nummer!\",VLOOKUP(C611,Katastralgemeinden!A$2:$B$3041,2,\"falsch\")),\"\")","v":""},null,null,null,null,null,null,null,null,"",0,{"$f":"IF('Anhang Grundstücksverzeichnis'!G611=Texte!$A$25,F611,0)","v":0},{"$f":"IF('Anhang Grundstücksverzeichnis'!G611=Texte!$A$26,F611,0)","v":0},{"$f":"IF('Anhang Grundstücksverzeichnis'!G611=Texte!$A$27,F611,0)","v":0},{"$f":"IF('Anhang Grundstücksverzeichnis'!G611=Texte!$A$28,F611,0)","v":0}]
[602,{"$f":"IF(C612<>\"\",IF(ISNA(VLOOKUP(C612,Katastralgemeinden!$A$2:$B$3041,2,FALSE)),\"Ungültige KG-Nummer!\",VLOOKUP(C612,Katastralgemeinden!A$2:$B$3041,2,\"falsch\")),\"\")","v":""},null,null,null,null,null,null,null,null,"",0,{"$f":"IF('Anhang Grundstücksverzeichnis'!G612=Texte!$A$25,F612,0)","v":0},{"$f":"IF('Anhang Grundstücksverzeichnis'!G612=Texte!$A$26,F612,0)","v":0},{"$f":"IF('Anhang Grundstücksverzeichnis'!G612=Texte!$A$27,F612,0)","v":0},{"$f":"IF('Anhang Grundstücksverzeichnis'!G612=Texte!$A$28,F612,0)","v":0}]
[603,{"$f":"IF(C613<>\"\",IF(ISNA(VLOOKUP(C613,Katastralgemeinden!$A$2:$B$3041,2,FALSE)),\"Ungültige KG-Nummer!\",VLOOKUP(C613,Katastralgemeinden!A$2:$B$3041,2,\"falsch\")),\"\")","v":""},null,null,null,null,null,null,null,null,"",0,{"$f":"IF('Anhang Grundstücksverzeichnis'!G613=Texte!$A$25,F613,0)","v":0},{"$f":"IF('Anhang Grundstücksverzeichnis'!G613=Texte!$A$26,F613,0)","v":0},{"$f":"IF('Anhang Grundstücksverzeichnis'!G613=Texte!$A$27,F613,0)","v":0},{"$f":"IF('Anhang Grundstücksverzeichnis'!G613=Texte!$A$28,F613,0)","v":0}]
[604,{"$f":"IF(C614<>\"\",IF(ISNA(VLOOKUP(C614,Katastralgemeinden!$A$2:$B$3041,2,FALSE)),\"Ungültige KG-Nummer!\",VLOOKUP(C614,Katastralgemeinden!A$2:$B$3041,2,\"falsch\")),\"\")","v":""},null,null,null,null,null,null,null,null,"",0,{"$f":"IF('Anhang Grundstücksverzeichnis'!G614=Texte!$A$25,F614,0)","v":0},{"$f":"IF('Anhang Grundstücksverzeichnis'!G614=Texte!$A$26,F614,0)","v":0},{"$f":"IF('Anhang Grundstücksverzeichnis'!G614=Texte!$A$27,F614,0)","v":0},{"$f":"IF('Anhang Grundstücksverzeichnis'!G614=Texte!$A$28,F614,0)","v":0}]
[605,{"$f":"IF(C615<>\"\",IF(ISNA(VLOOKUP(C615,Katastralgemeinden!$A$2:$B$3041,2,FALSE)),\"Ungültige KG-Nummer!\",VLOOKUP(C615,Katastralgemeinden!A$2:$B$3041,2,\"falsch\")),\"\")","v":""},null,null,null,null,null,null,null,null,"",0,{"$f":"IF('Anhang Grundstücksverzeichnis'!G615=Texte!$A$25,F615,0)","v":0},{"$f":"IF('Anhang Grundstücksverzeichnis'!G615=Texte!$A$26,F615,0)","v":0},{"$f":"IF('Anhang Grundstücksverzeichnis'!G615=Texte!$A$27,F615,0)","v":0},{"$f":"IF('Anhang Grundstücksverzeichnis'!G615=Texte!$A$28,F615,0)","v":0}]
[606,{"$f":"IF(C616<>\"\",IF(ISNA(VLOOKUP(C616,Katastralgemeinden!$A$2:$B$3041,2,FALSE)),\"Ungültige KG-Nummer!\",VLOOKUP(C616,Katastralgemeinden!A$2:$B$3041,2,\"falsch\")),\"\")","v":""},null,null,null,null,null,null,null,null,"",0,{"$f":"IF('Anhang Grundstücksverzeichnis'!G616=Texte!$A$25,F616,0)","v":0},{"$f":"IF('Anhang Grundstücksverzeichnis'!G616=Texte!$A$26,F616,0)","v":0},{"$f":"IF('Anhang Grundstücksverzeichnis'!G616=Texte!$A$27,F616,0)","v":0},{"$f":"IF('Anhang Grundstücksverzeichnis'!G616=Texte!$A$28,F616,0)","v":0}]
[607,{"$f":"IF(C617<>\"\",IF(ISNA(VLOOKUP(C617,Katastralgemeinden!$A$2:$B$3041,2,FALSE)),\"Ungültige KG-Nummer!\",VLOOKUP(C617,Katastralgemeinden!A$2:$B$3041,2,\"falsch\")),\"\")","v":""},null,null,null,null,null,null,null,null,"",0,{"$f":"IF('Anhang Grundstücksverzeichnis'!G617=Texte!$A$25,F617,0)","v":0},{"$f":"IF('Anhang Grundstücksverzeichnis'!G617=Texte!$A$26,F617,0)","v":0},{"$f":"IF('Anhang Grundstücksverzeichnis'!G617=Texte!$A$27,F617,0)","v":0},{"$f":"IF('Anhang Grundstücksverzeichnis'!G617=Texte!$A$28,F617,0)","v":0}]
[608,{"$f":"IF(C618<>\"\",IF(ISNA(VLOOKUP(C618,Katastralgemeinden!$A$2:$B$3041,2,FALSE)),\"Ungültige KG-Nummer!\",VLOOKUP(C618,Katastralgemeinden!A$2:$B$3041,2,\"falsch\")),\"\")","v":""},null,null,null,null,null,null,null,null,"",0,{"$f":"IF('Anhang Grundstücksverzeichnis'!G618=Texte!$A$25,F618,0)","v":0},{"$f":"IF('Anhang Grundstücksverzeichnis'!G618=Texte!$A$26,F618,0)","v":0},{"$f":"IF('Anhang Grundstücksverzeichnis'!G618=Texte!$A$27,F618,0)","v":0},{"$f":"IF('Anhang Grundstücksverzeichnis'!G618=Texte!$A$28,F618,0)","v":0}]
[609,{"$f":"IF(C619<>\"\",IF(ISNA(VLOOKUP(C619,Katastralgemeinden!$A$2:$B$3041,2,FALSE)),\"Ungültige KG-Nummer!\",VLOOKUP(C619,Katastralgemeinden!A$2:$B$3041,2,\"falsch\")),\"\")","v":""},null,null,null,null,null,null,null,null,"",0,{"$f":"IF('Anhang Grundstücksverzeichnis'!G619=Texte!$A$25,F619,0)","v":0},{"$f":"IF('Anhang Grundstücksverzeichnis'!G619=Texte!$A$26,F619,0)","v":0},{"$f":"IF('Anhang Grundstücksverzeichnis'!G619=Texte!$A$27,F619,0)","v":0},{"$f":"IF('Anhang Grundstücksverzeichnis'!G619=Texte!$A$28,F619,0)","v":0}]
[610,{"$f":"IF(C620<>\"\",IF(ISNA(VLOOKUP(C620,Katastralgemeinden!$A$2:$B$3041,2,FALSE)),\"Ungültige KG-Nummer!\",VLOOKUP(C620,Katastralgemeinden!A$2:$B$3041,2,\"falsch\")),\"\")","v":""},null,null,null,null,null,null,null,null,"",0,{"$f":"IF('Anhang Grundstücksverzeichnis'!G620=Texte!$A$25,F620,0)","v":0},{"$f":"IF('Anhang Grundstücksverzeichnis'!G620=Texte!$A$26,F620,0)","v":0},{"$f":"IF('Anhang Grundstücksverzeichnis'!G620=Texte!$A$27,F620,0)","v":0},{"$f":"IF('Anhang Grundstücksverzeichnis'!G620=Texte!$A$28,F620,0)","v":0}]
[611,{"$f":"IF(C621<>\"\",IF(ISNA(VLOOKUP(C621,Katastralgemeinden!$A$2:$B$3041,2,FALSE)),\"Ungültige KG-Nummer!\",VLOOKUP(C621,Katastralgemeinden!A$2:$B$3041,2,\"falsch\")),\"\")","v":""},null,null,null,null,null,null,null,null,"",0,{"$f":"IF('Anhang Grundstücksverzeichnis'!G621=Texte!$A$25,F621,0)","v":0},{"$f":"IF('Anhang Grundstücksverzeichnis'!G621=Texte!$A$26,F621,0)","v":0},{"$f":"IF('Anhang Grundstücksverzeichnis'!G621=Texte!$A$27,F621,0)","v":0},{"$f":"IF('Anhang Grundstücksverzeichnis'!G621=Texte!$A$28,F621,0)","v":0}]
[612,{"$f":"IF(C622<>\"\",IF(ISNA(VLOOKUP(C622,Katastralgemeinden!$A$2:$B$3041,2,FALSE)),\"Ungültige KG-Nummer!\",VLOOKUP(C622,Katastralgemeinden!A$2:$B$3041,2,\"falsch\")),\"\")","v":""},null,null,null,null,null,null,null,null,"",0,{"$f":"IF('Anhang Grundstücksverzeichnis'!G622=Texte!$A$25,F622,0)","v":0},{"$f":"IF('Anhang Grundstücksverzeichnis'!G622=Texte!$A$26,F622,0)","v":0},{"$f":"IF('Anhang Grundstücksverzeichnis'!G622=Texte!$A$27,F622,0)","v":0},{"$f":"IF('Anhang Grundstücksverzeichnis'!G622=Texte!$A$28,F622,0)","v":0}]
[613,{"$f":"IF(C623<>\"\",IF(ISNA(VLOOKUP(C623,Katastralgemeinden!$A$2:$B$3041,2,FALSE)),\"Ungültige KG-Nummer!\",VLOOKUP(C623,Katastralgemeinden!A$2:$B$3041,2,\"falsch\")),\"\")","v":""},null,null,null,null,null,null,null,null,"",0,{"$f":"IF('Anhang Grundstücksverzeichnis'!G623=Texte!$A$25,F623,0)","v":0},{"$f":"IF('Anhang Grundstücksverzeichnis'!G623=Texte!$A$26,F623,0)","v":0},{"$f":"IF('Anhang Grundstücksverzeichnis'!G623=Texte!$A$27,F623,0)","v":0},{"$f":"IF('Anhang Grundstücksverzeichnis'!G623=Texte!$A$28,F623,0)","v":0}]
[614,{"$f":"IF(C624<>\"\",IF(ISNA(VLOOKUP(C624,Katastralgemeinden!$A$2:$B$3041,2,FALSE)),\"Ungültige KG-Nummer!\",VLOOKUP(C624,Katastralgemeinden!A$2:$B$3041,2,\"falsch\")),\"\")","v":""},null,null,null,null,null,null,null,null,"",0,{"$f":"IF('Anhang Grundstücksverzeichnis'!G624=Texte!$A$25,F624,0)","v":0},{"$f":"IF('Anhang Grundstücksverzeichnis'!G624=Texte!$A$26,F624,0)","v":0},{"$f":"IF('Anhang Grundstücksverzeichnis'!G624=Texte!$A$27,F624,0)","v":0},{"$f":"IF('Anhang Grundstücksverzeichnis'!G624=Texte!$A$28,F624,0)","v":0}]
[615,{"$f":"IF(C625<>\"\",IF(ISNA(VLOOKUP(C625,Katastralgemeinden!$A$2:$B$3041,2,FALSE)),\"Ungültige KG-Nummer!\",VLOOKUP(C625,Katastralgemeinden!A$2:$B$3041,2,\"falsch\")),\"\")","v":""},null,null,null,null,null,null,null,null,"",0,{"$f":"IF('Anhang Grundstücksverzeichnis'!G625=Texte!$A$25,F625,0)","v":0},{"$f":"IF('Anhang Grundstücksverzeichnis'!G625=Texte!$A$26,F625,0)","v":0},{"$f":"IF('Anhang Grundstücksverzeichnis'!G625=Texte!$A$27,F625,0)","v":0},{"$f":"IF('Anhang Grundstücksverzeichnis'!G625=Texte!$A$28,F625,0)","v":0}]
[616,{"$f":"IF(C626<>\"\",IF(ISNA(VLOOKUP(C626,Katastralgemeinden!$A$2:$B$3041,2,FALSE)),\"Ungültige KG-Nummer!\",VLOOKUP(C626,Katastralgemeinden!A$2:$B$3041,2,\"falsch\")),\"\")","v":""},null,null,null,null,null,null,null,null,"",0,{"$f":"IF('Anhang Grundstücksverzeichnis'!G626=Texte!$A$25,F626,0)","v":0},{"$f":"IF('Anhang Grundstücksverzeichnis'!G626=Texte!$A$26,F626,0)","v":0},{"$f":"IF('Anhang Grundstücksverzeichnis'!G626=Texte!$A$27,F626,0)","v":0},{"$f":"IF('Anhang Grundstücksverzeichnis'!G626=Texte!$A$28,F626,0)","v":0}]
[617,{"$f":"IF(C627<>\"\",IF(ISNA(VLOOKUP(C627,Katastralgemeinden!$A$2:$B$3041,2,FALSE)),\"Ungültige KG-Nummer!\",VLOOKUP(C627,Katastralgemeinden!A$2:$B$3041,2,\"falsch\")),\"\")","v":""},null,null,null,null,null,null,null,null,"",0,{"$f":"IF('Anhang Grundstücksverzeichnis'!G627=Texte!$A$25,F627,0)","v":0},{"$f":"IF('Anhang Grundstücksverzeichnis'!G627=Texte!$A$26,F627,0)","v":0},{"$f":"IF('Anhang Grundstücksverzeichnis'!G627=Texte!$A$27,F627,0)","v":0},{"$f":"IF('Anhang Grundstücksverzeichnis'!G627=Texte!$A$28,F627,0)","v":0}]
[618,{"$f":"IF(C628<>\"\",IF(ISNA(VLOOKUP(C628,Katastralgemeinden!$A$2:$B$3041,2,FALSE)),\"Ungültige KG-Nummer!\",VLOOKUP(C628,Katastralgemeinden!A$2:$B$3041,2,\"falsch\")),\"\")","v":""},null,null,null,null,null,null,null,null,"",0,{"$f":"IF('Anhang Grundstücksverzeichnis'!G628=Texte!$A$25,F628,0)","v":0},{"$f":"IF('Anhang Grundstücksverzeichnis'!G628=Texte!$A$26,F628,0)","v":0},{"$f":"IF('Anhang Grundstücksverzeichnis'!G628=Texte!$A$27,F628,0)","v":0},{"$f":"IF('Anhang Grundstücksverzeichnis'!G628=Texte!$A$28,F628,0)","v":0}]
[619,{"$f":"IF(C629<>\"\",IF(ISNA(VLOOKUP(C629,Katastralgemeinden!$A$2:$B$3041,2,FALSE)),\"Ungültige KG-Nummer!\",VLOOKUP(C629,Katastralgemeinden!A$2:$B$3041,2,\"falsch\")),\"\")","v":""},null,null,null,null,null,null,null,null,"",0,{"$f":"IF('Anhang Grundstücksverzeichnis'!G629=Texte!$A$25,F629,0)","v":0},{"$f":"IF('Anhang Grundstücksverzeichnis'!G629=Texte!$A$26,F629,0)","v":0},{"$f":"IF('Anhang Grundstücksverzeichnis'!G629=Texte!$A$27,F629,0)","v":0},{"$f":"IF('Anhang Grundstücksverzeichnis'!G629=Texte!$A$28,F629,0)","v":0}]
[620,{"$f":"IF(C630<>\"\",IF(ISNA(VLOOKUP(C630,Katastralgemeinden!$A$2:$B$3041,2,FALSE)),\"Ungültige KG-Nummer!\",VLOOKUP(C630,Katastralgemeinden!A$2:$B$3041,2,\"falsch\")),\"\")","v":""},null,null,null,null,null,null,null,null,"",0,{"$f":"IF('Anhang Grundstücksverzeichnis'!G630=Texte!$A$25,F630,0)","v":0},{"$f":"IF('Anhang Grundstücksverzeichnis'!G630=Texte!$A$26,F630,0)","v":0},{"$f":"IF('Anhang Grundstücksverzeichnis'!G630=Texte!$A$27,F630,0)","v":0},{"$f":"IF('Anhang Grundstücksverzeichnis'!G630=Texte!$A$28,F630,0)","v":0}]
[621,{"$f":"IF(C631<>\"\",IF(ISNA(VLOOKUP(C631,Katastralgemeinden!$A$2:$B$3041,2,FALSE)),\"Ungültige KG-Nummer!\",VLOOKUP(C631,Katastralgemeinden!A$2:$B$3041,2,\"falsch\")),\"\")","v":""},null,null,null,null,null,null,null,null,"",0,{"$f":"IF('Anhang Grundstücksverzeichnis'!G631=Texte!$A$25,F631,0)","v":0},{"$f":"IF('Anhang Grundstücksverzeichnis'!G631=Texte!$A$26,F631,0)","v":0},{"$f":"IF('Anhang Grundstücksverzeichnis'!G631=Texte!$A$27,F631,0)","v":0},{"$f":"IF('Anhang Grundstücksverzeichnis'!G631=Texte!$A$28,F631,0)","v":0}]
[622,{"$f":"IF(C632<>\"\",IF(ISNA(VLOOKUP(C632,Katastralgemeinden!$A$2:$B$3041,2,FALSE)),\"Ungültige KG-Nummer!\",VLOOKUP(C632,Katastralgemeinden!A$2:$B$3041,2,\"falsch\")),\"\")","v":""},null,null,null,null,null,null,null,null,"",0,{"$f":"IF('Anhang Grundstücksverzeichnis'!G632=Texte!$A$25,F632,0)","v":0},{"$f":"IF('Anhang Grundstücksverzeichnis'!G632=Texte!$A$26,F632,0)","v":0},{"$f":"IF('Anhang Grundstücksverzeichnis'!G632=Texte!$A$27,F632,0)","v":0},{"$f":"IF('Anhang Grundstücksverzeichnis'!G632=Texte!$A$28,F632,0)","v":0}]
[623,{"$f":"IF(C633<>\"\",IF(ISNA(VLOOKUP(C633,Katastralgemeinden!$A$2:$B$3041,2,FALSE)),\"Ungültige KG-Nummer!\",VLOOKUP(C633,Katastralgemeinden!A$2:$B$3041,2,\"falsch\")),\"\")","v":""},null,null,null,null,null,null,null,null,"",0,{"$f":"IF('Anhang Grundstücksverzeichnis'!G633=Texte!$A$25,F633,0)","v":0},{"$f":"IF('Anhang Grundstücksverzeichnis'!G633=Texte!$A$26,F633,0)","v":0},{"$f":"IF('Anhang Grundstücksverzeichnis'!G633=Texte!$A$27,F633,0)","v":0},{"$f":"IF('Anhang Grundstücksverzeichnis'!G633=Texte!$A$28,F633,0)","v":0}]
[624,{"$f":"IF(C634<>\"\",IF(ISNA(VLOOKUP(C634,Katastralgemeinden!$A$2:$B$3041,2,FALSE)),\"Ungültige KG-Nummer!\",VLOOKUP(C634,Katastralgemeinden!A$2:$B$3041,2,\"falsch\")),\"\")","v":""},null,null,null,null,null,null,null,null,"",0,{"$f":"IF('Anhang Grundstücksverzeichnis'!G634=Texte!$A$25,F634,0)","v":0},{"$f":"IF('Anhang Grundstücksverzeichnis'!G634=Texte!$A$26,F634,0)","v":0},{"$f":"IF('Anhang Grundstücksverzeichnis'!G634=Texte!$A$27,F634,0)","v":0},{"$f":"IF('Anhang Grundstücksverzeichnis'!G634=Texte!$A$28,F634,0)","v":0}]
[625,{"$f":"IF(C635<>\"\",IF(ISNA(VLOOKUP(C635,Katastralgemeinden!$A$2:$B$3041,2,FALSE)),\"Ungültige KG-Nummer!\",VLOOKUP(C635,Katastralgemeinden!A$2:$B$3041,2,\"falsch\")),\"\")","v":""},null,null,null,null,null,null,null,null,"",0,{"$f":"IF('Anhang Grundstücksverzeichnis'!G635=Texte!$A$25,F635,0)","v":0},{"$f":"IF('Anhang Grundstücksverzeichnis'!G635=Texte!$A$26,F635,0)","v":0},{"$f":"IF('Anhang Grundstücksverzeichnis'!G635=Texte!$A$27,F635,0)","v":0},{"$f":"IF('Anhang Grundstücksverzeichnis'!G635=Texte!$A$28,F635,0)","v":0}]
[626,{"$f":"IF(C636<>\"\",IF(ISNA(VLOOKUP(C636,Katastralgemeinden!$A$2:$B$3041,2,FALSE)),\"Ungültige KG-Nummer!\",VLOOKUP(C636,Katastralgemeinden!A$2:$B$3041,2,\"falsch\")),\"\")","v":""},null,null,null,null,null,null,null,null,"",0,{"$f":"IF('Anhang Grundstücksverzeichnis'!G636=Texte!$A$25,F636,0)","v":0},{"$f":"IF('Anhang Grundstücksverzeichnis'!G636=Texte!$A$26,F636,0)","v":0},{"$f":"IF('Anhang Grundstücksverzeichnis'!G636=Texte!$A$27,F636,0)","v":0},{"$f":"IF('Anhang Grundstücksverzeichnis'!G636=Texte!$A$28,F636,0)","v":0}]
[627,{"$f":"IF(C637<>\"\",IF(ISNA(VLOOKUP(C637,Katastralgemeinden!$A$2:$B$3041,2,FALSE)),\"Ungültige KG-Nummer!\",VLOOKUP(C637,Katastralgemeinden!A$2:$B$3041,2,\"falsch\")),\"\")","v":""},null,null,null,null,null,null,null,null,"",0,{"$f":"IF('Anhang Grundstücksverzeichnis'!G637=Texte!$A$25,F637,0)","v":0},{"$f":"IF('Anhang Grundstücksverzeichnis'!G637=Texte!$A$26,F637,0)","v":0},{"$f":"IF('Anhang Grundstücksverzeichnis'!G637=Texte!$A$27,F637,0)","v":0},{"$f":"IF('Anhang Grundstücksverzeichnis'!G637=Texte!$A$28,F637,0)","v":0}]
[628,{"$f":"IF(C638<>\"\",IF(ISNA(VLOOKUP(C638,Katastralgemeinden!$A$2:$B$3041,2,FALSE)),\"Ungültige KG-Nummer!\",VLOOKUP(C638,Katastralgemeinden!A$2:$B$3041,2,\"falsch\")),\"\")","v":""},null,null,null,null,null,null,null,null,"",0,{"$f":"IF('Anhang Grundstücksverzeichnis'!G638=Texte!$A$25,F638,0)","v":0},{"$f":"IF('Anhang Grundstücksverzeichnis'!G638=Texte!$A$26,F638,0)","v":0},{"$f":"IF('Anhang Grundstücksverzeichnis'!G638=Texte!$A$27,F638,0)","v":0},{"$f":"IF('Anhang Grundstücksverzeichnis'!G638=Texte!$A$28,F638,0)","v":0}]
[629,{"$f":"IF(C639<>\"\",IF(ISNA(VLOOKUP(C639,Katastralgemeinden!$A$2:$B$3041,2,FALSE)),\"Ungültige KG-Nummer!\",VLOOKUP(C639,Katastralgemeinden!A$2:$B$3041,2,\"falsch\")),\"\")","v":""},null,null,null,null,null,null,null,null,"",0,{"$f":"IF('Anhang Grundstücksverzeichnis'!G639=Texte!$A$25,F639,0)","v":0},{"$f":"IF('Anhang Grundstücksverzeichnis'!G639=Texte!$A$26,F639,0)","v":0},{"$f":"IF('Anhang Grundstücksverzeichnis'!G639=Texte!$A$27,F639,0)","v":0},{"$f":"IF('Anhang Grundstücksverzeichnis'!G639=Texte!$A$28,F639,0)","v":0}]
[630,{"$f":"IF(C640<>\"\",IF(ISNA(VLOOKUP(C640,Katastralgemeinden!$A$2:$B$3041,2,FALSE)),\"Ungültige KG-Nummer!\",VLOOKUP(C640,Katastralgemeinden!A$2:$B$3041,2,\"falsch\")),\"\")","v":""},null,null,null,null,null,null,null,null,"",0,{"$f":"IF('Anhang Grundstücksverzeichnis'!G640=Texte!$A$25,F640,0)","v":0},{"$f":"IF('Anhang Grundstücksverzeichnis'!G640=Texte!$A$26,F640,0)","v":0},{"$f":"IF('Anhang Grundstücksverzeichnis'!G640=Texte!$A$27,F640,0)","v":0},{"$f":"IF('Anhang Grundstücksverzeichnis'!G640=Texte!$A$28,F640,0)","v":0}]
[631,{"$f":"IF(C641<>\"\",IF(ISNA(VLOOKUP(C641,Katastralgemeinden!$A$2:$B$3041,2,FALSE)),\"Ungültige KG-Nummer!\",VLOOKUP(C641,Katastralgemeinden!A$2:$B$3041,2,\"falsch\")),\"\")","v":""},null,null,null,null,null,null,null,null,"",0,{"$f":"IF('Anhang Grundstücksverzeichnis'!G641=Texte!$A$25,F641,0)","v":0},{"$f":"IF('Anhang Grundstücksverzeichnis'!G641=Texte!$A$26,F641,0)","v":0},{"$f":"IF('Anhang Grundstücksverzeichnis'!G641=Texte!$A$27,F641,0)","v":0},{"$f":"IF('Anhang Grundstücksverzeichnis'!G641=Texte!$A$28,F641,0)","v":0}]
[632,{"$f":"IF(C642<>\"\",IF(ISNA(VLOOKUP(C642,Katastralgemeinden!$A$2:$B$3041,2,FALSE)),\"Ungültige KG-Nummer!\",VLOOKUP(C642,Katastralgemeinden!A$2:$B$3041,2,\"falsch\")),\"\")","v":""},null,null,null,null,null,null,null,null,"",0,{"$f":"IF('Anhang Grundstücksverzeichnis'!G642=Texte!$A$25,F642,0)","v":0},{"$f":"IF('Anhang Grundstücksverzeichnis'!G642=Texte!$A$26,F642,0)","v":0},{"$f":"IF('Anhang Grundstücksverzeichnis'!G642=Texte!$A$27,F642,0)","v":0},{"$f":"IF('Anhang Grundstücksverzeichnis'!G642=Texte!$A$28,F642,0)","v":0}]
[633,{"$f":"IF(C643<>\"\",IF(ISNA(VLOOKUP(C643,Katastralgemeinden!$A$2:$B$3041,2,FALSE)),\"Ungültige KG-Nummer!\",VLOOKUP(C643,Katastralgemeinden!A$2:$B$3041,2,\"falsch\")),\"\")","v":""},null,null,null,null,null,null,null,null,"",0,{"$f":"IF('Anhang Grundstücksverzeichnis'!G643=Texte!$A$25,F643,0)","v":0},{"$f":"IF('Anhang Grundstücksverzeichnis'!G643=Texte!$A$26,F643,0)","v":0},{"$f":"IF('Anhang Grundstücksverzeichnis'!G643=Texte!$A$27,F643,0)","v":0},{"$f":"IF('Anhang Grundstücksverzeichnis'!G643=Texte!$A$28,F643,0)","v":0}]
[634,{"$f":"IF(C644<>\"\",IF(ISNA(VLOOKUP(C644,Katastralgemeinden!$A$2:$B$3041,2,FALSE)),\"Ungültige KG-Nummer!\",VLOOKUP(C644,Katastralgemeinden!A$2:$B$3041,2,\"falsch\")),\"\")","v":""},null,null,null,null,null,null,null,null,"",0,{"$f":"IF('Anhang Grundstücksverzeichnis'!G644=Texte!$A$25,F644,0)","v":0},{"$f":"IF('Anhang Grundstücksverzeichnis'!G644=Texte!$A$26,F644,0)","v":0},{"$f":"IF('Anhang Grundstücksverzeichnis'!G644=Texte!$A$27,F644,0)","v":0},{"$f":"IF('Anhang Grundstücksverzeichnis'!G644=Texte!$A$28,F644,0)","v":0}]
[635,{"$f":"IF(C645<>\"\",IF(ISNA(VLOOKUP(C645,Katastralgemeinden!$A$2:$B$3041,2,FALSE)),\"Ungültige KG-Nummer!\",VLOOKUP(C645,Katastralgemeinden!A$2:$B$3041,2,\"falsch\")),\"\")","v":""},null,null,null,null,null,null,null,null,"",0,{"$f":"IF('Anhang Grundstücksverzeichnis'!G645=Texte!$A$25,F645,0)","v":0},{"$f":"IF('Anhang Grundstücksverzeichnis'!G645=Texte!$A$26,F645,0)","v":0},{"$f":"IF('Anhang Grundstücksverzeichnis'!G645=Texte!$A$27,F645,0)","v":0},{"$f":"IF('Anhang Grundstücksverzeichnis'!G645=Texte!$A$28,F645,0)","v":0}]
[636,{"$f":"IF(C646<>\"\",IF(ISNA(VLOOKUP(C646,Katastralgemeinden!$A$2:$B$3041,2,FALSE)),\"Ungültige KG-Nummer!\",VLOOKUP(C646,Katastralgemeinden!A$2:$B$3041,2,\"falsch\")),\"\")","v":""},null,null,null,null,null,null,null,null,"",0,{"$f":"IF('Anhang Grundstücksverzeichnis'!G646=Texte!$A$25,F646,0)","v":0},{"$f":"IF('Anhang Grundstücksverzeichnis'!G646=Texte!$A$26,F646,0)","v":0},{"$f":"IF('Anhang Grundstücksverzeichnis'!G646=Texte!$A$27,F646,0)","v":0},{"$f":"IF('Anhang Grundstücksverzeichnis'!G646=Texte!$A$28,F646,0)","v":0}]
[637,{"$f":"IF(C647<>\"\",IF(ISNA(VLOOKUP(C647,Katastralgemeinden!$A$2:$B$3041,2,FALSE)),\"Ungültige KG-Nummer!\",VLOOKUP(C647,Katastralgemeinden!A$2:$B$3041,2,\"falsch\")),\"\")","v":""},null,null,null,null,null,null,null,null,"",0,{"$f":"IF('Anhang Grundstücksverzeichnis'!G647=Texte!$A$25,F647,0)","v":0},{"$f":"IF('Anhang Grundstücksverzeichnis'!G647=Texte!$A$26,F647,0)","v":0},{"$f":"IF('Anhang Grundstücksverzeichnis'!G647=Texte!$A$27,F647,0)","v":0},{"$f":"IF('Anhang Grundstücksverzeichnis'!G647=Texte!$A$28,F647,0)","v":0}]
[638,{"$f":"IF(C648<>\"\",IF(ISNA(VLOOKUP(C648,Katastralgemeinden!$A$2:$B$3041,2,FALSE)),\"Ungültige KG-Nummer!\",VLOOKUP(C648,Katastralgemeinden!A$2:$B$3041,2,\"falsch\")),\"\")","v":""},null,null,null,null,null,null,null,null,"",0,{"$f":"IF('Anhang Grundstücksverzeichnis'!G648=Texte!$A$25,F648,0)","v":0},{"$f":"IF('Anhang Grundstücksverzeichnis'!G648=Texte!$A$26,F648,0)","v":0},{"$f":"IF('Anhang Grundstücksverzeichnis'!G648=Texte!$A$27,F648,0)","v":0},{"$f":"IF('Anhang Grundstücksverzeichnis'!G648=Texte!$A$28,F648,0)","v":0}]
[639,{"$f":"IF(C649<>\"\",IF(ISNA(VLOOKUP(C649,Katastralgemeinden!$A$2:$B$3041,2,FALSE)),\"Ungültige KG-Nummer!\",VLOOKUP(C649,Katastralgemeinden!A$2:$B$3041,2,\"falsch\")),\"\")","v":""},null,null,null,null,null,null,null,null,"",0,{"$f":"IF('Anhang Grundstücksverzeichnis'!G649=Texte!$A$25,F649,0)","v":0},{"$f":"IF('Anhang Grundstücksverzeichnis'!G649=Texte!$A$26,F649,0)","v":0},{"$f":"IF('Anhang Grundstücksverzeichnis'!G649=Texte!$A$27,F649,0)","v":0},{"$f":"IF('Anhang Grundstücksverzeichnis'!G649=Texte!$A$28,F649,0)","v":0}]
[640,{"$f":"IF(C650<>\"\",IF(ISNA(VLOOKUP(C650,Katastralgemeinden!$A$2:$B$3041,2,FALSE)),\"Ungültige KG-Nummer!\",VLOOKUP(C650,Katastralgemeinden!A$2:$B$3041,2,\"falsch\")),\"\")","v":""},null,null,null,null,null,null,null,null,"",0,{"$f":"IF('Anhang Grundstücksverzeichnis'!G650=Texte!$A$25,F650,0)","v":0},{"$f":"IF('Anhang Grundstücksverzeichnis'!G650=Texte!$A$26,F650,0)","v":0},{"$f":"IF('Anhang Grundstücksverzeichnis'!G650=Texte!$A$27,F650,0)","v":0},{"$f":"IF('Anhang Grundstücksverzeichnis'!G650=Texte!$A$28,F650,0)","v":0}]
[641,{"$f":"IF(C651<>\"\",IF(ISNA(VLOOKUP(C651,Katastralgemeinden!$A$2:$B$3041,2,FALSE)),\"Ungültige KG-Nummer!\",VLOOKUP(C651,Katastralgemeinden!A$2:$B$3041,2,\"falsch\")),\"\")","v":""},null,null,null,null,null,null,null,null,"",0,{"$f":"IF('Anhang Grundstücksverzeichnis'!G651=Texte!$A$25,F651,0)","v":0},{"$f":"IF('Anhang Grundstücksverzeichnis'!G651=Texte!$A$26,F651,0)","v":0},{"$f":"IF('Anhang Grundstücksverzeichnis'!G651=Texte!$A$27,F651,0)","v":0},{"$f":"IF('Anhang Grundstücksverzeichnis'!G651=Texte!$A$28,F651,0)","v":0}]
[642,{"$f":"IF(C652<>\"\",IF(ISNA(VLOOKUP(C652,Katastralgemeinden!$A$2:$B$3041,2,FALSE)),\"Ungültige KG-Nummer!\",VLOOKUP(C652,Katastralgemeinden!A$2:$B$3041,2,\"falsch\")),\"\")","v":""},null,null,null,null,null,null,null,null,{"$f":"IF(G652<>\"\",IF(G652=\"Eigengrundfläche\",0,IF(G652=\"Vorpachtfläche\",1,IF(G652=\"Abrundung +\",3,IF(G652=\"Abrundung -\",4,5)))),\"\")","v":""},{"$f":"IF(OR(LOWER(H652)=\"x\",LOWER(H652)=\"j\"),1,0)","v":0},{"$f":"IF('Anhang Grundstücksverzeichnis'!G652=Texte!$A$25,F652,0)","v":0},{"$f":"IF('Anhang Grundstücksverzeichnis'!G652=Texte!$A$26,F652,0)","v":0},{"$f":"IF('Anhang Grundstücksverzeichnis'!G652=Texte!$A$27,F652,0)","v":0},{"$f":"IF('Anhang Grundstücksverzeichnis'!G652=Texte!$A$28,F652,0)","v":0}]
[643,{"$f":"IF(C653<>\"\",IF(ISNA(VLOOKUP(C653,Katastralgemeinden!$A$2:$B$3041,2,FALSE)),\"Ungültige KG-Nummer!\",VLOOKUP(C653,Katastralgemeinden!A$2:$B$3041,2,\"falsch\")),\"\")","v":""},null,null,null,null,null,null,null,null,"",0,{"$f":"IF('Anhang Grundstücksverzeichnis'!G653=Texte!$A$25,F653,0)","v":0},{"$f":"IF('Anhang Grundstücksverzeichnis'!G653=Texte!$A$26,F653,0)","v":0},{"$f":"IF('Anhang Grundstücksverzeichnis'!G653=Texte!$A$27,F653,0)","v":0},{"$f":"IF('Anhang Grundstücksverzeichnis'!G653=Texte!$A$28,F653,0)","v":0}]
[644,{"$f":"IF(C654<>\"\",IF(ISNA(VLOOKUP(C654,Katastralgemeinden!$A$2:$B$3041,2,FALSE)),\"Ungültige KG-Nummer!\",VLOOKUP(C654,Katastralgemeinden!A$2:$B$3041,2,\"falsch\")),\"\")","v":""},null,null,null,null,null,null,null,null,"",0,{"$f":"IF('Anhang Grundstücksverzeichnis'!G654=Texte!$A$25,F654,0)","v":0},{"$f":"IF('Anhang Grundstücksverzeichnis'!G654=Texte!$A$26,F654,0)","v":0},{"$f":"IF('Anhang Grundstücksverzeichnis'!G654=Texte!$A$27,F654,0)","v":0},{"$f":"IF('Anhang Grundstücksverzeichnis'!G654=Texte!$A$28,F654,0)","v":0}]
[645,{"$f":"IF(C655<>\"\",IF(ISNA(VLOOKUP(C655,Katastralgemeinden!$A$2:$B$3041,2,FALSE)),\"Ungültige KG-Nummer!\",VLOOKUP(C655,Katastralgemeinden!A$2:$B$3041,2,\"falsch\")),\"\")","v":""},null,null,null,null,null,null,null,null,"",0,{"$f":"IF('Anhang Grundstücksverzeichnis'!G655=Texte!$A$25,F655,0)","v":0},{"$f":"IF('Anhang Grundstücksverzeichnis'!G655=Texte!$A$26,F655,0)","v":0},{"$f":"IF('Anhang Grundstücksverzeichnis'!G655=Texte!$A$27,F655,0)","v":0},{"$f":"IF('Anhang Grundstücksverzeichnis'!G655=Texte!$A$28,F655,0)","v":0}]
[646,{"$f":"IF(C656<>\"\",IF(ISNA(VLOOKUP(C656,Katastralgemeinden!$A$2:$B$3041,2,FALSE)),\"Ungültige KG-Nummer!\",VLOOKUP(C656,Katastralgemeinden!A$2:$B$3041,2,\"falsch\")),\"\")","v":""},null,null,null,null,null,null,null,null,"",0,{"$f":"IF('Anhang Grundstücksverzeichnis'!G656=Texte!$A$25,F656,0)","v":0},{"$f":"IF('Anhang Grundstücksverzeichnis'!G656=Texte!$A$26,F656,0)","v":0},{"$f":"IF('Anhang Grundstücksverzeichnis'!G656=Texte!$A$27,F656,0)","v":0},{"$f":"IF('Anhang Grundstücksverzeichnis'!G656=Texte!$A$28,F656,0)","v":0}]
[647,{"$f":"IF(C657<>\"\",IF(ISNA(VLOOKUP(C657,Katastralgemeinden!$A$2:$B$3041,2,FALSE)),\"Ungültige KG-Nummer!\",VLOOKUP(C657,Katastralgemeinden!A$2:$B$3041,2,\"falsch\")),\"\")","v":""},null,null,null,null,null,null,null,null,"",0,{"$f":"IF('Anhang Grundstücksverzeichnis'!G657=Texte!$A$25,F657,0)","v":0},{"$f":"IF('Anhang Grundstücksverzeichnis'!G657=Texte!$A$26,F657,0)","v":0},{"$f":"IF('Anhang Grundstücksverzeichnis'!G657=Texte!$A$27,F657,0)","v":0},{"$f":"IF('Anhang Grundstücksverzeichnis'!G657=Texte!$A$28,F657,0)","v":0}]
[648,{"$f":"IF(C658<>\"\",IF(ISNA(VLOOKUP(C658,Katastralgemeinden!$A$2:$B$3041,2,FALSE)),\"Ungültige KG-Nummer!\",VLOOKUP(C658,Katastralgemeinden!A$2:$B$3041,2,\"falsch\")),\"\")","v":""},null,null,null,null,null,null,null,null,"",0,{"$f":"IF('Anhang Grundstücksverzeichnis'!G658=Texte!$A$25,F658,0)","v":0},{"$f":"IF('Anhang Grundstücksverzeichnis'!G658=Texte!$A$26,F658,0)","v":0},{"$f":"IF('Anhang Grundstücksverzeichnis'!G658=Texte!$A$27,F658,0)","v":0},{"$f":"IF('Anhang Grundstücksverzeichnis'!G658=Texte!$A$28,F658,0)","v":0}]
[649,{"$f":"IF(C659<>\"\",IF(ISNA(VLOOKUP(C659,Katastralgemeinden!$A$2:$B$3041,2,FALSE)),\"Ungültige KG-Nummer!\",VLOOKUP(C659,Katastralgemeinden!A$2:$B$3041,2,\"falsch\")),\"\")","v":""},null,null,null,null,null,null,null,null,"",0,{"$f":"IF('Anhang Grundstücksverzeichnis'!G659=Texte!$A$25,F659,0)","v":0},{"$f":"IF('Anhang Grundstücksverzeichnis'!G659=Texte!$A$26,F659,0)","v":0},{"$f":"IF('Anhang Grundstücksverzeichnis'!G659=Texte!$A$27,F659,0)","v":0},{"$f":"IF('Anhang Grundstücksverzeichnis'!G659=Texte!$A$28,F659,0)","v":0}]
[650,{"$f":"IF(C660<>\"\",IF(ISNA(VLOOKUP(C660,Katastralgemeinden!$A$2:$B$3041,2,FALSE)),\"Ungültige KG-Nummer!\",VLOOKUP(C660,Katastralgemeinden!A$2:$B$3041,2,\"falsch\")),\"\")","v":""},null,null,null,null,null,null,null,null,"",0,{"$f":"IF('Anhang Grundstücksverzeichnis'!G660=Texte!$A$25,F660,0)","v":0},{"$f":"IF('Anhang Grundstücksverzeichnis'!G660=Texte!$A$26,F660,0)","v":0},{"$f":"IF('Anhang Grundstücksverzeichnis'!G660=Texte!$A$27,F660,0)","v":0},{"$f":"IF('Anhang Grundstücksverzeichnis'!G660=Texte!$A$28,F660,0)","v":0}]
[651,{"$f":"IF(C661<>\"\",IF(ISNA(VLOOKUP(C661,Katastralgemeinden!$A$2:$B$3041,2,FALSE)),\"Ungültige KG-Nummer!\",VLOOKUP(C661,Katastralgemeinden!A$2:$B$3041,2,\"falsch\")),\"\")","v":""},null,null,null,null,null,null,null,null,"",0,{"$f":"IF('Anhang Grundstücksverzeichnis'!G661=Texte!$A$25,F661,0)","v":0},{"$f":"IF('Anhang Grundstücksverzeichnis'!G661=Texte!$A$26,F661,0)","v":0},{"$f":"IF('Anhang Grundstücksverzeichnis'!G661=Texte!$A$27,F661,0)","v":0},{"$f":"IF('Anhang Grundstücksverzeichnis'!G661=Texte!$A$28,F661,0)","v":0}]
[652,{"$f":"IF(C662<>\"\",IF(ISNA(VLOOKUP(C662,Katastralgemeinden!$A$2:$B$3041,2,FALSE)),\"Ungültige KG-Nummer!\",VLOOKUP(C662,Katastralgemeinden!A$2:$B$3041,2,\"falsch\")),\"\")","v":""},null,null,null,null,null,null,null,null,"",0,{"$f":"IF('Anhang Grundstücksverzeichnis'!G662=Texte!$A$25,F662,0)","v":0},{"$f":"IF('Anhang Grundstücksverzeichnis'!G662=Texte!$A$26,F662,0)","v":0},{"$f":"IF('Anhang Grundstücksverzeichnis'!G662=Texte!$A$27,F662,0)","v":0},{"$f":"IF('Anhang Grundstücksverzeichnis'!G662=Texte!$A$28,F662,0)","v":0}]
[653,{"$f":"IF(C663<>\"\",IF(ISNA(VLOOKUP(C663,Katastralgemeinden!$A$2:$B$3041,2,FALSE)),\"Ungültige KG-Nummer!\",VLOOKUP(C663,Katastralgemeinden!A$2:$B$3041,2,\"falsch\")),\"\")","v":""},null,null,null,null,null,null,null,null,"",0,{"$f":"IF('Anhang Grundstücksverzeichnis'!G663=Texte!$A$25,F663,0)","v":0},{"$f":"IF('Anhang Grundstücksverzeichnis'!G663=Texte!$A$26,F663,0)","v":0},{"$f":"IF('Anhang Grundstücksverzeichnis'!G663=Texte!$A$27,F663,0)","v":0},{"$f":"IF('Anhang Grundstücksverzeichnis'!G663=Texte!$A$28,F663,0)","v":0}]
[654,{"$f":"IF(C664<>\"\",IF(ISNA(VLOOKUP(C664,Katastralgemeinden!$A$2:$B$3041,2,FALSE)),\"Ungültige KG-Nummer!\",VLOOKUP(C664,Katastralgemeinden!A$2:$B$3041,2,\"falsch\")),\"\")","v":""},null,null,null,null,null,null,null,null,"",0,{"$f":"IF('Anhang Grundstücksverzeichnis'!G664=Texte!$A$25,F664,0)","v":0},{"$f":"IF('Anhang Grundstücksverzeichnis'!G664=Texte!$A$26,F664,0)","v":0},{"$f":"IF('Anhang Grundstücksverzeichnis'!G664=Texte!$A$27,F664,0)","v":0},{"$f":"IF('Anhang Grundstücksverzeichnis'!G664=Texte!$A$28,F664,0)","v":0}]
[655,{"$f":"IF(C665<>\"\",IF(ISNA(VLOOKUP(C665,Katastralgemeinden!$A$2:$B$3041,2,FALSE)),\"Ungültige KG-Nummer!\",VLOOKUP(C665,Katastralgemeinden!A$2:$B$3041,2,\"falsch\")),\"\")","v":""},null,null,null,null,null,null,null,null,"",0,{"$f":"IF('Anhang Grundstücksverzeichnis'!G665=Texte!$A$25,F665,0)","v":0},{"$f":"IF('Anhang Grundstücksverzeichnis'!G665=Texte!$A$26,F665,0)","v":0},{"$f":"IF('Anhang Grundstücksverzeichnis'!G665=Texte!$A$27,F665,0)","v":0},{"$f":"IF('Anhang Grundstücksverzeichnis'!G665=Texte!$A$28,F665,0)","v":0}]
[656,{"$f":"IF(C666<>\"\",IF(ISNA(VLOOKUP(C666,Katastralgemeinden!$A$2:$B$3041,2,FALSE)),\"Ungültige KG-Nummer!\",VLOOKUP(C666,Katastralgemeinden!A$2:$B$3041,2,\"falsch\")),\"\")","v":""},null,null,null,null,null,null,null,null,"",0,{"$f":"IF('Anhang Grundstücksverzeichnis'!G666=Texte!$A$25,F666,0)","v":0},{"$f":"IF('Anhang Grundstücksverzeichnis'!G666=Texte!$A$26,F666,0)","v":0},{"$f":"IF('Anhang Grundstücksverzeichnis'!G666=Texte!$A$27,F666,0)","v":0},{"$f":"IF('Anhang Grundstücksverzeichnis'!G666=Texte!$A$28,F666,0)","v":0}]
[657,{"$f":"IF(C667<>\"\",IF(ISNA(VLOOKUP(C667,Katastralgemeinden!$A$2:$B$3041,2,FALSE)),\"Ungültige KG-Nummer!\",VLOOKUP(C667,Katastralgemeinden!A$2:$B$3041,2,\"falsch\")),\"\")","v":""},null,null,null,null,null,null,null,null,"",0,{"$f":"IF('Anhang Grundstücksverzeichnis'!G667=Texte!$A$25,F667,0)","v":0},{"$f":"IF('Anhang Grundstücksverzeichnis'!G667=Texte!$A$26,F667,0)","v":0},{"$f":"IF('Anhang Grundstücksverzeichnis'!G667=Texte!$A$27,F667,0)","v":0},{"$f":"IF('Anhang Grundstücksverzeichnis'!G667=Texte!$A$28,F667,0)","v":0}]
[658,{"$f":"IF(C668<>\"\",IF(ISNA(VLOOKUP(C668,Katastralgemeinden!$A$2:$B$3041,2,FALSE)),\"Ungültige KG-Nummer!\",VLOOKUP(C668,Katastralgemeinden!A$2:$B$3041,2,\"falsch\")),\"\")","v":""},null,null,null,null,null,null,null,null,"",0,{"$f":"IF('Anhang Grundstücksverzeichnis'!G668=Texte!$A$25,F668,0)","v":0},{"$f":"IF('Anhang Grundstücksverzeichnis'!G668=Texte!$A$26,F668,0)","v":0},{"$f":"IF('Anhang Grundstücksverzeichnis'!G668=Texte!$A$27,F668,0)","v":0},{"$f":"IF('Anhang Grundstücksverzeichnis'!G668=Texte!$A$28,F668,0)","v":0}]
[659,{"$f":"IF(C669<>\"\",IF(ISNA(VLOOKUP(C669,Katastralgemeinden!$A$2:$B$3041,2,FALSE)),\"Ungültige KG-Nummer!\",VLOOKUP(C669,Katastralgemeinden!A$2:$B$3041,2,\"falsch\")),\"\")","v":""},null,null,null,null,null,null,null,null,"",0,{"$f":"IF('Anhang Grundstücksverzeichnis'!G669=Texte!$A$25,F669,0)","v":0},{"$f":"IF('Anhang Grundstücksverzeichnis'!G669=Texte!$A$26,F669,0)","v":0},{"$f":"IF('Anhang Grundstücksverzeichnis'!G669=Texte!$A$27,F669,0)","v":0},{"$f":"IF('Anhang Grundstücksverzeichnis'!G669=Texte!$A$28,F669,0)","v":0}]
[660,{"$f":"IF(C670<>\"\",IF(ISNA(VLOOKUP(C670,Katastralgemeinden!$A$2:$B$3041,2,FALSE)),\"Ungültige KG-Nummer!\",VLOOKUP(C670,Katastralgemeinden!A$2:$B$3041,2,\"falsch\")),\"\")","v":""},null,null,null,null,null,null,null,null,"",0,{"$f":"IF('Anhang Grundstücksverzeichnis'!G670=Texte!$A$25,F670,0)","v":0},{"$f":"IF('Anhang Grundstücksverzeichnis'!G670=Texte!$A$26,F670,0)","v":0},{"$f":"IF('Anhang Grundstücksverzeichnis'!G670=Texte!$A$27,F670,0)","v":0},{"$f":"IF('Anhang Grundstücksverzeichnis'!G670=Texte!$A$28,F670,0)","v":0}]
[661,{"$f":"IF(C671<>\"\",IF(ISNA(VLOOKUP(C671,Katastralgemeinden!$A$2:$B$3041,2,FALSE)),\"Ungültige KG-Nummer!\",VLOOKUP(C671,Katastralgemeinden!A$2:$B$3041,2,\"falsch\")),\"\")","v":""},null,null,null,null,null,null,null,null,"",0,{"$f":"IF('Anhang Grundstücksverzeichnis'!G671=Texte!$A$25,F671,0)","v":0},{"$f":"IF('Anhang Grundstücksverzeichnis'!G671=Texte!$A$26,F671,0)","v":0},{"$f":"IF('Anhang Grundstücksverzeichnis'!G671=Texte!$A$27,F671,0)","v":0},{"$f":"IF('Anhang Grundstücksverzeichnis'!G671=Texte!$A$28,F671,0)","v":0}]
[662,{"$f":"IF(C672<>\"\",IF(ISNA(VLOOKUP(C672,Katastralgemeinden!$A$2:$B$3041,2,FALSE)),\"Ungültige KG-Nummer!\",VLOOKUP(C672,Katastralgemeinden!A$2:$B$3041,2,\"falsch\")),\"\")","v":""},null,null,null,null,null,null,null,null,"",0,{"$f":"IF('Anhang Grundstücksverzeichnis'!G672=Texte!$A$25,F672,0)","v":0},{"$f":"IF('Anhang Grundstücksverzeichnis'!G672=Texte!$A$26,F672,0)","v":0},{"$f":"IF('Anhang Grundstücksverzeichnis'!G672=Texte!$A$27,F672,0)","v":0},{"$f":"IF('Anhang Grundstücksverzeichnis'!G672=Texte!$A$28,F672,0)","v":0}]
[663,{"$f":"IF(C673<>\"\",IF(ISNA(VLOOKUP(C673,Katastralgemeinden!$A$2:$B$3041,2,FALSE)),\"Ungültige KG-Nummer!\",VLOOKUP(C673,Katastralgemeinden!A$2:$B$3041,2,\"falsch\")),\"\")","v":""},null,null,null,null,null,null,null,null,"",0,{"$f":"IF('Anhang Grundstücksverzeichnis'!G673=Texte!$A$25,F673,0)","v":0},{"$f":"IF('Anhang Grundstücksverzeichnis'!G673=Texte!$A$26,F673,0)","v":0},{"$f":"IF('Anhang Grundstücksverzeichnis'!G673=Texte!$A$27,F673,0)","v":0},{"$f":"IF('Anhang Grundstücksverzeichnis'!G673=Texte!$A$28,F673,0)","v":0}]
[664,{"$f":"IF(C674<>\"\",IF(ISNA(VLOOKUP(C674,Katastralgemeinden!$A$2:$B$3041,2,FALSE)),\"Ungültige KG-Nummer!\",VLOOKUP(C674,Katastralgemeinden!A$2:$B$3041,2,\"falsch\")),\"\")","v":""},null,null,null,null,null,null,null,null,"",0,{"$f":"IF('Anhang Grundstücksverzeichnis'!G674=Texte!$A$25,F674,0)","v":0},{"$f":"IF('Anhang Grundstücksverzeichnis'!G674=Texte!$A$26,F674,0)","v":0},{"$f":"IF('Anhang Grundstücksverzeichnis'!G674=Texte!$A$27,F674,0)","v":0},{"$f":"IF('Anhang Grundstücksverzeichnis'!G674=Texte!$A$28,F674,0)","v":0}]
[665,{"$f":"IF(C675<>\"\",IF(ISNA(VLOOKUP(C675,Katastralgemeinden!$A$2:$B$3041,2,FALSE)),\"Ungültige KG-Nummer!\",VLOOKUP(C675,Katastralgemeinden!A$2:$B$3041,2,\"falsch\")),\"\")","v":""},null,null,null,null,null,null,null,null,"",0,{"$f":"IF('Anhang Grundstücksverzeichnis'!G675=Texte!$A$25,F675,0)","v":0},{"$f":"IF('Anhang Grundstücksverzeichnis'!G675=Texte!$A$26,F675,0)","v":0},{"$f":"IF('Anhang Grundstücksverzeichnis'!G675=Texte!$A$27,F675,0)","v":0},{"$f":"IF('Anhang Grundstücksverzeichnis'!G675=Texte!$A$28,F675,0)","v":0}]
[666,{"$f":"IF(C676<>\"\",IF(ISNA(VLOOKUP(C676,Katastralgemeinden!$A$2:$B$3041,2,FALSE)),\"Ungültige KG-Nummer!\",VLOOKUP(C676,Katastralgemeinden!A$2:$B$3041,2,\"falsch\")),\"\")","v":""},null,null,null,null,null,null,null,null,"",0,{"$f":"IF('Anhang Grundstücksverzeichnis'!G676=Texte!$A$25,F676,0)","v":0},{"$f":"IF('Anhang Grundstücksverzeichnis'!G676=Texte!$A$26,F676,0)","v":0},{"$f":"IF('Anhang Grundstücksverzeichnis'!G676=Texte!$A$27,F676,0)","v":0},{"$f":"IF('Anhang Grundstücksverzeichnis'!G676=Texte!$A$28,F676,0)","v":0}]
[667,{"$f":"IF(C677<>\"\",IF(ISNA(VLOOKUP(C677,Katastralgemeinden!$A$2:$B$3041,2,FALSE)),\"Ungültige KG-Nummer!\",VLOOKUP(C677,Katastralgemeinden!A$2:$B$3041,2,\"falsch\")),\"\")","v":""},null,null,null,null,null,null,null,null,"",0,{"$f":"IF('Anhang Grundstücksverzeichnis'!G677=Texte!$A$25,F677,0)","v":0},{"$f":"IF('Anhang Grundstücksverzeichnis'!G677=Texte!$A$26,F677,0)","v":0},{"$f":"IF('Anhang Grundstücksverzeichnis'!G677=Texte!$A$27,F677,0)","v":0},{"$f":"IF('Anhang Grundstücksverzeichnis'!G677=Texte!$A$28,F677,0)","v":0}]
[668,{"$f":"IF(C678<>\"\",IF(ISNA(VLOOKUP(C678,Katastralgemeinden!$A$2:$B$3041,2,FALSE)),\"Ungültige KG-Nummer!\",VLOOKUP(C678,Katastralgemeinden!A$2:$B$3041,2,\"falsch\")),\"\")","v":""},null,null,null,null,null,null,null,null,"",0,{"$f":"IF('Anhang Grundstücksverzeichnis'!G678=Texte!$A$25,F678,0)","v":0},{"$f":"IF('Anhang Grundstücksverzeichnis'!G678=Texte!$A$26,F678,0)","v":0},{"$f":"IF('Anhang Grundstücksverzeichnis'!G678=Texte!$A$27,F678,0)","v":0},{"$f":"IF('Anhang Grundstücksverzeichnis'!G678=Texte!$A$28,F678,0)","v":0}]
[669,{"$f":"IF(C679<>\"\",IF(ISNA(VLOOKUP(C679,Katastralgemeinden!$A$2:$B$3041,2,FALSE)),\"Ungültige KG-Nummer!\",VLOOKUP(C679,Katastralgemeinden!A$2:$B$3041,2,\"falsch\")),\"\")","v":""},null,null,null,null,null,null,null,null,"",0,{"$f":"IF('Anhang Grundstücksverzeichnis'!G679=Texte!$A$25,F679,0)","v":0},{"$f":"IF('Anhang Grundstücksverzeichnis'!G679=Texte!$A$26,F679,0)","v":0},{"$f":"IF('Anhang Grundstücksverzeichnis'!G679=Texte!$A$27,F679,0)","v":0},{"$f":"IF('Anhang Grundstücksverzeichnis'!G679=Texte!$A$28,F679,0)","v":0}]
[670,{"$f":"IF(C680<>\"\",IF(ISNA(VLOOKUP(C680,Katastralgemeinden!$A$2:$B$3041,2,FALSE)),\"Ungültige KG-Nummer!\",VLOOKUP(C680,Katastralgemeinden!A$2:$B$3041,2,\"falsch\")),\"\")","v":""},null,null,null,null,null,null,null,null,"",0,{"$f":"IF('Anhang Grundstücksverzeichnis'!G680=Texte!$A$25,F680,0)","v":0},{"$f":"IF('Anhang Grundstücksverzeichnis'!G680=Texte!$A$26,F680,0)","v":0},{"$f":"IF('Anhang Grundstücksverzeichnis'!G680=Texte!$A$27,F680,0)","v":0},{"$f":"IF('Anhang Grundstücksverzeichnis'!G680=Texte!$A$28,F680,0)","v":0}]
[671,{"$f":"IF(C681<>\"\",IF(ISNA(VLOOKUP(C681,Katastralgemeinden!$A$2:$B$3041,2,FALSE)),\"Ungültige KG-Nummer!\",VLOOKUP(C681,Katastralgemeinden!A$2:$B$3041,2,\"falsch\")),\"\")","v":""},null,null,null,null,null,null,null,null,"",0,{"$f":"IF('Anhang Grundstücksverzeichnis'!G681=Texte!$A$25,F681,0)","v":0},{"$f":"IF('Anhang Grundstücksverzeichnis'!G681=Texte!$A$26,F681,0)","v":0},{"$f":"IF('Anhang Grundstücksverzeichnis'!G681=Texte!$A$27,F681,0)","v":0},{"$f":"IF('Anhang Grundstücksverzeichnis'!G681=Texte!$A$28,F681,0)","v":0}]
[672,{"$f":"IF(C682<>\"\",IF(ISNA(VLOOKUP(C682,Katastralgemeinden!$A$2:$B$3041,2,FALSE)),\"Ungültige KG-Nummer!\",VLOOKUP(C682,Katastralgemeinden!A$2:$B$3041,2,\"falsch\")),\"\")","v":""},null,null,null,null,null,null,null,null,"",0,{"$f":"IF('Anhang Grundstücksverzeichnis'!G682=Texte!$A$25,F682,0)","v":0},{"$f":"IF('Anhang Grundstücksverzeichnis'!G682=Texte!$A$26,F682,0)","v":0},{"$f":"IF('Anhang Grundstücksverzeichnis'!G682=Texte!$A$27,F682,0)","v":0},{"$f":"IF('Anhang Grundstücksverzeichnis'!G682=Texte!$A$28,F682,0)","v":0}]
[673,{"$f":"IF(C683<>\"\",IF(ISNA(VLOOKUP(C683,Katastralgemeinden!$A$2:$B$3041,2,FALSE)),\"Ungültige KG-Nummer!\",VLOOKUP(C683,Katastralgemeinden!A$2:$B$3041,2,\"falsch\")),\"\")","v":""},null,null,null,null,null,null,null,null,"",0,{"$f":"IF('Anhang Grundstücksverzeichnis'!G683=Texte!$A$25,F683,0)","v":0},{"$f":"IF('Anhang Grundstücksverzeichnis'!G683=Texte!$A$26,F683,0)","v":0},{"$f":"IF('Anhang Grundstücksverzeichnis'!G683=Texte!$A$27,F683,0)","v":0},{"$f":"IF('Anhang Grundstücksverzeichnis'!G683=Texte!$A$28,F683,0)","v":0}]
[674,{"$f":"IF(C684<>\"\",IF(ISNA(VLOOKUP(C684,Katastralgemeinden!$A$2:$B$3041,2,FALSE)),\"Ungültige KG-Nummer!\",VLOOKUP(C684,Katastralgemeinden!A$2:$B$3041,2,\"falsch\")),\"\")","v":""},null,null,null,null,null,null,null,null,"",0,{"$f":"IF('Anhang Grundstücksverzeichnis'!G684=Texte!$A$25,F684,0)","v":0},{"$f":"IF('Anhang Grundstücksverzeichnis'!G684=Texte!$A$26,F684,0)","v":0},{"$f":"IF('Anhang Grundstücksverzeichnis'!G684=Texte!$A$27,F684,0)","v":0},{"$f":"IF('Anhang Grundstücksverzeichnis'!G684=Texte!$A$28,F684,0)","v":0}]
[675,{"$f":"IF(C685<>\"\",IF(ISNA(VLOOKUP(C685,Katastralgemeinden!$A$2:$B$3041,2,FALSE)),\"Ungültige KG-Nummer!\",VLOOKUP(C685,Katastralgemeinden!A$2:$B$3041,2,\"falsch\")),\"\")","v":""},null,null,null,null,null,null,null,null,"",0,{"$f":"IF('Anhang Grundstücksverzeichnis'!G685=Texte!$A$25,F685,0)","v":0},{"$f":"IF('Anhang Grundstücksverzeichnis'!G685=Texte!$A$26,F685,0)","v":0},{"$f":"IF('Anhang Grundstücksverzeichnis'!G685=Texte!$A$27,F685,0)","v":0},{"$f":"IF('Anhang Grundstücksverzeichnis'!G685=Texte!$A$28,F685,0)","v":0}]
[676,{"$f":"IF(C686<>\"\",IF(ISNA(VLOOKUP(C686,Katastralgemeinden!$A$2:$B$3041,2,FALSE)),\"Ungültige KG-Nummer!\",VLOOKUP(C686,Katastralgemeinden!A$2:$B$3041,2,\"falsch\")),\"\")","v":""},null,null,null,null,null,null,null,null,"",0,{"$f":"IF('Anhang Grundstücksverzeichnis'!G686=Texte!$A$25,F686,0)","v":0},{"$f":"IF('Anhang Grundstücksverzeichnis'!G686=Texte!$A$26,F686,0)","v":0},{"$f":"IF('Anhang Grundstücksverzeichnis'!G686=Texte!$A$27,F686,0)","v":0},{"$f":"IF('Anhang Grundstücksverzeichnis'!G686=Texte!$A$28,F686,0)","v":0}]
[677,{"$f":"IF(C687<>\"\",IF(ISNA(VLOOKUP(C687,Katastralgemeinden!$A$2:$B$3041,2,FALSE)),\"Ungültige KG-Nummer!\",VLOOKUP(C687,Katastralgemeinden!A$2:$B$3041,2,\"falsch\")),\"\")","v":""},null,null,null,null,null,null,null,null,"",0,{"$f":"IF('Anhang Grundstücksverzeichnis'!G687=Texte!$A$25,F687,0)","v":0},{"$f":"IF('Anhang Grundstücksverzeichnis'!G687=Texte!$A$26,F687,0)","v":0},{"$f":"IF('Anhang Grundstücksverzeichnis'!G687=Texte!$A$27,F687,0)","v":0},{"$f":"IF('Anhang Grundstücksverzeichnis'!G687=Texte!$A$28,F687,0)","v":0}]
[678,{"$f":"IF(C688<>\"\",IF(ISNA(VLOOKUP(C688,Katastralgemeinden!$A$2:$B$3041,2,FALSE)),\"Ungültige KG-Nummer!\",VLOOKUP(C688,Katastralgemeinden!A$2:$B$3041,2,\"falsch\")),\"\")","v":""},null,null,null,null,null,null,null,null,"",0,{"$f":"IF('Anhang Grundstücksverzeichnis'!G688=Texte!$A$25,F688,0)","v":0},{"$f":"IF('Anhang Grundstücksverzeichnis'!G688=Texte!$A$26,F688,0)","v":0},{"$f":"IF('Anhang Grundstücksverzeichnis'!G688=Texte!$A$27,F688,0)","v":0},{"$f":"IF('Anhang Grundstücksverzeichnis'!G688=Texte!$A$28,F688,0)","v":0}]
[679,{"$f":"IF(C689<>\"\",IF(ISNA(VLOOKUP(C689,Katastralgemeinden!$A$2:$B$3041,2,FALSE)),\"Ungültige KG-Nummer!\",VLOOKUP(C689,Katastralgemeinden!A$2:$B$3041,2,\"falsch\")),\"\")","v":""},null,null,null,null,null,null,null,null,"",0,{"$f":"IF('Anhang Grundstücksverzeichnis'!G689=Texte!$A$25,F689,0)","v":0},{"$f":"IF('Anhang Grundstücksverzeichnis'!G689=Texte!$A$26,F689,0)","v":0},{"$f":"IF('Anhang Grundstücksverzeichnis'!G689=Texte!$A$27,F689,0)","v":0},{"$f":"IF('Anhang Grundstücksverzeichnis'!G689=Texte!$A$28,F689,0)","v":0}]
[680,{"$f":"IF(C690<>\"\",IF(ISNA(VLOOKUP(C690,Katastralgemeinden!$A$2:$B$3041,2,FALSE)),\"Ungültige KG-Nummer!\",VLOOKUP(C690,Katastralgemeinden!A$2:$B$3041,2,\"falsch\")),\"\")","v":""},null,null,null,null,null,null,null,null,"",0,{"$f":"IF('Anhang Grundstücksverzeichnis'!G690=Texte!$A$25,F690,0)","v":0},{"$f":"IF('Anhang Grundstücksverzeichnis'!G690=Texte!$A$26,F690,0)","v":0},{"$f":"IF('Anhang Grundstücksverzeichnis'!G690=Texte!$A$27,F690,0)","v":0},{"$f":"IF('Anhang Grundstücksverzeichnis'!G690=Texte!$A$28,F690,0)","v":0}]
[681,{"$f":"IF(C691<>\"\",IF(ISNA(VLOOKUP(C691,Katastralgemeinden!$A$2:$B$3041,2,FALSE)),\"Ungültige KG-Nummer!\",VLOOKUP(C691,Katastralgemeinden!A$2:$B$3041,2,\"falsch\")),\"\")","v":""},null,null,null,null,null,null,null,null,"",0,{"$f":"IF('Anhang Grundstücksverzeichnis'!G691=Texte!$A$25,F691,0)","v":0},{"$f":"IF('Anhang Grundstücksverzeichnis'!G691=Texte!$A$26,F691,0)","v":0},{"$f":"IF('Anhang Grundstücksverzeichnis'!G691=Texte!$A$27,F691,0)","v":0},{"$f":"IF('Anhang Grundstücksverzeichnis'!G691=Texte!$A$28,F691,0)","v":0}]
[682,{"$f":"IF(C692<>\"\",IF(ISNA(VLOOKUP(C692,Katastralgemeinden!$A$2:$B$3041,2,FALSE)),\"Ungültige KG-Nummer!\",VLOOKUP(C692,Katastralgemeinden!A$2:$B$3041,2,\"falsch\")),\"\")","v":""},null,null,null,null,null,null,null,null,"",0,{"$f":"IF('Anhang Grundstücksverzeichnis'!G692=Texte!$A$25,F692,0)","v":0},{"$f":"IF('Anhang Grundstücksverzeichnis'!G692=Texte!$A$26,F692,0)","v":0},{"$f":"IF('Anhang Grundstücksverzeichnis'!G692=Texte!$A$27,F692,0)","v":0},{"$f":"IF('Anhang Grundstücksverzeichnis'!G692=Texte!$A$28,F692,0)","v":0}]
[683,{"$f":"IF(C693<>\"\",IF(ISNA(VLOOKUP(C693,Katastralgemeinden!$A$2:$B$3041,2,FALSE)),\"Ungültige KG-Nummer!\",VLOOKUP(C693,Katastralgemeinden!A$2:$B$3041,2,\"falsch\")),\"\")","v":""},null,null,null,null,null,null,null,null,"",0,{"$f":"IF('Anhang Grundstücksverzeichnis'!G693=Texte!$A$25,F693,0)","v":0},{"$f":"IF('Anhang Grundstücksverzeichnis'!G693=Texte!$A$26,F693,0)","v":0},{"$f":"IF('Anhang Grundstücksverzeichnis'!G693=Texte!$A$27,F693,0)","v":0},{"$f":"IF('Anhang Grundstücksverzeichnis'!G693=Texte!$A$28,F693,0)","v":0}]
[684,{"$f":"IF(C694<>\"\",IF(ISNA(VLOOKUP(C694,Katastralgemeinden!$A$2:$B$3041,2,FALSE)),\"Ungültige KG-Nummer!\",VLOOKUP(C694,Katastralgemeinden!A$2:$B$3041,2,\"falsch\")),\"\")","v":""},null,null,null,null,null,null,null,null,"",0,{"$f":"IF('Anhang Grundstücksverzeichnis'!G694=Texte!$A$25,F694,0)","v":0},{"$f":"IF('Anhang Grundstücksverzeichnis'!G694=Texte!$A$26,F694,0)","v":0},{"$f":"IF('Anhang Grundstücksverzeichnis'!G694=Texte!$A$27,F694,0)","v":0},{"$f":"IF('Anhang Grundstücksverzeichnis'!G694=Texte!$A$28,F694,0)","v":0}]
[685,{"$f":"IF(C695<>\"\",IF(ISNA(VLOOKUP(C695,Katastralgemeinden!$A$2:$B$3041,2,FALSE)),\"Ungültige KG-Nummer!\",VLOOKUP(C695,Katastralgemeinden!A$2:$B$3041,2,\"falsch\")),\"\")","v":""},null,null,null,null,null,null,null,null,"",0,{"$f":"IF('Anhang Grundstücksverzeichnis'!G695=Texte!$A$25,F695,0)","v":0},{"$f":"IF('Anhang Grundstücksverzeichnis'!G695=Texte!$A$26,F695,0)","v":0},{"$f":"IF('Anhang Grundstücksverzeichnis'!G695=Texte!$A$27,F695,0)","v":0},{"$f":"IF('Anhang Grundstücksverzeichnis'!G695=Texte!$A$28,F695,0)","v":0}]
[686,{"$f":"IF(C696<>\"\",IF(ISNA(VLOOKUP(C696,Katastralgemeinden!$A$2:$B$3041,2,FALSE)),\"Ungültige KG-Nummer!\",VLOOKUP(C696,Katastralgemeinden!A$2:$B$3041,2,\"falsch\")),\"\")","v":""},null,null,null,null,null,null,null,null,"",0,{"$f":"IF('Anhang Grundstücksverzeichnis'!G696=Texte!$A$25,F696,0)","v":0},{"$f":"IF('Anhang Grundstücksverzeichnis'!G696=Texte!$A$26,F696,0)","v":0},{"$f":"IF('Anhang Grundstücksverzeichnis'!G696=Texte!$A$27,F696,0)","v":0},{"$f":"IF('Anhang Grundstücksverzeichnis'!G696=Texte!$A$28,F696,0)","v":0}]
[687,{"$f":"IF(C697<>\"\",IF(ISNA(VLOOKUP(C697,Katastralgemeinden!$A$2:$B$3041,2,FALSE)),\"Ungültige KG-Nummer!\",VLOOKUP(C697,Katastralgemeinden!A$2:$B$3041,2,\"falsch\")),\"\")","v":""},null,null,null,null,null,null,null,null,"",0,{"$f":"IF('Anhang Grundstücksverzeichnis'!G697=Texte!$A$25,F697,0)","v":0},{"$f":"IF('Anhang Grundstücksverzeichnis'!G697=Texte!$A$26,F697,0)","v":0},{"$f":"IF('Anhang Grundstücksverzeichnis'!G697=Texte!$A$27,F697,0)","v":0},{"$f":"IF('Anhang Grundstücksverzeichnis'!G697=Texte!$A$28,F697,0)","v":0}]
[688,{"$f":"IF(C698<>\"\",IF(ISNA(VLOOKUP(C698,Katastralgemeinden!$A$2:$B$3041,2,FALSE)),\"Ungültige KG-Nummer!\",VLOOKUP(C698,Katastralgemeinden!A$2:$B$3041,2,\"falsch\")),\"\")","v":""},null,null,null,null,null,null,null,null,"",0,{"$f":"IF('Anhang Grundstücksverzeichnis'!G698=Texte!$A$25,F698,0)","v":0},{"$f":"IF('Anhang Grundstücksverzeichnis'!G698=Texte!$A$26,F698,0)","v":0},{"$f":"IF('Anhang Grundstücksverzeichnis'!G698=Texte!$A$27,F698,0)","v":0},{"$f":"IF('Anhang Grundstücksverzeichnis'!G698=Texte!$A$28,F698,0)","v":0}]
[689,{"$f":"IF(C699<>\"\",IF(ISNA(VLOOKUP(C699,Katastralgemeinden!$A$2:$B$3041,2,FALSE)),\"Ungültige KG-Nummer!\",VLOOKUP(C699,Katastralgemeinden!A$2:$B$3041,2,\"falsch\")),\"\")","v":""},null,null,null,null,null,null,null,null,"",0,{"$f":"IF('Anhang Grundstücksverzeichnis'!G699=Texte!$A$25,F699,0)","v":0},{"$f":"IF('Anhang Grundstücksverzeichnis'!G699=Texte!$A$26,F699,0)","v":0},{"$f":"IF('Anhang Grundstücksverzeichnis'!G699=Texte!$A$27,F699,0)","v":0},{"$f":"IF('Anhang Grundstücksverzeichnis'!G699=Texte!$A$28,F699,0)","v":0}]
[690,{"$f":"IF(C700<>\"\",IF(ISNA(VLOOKUP(C700,Katastralgemeinden!$A$2:$B$3041,2,FALSE)),\"Ungültige KG-Nummer!\",VLOOKUP(C700,Katastralgemeinden!A$2:$B$3041,2,\"falsch\")),\"\")","v":""},null,null,null,null,null,null,null,null,"",0,{"$f":"IF('Anhang Grundstücksverzeichnis'!G700=Texte!$A$25,F700,0)","v":0},{"$f":"IF('Anhang Grundstücksverzeichnis'!G700=Texte!$A$26,F700,0)","v":0},{"$f":"IF('Anhang Grundstücksverzeichnis'!G700=Texte!$A$27,F700,0)","v":0},{"$f":"IF('Anhang Grundstücksverzeichnis'!G700=Texte!$A$28,F700,0)","v":0}]
[691,{"$f":"IF(C701<>\"\",IF(ISNA(VLOOKUP(C701,Katastralgemeinden!$A$2:$B$3041,2,FALSE)),\"Ungültige KG-Nummer!\",VLOOKUP(C701,Katastralgemeinden!A$2:$B$3041,2,\"falsch\")),\"\")","v":""},null,null,null,null,null,null,null,null,"",0,{"$f":"IF('Anhang Grundstücksverzeichnis'!G701=Texte!$A$25,F701,0)","v":0},{"$f":"IF('Anhang Grundstücksverzeichnis'!G701=Texte!$A$26,F701,0)","v":0},{"$f":"IF('Anhang Grundstücksverzeichnis'!G701=Texte!$A$27,F701,0)","v":0},{"$f":"IF('Anhang Grundstücksverzeichnis'!G701=Texte!$A$28,F701,0)","v":0}]
[692,{"$f":"IF(C702<>\"\",IF(ISNA(VLOOKUP(C702,Katastralgemeinden!$A$2:$B$3041,2,FALSE)),\"Ungültige KG-Nummer!\",VLOOKUP(C702,Katastralgemeinden!A$2:$B$3041,2,\"falsch\")),\"\")","v":""},null,null,null,null,null,null,null,null,"",0,{"$f":"IF('Anhang Grundstücksverzeichnis'!G702=Texte!$A$25,F702,0)","v":0},{"$f":"IF('Anhang Grundstücksverzeichnis'!G702=Texte!$A$26,F702,0)","v":0},{"$f":"IF('Anhang Grundstücksverzeichnis'!G702=Texte!$A$27,F702,0)","v":0},{"$f":"IF('Anhang Grundstücksverzeichnis'!G702=Texte!$A$28,F702,0)","v":0}]
[693,{"$f":"IF(C703<>\"\",IF(ISNA(VLOOKUP(C703,Katastralgemeinden!$A$2:$B$3041,2,FALSE)),\"Ungültige KG-Nummer!\",VLOOKUP(C703,Katastralgemeinden!A$2:$B$3041,2,\"falsch\")),\"\")","v":""},null,null,null,null,null,null,null,null,"",0,{"$f":"IF('Anhang Grundstücksverzeichnis'!G703=Texte!$A$25,F703,0)","v":0},{"$f":"IF('Anhang Grundstücksverzeichnis'!G703=Texte!$A$26,F703,0)","v":0},{"$f":"IF('Anhang Grundstücksverzeichnis'!G703=Texte!$A$27,F703,0)","v":0},{"$f":"IF('Anhang Grundstücksverzeichnis'!G703=Texte!$A$28,F703,0)","v":0}]
[694,{"$f":"IF(C704<>\"\",IF(ISNA(VLOOKUP(C704,Katastralgemeinden!$A$2:$B$3041,2,FALSE)),\"Ungültige KG-Nummer!\",VLOOKUP(C704,Katastralgemeinden!A$2:$B$3041,2,\"falsch\")),\"\")","v":""},null,null,null,null,null,null,null,null,"",0,{"$f":"IF('Anhang Grundstücksverzeichnis'!G704=Texte!$A$25,F704,0)","v":0},{"$f":"IF('Anhang Grundstücksverzeichnis'!G704=Texte!$A$26,F704,0)","v":0},{"$f":"IF('Anhang Grundstücksverzeichnis'!G704=Texte!$A$27,F704,0)","v":0},{"$f":"IF('Anhang Grundstücksverzeichnis'!G704=Texte!$A$28,F704,0)","v":0}]
[695,{"$f":"IF(C705<>\"\",IF(ISNA(VLOOKUP(C705,Katastralgemeinden!$A$2:$B$3041,2,FALSE)),\"Ungültige KG-Nummer!\",VLOOKUP(C705,Katastralgemeinden!A$2:$B$3041,2,\"falsch\")),\"\")","v":""},null,null,null,null,null,null,null,null,"",0,{"$f":"IF('Anhang Grundstücksverzeichnis'!G705=Texte!$A$25,F705,0)","v":0},{"$f":"IF('Anhang Grundstücksverzeichnis'!G705=Texte!$A$26,F705,0)","v":0},{"$f":"IF('Anhang Grundstücksverzeichnis'!G705=Texte!$A$27,F705,0)","v":0},{"$f":"IF('Anhang Grundstücksverzeichnis'!G705=Texte!$A$28,F705,0)","v":0}]
[696,{"$f":"IF(C706<>\"\",IF(ISNA(VLOOKUP(C706,Katastralgemeinden!$A$2:$B$3041,2,FALSE)),\"Ungültige KG-Nummer!\",VLOOKUP(C706,Katastralgemeinden!A$2:$B$3041,2,\"falsch\")),\"\")","v":""},null,null,null,null,null,null,null,null,"",0,{"$f":"IF('Anhang Grundstücksverzeichnis'!G706=Texte!$A$25,F706,0)","v":0},{"$f":"IF('Anhang Grundstücksverzeichnis'!G706=Texte!$A$26,F706,0)","v":0},{"$f":"IF('Anhang Grundstücksverzeichnis'!G706=Texte!$A$27,F706,0)","v":0},{"$f":"IF('Anhang Grundstücksverzeichnis'!G706=Texte!$A$28,F706,0)","v":0}]
[697,{"$f":"IF(C707<>\"\",IF(ISNA(VLOOKUP(C707,Katastralgemeinden!$A$2:$B$3041,2,FALSE)),\"Ungültige KG-Nummer!\",VLOOKUP(C707,Katastralgemeinden!A$2:$B$3041,2,\"falsch\")),\"\")","v":""},null,null,null,null,null,null,null,null,"",0,{"$f":"IF('Anhang Grundstücksverzeichnis'!G707=Texte!$A$25,F707,0)","v":0},{"$f":"IF('Anhang Grundstücksverzeichnis'!G707=Texte!$A$26,F707,0)","v":0},{"$f":"IF('Anhang Grundstücksverzeichnis'!G707=Texte!$A$27,F707,0)","v":0},{"$f":"IF('Anhang Grundstücksverzeichnis'!G707=Texte!$A$28,F707,0)","v":0}]
[698,{"$f":"IF(C708<>\"\",IF(ISNA(VLOOKUP(C708,Katastralgemeinden!$A$2:$B$3041,2,FALSE)),\"Ungültige KG-Nummer!\",VLOOKUP(C708,Katastralgemeinden!A$2:$B$3041,2,\"falsch\")),\"\")","v":""},null,null,null,null,null,null,null,null,"",0,{"$f":"IF('Anhang Grundstücksverzeichnis'!G708=Texte!$A$25,F708,0)","v":0},{"$f":"IF('Anhang Grundstücksverzeichnis'!G708=Texte!$A$26,F708,0)","v":0},{"$f":"IF('Anhang Grundstücksverzeichnis'!G708=Texte!$A$27,F708,0)","v":0},{"$f":"IF('Anhang Grundstücksverzeichnis'!G708=Texte!$A$28,F708,0)","v":0}]
[699,{"$f":"IF(C709<>\"\",IF(ISNA(VLOOKUP(C709,Katastralgemeinden!$A$2:$B$3041,2,FALSE)),\"Ungültige KG-Nummer!\",VLOOKUP(C709,Katastralgemeinden!A$2:$B$3041,2,\"falsch\")),\"\")","v":""},null,null,null,null,null,null,null,null,"",0,{"$f":"IF('Anhang Grundstücksverzeichnis'!G709=Texte!$A$25,F709,0)","v":0},{"$f":"IF('Anhang Grundstücksverzeichnis'!G709=Texte!$A$26,F709,0)","v":0},{"$f":"IF('Anhang Grundstücksverzeichnis'!G709=Texte!$A$27,F709,0)","v":0},{"$f":"IF('Anhang Grundstücksverzeichnis'!G709=Texte!$A$28,F709,0)","v":0}]
[700,{"$f":"IF(C710<>\"\",IF(ISNA(VLOOKUP(C710,Katastralgemeinden!$A$2:$B$3041,2,FALSE)),\"Ungültige KG-Nummer!\",VLOOKUP(C710,Katastralgemeinden!A$2:$B$3041,2,\"falsch\")),\"\")","v":""},null,null,null,null,null,null,null,null,"",0,{"$f":"IF('Anhang Grundstücksverzeichnis'!G710=Texte!$A$25,F710,0)","v":0},{"$f":"IF('Anhang Grundstücksverzeichnis'!G710=Texte!$A$26,F710,0)","v":0},{"$f":"IF('Anhang Grundstücksverzeichnis'!G710=Texte!$A$27,F710,0)","v":0},{"$f":"IF('Anhang Grundstücksverzeichnis'!G710=Texte!$A$28,F710,0)","v":0}]
[701,{"$f":"IF(C711<>\"\",IF(ISNA(VLOOKUP(C711,Katastralgemeinden!$A$2:$B$3041,2,FALSE)),\"Ungültige KG-Nummer!\",VLOOKUP(C711,Katastralgemeinden!A$2:$B$3041,2,\"falsch\")),\"\")","v":""},null,null,null,null,null,null,null,null,"",0,{"$f":"IF('Anhang Grundstücksverzeichnis'!G711=Texte!$A$25,F711,0)","v":0},{"$f":"IF('Anhang Grundstücksverzeichnis'!G711=Texte!$A$26,F711,0)","v":0},{"$f":"IF('Anhang Grundstücksverzeichnis'!G711=Texte!$A$27,F711,0)","v":0},{"$f":"IF('Anhang Grundstücksverzeichnis'!G711=Texte!$A$28,F711,0)","v":0}]
[702,{"$f":"IF(C712<>\"\",IF(ISNA(VLOOKUP(C712,Katastralgemeinden!$A$2:$B$3041,2,FALSE)),\"Ungültige KG-Nummer!\",VLOOKUP(C712,Katastralgemeinden!A$2:$B$3041,2,\"falsch\")),\"\")","v":""},null,null,null,null,null,null,null,null,"",0,{"$f":"IF('Anhang Grundstücksverzeichnis'!G712=Texte!$A$25,F712,0)","v":0},{"$f":"IF('Anhang Grundstücksverzeichnis'!G712=Texte!$A$26,F712,0)","v":0},{"$f":"IF('Anhang Grundstücksverzeichnis'!G712=Texte!$A$27,F712,0)","v":0},{"$f":"IF('Anhang Grundstücksverzeichnis'!G712=Texte!$A$28,F712,0)","v":0}]
[703,{"$f":"IF(C713<>\"\",IF(ISNA(VLOOKUP(C713,Katastralgemeinden!$A$2:$B$3041,2,FALSE)),\"Ungültige KG-Nummer!\",VLOOKUP(C713,Katastralgemeinden!A$2:$B$3041,2,\"falsch\")),\"\")","v":""},null,null,null,null,null,null,null,null,"",0,{"$f":"IF('Anhang Grundstücksverzeichnis'!G713=Texte!$A$25,F713,0)","v":0},{"$f":"IF('Anhang Grundstücksverzeichnis'!G713=Texte!$A$26,F713,0)","v":0},{"$f":"IF('Anhang Grundstücksverzeichnis'!G713=Texte!$A$27,F713,0)","v":0},{"$f":"IF('Anhang Grundstücksverzeichnis'!G713=Texte!$A$28,F713,0)","v":0}]
[704,{"$f":"IF(C714<>\"\",IF(ISNA(VLOOKUP(C714,Katastralgemeinden!$A$2:$B$3041,2,FALSE)),\"Ungültige KG-Nummer!\",VLOOKUP(C714,Katastralgemeinden!A$2:$B$3041,2,\"falsch\")),\"\")","v":""},null,null,null,null,null,null,null,null,"",0,{"$f":"IF('Anhang Grundstücksverzeichnis'!G714=Texte!$A$25,F714,0)","v":0},{"$f":"IF('Anhang Grundstücksverzeichnis'!G714=Texte!$A$26,F714,0)","v":0},{"$f":"IF('Anhang Grundstücksverzeichnis'!G714=Texte!$A$27,F714,0)","v":0},{"$f":"IF('Anhang Grundstücksverzeichnis'!G714=Texte!$A$28,F714,0)","v":0}]
[705,{"$f":"IF(C715<>\"\",IF(ISNA(VLOOKUP(C715,Katastralgemeinden!$A$2:$B$3041,2,FALSE)),\"Ungültige KG-Nummer!\",VLOOKUP(C715,Katastralgemeinden!A$2:$B$3041,2,\"falsch\")),\"\")","v":""},null,null,null,null,null,null,null,null,"",0,{"$f":"IF('Anhang Grundstücksverzeichnis'!G715=Texte!$A$25,F715,0)","v":0},{"$f":"IF('Anhang Grundstücksverzeichnis'!G715=Texte!$A$26,F715,0)","v":0},{"$f":"IF('Anhang Grundstücksverzeichnis'!G715=Texte!$A$27,F715,0)","v":0},{"$f":"IF('Anhang Grundstücksverzeichnis'!G715=Texte!$A$28,F715,0)","v":0}]
[706,{"$f":"IF(C716<>\"\",IF(ISNA(VLOOKUP(C716,Katastralgemeinden!$A$2:$B$3041,2,FALSE)),\"Ungültige KG-Nummer!\",VLOOKUP(C716,Katastralgemeinden!A$2:$B$3041,2,\"falsch\")),\"\")","v":""},null,null,null,null,null,null,null,null,{"$f":"IF(G716<>\"\",IF(G716=\"Eigengrundfläche\",0,IF(G716=\"Vorpachtfläche\",1,IF(G716=\"Abrundung +\",3,IF(G716=\"Abrundung -\",4,5)))),\"\")","v":""},{"$f":"IF(OR(LOWER(H716)=\"x\",LOWER(H716)=\"j\"),1,0)","v":0},{"$f":"IF('Anhang Grundstücksverzeichnis'!G716=Texte!$A$25,F716,0)","v":0},{"$f":"IF('Anhang Grundstücksverzeichnis'!G716=Texte!$A$26,F716,0)","v":0},{"$f":"IF('Anhang Grundstücksverzeichnis'!G716=Texte!$A$27,F716,0)","v":0},{"$f":"IF('Anhang Grundstücksverzeichnis'!G716=Texte!$A$28,F716,0)","v":0}]
[707,{"$f":"IF(C717<>\"\",IF(ISNA(VLOOKUP(C717,Katastralgemeinden!$A$2:$B$3041,2,FALSE)),\"Ungültige KG-Nummer!\",VLOOKUP(C717,Katastralgemeinden!A$2:$B$3041,2,\"falsch\")),\"\")","v":""},null,null,null,null,null,null,null,null,"",0,{"$f":"IF('Anhang Grundstücksverzeichnis'!G717=Texte!$A$25,F717,0)","v":0},{"$f":"IF('Anhang Grundstücksverzeichnis'!G717=Texte!$A$26,F717,0)","v":0},{"$f":"IF('Anhang Grundstücksverzeichnis'!G717=Texte!$A$27,F717,0)","v":0},{"$f":"IF('Anhang Grundstücksverzeichnis'!G717=Texte!$A$28,F717,0)","v":0}]
[708,{"$f":"IF(C718<>\"\",IF(ISNA(VLOOKUP(C718,Katastralgemeinden!$A$2:$B$3041,2,FALSE)),\"Ungültige KG-Nummer!\",VLOOKUP(C718,Katastralgemeinden!A$2:$B$3041,2,\"falsch\")),\"\")","v":""},null,null,null,null,null,null,null,null,"",0,{"$f":"IF('Anhang Grundstücksverzeichnis'!G718=Texte!$A$25,F718,0)","v":0},{"$f":"IF('Anhang Grundstücksverzeichnis'!G718=Texte!$A$26,F718,0)","v":0},{"$f":"IF('Anhang Grundstücksverzeichnis'!G718=Texte!$A$27,F718,0)","v":0},{"$f":"IF('Anhang Grundstücksverzeichnis'!G718=Texte!$A$28,F718,0)","v":0}]
[709,{"$f":"IF(C719<>\"\",IF(ISNA(VLOOKUP(C719,Katastralgemeinden!$A$2:$B$3041,2,FALSE)),\"Ungültige KG-Nummer!\",VLOOKUP(C719,Katastralgemeinden!A$2:$B$3041,2,\"falsch\")),\"\")","v":""},null,null,null,null,null,null,null,null,"",0,{"$f":"IF('Anhang Grundstücksverzeichnis'!G719=Texte!$A$25,F719,0)","v":0},{"$f":"IF('Anhang Grundstücksverzeichnis'!G719=Texte!$A$26,F719,0)","v":0},{"$f":"IF('Anhang Grundstücksverzeichnis'!G719=Texte!$A$27,F719,0)","v":0},{"$f":"IF('Anhang Grundstücksverzeichnis'!G719=Texte!$A$28,F719,0)","v":0}]
[710,{"$f":"IF(C720<>\"\",IF(ISNA(VLOOKUP(C720,Katastralgemeinden!$A$2:$B$3041,2,FALSE)),\"Ungültige KG-Nummer!\",VLOOKUP(C720,Katastralgemeinden!A$2:$B$3041,2,\"falsch\")),\"\")","v":""},null,null,null,null,null,null,null,null,"",0,{"$f":"IF('Anhang Grundstücksverzeichnis'!G720=Texte!$A$25,F720,0)","v":0},{"$f":"IF('Anhang Grundstücksverzeichnis'!G720=Texte!$A$26,F720,0)","v":0},{"$f":"IF('Anhang Grundstücksverzeichnis'!G720=Texte!$A$27,F720,0)","v":0},{"$f":"IF('Anhang Grundstücksverzeichnis'!G720=Texte!$A$28,F720,0)","v":0}]
[711,{"$f":"IF(C721<>\"\",IF(ISNA(VLOOKUP(C721,Katastralgemeinden!$A$2:$B$3041,2,FALSE)),\"Ungültige KG-Nummer!\",VLOOKUP(C721,Katastralgemeinden!A$2:$B$3041,2,\"falsch\")),\"\")","v":""},null,null,null,null,null,null,null,null,"",0,{"$f":"IF('Anhang Grundstücksverzeichnis'!G721=Texte!$A$25,F721,0)","v":0},{"$f":"IF('Anhang Grundstücksverzeichnis'!G721=Texte!$A$26,F721,0)","v":0},{"$f":"IF('Anhang Grundstücksverzeichnis'!G721=Texte!$A$27,F721,0)","v":0},{"$f":"IF('Anhang Grundstücksverzeichnis'!G721=Texte!$A$28,F721,0)","v":0}]
[712,{"$f":"IF(C722<>\"\",IF(ISNA(VLOOKUP(C722,Katastralgemeinden!$A$2:$B$3041,2,FALSE)),\"Ungültige KG-Nummer!\",VLOOKUP(C722,Katastralgemeinden!A$2:$B$3041,2,\"falsch\")),\"\")","v":""},null,null,null,null,null,null,null,null,"",0,{"$f":"IF('Anhang Grundstücksverzeichnis'!G722=Texte!$A$25,F722,0)","v":0},{"$f":"IF('Anhang Grundstücksverzeichnis'!G722=Texte!$A$26,F722,0)","v":0},{"$f":"IF('Anhang Grundstücksverzeichnis'!G722=Texte!$A$27,F722,0)","v":0},{"$f":"IF('Anhang Grundstücksverzeichnis'!G722=Texte!$A$28,F722,0)","v":0}]
[713,{"$f":"IF(C723<>\"\",IF(ISNA(VLOOKUP(C723,Katastralgemeinden!$A$2:$B$3041,2,FALSE)),\"Ungültige KG-Nummer!\",VLOOKUP(C723,Katastralgemeinden!A$2:$B$3041,2,\"falsch\")),\"\")","v":""},null,null,null,null,null,null,null,null,"",0,{"$f":"IF('Anhang Grundstücksverzeichnis'!G723=Texte!$A$25,F723,0)","v":0},{"$f":"IF('Anhang Grundstücksverzeichnis'!G723=Texte!$A$26,F723,0)","v":0},{"$f":"IF('Anhang Grundstücksverzeichnis'!G723=Texte!$A$27,F723,0)","v":0},{"$f":"IF('Anhang Grundstücksverzeichnis'!G723=Texte!$A$28,F723,0)","v":0}]
[714,{"$f":"IF(C724<>\"\",IF(ISNA(VLOOKUP(C724,Katastralgemeinden!$A$2:$B$3041,2,FALSE)),\"Ungültige KG-Nummer!\",VLOOKUP(C724,Katastralgemeinden!A$2:$B$3041,2,\"falsch\")),\"\")","v":""},null,null,null,null,null,null,null,null,"",0,{"$f":"IF('Anhang Grundstücksverzeichnis'!G724=Texte!$A$25,F724,0)","v":0},{"$f":"IF('Anhang Grundstücksverzeichnis'!G724=Texte!$A$26,F724,0)","v":0},{"$f":"IF('Anhang Grundstücksverzeichnis'!G724=Texte!$A$27,F724,0)","v":0},{"$f":"IF('Anhang Grundstücksverzeichnis'!G724=Texte!$A$28,F724,0)","v":0}]
[715,{"$f":"IF(C725<>\"\",IF(ISNA(VLOOKUP(C725,Katastralgemeinden!$A$2:$B$3041,2,FALSE)),\"Ungültige KG-Nummer!\",VLOOKUP(C725,Katastralgemeinden!A$2:$B$3041,2,\"falsch\")),\"\")","v":""},null,null,null,null,null,null,null,null,"",0,{"$f":"IF('Anhang Grundstücksverzeichnis'!G725=Texte!$A$25,F725,0)","v":0},{"$f":"IF('Anhang Grundstücksverzeichnis'!G725=Texte!$A$26,F725,0)","v":0},{"$f":"IF('Anhang Grundstücksverzeichnis'!G725=Texte!$A$27,F725,0)","v":0},{"$f":"IF('Anhang Grundstücksverzeichnis'!G725=Texte!$A$28,F725,0)","v":0}]
[716,{"$f":"IF(C726<>\"\",IF(ISNA(VLOOKUP(C726,Katastralgemeinden!$A$2:$B$3041,2,FALSE)),\"Ungültige KG-Nummer!\",VLOOKUP(C726,Katastralgemeinden!A$2:$B$3041,2,\"falsch\")),\"\")","v":""},null,null,null,null,null,null,null,null,"",0,{"$f":"IF('Anhang Grundstücksverzeichnis'!G726=Texte!$A$25,F726,0)","v":0},{"$f":"IF('Anhang Grundstücksverzeichnis'!G726=Texte!$A$26,F726,0)","v":0},{"$f":"IF('Anhang Grundstücksverzeichnis'!G726=Texte!$A$27,F726,0)","v":0},{"$f":"IF('Anhang Grundstücksverzeichnis'!G726=Texte!$A$28,F726,0)","v":0}]
[717,{"$f":"IF(C727<>\"\",IF(ISNA(VLOOKUP(C727,Katastralgemeinden!$A$2:$B$3041,2,FALSE)),\"Ungültige KG-Nummer!\",VLOOKUP(C727,Katastralgemeinden!A$2:$B$3041,2,\"falsch\")),\"\")","v":""},null,null,null,null,null,null,null,null,"",0,{"$f":"IF('Anhang Grundstücksverzeichnis'!G727=Texte!$A$25,F727,0)","v":0},{"$f":"IF('Anhang Grundstücksverzeichnis'!G727=Texte!$A$26,F727,0)","v":0},{"$f":"IF('Anhang Grundstücksverzeichnis'!G727=Texte!$A$27,F727,0)","v":0},{"$f":"IF('Anhang Grundstücksverzeichnis'!G727=Texte!$A$28,F727,0)","v":0}]
[718,{"$f":"IF(C728<>\"\",IF(ISNA(VLOOKUP(C728,Katastralgemeinden!$A$2:$B$3041,2,FALSE)),\"Ungültige KG-Nummer!\",VLOOKUP(C728,Katastralgemeinden!A$2:$B$3041,2,\"falsch\")),\"\")","v":""},null,null,null,null,null,null,null,null,"",0,{"$f":"IF('Anhang Grundstücksverzeichnis'!G728=Texte!$A$25,F728,0)","v":0},{"$f":"IF('Anhang Grundstücksverzeichnis'!G728=Texte!$A$26,F728,0)","v":0},{"$f":"IF('Anhang Grundstücksverzeichnis'!G728=Texte!$A$27,F728,0)","v":0},{"$f":"IF('Anhang Grundstücksverzeichnis'!G728=Texte!$A$28,F728,0)","v":0}]
[719,{"$f":"IF(C729<>\"\",IF(ISNA(VLOOKUP(C729,Katastralgemeinden!$A$2:$B$3041,2,FALSE)),\"Ungültige KG-Nummer!\",VLOOKUP(C729,Katastralgemeinden!A$2:$B$3041,2,\"falsch\")),\"\")","v":""},null,null,null,null,null,null,null,null,"",0,{"$f":"IF('Anhang Grundstücksverzeichnis'!G729=Texte!$A$25,F729,0)","v":0},{"$f":"IF('Anhang Grundstücksverzeichnis'!G729=Texte!$A$26,F729,0)","v":0},{"$f":"IF('Anhang Grundstücksverzeichnis'!G729=Texte!$A$27,F729,0)","v":0},{"$f":"IF('Anhang Grundstücksverzeichnis'!G729=Texte!$A$28,F729,0)","v":0}]
[720,{"$f":"IF(C730<>\"\",IF(ISNA(VLOOKUP(C730,Katastralgemeinden!$A$2:$B$3041,2,FALSE)),\"Ungültige KG-Nummer!\",VLOOKUP(C730,Katastralgemeinden!A$2:$B$3041,2,\"falsch\")),\"\")","v":""},null,null,null,null,null,null,null,null,"",0,{"$f":"IF('Anhang Grundstücksverzeichnis'!G730=Texte!$A$25,F730,0)","v":0},{"$f":"IF('Anhang Grundstücksverzeichnis'!G730=Texte!$A$26,F730,0)","v":0},{"$f":"IF('Anhang Grundstücksverzeichnis'!G730=Texte!$A$27,F730,0)","v":0},{"$f":"IF('Anhang Grundstücksverzeichnis'!G730=Texte!$A$28,F730,0)","v":0}]
[721,{"$f":"IF(C731<>\"\",IF(ISNA(VLOOKUP(C731,Katastralgemeinden!$A$2:$B$3041,2,FALSE)),\"Ungültige KG-Nummer!\",VLOOKUP(C731,Katastralgemeinden!A$2:$B$3041,2,\"falsch\")),\"\")","v":""},null,null,null,null,null,null,null,null,"",0,{"$f":"IF('Anhang Grundstücksverzeichnis'!G731=Texte!$A$25,F731,0)","v":0},{"$f":"IF('Anhang Grundstücksverzeichnis'!G731=Texte!$A$26,F731,0)","v":0},{"$f":"IF('Anhang Grundstücksverzeichnis'!G731=Texte!$A$27,F731,0)","v":0},{"$f":"IF('Anhang Grundstücksverzeichnis'!G731=Texte!$A$28,F731,0)","v":0}]
[722,{"$f":"IF(C732<>\"\",IF(ISNA(VLOOKUP(C732,Katastralgemeinden!$A$2:$B$3041,2,FALSE)),\"Ungültige KG-Nummer!\",VLOOKUP(C732,Katastralgemeinden!A$2:$B$3041,2,\"falsch\")),\"\")","v":""},null,null,null,null,null,null,null,null,"",0,{"$f":"IF('Anhang Grundstücksverzeichnis'!G732=Texte!$A$25,F732,0)","v":0},{"$f":"IF('Anhang Grundstücksverzeichnis'!G732=Texte!$A$26,F732,0)","v":0},{"$f":"IF('Anhang Grundstücksverzeichnis'!G732=Texte!$A$27,F732,0)","v":0},{"$f":"IF('Anhang Grundstücksverzeichnis'!G732=Texte!$A$28,F732,0)","v":0}]
[723,{"$f":"IF(C733<>\"\",IF(ISNA(VLOOKUP(C733,Katastralgemeinden!$A$2:$B$3041,2,FALSE)),\"Ungültige KG-Nummer!\",VLOOKUP(C733,Katastralgemeinden!A$2:$B$3041,2,\"falsch\")),\"\")","v":""},null,null,null,null,null,null,null,null,"",0,{"$f":"IF('Anhang Grundstücksverzeichnis'!G733=Texte!$A$25,F733,0)","v":0},{"$f":"IF('Anhang Grundstücksverzeichnis'!G733=Texte!$A$26,F733,0)","v":0},{"$f":"IF('Anhang Grundstücksverzeichnis'!G733=Texte!$A$27,F733,0)","v":0},{"$f":"IF('Anhang Grundstücksverzeichnis'!G733=Texte!$A$28,F733,0)","v":0}]
[724,{"$f":"IF(C734<>\"\",IF(ISNA(VLOOKUP(C734,Katastralgemeinden!$A$2:$B$3041,2,FALSE)),\"Ungültige KG-Nummer!\",VLOOKUP(C734,Katastralgemeinden!A$2:$B$3041,2,\"falsch\")),\"\")","v":""},null,null,null,null,null,null,null,null,"",0,{"$f":"IF('Anhang Grundstücksverzeichnis'!G734=Texte!$A$25,F734,0)","v":0},{"$f":"IF('Anhang Grundstücksverzeichnis'!G734=Texte!$A$26,F734,0)","v":0},{"$f":"IF('Anhang Grundstücksverzeichnis'!G734=Texte!$A$27,F734,0)","v":0},{"$f":"IF('Anhang Grundstücksverzeichnis'!G734=Texte!$A$28,F734,0)","v":0}]
[725,{"$f":"IF(C735<>\"\",IF(ISNA(VLOOKUP(C735,Katastralgemeinden!$A$2:$B$3041,2,FALSE)),\"Ungültige KG-Nummer!\",VLOOKUP(C735,Katastralgemeinden!A$2:$B$3041,2,\"falsch\")),\"\")","v":""},null,null,null,null,null,null,null,null,"",0,{"$f":"IF('Anhang Grundstücksverzeichnis'!G735=Texte!$A$25,F735,0)","v":0},{"$f":"IF('Anhang Grundstücksverzeichnis'!G735=Texte!$A$26,F735,0)","v":0},{"$f":"IF('Anhang Grundstücksverzeichnis'!G735=Texte!$A$27,F735,0)","v":0},{"$f":"IF('Anhang Grundstücksverzeichnis'!G735=Texte!$A$28,F735,0)","v":0}]
[726,{"$f":"IF(C736<>\"\",IF(ISNA(VLOOKUP(C736,Katastralgemeinden!$A$2:$B$3041,2,FALSE)),\"Ungültige KG-Nummer!\",VLOOKUP(C736,Katastralgemeinden!A$2:$B$3041,2,\"falsch\")),\"\")","v":""},null,null,null,null,null,null,null,null,"",0,{"$f":"IF('Anhang Grundstücksverzeichnis'!G736=Texte!$A$25,F736,0)","v":0},{"$f":"IF('Anhang Grundstücksverzeichnis'!G736=Texte!$A$26,F736,0)","v":0},{"$f":"IF('Anhang Grundstücksverzeichnis'!G736=Texte!$A$27,F736,0)","v":0},{"$f":"IF('Anhang Grundstücksverzeichnis'!G736=Texte!$A$28,F736,0)","v":0}]
[727,{"$f":"IF(C737<>\"\",IF(ISNA(VLOOKUP(C737,Katastralgemeinden!$A$2:$B$3041,2,FALSE)),\"Ungültige KG-Nummer!\",VLOOKUP(C737,Katastralgemeinden!A$2:$B$3041,2,\"falsch\")),\"\")","v":""},null,null,null,null,null,null,null,null,"",0,{"$f":"IF('Anhang Grundstücksverzeichnis'!G737=Texte!$A$25,F737,0)","v":0},{"$f":"IF('Anhang Grundstücksverzeichnis'!G737=Texte!$A$26,F737,0)","v":0},{"$f":"IF('Anhang Grundstücksverzeichnis'!G737=Texte!$A$27,F737,0)","v":0},{"$f":"IF('Anhang Grundstücksverzeichnis'!G737=Texte!$A$28,F737,0)","v":0}]
[728,{"$f":"IF(C738<>\"\",IF(ISNA(VLOOKUP(C738,Katastralgemeinden!$A$2:$B$3041,2,FALSE)),\"Ungültige KG-Nummer!\",VLOOKUP(C738,Katastralgemeinden!A$2:$B$3041,2,\"falsch\")),\"\")","v":""},null,null,null,null,null,null,null,null,"",0,{"$f":"IF('Anhang Grundstücksverzeichnis'!G738=Texte!$A$25,F738,0)","v":0},{"$f":"IF('Anhang Grundstücksverzeichnis'!G738=Texte!$A$26,F738,0)","v":0},{"$f":"IF('Anhang Grundstücksverzeichnis'!G738=Texte!$A$27,F738,0)","v":0},{"$f":"IF('Anhang Grundstücksverzeichnis'!G738=Texte!$A$28,F738,0)","v":0}]
[729,{"$f":"IF(C739<>\"\",IF(ISNA(VLOOKUP(C739,Katastralgemeinden!$A$2:$B$3041,2,FALSE)),\"Ungültige KG-Nummer!\",VLOOKUP(C739,Katastralgemeinden!A$2:$B$3041,2,\"falsch\")),\"\")","v":""},null,null,null,null,null,null,null,null,"",0,{"$f":"IF('Anhang Grundstücksverzeichnis'!G739=Texte!$A$25,F739,0)","v":0},{"$f":"IF('Anhang Grundstücksverzeichnis'!G739=Texte!$A$26,F739,0)","v":0},{"$f":"IF('Anhang Grundstücksverzeichnis'!G739=Texte!$A$27,F739,0)","v":0},{"$f":"IF('Anhang Grundstücksverzeichnis'!G739=Texte!$A$28,F739,0)","v":0}]
[730,{"$f":"IF(C740<>\"\",IF(ISNA(VLOOKUP(C740,Katastralgemeinden!$A$2:$B$3041,2,FALSE)),\"Ungültige KG-Nummer!\",VLOOKUP(C740,Katastralgemeinden!A$2:$B$3041,2,\"falsch\")),\"\")","v":""},null,null,null,null,null,null,null,null,"",0,{"$f":"IF('Anhang Grundstücksverzeichnis'!G740=Texte!$A$25,F740,0)","v":0},{"$f":"IF('Anhang Grundstücksverzeichnis'!G740=Texte!$A$26,F740,0)","v":0},{"$f":"IF('Anhang Grundstücksverzeichnis'!G740=Texte!$A$27,F740,0)","v":0},{"$f":"IF('Anhang Grundstücksverzeichnis'!G740=Texte!$A$28,F740,0)","v":0}]
[731,{"$f":"IF(C741<>\"\",IF(ISNA(VLOOKUP(C741,Katastralgemeinden!$A$2:$B$3041,2,FALSE)),\"Ungültige KG-Nummer!\",VLOOKUP(C741,Katastralgemeinden!A$2:$B$3041,2,\"falsch\")),\"\")","v":""},null,null,null,null,null,null,null,null,"",0,{"$f":"IF('Anhang Grundstücksverzeichnis'!G741=Texte!$A$25,F741,0)","v":0},{"$f":"IF('Anhang Grundstücksverzeichnis'!G741=Texte!$A$26,F741,0)","v":0},{"$f":"IF('Anhang Grundstücksverzeichnis'!G741=Texte!$A$27,F741,0)","v":0},{"$f":"IF('Anhang Grundstücksverzeichnis'!G741=Texte!$A$28,F741,0)","v":0}]
[732,{"$f":"IF(C742<>\"\",IF(ISNA(VLOOKUP(C742,Katastralgemeinden!$A$2:$B$3041,2,FALSE)),\"Ungültige KG-Nummer!\",VLOOKUP(C742,Katastralgemeinden!A$2:$B$3041,2,\"falsch\")),\"\")","v":""},null,null,null,null,null,null,null,null,"",0,{"$f":"IF('Anhang Grundstücksverzeichnis'!G742=Texte!$A$25,F742,0)","v":0},{"$f":"IF('Anhang Grundstücksverzeichnis'!G742=Texte!$A$26,F742,0)","v":0},{"$f":"IF('Anhang Grundstücksverzeichnis'!G742=Texte!$A$27,F742,0)","v":0},{"$f":"IF('Anhang Grundstücksverzeichnis'!G742=Texte!$A$28,F742,0)","v":0}]
[733,{"$f":"IF(C743<>\"\",IF(ISNA(VLOOKUP(C743,Katastralgemeinden!$A$2:$B$3041,2,FALSE)),\"Ungültige KG-Nummer!\",VLOOKUP(C743,Katastralgemeinden!A$2:$B$3041,2,\"falsch\")),\"\")","v":""},null,null,null,null,null,null,null,null,"",0,{"$f":"IF('Anhang Grundstücksverzeichnis'!G743=Texte!$A$25,F743,0)","v":0},{"$f":"IF('Anhang Grundstücksverzeichnis'!G743=Texte!$A$26,F743,0)","v":0},{"$f":"IF('Anhang Grundstücksverzeichnis'!G743=Texte!$A$27,F743,0)","v":0},{"$f":"IF('Anhang Grundstücksverzeichnis'!G743=Texte!$A$28,F743,0)","v":0}]
[734,{"$f":"IF(C744<>\"\",IF(ISNA(VLOOKUP(C744,Katastralgemeinden!$A$2:$B$3041,2,FALSE)),\"Ungültige KG-Nummer!\",VLOOKUP(C744,Katastralgemeinden!A$2:$B$3041,2,\"falsch\")),\"\")","v":""},null,null,null,null,null,null,null,null,"",0,{"$f":"IF('Anhang Grundstücksverzeichnis'!G744=Texte!$A$25,F744,0)","v":0},{"$f":"IF('Anhang Grundstücksverzeichnis'!G744=Texte!$A$26,F744,0)","v":0},{"$f":"IF('Anhang Grundstücksverzeichnis'!G744=Texte!$A$27,F744,0)","v":0},{"$f":"IF('Anhang Grundstücksverzeichnis'!G744=Texte!$A$28,F744,0)","v":0}]
[735,{"$f":"IF(C745<>\"\",IF(ISNA(VLOOKUP(C745,Katastralgemeinden!$A$2:$B$3041,2,FALSE)),\"Ungültige KG-Nummer!\",VLOOKUP(C745,Katastralgemeinden!A$2:$B$3041,2,\"falsch\")),\"\")","v":""},null,null,null,null,null,null,null,null,"",0,{"$f":"IF('Anhang Grundstücksverzeichnis'!G745=Texte!$A$25,F745,0)","v":0},{"$f":"IF('Anhang Grundstücksverzeichnis'!G745=Texte!$A$26,F745,0)","v":0},{"$f":"IF('Anhang Grundstücksverzeichnis'!G745=Texte!$A$27,F745,0)","v":0},{"$f":"IF('Anhang Grundstücksverzeichnis'!G745=Texte!$A$28,F745,0)","v":0}]
[736,{"$f":"IF(C746<>\"\",IF(ISNA(VLOOKUP(C746,Katastralgemeinden!$A$2:$B$3041,2,FALSE)),\"Ungültige KG-Nummer!\",VLOOKUP(C746,Katastralgemeinden!A$2:$B$3041,2,\"falsch\")),\"\")","v":""},null,null,null,null,null,null,null,null,"",0,{"$f":"IF('Anhang Grundstücksverzeichnis'!G746=Texte!$A$25,F746,0)","v":0},{"$f":"IF('Anhang Grundstücksverzeichnis'!G746=Texte!$A$26,F746,0)","v":0},{"$f":"IF('Anhang Grundstücksverzeichnis'!G746=Texte!$A$27,F746,0)","v":0},{"$f":"IF('Anhang Grundstücksverzeichnis'!G746=Texte!$A$28,F746,0)","v":0}]
[737,{"$f":"IF(C747<>\"\",IF(ISNA(VLOOKUP(C747,Katastralgemeinden!$A$2:$B$3041,2,FALSE)),\"Ungültige KG-Nummer!\",VLOOKUP(C747,Katastralgemeinden!A$2:$B$3041,2,\"falsch\")),\"\")","v":""},null,null,null,null,null,null,null,null,"",0,{"$f":"IF('Anhang Grundstücksverzeichnis'!G747=Texte!$A$25,F747,0)","v":0},{"$f":"IF('Anhang Grundstücksverzeichnis'!G747=Texte!$A$26,F747,0)","v":0},{"$f":"IF('Anhang Grundstücksverzeichnis'!G747=Texte!$A$27,F747,0)","v":0},{"$f":"IF('Anhang Grundstücksverzeichnis'!G747=Texte!$A$28,F747,0)","v":0}]
[738,{"$f":"IF(C748<>\"\",IF(ISNA(VLOOKUP(C748,Katastralgemeinden!$A$2:$B$3041,2,FALSE)),\"Ungültige KG-Nummer!\",VLOOKUP(C748,Katastralgemeinden!A$2:$B$3041,2,\"falsch\")),\"\")","v":""},null,null,null,null,null,null,null,null,"",0,{"$f":"IF('Anhang Grundstücksverzeichnis'!G748=Texte!$A$25,F748,0)","v":0},{"$f":"IF('Anhang Grundstücksverzeichnis'!G748=Texte!$A$26,F748,0)","v":0},{"$f":"IF('Anhang Grundstücksverzeichnis'!G748=Texte!$A$27,F748,0)","v":0},{"$f":"IF('Anhang Grundstücksverzeichnis'!G748=Texte!$A$28,F748,0)","v":0}]
[739,{"$f":"IF(C749<>\"\",IF(ISNA(VLOOKUP(C749,Katastralgemeinden!$A$2:$B$3041,2,FALSE)),\"Ungültige KG-Nummer!\",VLOOKUP(C749,Katastralgemeinden!A$2:$B$3041,2,\"falsch\")),\"\")","v":""},null,null,null,null,null,null,null,null,"",0,{"$f":"IF('Anhang Grundstücksverzeichnis'!G749=Texte!$A$25,F749,0)","v":0},{"$f":"IF('Anhang Grundstücksverzeichnis'!G749=Texte!$A$26,F749,0)","v":0},{"$f":"IF('Anhang Grundstücksverzeichnis'!G749=Texte!$A$27,F749,0)","v":0},{"$f":"IF('Anhang Grundstücksverzeichnis'!G749=Texte!$A$28,F749,0)","v":0}]
[740,{"$f":"IF(C750<>\"\",IF(ISNA(VLOOKUP(C750,Katastralgemeinden!$A$2:$B$3041,2,FALSE)),\"Ungültige KG-Nummer!\",VLOOKUP(C750,Katastralgemeinden!A$2:$B$3041,2,\"falsch\")),\"\")","v":""},null,null,null,null,null,null,null,null,"",0,{"$f":"IF('Anhang Grundstücksverzeichnis'!G750=Texte!$A$25,F750,0)","v":0},{"$f":"IF('Anhang Grundstücksverzeichnis'!G750=Texte!$A$26,F750,0)","v":0},{"$f":"IF('Anhang Grundstücksverzeichnis'!G750=Texte!$A$27,F750,0)","v":0},{"$f":"IF('Anhang Grundstücksverzeichnis'!G750=Texte!$A$28,F750,0)","v":0}]
[741,{"$f":"IF(C751<>\"\",IF(ISNA(VLOOKUP(C751,Katastralgemeinden!$A$2:$B$3041,2,FALSE)),\"Ungültige KG-Nummer!\",VLOOKUP(C751,Katastralgemeinden!A$2:$B$3041,2,\"falsch\")),\"\")","v":""},null,null,null,null,null,null,null,null,"",0,{"$f":"IF('Anhang Grundstücksverzeichnis'!G751=Texte!$A$25,F751,0)","v":0},{"$f":"IF('Anhang Grundstücksverzeichnis'!G751=Texte!$A$26,F751,0)","v":0},{"$f":"IF('Anhang Grundstücksverzeichnis'!G751=Texte!$A$27,F751,0)","v":0},{"$f":"IF('Anhang Grundstücksverzeichnis'!G751=Texte!$A$28,F751,0)","v":0}]
[742,{"$f":"IF(C752<>\"\",IF(ISNA(VLOOKUP(C752,Katastralgemeinden!$A$2:$B$3041,2,FALSE)),\"Ungültige KG-Nummer!\",VLOOKUP(C752,Katastralgemeinden!A$2:$B$3041,2,\"falsch\")),\"\")","v":""},null,null,null,null,null,null,null,null,"",0,{"$f":"IF('Anhang Grundstücksverzeichnis'!G752=Texte!$A$25,F752,0)","v":0},{"$f":"IF('Anhang Grundstücksverzeichnis'!G752=Texte!$A$26,F752,0)","v":0},{"$f":"IF('Anhang Grundstücksverzeichnis'!G752=Texte!$A$27,F752,0)","v":0},{"$f":"IF('Anhang Grundstücksverzeichnis'!G752=Texte!$A$28,F752,0)","v":0}]
[743,{"$f":"IF(C753<>\"\",IF(ISNA(VLOOKUP(C753,Katastralgemeinden!$A$2:$B$3041,2,FALSE)),\"Ungültige KG-Nummer!\",VLOOKUP(C753,Katastralgemeinden!A$2:$B$3041,2,\"falsch\")),\"\")","v":""},null,null,null,null,null,null,null,null,"",0,{"$f":"IF('Anhang Grundstücksverzeichnis'!G753=Texte!$A$25,F753,0)","v":0},{"$f":"IF('Anhang Grundstücksverzeichnis'!G753=Texte!$A$26,F753,0)","v":0},{"$f":"IF('Anhang Grundstücksverzeichnis'!G753=Texte!$A$27,F753,0)","v":0},{"$f":"IF('Anhang Grundstücksverzeichnis'!G753=Texte!$A$28,F753,0)","v":0}]
[744,{"$f":"IF(C754<>\"\",IF(ISNA(VLOOKUP(C754,Katastralgemeinden!$A$2:$B$3041,2,FALSE)),\"Ungültige KG-Nummer!\",VLOOKUP(C754,Katastralgemeinden!A$2:$B$3041,2,\"falsch\")),\"\")","v":""},null,null,null,null,null,null,null,null,"",0,{"$f":"IF('Anhang Grundstücksverzeichnis'!G754=Texte!$A$25,F754,0)","v":0},{"$f":"IF('Anhang Grundstücksverzeichnis'!G754=Texte!$A$26,F754,0)","v":0},{"$f":"IF('Anhang Grundstücksverzeichnis'!G754=Texte!$A$27,F754,0)","v":0},{"$f":"IF('Anhang Grundstücksverzeichnis'!G754=Texte!$A$28,F754,0)","v":0}]
[745,{"$f":"IF(C755<>\"\",IF(ISNA(VLOOKUP(C755,Katastralgemeinden!$A$2:$B$3041,2,FALSE)),\"Ungültige KG-Nummer!\",VLOOKUP(C755,Katastralgemeinden!A$2:$B$3041,2,\"falsch\")),\"\")","v":""},null,null,null,null,null,null,null,null,"",0,{"$f":"IF('Anhang Grundstücksverzeichnis'!G755=Texte!$A$25,F755,0)","v":0},{"$f":"IF('Anhang Grundstücksverzeichnis'!G755=Texte!$A$26,F755,0)","v":0},{"$f":"IF('Anhang Grundstücksverzeichnis'!G755=Texte!$A$27,F755,0)","v":0},{"$f":"IF('Anhang Grundstücksverzeichnis'!G755=Texte!$A$28,F755,0)","v":0}]
[746,{"$f":"IF(C756<>\"\",IF(ISNA(VLOOKUP(C756,Katastralgemeinden!$A$2:$B$3041,2,FALSE)),\"Ungültige KG-Nummer!\",VLOOKUP(C756,Katastralgemeinden!A$2:$B$3041,2,\"falsch\")),\"\")","v":""},null,null,null,null,null,null,null,null,"",0,{"$f":"IF('Anhang Grundstücksverzeichnis'!G756=Texte!$A$25,F756,0)","v":0},{"$f":"IF('Anhang Grundstücksverzeichnis'!G756=Texte!$A$26,F756,0)","v":0},{"$f":"IF('Anhang Grundstücksverzeichnis'!G756=Texte!$A$27,F756,0)","v":0},{"$f":"IF('Anhang Grundstücksverzeichnis'!G756=Texte!$A$28,F756,0)","v":0}]
[747,{"$f":"IF(C757<>\"\",IF(ISNA(VLOOKUP(C757,Katastralgemeinden!$A$2:$B$3041,2,FALSE)),\"Ungültige KG-Nummer!\",VLOOKUP(C757,Katastralgemeinden!A$2:$B$3041,2,\"falsch\")),\"\")","v":""},null,null,null,null,null,null,null,null,"",0,{"$f":"IF('Anhang Grundstücksverzeichnis'!G757=Texte!$A$25,F757,0)","v":0},{"$f":"IF('Anhang Grundstücksverzeichnis'!G757=Texte!$A$26,F757,0)","v":0},{"$f":"IF('Anhang Grundstücksverzeichnis'!G757=Texte!$A$27,F757,0)","v":0},{"$f":"IF('Anhang Grundstücksverzeichnis'!G757=Texte!$A$28,F757,0)","v":0}]
[748,{"$f":"IF(C758<>\"\",IF(ISNA(VLOOKUP(C758,Katastralgemeinden!$A$2:$B$3041,2,FALSE)),\"Ungültige KG-Nummer!\",VLOOKUP(C758,Katastralgemeinden!A$2:$B$3041,2,\"falsch\")),\"\")","v":""},null,null,null,null,null,null,null,null,"",0,{"$f":"IF('Anhang Grundstücksverzeichnis'!G758=Texte!$A$25,F758,0)","v":0},{"$f":"IF('Anhang Grundstücksverzeichnis'!G758=Texte!$A$26,F758,0)","v":0},{"$f":"IF('Anhang Grundstücksverzeichnis'!G758=Texte!$A$27,F758,0)","v":0},{"$f":"IF('Anhang Grundstücksverzeichnis'!G758=Texte!$A$28,F758,0)","v":0}]
[749,{"$f":"IF(C759<>\"\",IF(ISNA(VLOOKUP(C759,Katastralgemeinden!$A$2:$B$3041,2,FALSE)),\"Ungültige KG-Nummer!\",VLOOKUP(C759,Katastralgemeinden!A$2:$B$3041,2,\"falsch\")),\"\")","v":""},null,null,null,null,null,null,null,null,"",0,{"$f":"IF('Anhang Grundstücksverzeichnis'!G759=Texte!$A$25,F759,0)","v":0},{"$f":"IF('Anhang Grundstücksverzeichnis'!G759=Texte!$A$26,F759,0)","v":0},{"$f":"IF('Anhang Grundstücksverzeichnis'!G759=Texte!$A$27,F759,0)","v":0},{"$f":"IF('Anhang Grundstücksverzeichnis'!G759=Texte!$A$28,F759,0)","v":0}]
[750,{"$f":"IF(C760<>\"\",IF(ISNA(VLOOKUP(C760,Katastralgemeinden!$A$2:$B$3041,2,FALSE)),\"Ungültige KG-Nummer!\",VLOOKUP(C760,Katastralgemeinden!A$2:$B$3041,2,\"falsch\")),\"\")","v":""},null,null,null,null,null,null,null,null,"",0,{"$f":"IF('Anhang Grundstücksverzeichnis'!G760=Texte!$A$25,F760,0)","v":0},{"$f":"IF('Anhang Grundstücksverzeichnis'!G760=Texte!$A$26,F760,0)","v":0},{"$f":"IF('Anhang Grundstücksverzeichnis'!G760=Texte!$A$27,F760,0)","v":0},{"$f":"IF('Anhang Grundstücksverzeichnis'!G760=Texte!$A$28,F760,0)","v":0}]
[751,{"$f":"IF(C761<>\"\",IF(ISNA(VLOOKUP(C761,Katastralgemeinden!$A$2:$B$3041,2,FALSE)),\"Ungültige KG-Nummer!\",VLOOKUP(C761,Katastralgemeinden!A$2:$B$3041,2,\"falsch\")),\"\")","v":""},null,null,null,null,null,null,null,null,"",0,{"$f":"IF('Anhang Grundstücksverzeichnis'!G761=Texte!$A$25,F761,0)","v":0},{"$f":"IF('Anhang Grundstücksverzeichnis'!G761=Texte!$A$26,F761,0)","v":0},{"$f":"IF('Anhang Grundstücksverzeichnis'!G761=Texte!$A$27,F761,0)","v":0},{"$f":"IF('Anhang Grundstücksverzeichnis'!G761=Texte!$A$28,F761,0)","v":0}]
[752,{"$f":"IF(C762<>\"\",IF(ISNA(VLOOKUP(C762,Katastralgemeinden!$A$2:$B$3041,2,FALSE)),\"Ungültige KG-Nummer!\",VLOOKUP(C762,Katastralgemeinden!A$2:$B$3041,2,\"falsch\")),\"\")","v":""},null,null,null,null,null,null,null,null,"",0,{"$f":"IF('Anhang Grundstücksverzeichnis'!G762=Texte!$A$25,F762,0)","v":0},{"$f":"IF('Anhang Grundstücksverzeichnis'!G762=Texte!$A$26,F762,0)","v":0},{"$f":"IF('Anhang Grundstücksverzeichnis'!G762=Texte!$A$27,F762,0)","v":0},{"$f":"IF('Anhang Grundstücksverzeichnis'!G762=Texte!$A$28,F762,0)","v":0}]
[753,{"$f":"IF(C763<>\"\",IF(ISNA(VLOOKUP(C763,Katastralgemeinden!$A$2:$B$3041,2,FALSE)),\"Ungültige KG-Nummer!\",VLOOKUP(C763,Katastralgemeinden!A$2:$B$3041,2,\"falsch\")),\"\")","v":""},null,null,null,null,null,null,null,null,"",0,{"$f":"IF('Anhang Grundstücksverzeichnis'!G763=Texte!$A$25,F763,0)","v":0},{"$f":"IF('Anhang Grundstücksverzeichnis'!G763=Texte!$A$26,F763,0)","v":0},{"$f":"IF('Anhang Grundstücksverzeichnis'!G763=Texte!$A$27,F763,0)","v":0},{"$f":"IF('Anhang Grundstücksverzeichnis'!G763=Texte!$A$28,F763,0)","v":0}]
[754,{"$f":"IF(C764<>\"\",IF(ISNA(VLOOKUP(C764,Katastralgemeinden!$A$2:$B$3041,2,FALSE)),\"Ungültige KG-Nummer!\",VLOOKUP(C764,Katastralgemeinden!A$2:$B$3041,2,\"falsch\")),\"\")","v":""},null,null,null,null,null,null,null,null,"",0,{"$f":"IF('Anhang Grundstücksverzeichnis'!G764=Texte!$A$25,F764,0)","v":0},{"$f":"IF('Anhang Grundstücksverzeichnis'!G764=Texte!$A$26,F764,0)","v":0},{"$f":"IF('Anhang Grundstücksverzeichnis'!G764=Texte!$A$27,F764,0)","v":0},{"$f":"IF('Anhang Grundstücksverzeichnis'!G764=Texte!$A$28,F764,0)","v":0}]
[755,{"$f":"IF(C765<>\"\",IF(ISNA(VLOOKUP(C765,Katastralgemeinden!$A$2:$B$3041,2,FALSE)),\"Ungültige KG-Nummer!\",VLOOKUP(C765,Katastralgemeinden!A$2:$B$3041,2,\"falsch\")),\"\")","v":""},null,null,null,null,null,null,null,null,"",0,{"$f":"IF('Anhang Grundstücksverzeichnis'!G765=Texte!$A$25,F765,0)","v":0},{"$f":"IF('Anhang Grundstücksverzeichnis'!G765=Texte!$A$26,F765,0)","v":0},{"$f":"IF('Anhang Grundstücksverzeichnis'!G765=Texte!$A$27,F765,0)","v":0},{"$f":"IF('Anhang Grundstücksverzeichnis'!G765=Texte!$A$28,F765,0)","v":0}]
[756,{"$f":"IF(C766<>\"\",IF(ISNA(VLOOKUP(C766,Katastralgemeinden!$A$2:$B$3041,2,FALSE)),\"Ungültige KG-Nummer!\",VLOOKUP(C766,Katastralgemeinden!A$2:$B$3041,2,\"falsch\")),\"\")","v":""},null,null,null,null,null,null,null,null,"",0,{"$f":"IF('Anhang Grundstücksverzeichnis'!G766=Texte!$A$25,F766,0)","v":0},{"$f":"IF('Anhang Grundstücksverzeichnis'!G766=Texte!$A$26,F766,0)","v":0},{"$f":"IF('Anhang Grundstücksverzeichnis'!G766=Texte!$A$27,F766,0)","v":0},{"$f":"IF('Anhang Grundstücksverzeichnis'!G766=Texte!$A$28,F766,0)","v":0}]
[757,{"$f":"IF(C767<>\"\",IF(ISNA(VLOOKUP(C767,Katastralgemeinden!$A$2:$B$3041,2,FALSE)),\"Ungültige KG-Nummer!\",VLOOKUP(C767,Katastralgemeinden!A$2:$B$3041,2,\"falsch\")),\"\")","v":""},null,null,null,null,null,null,null,null,"",0,{"$f":"IF('Anhang Grundstücksverzeichnis'!G767=Texte!$A$25,F767,0)","v":0},{"$f":"IF('Anhang Grundstücksverzeichnis'!G767=Texte!$A$26,F767,0)","v":0},{"$f":"IF('Anhang Grundstücksverzeichnis'!G767=Texte!$A$27,F767,0)","v":0},{"$f":"IF('Anhang Grundstücksverzeichnis'!G767=Texte!$A$28,F767,0)","v":0}]
[758,{"$f":"IF(C768<>\"\",IF(ISNA(VLOOKUP(C768,Katastralgemeinden!$A$2:$B$3041,2,FALSE)),\"Ungültige KG-Nummer!\",VLOOKUP(C768,Katastralgemeinden!A$2:$B$3041,2,\"falsch\")),\"\")","v":""},null,null,null,null,null,null,null,null,"",0,{"$f":"IF('Anhang Grundstücksverzeichnis'!G768=Texte!$A$25,F768,0)","v":0},{"$f":"IF('Anhang Grundstücksverzeichnis'!G768=Texte!$A$26,F768,0)","v":0},{"$f":"IF('Anhang Grundstücksverzeichnis'!G768=Texte!$A$27,F768,0)","v":0},{"$f":"IF('Anhang Grundstücksverzeichnis'!G768=Texte!$A$28,F768,0)","v":0}]
[759,{"$f":"IF(C769<>\"\",IF(ISNA(VLOOKUP(C769,Katastralgemeinden!$A$2:$B$3041,2,FALSE)),\"Ungültige KG-Nummer!\",VLOOKUP(C769,Katastralgemeinden!A$2:$B$3041,2,\"falsch\")),\"\")","v":""},null,null,null,null,null,null,null,null,"",0,{"$f":"IF('Anhang Grundstücksverzeichnis'!G769=Texte!$A$25,F769,0)","v":0},{"$f":"IF('Anhang Grundstücksverzeichnis'!G769=Texte!$A$26,F769,0)","v":0},{"$f":"IF('Anhang Grundstücksverzeichnis'!G769=Texte!$A$27,F769,0)","v":0},{"$f":"IF('Anhang Grundstücksverzeichnis'!G769=Texte!$A$28,F769,0)","v":0}]
[760,{"$f":"IF(C770<>\"\",IF(ISNA(VLOOKUP(C770,Katastralgemeinden!$A$2:$B$3041,2,FALSE)),\"Ungültige KG-Nummer!\",VLOOKUP(C770,Katastralgemeinden!A$2:$B$3041,2,\"falsch\")),\"\")","v":""},null,null,null,null,null,null,null,null,"",0,{"$f":"IF('Anhang Grundstücksverzeichnis'!G770=Texte!$A$25,F770,0)","v":0},{"$f":"IF('Anhang Grundstücksverzeichnis'!G770=Texte!$A$26,F770,0)","v":0},{"$f":"IF('Anhang Grundstücksverzeichnis'!G770=Texte!$A$27,F770,0)","v":0},{"$f":"IF('Anhang Grundstücksverzeichnis'!G770=Texte!$A$28,F770,0)","v":0}]
[761,{"$f":"IF(C771<>\"\",IF(ISNA(VLOOKUP(C771,Katastralgemeinden!$A$2:$B$3041,2,FALSE)),\"Ungültige KG-Nummer!\",VLOOKUP(C771,Katastralgemeinden!A$2:$B$3041,2,\"falsch\")),\"\")","v":""},null,null,null,null,null,null,null,null,"",0,{"$f":"IF('Anhang Grundstücksverzeichnis'!G771=Texte!$A$25,F771,0)","v":0},{"$f":"IF('Anhang Grundstücksverzeichnis'!G771=Texte!$A$26,F771,0)","v":0},{"$f":"IF('Anhang Grundstücksverzeichnis'!G771=Texte!$A$27,F771,0)","v":0},{"$f":"IF('Anhang Grundstücksverzeichnis'!G771=Texte!$A$28,F771,0)","v":0}]
[762,{"$f":"IF(C772<>\"\",IF(ISNA(VLOOKUP(C772,Katastralgemeinden!$A$2:$B$3041,2,FALSE)),\"Ungültige KG-Nummer!\",VLOOKUP(C772,Katastralgemeinden!A$2:$B$3041,2,\"falsch\")),\"\")","v":""},null,null,null,null,null,null,null,null,"",0,{"$f":"IF('Anhang Grundstücksverzeichnis'!G772=Texte!$A$25,F772,0)","v":0},{"$f":"IF('Anhang Grundstücksverzeichnis'!G772=Texte!$A$26,F772,0)","v":0},{"$f":"IF('Anhang Grundstücksverzeichnis'!G772=Texte!$A$27,F772,0)","v":0},{"$f":"IF('Anhang Grundstücksverzeichnis'!G772=Texte!$A$28,F772,0)","v":0}]
[763,{"$f":"IF(C773<>\"\",IF(ISNA(VLOOKUP(C773,Katastralgemeinden!$A$2:$B$3041,2,FALSE)),\"Ungültige KG-Nummer!\",VLOOKUP(C773,Katastralgemeinden!A$2:$B$3041,2,\"falsch\")),\"\")","v":""},null,null,null,null,null,null,null,null,"",0,{"$f":"IF('Anhang Grundstücksverzeichnis'!G773=Texte!$A$25,F773,0)","v":0},{"$f":"IF('Anhang Grundstücksverzeichnis'!G773=Texte!$A$26,F773,0)","v":0},{"$f":"IF('Anhang Grundstücksverzeichnis'!G773=Texte!$A$27,F773,0)","v":0},{"$f":"IF('Anhang Grundstücksverzeichnis'!G773=Texte!$A$28,F773,0)","v":0}]
[764,{"$f":"IF(C774<>\"\",IF(ISNA(VLOOKUP(C774,Katastralgemeinden!$A$2:$B$3041,2,FALSE)),\"Ungültige KG-Nummer!\",VLOOKUP(C774,Katastralgemeinden!A$2:$B$3041,2,\"falsch\")),\"\")","v":""},null,null,null,null,null,null,null,null,"",0,{"$f":"IF('Anhang Grundstücksverzeichnis'!G774=Texte!$A$25,F774,0)","v":0},{"$f":"IF('Anhang Grundstücksverzeichnis'!G774=Texte!$A$26,F774,0)","v":0},{"$f":"IF('Anhang Grundstücksverzeichnis'!G774=Texte!$A$27,F774,0)","v":0},{"$f":"IF('Anhang Grundstücksverzeichnis'!G774=Texte!$A$28,F774,0)","v":0}]
[765,{"$f":"IF(C775<>\"\",IF(ISNA(VLOOKUP(C775,Katastralgemeinden!$A$2:$B$3041,2,FALSE)),\"Ungültige KG-Nummer!\",VLOOKUP(C775,Katastralgemeinden!A$2:$B$3041,2,\"falsch\")),\"\")","v":""},null,null,null,null,null,null,null,null,"",0,{"$f":"IF('Anhang Grundstücksverzeichnis'!G775=Texte!$A$25,F775,0)","v":0},{"$f":"IF('Anhang Grundstücksverzeichnis'!G775=Texte!$A$26,F775,0)","v":0},{"$f":"IF('Anhang Grundstücksverzeichnis'!G775=Texte!$A$27,F775,0)","v":0},{"$f":"IF('Anhang Grundstücksverzeichnis'!G775=Texte!$A$28,F775,0)","v":0}]
[766,{"$f":"IF(C776<>\"\",IF(ISNA(VLOOKUP(C776,Katastralgemeinden!$A$2:$B$3041,2,FALSE)),\"Ungültige KG-Nummer!\",VLOOKUP(C776,Katastralgemeinden!A$2:$B$3041,2,\"falsch\")),\"\")","v":""},null,null,null,null,null,null,null,null,"",0,{"$f":"IF('Anhang Grundstücksverzeichnis'!G776=Texte!$A$25,F776,0)","v":0},{"$f":"IF('Anhang Grundstücksverzeichnis'!G776=Texte!$A$26,F776,0)","v":0},{"$f":"IF('Anhang Grundstücksverzeichnis'!G776=Texte!$A$27,F776,0)","v":0},{"$f":"IF('Anhang Grundstücksverzeichnis'!G776=Texte!$A$28,F776,0)","v":0}]
[767,{"$f":"IF(C777<>\"\",IF(ISNA(VLOOKUP(C777,Katastralgemeinden!$A$2:$B$3041,2,FALSE)),\"Ungültige KG-Nummer!\",VLOOKUP(C777,Katastralgemeinden!A$2:$B$3041,2,\"falsch\")),\"\")","v":""},null,null,null,null,null,null,null,null,"",0,{"$f":"IF('Anhang Grundstücksverzeichnis'!G777=Texte!$A$25,F777,0)","v":0},{"$f":"IF('Anhang Grundstücksverzeichnis'!G777=Texte!$A$26,F777,0)","v":0},{"$f":"IF('Anhang Grundstücksverzeichnis'!G777=Texte!$A$27,F777,0)","v":0},{"$f":"IF('Anhang Grundstücksverzeichnis'!G777=Texte!$A$28,F777,0)","v":0}]
[768,{"$f":"IF(C778<>\"\",IF(ISNA(VLOOKUP(C778,Katastralgemeinden!$A$2:$B$3041,2,FALSE)),\"Ungültige KG-Nummer!\",VLOOKUP(C778,Katastralgemeinden!A$2:$B$3041,2,\"falsch\")),\"\")","v":""},null,null,null,null,null,null,null,null,"",0,{"$f":"IF('Anhang Grundstücksverzeichnis'!G778=Texte!$A$25,F778,0)","v":0},{"$f":"IF('Anhang Grundstücksverzeichnis'!G778=Texte!$A$26,F778,0)","v":0},{"$f":"IF('Anhang Grundstücksverzeichnis'!G778=Texte!$A$27,F778,0)","v":0},{"$f":"IF('Anhang Grundstücksverzeichnis'!G778=Texte!$A$28,F778,0)","v":0}]
[769,{"$f":"IF(C779<>\"\",IF(ISNA(VLOOKUP(C779,Katastralgemeinden!$A$2:$B$3041,2,FALSE)),\"Ungültige KG-Nummer!\",VLOOKUP(C779,Katastralgemeinden!A$2:$B$3041,2,\"falsch\")),\"\")","v":""},null,null,null,null,null,null,null,null,"",0,{"$f":"IF('Anhang Grundstücksverzeichnis'!G779=Texte!$A$25,F779,0)","v":0},{"$f":"IF('Anhang Grundstücksverzeichnis'!G779=Texte!$A$26,F779,0)","v":0},{"$f":"IF('Anhang Grundstücksverzeichnis'!G779=Texte!$A$27,F779,0)","v":0},{"$f":"IF('Anhang Grundstücksverzeichnis'!G779=Texte!$A$28,F779,0)","v":0}]
[770,{"$f":"IF(C780<>\"\",IF(ISNA(VLOOKUP(C780,Katastralgemeinden!$A$2:$B$3041,2,FALSE)),\"Ungültige KG-Nummer!\",VLOOKUP(C780,Katastralgemeinden!A$2:$B$3041,2,\"falsch\")),\"\")","v":""},null,null,null,null,null,null,null,null,{"$f":"IF(G780<>\"\",IF(G780=\"Eigengrundfläche\",0,IF(G780=\"Vorpachtfläche\",1,IF(G780=\"Abrundung +\",3,IF(G780=\"Abrundung -\",4,5)))),\"\")","v":""},{"$f":"IF(OR(LOWER(H780)=\"x\",LOWER(H780)=\"j\"),1,0)","v":0},{"$f":"IF('Anhang Grundstücksverzeichnis'!G780=Texte!$A$25,F780,0)","v":0},{"$f":"IF('Anhang Grundstücksverzeichnis'!G780=Texte!$A$26,F780,0)","v":0},{"$f":"IF('Anhang Grundstücksverzeichnis'!G780=Texte!$A$27,F780,0)","v":0},{"$f":"IF('Anhang Grundstücksverzeichnis'!G780=Texte!$A$28,F780,0)","v":0}]
[771,{"$f":"IF(C781<>\"\",IF(ISNA(VLOOKUP(C781,Katastralgemeinden!$A$2:$B$3041,2,FALSE)),\"Ungültige KG-Nummer!\",VLOOKUP(C781,Katastralgemeinden!A$2:$B$3041,2,\"falsch\")),\"\")","v":""},null,null,null,null,null,null,null,null,"",0,{"$f":"IF('Anhang Grundstücksverzeichnis'!G781=Texte!$A$25,F781,0)","v":0},{"$f":"IF('Anhang Grundstücksverzeichnis'!G781=Texte!$A$26,F781,0)","v":0},{"$f":"IF('Anhang Grundstücksverzeichnis'!G781=Texte!$A$27,F781,0)","v":0},{"$f":"IF('Anhang Grundstücksverzeichnis'!G781=Texte!$A$28,F781,0)","v":0}]
[772,{"$f":"IF(C782<>\"\",IF(ISNA(VLOOKUP(C782,Katastralgemeinden!$A$2:$B$3041,2,FALSE)),\"Ungültige KG-Nummer!\",VLOOKUP(C782,Katastralgemeinden!A$2:$B$3041,2,\"falsch\")),\"\")","v":""},null,null,null,null,null,null,null,null,"",0,{"$f":"IF('Anhang Grundstücksverzeichnis'!G782=Texte!$A$25,F782,0)","v":0},{"$f":"IF('Anhang Grundstücksverzeichnis'!G782=Texte!$A$26,F782,0)","v":0},{"$f":"IF('Anhang Grundstücksverzeichnis'!G782=Texte!$A$27,F782,0)","v":0},{"$f":"IF('Anhang Grundstücksverzeichnis'!G782=Texte!$A$28,F782,0)","v":0}]
[773,{"$f":"IF(C783<>\"\",IF(ISNA(VLOOKUP(C783,Katastralgemeinden!$A$2:$B$3041,2,FALSE)),\"Ungültige KG-Nummer!\",VLOOKUP(C783,Katastralgemeinden!A$2:$B$3041,2,\"falsch\")),\"\")","v":""},null,null,null,null,null,null,null,null,"",0,{"$f":"IF('Anhang Grundstücksverzeichnis'!G783=Texte!$A$25,F783,0)","v":0},{"$f":"IF('Anhang Grundstücksverzeichnis'!G783=Texte!$A$26,F783,0)","v":0},{"$f":"IF('Anhang Grundstücksverzeichnis'!G783=Texte!$A$27,F783,0)","v":0},{"$f":"IF('Anhang Grundstücksverzeichnis'!G783=Texte!$A$28,F783,0)","v":0}]
[774,{"$f":"IF(C784<>\"\",IF(ISNA(VLOOKUP(C784,Katastralgemeinden!$A$2:$B$3041,2,FALSE)),\"Ungültige KG-Nummer!\",VLOOKUP(C784,Katastralgemeinden!A$2:$B$3041,2,\"falsch\")),\"\")","v":""},null,null,null,null,null,null,null,null,"",0,{"$f":"IF('Anhang Grundstücksverzeichnis'!G784=Texte!$A$25,F784,0)","v":0},{"$f":"IF('Anhang Grundstücksverzeichnis'!G784=Texte!$A$26,F784,0)","v":0},{"$f":"IF('Anhang Grundstücksverzeichnis'!G784=Texte!$A$27,F784,0)","v":0},{"$f":"IF('Anhang Grundstücksverzeichnis'!G784=Texte!$A$28,F784,0)","v":0}]
[775,{"$f":"IF(C785<>\"\",IF(ISNA(VLOOKUP(C785,Katastralgemeinden!$A$2:$B$3041,2,FALSE)),\"Ungültige KG-Nummer!\",VLOOKUP(C785,Katastralgemeinden!A$2:$B$3041,2,\"falsch\")),\"\")","v":""},null,null,null,null,null,null,null,null,"",0,{"$f":"IF('Anhang Grundstücksverzeichnis'!G785=Texte!$A$25,F785,0)","v":0},{"$f":"IF('Anhang Grundstücksverzeichnis'!G785=Texte!$A$26,F785,0)","v":0},{"$f":"IF('Anhang Grundstücksverzeichnis'!G785=Texte!$A$27,F785,0)","v":0},{"$f":"IF('Anhang Grundstücksverzeichnis'!G785=Texte!$A$28,F785,0)","v":0}]
[776,{"$f":"IF(C786<>\"\",IF(ISNA(VLOOKUP(C786,Katastralgemeinden!$A$2:$B$3041,2,FALSE)),\"Ungültige KG-Nummer!\",VLOOKUP(C786,Katastralgemeinden!A$2:$B$3041,2,\"falsch\")),\"\")","v":""},null,null,null,null,null,null,null,null,"",0,{"$f":"IF('Anhang Grundstücksverzeichnis'!G786=Texte!$A$25,F786,0)","v":0},{"$f":"IF('Anhang Grundstücksverzeichnis'!G786=Texte!$A$26,F786,0)","v":0},{"$f":"IF('Anhang Grundstücksverzeichnis'!G786=Texte!$A$27,F786,0)","v":0},{"$f":"IF('Anhang Grundstücksverzeichnis'!G786=Texte!$A$28,F786,0)","v":0}]
[777,{"$f":"IF(C787<>\"\",IF(ISNA(VLOOKUP(C787,Katastralgemeinden!$A$2:$B$3041,2,FALSE)),\"Ungültige KG-Nummer!\",VLOOKUP(C787,Katastralgemeinden!A$2:$B$3041,2,\"falsch\")),\"\")","v":""},null,null,null,null,null,null,null,null,"",0,{"$f":"IF('Anhang Grundstücksverzeichnis'!G787=Texte!$A$25,F787,0)","v":0},{"$f":"IF('Anhang Grundstücksverzeichnis'!G787=Texte!$A$26,F787,0)","v":0},{"$f":"IF('Anhang Grundstücksverzeichnis'!G787=Texte!$A$27,F787,0)","v":0},{"$f":"IF('Anhang Grundstücksverzeichnis'!G787=Texte!$A$28,F787,0)","v":0}]
[778,{"$f":"IF(C788<>\"\",IF(ISNA(VLOOKUP(C788,Katastralgemeinden!$A$2:$B$3041,2,FALSE)),\"Ungültige KG-Nummer!\",VLOOKUP(C788,Katastralgemeinden!A$2:$B$3041,2,\"falsch\")),\"\")","v":""},null,null,null,null,null,null,null,null,"",0,{"$f":"IF('Anhang Grundstücksverzeichnis'!G788=Texte!$A$25,F788,0)","v":0},{"$f":"IF('Anhang Grundstücksverzeichnis'!G788=Texte!$A$26,F788,0)","v":0},{"$f":"IF('Anhang Grundstücksverzeichnis'!G788=Texte!$A$27,F788,0)","v":0},{"$f":"IF('Anhang Grundstücksverzeichnis'!G788=Texte!$A$28,F788,0)","v":0}]
[779,{"$f":"IF(C789<>\"\",IF(ISNA(VLOOKUP(C789,Katastralgemeinden!$A$2:$B$3041,2,FALSE)),\"Ungültige KG-Nummer!\",VLOOKUP(C789,Katastralgemeinden!A$2:$B$3041,2,\"falsch\")),\"\")","v":""},null,null,null,null,null,null,null,null,"",0,{"$f":"IF('Anhang Grundstücksverzeichnis'!G789=Texte!$A$25,F789,0)","v":0},{"$f":"IF('Anhang Grundstücksverzeichnis'!G789=Texte!$A$26,F789,0)","v":0},{"$f":"IF('Anhang Grundstücksverzeichnis'!G789=Texte!$A$27,F789,0)","v":0},{"$f":"IF('Anhang Grundstücksverzeichnis'!G789=Texte!$A$28,F789,0)","v":0}]
[780,{"$f":"IF(C790<>\"\",IF(ISNA(VLOOKUP(C790,Katastralgemeinden!$A$2:$B$3041,2,FALSE)),\"Ungültige KG-Nummer!\",VLOOKUP(C790,Katastralgemeinden!A$2:$B$3041,2,\"falsch\")),\"\")","v":""},null,null,null,null,null,null,null,null,"",0,{"$f":"IF('Anhang Grundstücksverzeichnis'!G790=Texte!$A$25,F790,0)","v":0},{"$f":"IF('Anhang Grundstücksverzeichnis'!G790=Texte!$A$26,F790,0)","v":0},{"$f":"IF('Anhang Grundstücksverzeichnis'!G790=Texte!$A$27,F790,0)","v":0},{"$f":"IF('Anhang Grundstücksverzeichnis'!G790=Texte!$A$28,F790,0)","v":0}]
[781,{"$f":"IF(C791<>\"\",IF(ISNA(VLOOKUP(C791,Katastralgemeinden!$A$2:$B$3041,2,FALSE)),\"Ungültige KG-Nummer!\",VLOOKUP(C791,Katastralgemeinden!A$2:$B$3041,2,\"falsch\")),\"\")","v":""},null,null,null,null,null,null,null,null,"",0,{"$f":"IF('Anhang Grundstücksverzeichnis'!G791=Texte!$A$25,F791,0)","v":0},{"$f":"IF('Anhang Grundstücksverzeichnis'!G791=Texte!$A$26,F791,0)","v":0},{"$f":"IF('Anhang Grundstücksverzeichnis'!G791=Texte!$A$27,F791,0)","v":0},{"$f":"IF('Anhang Grundstücksverzeichnis'!G791=Texte!$A$28,F791,0)","v":0}]
[782,{"$f":"IF(C792<>\"\",IF(ISNA(VLOOKUP(C792,Katastralgemeinden!$A$2:$B$3041,2,FALSE)),\"Ungültige KG-Nummer!\",VLOOKUP(C792,Katastralgemeinden!A$2:$B$3041,2,\"falsch\")),\"\")","v":""},null,null,null,null,null,null,null,null,"",0,{"$f":"IF('Anhang Grundstücksverzeichnis'!G792=Texte!$A$25,F792,0)","v":0},{"$f":"IF('Anhang Grundstücksverzeichnis'!G792=Texte!$A$26,F792,0)","v":0},{"$f":"IF('Anhang Grundstücksverzeichnis'!G792=Texte!$A$27,F792,0)","v":0},{"$f":"IF('Anhang Grundstücksverzeichnis'!G792=Texte!$A$28,F792,0)","v":0}]
[783,{"$f":"IF(C793<>\"\",IF(ISNA(VLOOKUP(C793,Katastralgemeinden!$A$2:$B$3041,2,FALSE)),\"Ungültige KG-Nummer!\",VLOOKUP(C793,Katastralgemeinden!A$2:$B$3041,2,\"falsch\")),\"\")","v":""},null,null,null,null,null,null,null,null,"",0,{"$f":"IF('Anhang Grundstücksverzeichnis'!G793=Texte!$A$25,F793,0)","v":0},{"$f":"IF('Anhang Grundstücksverzeichnis'!G793=Texte!$A$26,F793,0)","v":0},{"$f":"IF('Anhang Grundstücksverzeichnis'!G793=Texte!$A$27,F793,0)","v":0},{"$f":"IF('Anhang Grundstücksverzeichnis'!G793=Texte!$A$28,F793,0)","v":0}]
[784,{"$f":"IF(C794<>\"\",IF(ISNA(VLOOKUP(C794,Katastralgemeinden!$A$2:$B$3041,2,FALSE)),\"Ungültige KG-Nummer!\",VLOOKUP(C794,Katastralgemeinden!A$2:$B$3041,2,\"falsch\")),\"\")","v":""},null,null,null,null,null,null,null,null,"",0,{"$f":"IF('Anhang Grundstücksverzeichnis'!G794=Texte!$A$25,F794,0)","v":0},{"$f":"IF('Anhang Grundstücksverzeichnis'!G794=Texte!$A$26,F794,0)","v":0},{"$f":"IF('Anhang Grundstücksverzeichnis'!G794=Texte!$A$27,F794,0)","v":0},{"$f":"IF('Anhang Grundstücksverzeichnis'!G794=Texte!$A$28,F794,0)","v":0}]
[785,{"$f":"IF(C795<>\"\",IF(ISNA(VLOOKUP(C795,Katastralgemeinden!$A$2:$B$3041,2,FALSE)),\"Ungültige KG-Nummer!\",VLOOKUP(C795,Katastralgemeinden!A$2:$B$3041,2,\"falsch\")),\"\")","v":""},null,null,null,null,null,null,null,null,"",0,{"$f":"IF('Anhang Grundstücksverzeichnis'!G795=Texte!$A$25,F795,0)","v":0},{"$f":"IF('Anhang Grundstücksverzeichnis'!G795=Texte!$A$26,F795,0)","v":0},{"$f":"IF('Anhang Grundstücksverzeichnis'!G795=Texte!$A$27,F795,0)","v":0},{"$f":"IF('Anhang Grundstücksverzeichnis'!G795=Texte!$A$28,F795,0)","v":0}]
[786,{"$f":"IF(C796<>\"\",IF(ISNA(VLOOKUP(C796,Katastralgemeinden!$A$2:$B$3041,2,FALSE)),\"Ungültige KG-Nummer!\",VLOOKUP(C796,Katastralgemeinden!A$2:$B$3041,2,\"falsch\")),\"\")","v":""},null,null,null,null,null,null,null,null,"",0,{"$f":"IF('Anhang Grundstücksverzeichnis'!G796=Texte!$A$25,F796,0)","v":0},{"$f":"IF('Anhang Grundstücksverzeichnis'!G796=Texte!$A$26,F796,0)","v":0},{"$f":"IF('Anhang Grundstücksverzeichnis'!G796=Texte!$A$27,F796,0)","v":0},{"$f":"IF('Anhang Grundstücksverzeichnis'!G796=Texte!$A$28,F796,0)","v":0}]
[787,{"$f":"IF(C797<>\"\",IF(ISNA(VLOOKUP(C797,Katastralgemeinden!$A$2:$B$3041,2,FALSE)),\"Ungültige KG-Nummer!\",VLOOKUP(C797,Katastralgemeinden!A$2:$B$3041,2,\"falsch\")),\"\")","v":""},null,null,null,null,null,null,null,null,"",0,{"$f":"IF('Anhang Grundstücksverzeichnis'!G797=Texte!$A$25,F797,0)","v":0},{"$f":"IF('Anhang Grundstücksverzeichnis'!G797=Texte!$A$26,F797,0)","v":0},{"$f":"IF('Anhang Grundstücksverzeichnis'!G797=Texte!$A$27,F797,0)","v":0},{"$f":"IF('Anhang Grundstücksverzeichnis'!G797=Texte!$A$28,F797,0)","v":0}]
[788,{"$f":"IF(C798<>\"\",IF(ISNA(VLOOKUP(C798,Katastralgemeinden!$A$2:$B$3041,2,FALSE)),\"Ungültige KG-Nummer!\",VLOOKUP(C798,Katastralgemeinden!A$2:$B$3041,2,\"falsch\")),\"\")","v":""},null,null,null,null,null,null,null,null,"",0,{"$f":"IF('Anhang Grundstücksverzeichnis'!G798=Texte!$A$25,F798,0)","v":0},{"$f":"IF('Anhang Grundstücksverzeichnis'!G798=Texte!$A$26,F798,0)","v":0},{"$f":"IF('Anhang Grundstücksverzeichnis'!G798=Texte!$A$27,F798,0)","v":0},{"$f":"IF('Anhang Grundstücksverzeichnis'!G798=Texte!$A$28,F798,0)","v":0}]
[789,{"$f":"IF(C799<>\"\",IF(ISNA(VLOOKUP(C799,Katastralgemeinden!$A$2:$B$3041,2,FALSE)),\"Ungültige KG-Nummer!\",VLOOKUP(C799,Katastralgemeinden!A$2:$B$3041,2,\"falsch\")),\"\")","v":""},null,null,null,null,null,null,null,null,"",0,{"$f":"IF('Anhang Grundstücksverzeichnis'!G799=Texte!$A$25,F799,0)","v":0},{"$f":"IF('Anhang Grundstücksverzeichnis'!G799=Texte!$A$26,F799,0)","v":0},{"$f":"IF('Anhang Grundstücksverzeichnis'!G799=Texte!$A$27,F799,0)","v":0},{"$f":"IF('Anhang Grundstücksverzeichnis'!G799=Texte!$A$28,F799,0)","v":0}]
[790,{"$f":"IF(C800<>\"\",IF(ISNA(VLOOKUP(C800,Katastralgemeinden!$A$2:$B$3041,2,FALSE)),\"Ungültige KG-Nummer!\",VLOOKUP(C800,Katastralgemeinden!A$2:$B$3041,2,\"falsch\")),\"\")","v":""},null,null,null,null,null,null,null,null,"",0,{"$f":"IF('Anhang Grundstücksverzeichnis'!G800=Texte!$A$25,F800,0)","v":0},{"$f":"IF('Anhang Grundstücksverzeichnis'!G800=Texte!$A$26,F800,0)","v":0},{"$f":"IF('Anhang Grundstücksverzeichnis'!G800=Texte!$A$27,F800,0)","v":0},{"$f":"IF('Anhang Grundstücksverzeichnis'!G800=Texte!$A$28,F800,0)","v":0}]
[791,{"$f":"IF(C801<>\"\",IF(ISNA(VLOOKUP(C801,Katastralgemeinden!$A$2:$B$3041,2,FALSE)),\"Ungültige KG-Nummer!\",VLOOKUP(C801,Katastralgemeinden!A$2:$B$3041,2,\"falsch\")),\"\")","v":""},null,null,null,null,null,null,null,null,"",0,{"$f":"IF('Anhang Grundstücksverzeichnis'!G801=Texte!$A$25,F801,0)","v":0},{"$f":"IF('Anhang Grundstücksverzeichnis'!G801=Texte!$A$26,F801,0)","v":0},{"$f":"IF('Anhang Grundstücksverzeichnis'!G801=Texte!$A$27,F801,0)","v":0},{"$f":"IF('Anhang Grundstücksverzeichnis'!G801=Texte!$A$28,F801,0)","v":0}]
[792,{"$f":"IF(C802<>\"\",IF(ISNA(VLOOKUP(C802,Katastralgemeinden!$A$2:$B$3041,2,FALSE)),\"Ungültige KG-Nummer!\",VLOOKUP(C802,Katastralgemeinden!A$2:$B$3041,2,\"falsch\")),\"\")","v":""},null,null,null,null,null,null,null,null,"",0,{"$f":"IF('Anhang Grundstücksverzeichnis'!G802=Texte!$A$25,F802,0)","v":0},{"$f":"IF('Anhang Grundstücksverzeichnis'!G802=Texte!$A$26,F802,0)","v":0},{"$f":"IF('Anhang Grundstücksverzeichnis'!G802=Texte!$A$27,F802,0)","v":0},{"$f":"IF('Anhang Grundstücksverzeichnis'!G802=Texte!$A$28,F802,0)","v":0}]
[793,{"$f":"IF(C803<>\"\",IF(ISNA(VLOOKUP(C803,Katastralgemeinden!$A$2:$B$3041,2,FALSE)),\"Ungültige KG-Nummer!\",VLOOKUP(C803,Katastralgemeinden!A$2:$B$3041,2,\"falsch\")),\"\")","v":""},null,null,null,null,null,null,null,null,"",0,{"$f":"IF('Anhang Grundstücksverzeichnis'!G803=Texte!$A$25,F803,0)","v":0},{"$f":"IF('Anhang Grundstücksverzeichnis'!G803=Texte!$A$26,F803,0)","v":0},{"$f":"IF('Anhang Grundstücksverzeichnis'!G803=Texte!$A$27,F803,0)","v":0},{"$f":"IF('Anhang Grundstücksverzeichnis'!G803=Texte!$A$28,F803,0)","v":0}]
[794,{"$f":"IF(C804<>\"\",IF(ISNA(VLOOKUP(C804,Katastralgemeinden!$A$2:$B$3041,2,FALSE)),\"Ungültige KG-Nummer!\",VLOOKUP(C804,Katastralgemeinden!A$2:$B$3041,2,\"falsch\")),\"\")","v":""},null,null,null,null,null,null,null,null,"",0,{"$f":"IF('Anhang Grundstücksverzeichnis'!G804=Texte!$A$25,F804,0)","v":0},{"$f":"IF('Anhang Grundstücksverzeichnis'!G804=Texte!$A$26,F804,0)","v":0},{"$f":"IF('Anhang Grundstücksverzeichnis'!G804=Texte!$A$27,F804,0)","v":0},{"$f":"IF('Anhang Grundstücksverzeichnis'!G804=Texte!$A$28,F804,0)","v":0}]
[795,{"$f":"IF(C805<>\"\",IF(ISNA(VLOOKUP(C805,Katastralgemeinden!$A$2:$B$3041,2,FALSE)),\"Ungültige KG-Nummer!\",VLOOKUP(C805,Katastralgemeinden!A$2:$B$3041,2,\"falsch\")),\"\")","v":""},null,null,null,null,null,null,null,null,"",0,{"$f":"IF('Anhang Grundstücksverzeichnis'!G805=Texte!$A$25,F805,0)","v":0},{"$f":"IF('Anhang Grundstücksverzeichnis'!G805=Texte!$A$26,F805,0)","v":0},{"$f":"IF('Anhang Grundstücksverzeichnis'!G805=Texte!$A$27,F805,0)","v":0},{"$f":"IF('Anhang Grundstücksverzeichnis'!G805=Texte!$A$28,F805,0)","v":0}]
[796,{"$f":"IF(C806<>\"\",IF(ISNA(VLOOKUP(C806,Katastralgemeinden!$A$2:$B$3041,2,FALSE)),\"Ungültige KG-Nummer!\",VLOOKUP(C806,Katastralgemeinden!A$2:$B$3041,2,\"falsch\")),\"\")","v":""},null,null,null,null,null,null,null,null,"",0,{"$f":"IF('Anhang Grundstücksverzeichnis'!G806=Texte!$A$25,F806,0)","v":0},{"$f":"IF('Anhang Grundstücksverzeichnis'!G806=Texte!$A$26,F806,0)","v":0},{"$f":"IF('Anhang Grundstücksverzeichnis'!G806=Texte!$A$27,F806,0)","v":0},{"$f":"IF('Anhang Grundstücksverzeichnis'!G806=Texte!$A$28,F806,0)","v":0}]
[797,{"$f":"IF(C807<>\"\",IF(ISNA(VLOOKUP(C807,Katastralgemeinden!$A$2:$B$3041,2,FALSE)),\"Ungültige KG-Nummer!\",VLOOKUP(C807,Katastralgemeinden!A$2:$B$3041,2,\"falsch\")),\"\")","v":""},null,null,null,null,null,null,null,null,"",0,{"$f":"IF('Anhang Grundstücksverzeichnis'!G807=Texte!$A$25,F807,0)","v":0},{"$f":"IF('Anhang Grundstücksverzeichnis'!G807=Texte!$A$26,F807,0)","v":0},{"$f":"IF('Anhang Grundstücksverzeichnis'!G807=Texte!$A$27,F807,0)","v":0},{"$f":"IF('Anhang Grundstücksverzeichnis'!G807=Texte!$A$28,F807,0)","v":0}]
[798,{"$f":"IF(C808<>\"\",IF(ISNA(VLOOKUP(C808,Katastralgemeinden!$A$2:$B$3041,2,FALSE)),\"Ungültige KG-Nummer!\",VLOOKUP(C808,Katastralgemeinden!A$2:$B$3041,2,\"falsch\")),\"\")","v":""},null,null,null,null,null,null,null,null,"",0,{"$f":"IF('Anhang Grundstücksverzeichnis'!G808=Texte!$A$25,F808,0)","v":0},{"$f":"IF('Anhang Grundstücksverzeichnis'!G808=Texte!$A$26,F808,0)","v":0},{"$f":"IF('Anhang Grundstücksverzeichnis'!G808=Texte!$A$27,F808,0)","v":0},{"$f":"IF('Anhang Grundstücksverzeichnis'!G808=Texte!$A$28,F808,0)","v":0}]
[799,{"$f":"IF(C809<>\"\",IF(ISNA(VLOOKUP(C809,Katastralgemeinden!$A$2:$B$3041,2,FALSE)),\"Ungültige KG-Nummer!\",VLOOKUP(C809,Katastralgemeinden!A$2:$B$3041,2,\"falsch\")),\"\")","v":""},null,null,null,null,null,null,null,null,"",0,{"$f":"IF('Anhang Grundstücksverzeichnis'!G809=Texte!$A$25,F809,0)","v":0},{"$f":"IF('Anhang Grundstücksverzeichnis'!G809=Texte!$A$26,F809,0)","v":0},{"$f":"IF('Anhang Grundstücksverzeichnis'!G809=Texte!$A$27,F809,0)","v":0},{"$f":"IF('Anhang Grundstücksverzeichnis'!G809=Texte!$A$28,F809,0)","v":0}]
[800,{"$f":"IF(C810<>\"\",IF(ISNA(VLOOKUP(C810,Katastralgemeinden!$A$2:$B$3041,2,FALSE)),\"Ungültige KG-Nummer!\",VLOOKUP(C810,Katastralgemeinden!A$2:$B$3041,2,\"falsch\")),\"\")","v":""},null,null,null,null,null,null,null,null,"",0,{"$f":"IF('Anhang Grundstücksverzeichnis'!G810=Texte!$A$25,F810,0)","v":0},{"$f":"IF('Anhang Grundstücksverzeichnis'!G810=Texte!$A$26,F810,0)","v":0},{"$f":"IF('Anhang Grundstücksverzeichnis'!G810=Texte!$A$27,F810,0)","v":0},{"$f":"IF('Anhang Grundstücksverzeichnis'!G810=Texte!$A$28,F810,0)","v":0}]
[801,{"$f":"IF(C811<>\"\",IF(ISNA(VLOOKUP(C811,Katastralgemeinden!$A$2:$B$3041,2,FALSE)),\"Ungültige KG-Nummer!\",VLOOKUP(C811,Katastralgemeinden!A$2:$B$3041,2,\"falsch\")),\"\")","v":""},null,null,null,null,null,null,null,null,"",0,{"$f":"IF('Anhang Grundstücksverzeichnis'!G811=Texte!$A$25,F811,0)","v":0},{"$f":"IF('Anhang Grundstücksverzeichnis'!G811=Texte!$A$26,F811,0)","v":0},{"$f":"IF('Anhang Grundstücksverzeichnis'!G811=Texte!$A$27,F811,0)","v":0},{"$f":"IF('Anhang Grundstücksverzeichnis'!G811=Texte!$A$28,F811,0)","v":0}]
[802,{"$f":"IF(C812<>\"\",IF(ISNA(VLOOKUP(C812,Katastralgemeinden!$A$2:$B$3041,2,FALSE)),\"Ungültige KG-Nummer!\",VLOOKUP(C812,Katastralgemeinden!A$2:$B$3041,2,\"falsch\")),\"\")","v":""},null,null,null,null,null,null,null,null,"",0,{"$f":"IF('Anhang Grundstücksverzeichnis'!G812=Texte!$A$25,F812,0)","v":0},{"$f":"IF('Anhang Grundstücksverzeichnis'!G812=Texte!$A$26,F812,0)","v":0},{"$f":"IF('Anhang Grundstücksverzeichnis'!G812=Texte!$A$27,F812,0)","v":0},{"$f":"IF('Anhang Grundstücksverzeichnis'!G812=Texte!$A$28,F812,0)","v":0}]
[803,{"$f":"IF(C813<>\"\",IF(ISNA(VLOOKUP(C813,Katastralgemeinden!$A$2:$B$3041,2,FALSE)),\"Ungültige KG-Nummer!\",VLOOKUP(C813,Katastralgemeinden!A$2:$B$3041,2,\"falsch\")),\"\")","v":""},null,null,null,null,null,null,null,null,"",0,{"$f":"IF('Anhang Grundstücksverzeichnis'!G813=Texte!$A$25,F813,0)","v":0},{"$f":"IF('Anhang Grundstücksverzeichnis'!G813=Texte!$A$26,F813,0)","v":0},{"$f":"IF('Anhang Grundstücksverzeichnis'!G813=Texte!$A$27,F813,0)","v":0},{"$f":"IF('Anhang Grundstücksverzeichnis'!G813=Texte!$A$28,F813,0)","v":0}]
[804,{"$f":"IF(C814<>\"\",IF(ISNA(VLOOKUP(C814,Katastralgemeinden!$A$2:$B$3041,2,FALSE)),\"Ungültige KG-Nummer!\",VLOOKUP(C814,Katastralgemeinden!A$2:$B$3041,2,\"falsch\")),\"\")","v":""},null,null,null,null,null,null,null,null,"",0,{"$f":"IF('Anhang Grundstücksverzeichnis'!G814=Texte!$A$25,F814,0)","v":0},{"$f":"IF('Anhang Grundstücksverzeichnis'!G814=Texte!$A$26,F814,0)","v":0},{"$f":"IF('Anhang Grundstücksverzeichnis'!G814=Texte!$A$27,F814,0)","v":0},{"$f":"IF('Anhang Grundstücksverzeichnis'!G814=Texte!$A$28,F814,0)","v":0}]
[805,{"$f":"IF(C815<>\"\",IF(ISNA(VLOOKUP(C815,Katastralgemeinden!$A$2:$B$3041,2,FALSE)),\"Ungültige KG-Nummer!\",VLOOKUP(C815,Katastralgemeinden!A$2:$B$3041,2,\"falsch\")),\"\")","v":""},null,null,null,null,null,null,null,null,"",0,{"$f":"IF('Anhang Grundstücksverzeichnis'!G815=Texte!$A$25,F815,0)","v":0},{"$f":"IF('Anhang Grundstücksverzeichnis'!G815=Texte!$A$26,F815,0)","v":0},{"$f":"IF('Anhang Grundstücksverzeichnis'!G815=Texte!$A$27,F815,0)","v":0},{"$f":"IF('Anhang Grundstücksverzeichnis'!G815=Texte!$A$28,F815,0)","v":0}]
[806,{"$f":"IF(C816<>\"\",IF(ISNA(VLOOKUP(C816,Katastralgemeinden!$A$2:$B$3041,2,FALSE)),\"Ungültige KG-Nummer!\",VLOOKUP(C816,Katastralgemeinden!A$2:$B$3041,2,\"falsch\")),\"\")","v":""},null,null,null,null,null,null,null,null,"",0,{"$f":"IF('Anhang Grundstücksverzeichnis'!G816=Texte!$A$25,F816,0)","v":0},{"$f":"IF('Anhang Grundstücksverzeichnis'!G816=Texte!$A$26,F816,0)","v":0},{"$f":"IF('Anhang Grundstücksverzeichnis'!G816=Texte!$A$27,F816,0)","v":0},{"$f":"IF('Anhang Grundstücksverzeichnis'!G816=Texte!$A$28,F816,0)","v":0}]
[807,{"$f":"IF(C817<>\"\",IF(ISNA(VLOOKUP(C817,Katastralgemeinden!$A$2:$B$3041,2,FALSE)),\"Ungültige KG-Nummer!\",VLOOKUP(C817,Katastralgemeinden!A$2:$B$3041,2,\"falsch\")),\"\")","v":""},null,null,null,null,null,null,null,null,"",0,{"$f":"IF('Anhang Grundstücksverzeichnis'!G817=Texte!$A$25,F817,0)","v":0},{"$f":"IF('Anhang Grundstücksverzeichnis'!G817=Texte!$A$26,F817,0)","v":0},{"$f":"IF('Anhang Grundstücksverzeichnis'!G817=Texte!$A$27,F817,0)","v":0},{"$f":"IF('Anhang Grundstücksverzeichnis'!G817=Texte!$A$28,F817,0)","v":0}]
[808,{"$f":"IF(C818<>\"\",IF(ISNA(VLOOKUP(C818,Katastralgemeinden!$A$2:$B$3041,2,FALSE)),\"Ungültige KG-Nummer!\",VLOOKUP(C818,Katastralgemeinden!A$2:$B$3041,2,\"falsch\")),\"\")","v":""},null,null,null,null,null,null,null,null,"",0,{"$f":"IF('Anhang Grundstücksverzeichnis'!G818=Texte!$A$25,F818,0)","v":0},{"$f":"IF('Anhang Grundstücksverzeichnis'!G818=Texte!$A$26,F818,0)","v":0},{"$f":"IF('Anhang Grundstücksverzeichnis'!G818=Texte!$A$27,F818,0)","v":0},{"$f":"IF('Anhang Grundstücksverzeichnis'!G818=Texte!$A$28,F818,0)","v":0}]
[809,{"$f":"IF(C819<>\"\",IF(ISNA(VLOOKUP(C819,Katastralgemeinden!$A$2:$B$3041,2,FALSE)),\"Ungültige KG-Nummer!\",VLOOKUP(C819,Katastralgemeinden!A$2:$B$3041,2,\"falsch\")),\"\")","v":""},null,null,null,null,null,null,null,null,"",0,{"$f":"IF('Anhang Grundstücksverzeichnis'!G819=Texte!$A$25,F819,0)","v":0},{"$f":"IF('Anhang Grundstücksverzeichnis'!G819=Texte!$A$26,F819,0)","v":0},{"$f":"IF('Anhang Grundstücksverzeichnis'!G819=Texte!$A$27,F819,0)","v":0},{"$f":"IF('Anhang Grundstücksverzeichnis'!G819=Texte!$A$28,F819,0)","v":0}]
[810,{"$f":"IF(C820<>\"\",IF(ISNA(VLOOKUP(C820,Katastralgemeinden!$A$2:$B$3041,2,FALSE)),\"Ungültige KG-Nummer!\",VLOOKUP(C820,Katastralgemeinden!A$2:$B$3041,2,\"falsch\")),\"\")","v":""},null,null,null,null,null,null,null,null,"",0,{"$f":"IF('Anhang Grundstücksverzeichnis'!G820=Texte!$A$25,F820,0)","v":0},{"$f":"IF('Anhang Grundstücksverzeichnis'!G820=Texte!$A$26,F820,0)","v":0},{"$f":"IF('Anhang Grundstücksverzeichnis'!G820=Texte!$A$27,F820,0)","v":0},{"$f":"IF('Anhang Grundstücksverzeichnis'!G820=Texte!$A$28,F820,0)","v":0}]
[811,{"$f":"IF(C821<>\"\",IF(ISNA(VLOOKUP(C821,Katastralgemeinden!$A$2:$B$3041,2,FALSE)),\"Ungültige KG-Nummer!\",VLOOKUP(C821,Katastralgemeinden!A$2:$B$3041,2,\"falsch\")),\"\")","v":""},null,null,null,null,null,null,null,null,"",0,{"$f":"IF('Anhang Grundstücksverzeichnis'!G821=Texte!$A$25,F821,0)","v":0},{"$f":"IF('Anhang Grundstücksverzeichnis'!G821=Texte!$A$26,F821,0)","v":0},{"$f":"IF('Anhang Grundstücksverzeichnis'!G821=Texte!$A$27,F821,0)","v":0},{"$f":"IF('Anhang Grundstücksverzeichnis'!G821=Texte!$A$28,F821,0)","v":0}]
[812,{"$f":"IF(C822<>\"\",IF(ISNA(VLOOKUP(C822,Katastralgemeinden!$A$2:$B$3041,2,FALSE)),\"Ungültige KG-Nummer!\",VLOOKUP(C822,Katastralgemeinden!A$2:$B$3041,2,\"falsch\")),\"\")","v":""},null,null,null,null,null,null,null,null,"",0,{"$f":"IF('Anhang Grundstücksverzeichnis'!G822=Texte!$A$25,F822,0)","v":0},{"$f":"IF('Anhang Grundstücksverzeichnis'!G822=Texte!$A$26,F822,0)","v":0},{"$f":"IF('Anhang Grundstücksverzeichnis'!G822=Texte!$A$27,F822,0)","v":0},{"$f":"IF('Anhang Grundstücksverzeichnis'!G822=Texte!$A$28,F822,0)","v":0}]
[813,{"$f":"IF(C823<>\"\",IF(ISNA(VLOOKUP(C823,Katastralgemeinden!$A$2:$B$3041,2,FALSE)),\"Ungültige KG-Nummer!\",VLOOKUP(C823,Katastralgemeinden!A$2:$B$3041,2,\"falsch\")),\"\")","v":""},null,null,null,null,null,null,null,null,"",0,{"$f":"IF('Anhang Grundstücksverzeichnis'!G823=Texte!$A$25,F823,0)","v":0},{"$f":"IF('Anhang Grundstücksverzeichnis'!G823=Texte!$A$26,F823,0)","v":0},{"$f":"IF('Anhang Grundstücksverzeichnis'!G823=Texte!$A$27,F823,0)","v":0},{"$f":"IF('Anhang Grundstücksverzeichnis'!G823=Texte!$A$28,F823,0)","v":0}]
[814,{"$f":"IF(C824<>\"\",IF(ISNA(VLOOKUP(C824,Katastralgemeinden!$A$2:$B$3041,2,FALSE)),\"Ungültige KG-Nummer!\",VLOOKUP(C824,Katastralgemeinden!A$2:$B$3041,2,\"falsch\")),\"\")","v":""},null,null,null,null,null,null,null,null,"",0,{"$f":"IF('Anhang Grundstücksverzeichnis'!G824=Texte!$A$25,F824,0)","v":0},{"$f":"IF('Anhang Grundstücksverzeichnis'!G824=Texte!$A$26,F824,0)","v":0},{"$f":"IF('Anhang Grundstücksverzeichnis'!G824=Texte!$A$27,F824,0)","v":0},{"$f":"IF('Anhang Grundstücksverzeichnis'!G824=Texte!$A$28,F824,0)","v":0}]
[815,{"$f":"IF(C825<>\"\",IF(ISNA(VLOOKUP(C825,Katastralgemeinden!$A$2:$B$3041,2,FALSE)),\"Ungültige KG-Nummer!\",VLOOKUP(C825,Katastralgemeinden!A$2:$B$3041,2,\"falsch\")),\"\")","v":""},null,null,null,null,null,null,null,null,"",0,{"$f":"IF('Anhang Grundstücksverzeichnis'!G825=Texte!$A$25,F825,0)","v":0},{"$f":"IF('Anhang Grundstücksverzeichnis'!G825=Texte!$A$26,F825,0)","v":0},{"$f":"IF('Anhang Grundstücksverzeichnis'!G825=Texte!$A$27,F825,0)","v":0},{"$f":"IF('Anhang Grundstücksverzeichnis'!G825=Texte!$A$28,F825,0)","v":0}]
[816,{"$f":"IF(C826<>\"\",IF(ISNA(VLOOKUP(C826,Katastralgemeinden!$A$2:$B$3041,2,FALSE)),\"Ungültige KG-Nummer!\",VLOOKUP(C826,Katastralgemeinden!A$2:$B$3041,2,\"falsch\")),\"\")","v":""},null,null,null,null,null,null,null,null,"",0,{"$f":"IF('Anhang Grundstücksverzeichnis'!G826=Texte!$A$25,F826,0)","v":0},{"$f":"IF('Anhang Grundstücksverzeichnis'!G826=Texte!$A$26,F826,0)","v":0},{"$f":"IF('Anhang Grundstücksverzeichnis'!G826=Texte!$A$27,F826,0)","v":0},{"$f":"IF('Anhang Grundstücksverzeichnis'!G826=Texte!$A$28,F826,0)","v":0}]
[817,{"$f":"IF(C827<>\"\",IF(ISNA(VLOOKUP(C827,Katastralgemeinden!$A$2:$B$3041,2,FALSE)),\"Ungültige KG-Nummer!\",VLOOKUP(C827,Katastralgemeinden!A$2:$B$3041,2,\"falsch\")),\"\")","v":""},null,null,null,null,null,null,null,null,"",0,{"$f":"IF('Anhang Grundstücksverzeichnis'!G827=Texte!$A$25,F827,0)","v":0},{"$f":"IF('Anhang Grundstücksverzeichnis'!G827=Texte!$A$26,F827,0)","v":0},{"$f":"IF('Anhang Grundstücksverzeichnis'!G827=Texte!$A$27,F827,0)","v":0},{"$f":"IF('Anhang Grundstücksverzeichnis'!G827=Texte!$A$28,F827,0)","v":0}]
[818,{"$f":"IF(C828<>\"\",IF(ISNA(VLOOKUP(C828,Katastralgemeinden!$A$2:$B$3041,2,FALSE)),\"Ungültige KG-Nummer!\",VLOOKUP(C828,Katastralgemeinden!A$2:$B$3041,2,\"falsch\")),\"\")","v":""},null,null,null,null,null,null,null,null,"",0,{"$f":"IF('Anhang Grundstücksverzeichnis'!G828=Texte!$A$25,F828,0)","v":0},{"$f":"IF('Anhang Grundstücksverzeichnis'!G828=Texte!$A$26,F828,0)","v":0},{"$f":"IF('Anhang Grundstücksverzeichnis'!G828=Texte!$A$27,F828,0)","v":0},{"$f":"IF('Anhang Grundstücksverzeichnis'!G828=Texte!$A$28,F828,0)","v":0}]
[819,{"$f":"IF(C829<>\"\",IF(ISNA(VLOOKUP(C829,Katastralgemeinden!$A$2:$B$3041,2,FALSE)),\"Ungültige KG-Nummer!\",VLOOKUP(C829,Katastralgemeinden!A$2:$B$3041,2,\"falsch\")),\"\")","v":""},null,null,null,null,null,null,null,null,"",0,{"$f":"IF('Anhang Grundstücksverzeichnis'!G829=Texte!$A$25,F829,0)","v":0},{"$f":"IF('Anhang Grundstücksverzeichnis'!G829=Texte!$A$26,F829,0)","v":0},{"$f":"IF('Anhang Grundstücksverzeichnis'!G829=Texte!$A$27,F829,0)","v":0},{"$f":"IF('Anhang Grundstücksverzeichnis'!G829=Texte!$A$28,F829,0)","v":0}]
[820,{"$f":"IF(C830<>\"\",IF(ISNA(VLOOKUP(C830,Katastralgemeinden!$A$2:$B$3041,2,FALSE)),\"Ungültige KG-Nummer!\",VLOOKUP(C830,Katastralgemeinden!A$2:$B$3041,2,\"falsch\")),\"\")","v":""},null,null,null,null,null,null,null,null,"",0,{"$f":"IF('Anhang Grundstücksverzeichnis'!G830=Texte!$A$25,F830,0)","v":0},{"$f":"IF('Anhang Grundstücksverzeichnis'!G830=Texte!$A$26,F830,0)","v":0},{"$f":"IF('Anhang Grundstücksverzeichnis'!G830=Texte!$A$27,F830,0)","v":0},{"$f":"IF('Anhang Grundstücksverzeichnis'!G830=Texte!$A$28,F830,0)","v":0}]
[821,{"$f":"IF(C831<>\"\",IF(ISNA(VLOOKUP(C831,Katastralgemeinden!$A$2:$B$3041,2,FALSE)),\"Ungültige KG-Nummer!\",VLOOKUP(C831,Katastralgemeinden!A$2:$B$3041,2,\"falsch\")),\"\")","v":""},null,null,null,null,null,null,null,null,"",0,{"$f":"IF('Anhang Grundstücksverzeichnis'!G831=Texte!$A$25,F831,0)","v":0},{"$f":"IF('Anhang Grundstücksverzeichnis'!G831=Texte!$A$26,F831,0)","v":0},{"$f":"IF('Anhang Grundstücksverzeichnis'!G831=Texte!$A$27,F831,0)","v":0},{"$f":"IF('Anhang Grundstücksverzeichnis'!G831=Texte!$A$28,F831,0)","v":0}]
[822,{"$f":"IF(C832<>\"\",IF(ISNA(VLOOKUP(C832,Katastralgemeinden!$A$2:$B$3041,2,FALSE)),\"Ungültige KG-Nummer!\",VLOOKUP(C832,Katastralgemeinden!A$2:$B$3041,2,\"falsch\")),\"\")","v":""},null,null,null,null,null,null,null,null,"",0,{"$f":"IF('Anhang Grundstücksverzeichnis'!G832=Texte!$A$25,F832,0)","v":0},{"$f":"IF('Anhang Grundstücksverzeichnis'!G832=Texte!$A$26,F832,0)","v":0},{"$f":"IF('Anhang Grundstücksverzeichnis'!G832=Texte!$A$27,F832,0)","v":0},{"$f":"IF('Anhang Grundstücksverzeichnis'!G832=Texte!$A$28,F832,0)","v":0}]
[823,{"$f":"IF(C833<>\"\",IF(ISNA(VLOOKUP(C833,Katastralgemeinden!$A$2:$B$3041,2,FALSE)),\"Ungültige KG-Nummer!\",VLOOKUP(C833,Katastralgemeinden!A$2:$B$3041,2,\"falsch\")),\"\")","v":""},null,null,null,null,null,null,null,null,"",0,{"$f":"IF('Anhang Grundstücksverzeichnis'!G833=Texte!$A$25,F833,0)","v":0},{"$f":"IF('Anhang Grundstücksverzeichnis'!G833=Texte!$A$26,F833,0)","v":0},{"$f":"IF('Anhang Grundstücksverzeichnis'!G833=Texte!$A$27,F833,0)","v":0},{"$f":"IF('Anhang Grundstücksverzeichnis'!G833=Texte!$A$28,F833,0)","v":0}]
[824,{"$f":"IF(C834<>\"\",IF(ISNA(VLOOKUP(C834,Katastralgemeinden!$A$2:$B$3041,2,FALSE)),\"Ungültige KG-Nummer!\",VLOOKUP(C834,Katastralgemeinden!A$2:$B$3041,2,\"falsch\")),\"\")","v":""},null,null,null,null,null,null,null,null,"",0,{"$f":"IF('Anhang Grundstücksverzeichnis'!G834=Texte!$A$25,F834,0)","v":0},{"$f":"IF('Anhang Grundstücksverzeichnis'!G834=Texte!$A$26,F834,0)","v":0},{"$f":"IF('Anhang Grundstücksverzeichnis'!G834=Texte!$A$27,F834,0)","v":0},{"$f":"IF('Anhang Grundstücksverzeichnis'!G834=Texte!$A$28,F834,0)","v":0}]
[825,{"$f":"IF(C835<>\"\",IF(ISNA(VLOOKUP(C835,Katastralgemeinden!$A$2:$B$3041,2,FALSE)),\"Ungültige KG-Nummer!\",VLOOKUP(C835,Katastralgemeinden!A$2:$B$3041,2,\"falsch\")),\"\")","v":""},null,null,null,null,null,null,null,null,"",0,{"$f":"IF('Anhang Grundstücksverzeichnis'!G835=Texte!$A$25,F835,0)","v":0},{"$f":"IF('Anhang Grundstücksverzeichnis'!G835=Texte!$A$26,F835,0)","v":0},{"$f":"IF('Anhang Grundstücksverzeichnis'!G835=Texte!$A$27,F835,0)","v":0},{"$f":"IF('Anhang Grundstücksverzeichnis'!G835=Texte!$A$28,F835,0)","v":0}]
[826,{"$f":"IF(C836<>\"\",IF(ISNA(VLOOKUP(C836,Katastralgemeinden!$A$2:$B$3041,2,FALSE)),\"Ungültige KG-Nummer!\",VLOOKUP(C836,Katastralgemeinden!A$2:$B$3041,2,\"falsch\")),\"\")","v":""},null,null,null,null,null,null,null,null,"",0,{"$f":"IF('Anhang Grundstücksverzeichnis'!G836=Texte!$A$25,F836,0)","v":0},{"$f":"IF('Anhang Grundstücksverzeichnis'!G836=Texte!$A$26,F836,0)","v":0},{"$f":"IF('Anhang Grundstücksverzeichnis'!G836=Texte!$A$27,F836,0)","v":0},{"$f":"IF('Anhang Grundstücksverzeichnis'!G836=Texte!$A$28,F836,0)","v":0}]
[827,{"$f":"IF(C837<>\"\",IF(ISNA(VLOOKUP(C837,Katastralgemeinden!$A$2:$B$3041,2,FALSE)),\"Ungültige KG-Nummer!\",VLOOKUP(C837,Katastralgemeinden!A$2:$B$3041,2,\"falsch\")),\"\")","v":""},null,null,null,null,null,null,null,null,"",0,{"$f":"IF('Anhang Grundstücksverzeichnis'!G837=Texte!$A$25,F837,0)","v":0},{"$f":"IF('Anhang Grundstücksverzeichnis'!G837=Texte!$A$26,F837,0)","v":0},{"$f":"IF('Anhang Grundstücksverzeichnis'!G837=Texte!$A$27,F837,0)","v":0},{"$f":"IF('Anhang Grundstücksverzeichnis'!G837=Texte!$A$28,F837,0)","v":0}]
[828,{"$f":"IF(C838<>\"\",IF(ISNA(VLOOKUP(C838,Katastralgemeinden!$A$2:$B$3041,2,FALSE)),\"Ungültige KG-Nummer!\",VLOOKUP(C838,Katastralgemeinden!A$2:$B$3041,2,\"falsch\")),\"\")","v":""},null,null,null,null,null,null,null,null,"",0,{"$f":"IF('Anhang Grundstücksverzeichnis'!G838=Texte!$A$25,F838,0)","v":0},{"$f":"IF('Anhang Grundstücksverzeichnis'!G838=Texte!$A$26,F838,0)","v":0},{"$f":"IF('Anhang Grundstücksverzeichnis'!G838=Texte!$A$27,F838,0)","v":0},{"$f":"IF('Anhang Grundstücksverzeichnis'!G838=Texte!$A$28,F838,0)","v":0}]
[829,{"$f":"IF(C839<>\"\",IF(ISNA(VLOOKUP(C839,Katastralgemeinden!$A$2:$B$3041,2,FALSE)),\"Ungültige KG-Nummer!\",VLOOKUP(C839,Katastralgemeinden!A$2:$B$3041,2,\"falsch\")),\"\")","v":""},null,null,null,null,null,null,null,null,"",0,{"$f":"IF('Anhang Grundstücksverzeichnis'!G839=Texte!$A$25,F839,0)","v":0},{"$f":"IF('Anhang Grundstücksverzeichnis'!G839=Texte!$A$26,F839,0)","v":0},{"$f":"IF('Anhang Grundstücksverzeichnis'!G839=Texte!$A$27,F839,0)","v":0},{"$f":"IF('Anhang Grundstücksverzeichnis'!G839=Texte!$A$28,F839,0)","v":0}]
[830,{"$f":"IF(C840<>\"\",IF(ISNA(VLOOKUP(C840,Katastralgemeinden!$A$2:$B$3041,2,FALSE)),\"Ungültige KG-Nummer!\",VLOOKUP(C840,Katastralgemeinden!A$2:$B$3041,2,\"falsch\")),\"\")","v":""},null,null,null,null,null,null,null,null,"",0,{"$f":"IF('Anhang Grundstücksverzeichnis'!G840=Texte!$A$25,F840,0)","v":0},{"$f":"IF('Anhang Grundstücksverzeichnis'!G840=Texte!$A$26,F840,0)","v":0},{"$f":"IF('Anhang Grundstücksverzeichnis'!G840=Texte!$A$27,F840,0)","v":0},{"$f":"IF('Anhang Grundstücksverzeichnis'!G840=Texte!$A$28,F840,0)","v":0}]
[831,{"$f":"IF(C841<>\"\",IF(ISNA(VLOOKUP(C841,Katastralgemeinden!$A$2:$B$3041,2,FALSE)),\"Ungültige KG-Nummer!\",VLOOKUP(C841,Katastralgemeinden!A$2:$B$3041,2,\"falsch\")),\"\")","v":""},null,null,null,null,null,null,null,null,"",0,{"$f":"IF('Anhang Grundstücksverzeichnis'!G841=Texte!$A$25,F841,0)","v":0},{"$f":"IF('Anhang Grundstücksverzeichnis'!G841=Texte!$A$26,F841,0)","v":0},{"$f":"IF('Anhang Grundstücksverzeichnis'!G841=Texte!$A$27,F841,0)","v":0},{"$f":"IF('Anhang Grundstücksverzeichnis'!G841=Texte!$A$28,F841,0)","v":0}]
[832,{"$f":"IF(C842<>\"\",IF(ISNA(VLOOKUP(C842,Katastralgemeinden!$A$2:$B$3041,2,FALSE)),\"Ungültige KG-Nummer!\",VLOOKUP(C842,Katastralgemeinden!A$2:$B$3041,2,\"falsch\")),\"\")","v":""},null,null,null,null,null,null,null,null,"",0,{"$f":"IF('Anhang Grundstücksverzeichnis'!G842=Texte!$A$25,F842,0)","v":0},{"$f":"IF('Anhang Grundstücksverzeichnis'!G842=Texte!$A$26,F842,0)","v":0},{"$f":"IF('Anhang Grundstücksverzeichnis'!G842=Texte!$A$27,F842,0)","v":0},{"$f":"IF('Anhang Grundstücksverzeichnis'!G842=Texte!$A$28,F842,0)","v":0}]
[833,{"$f":"IF(C843<>\"\",IF(ISNA(VLOOKUP(C843,Katastralgemeinden!$A$2:$B$3041,2,FALSE)),\"Ungültige KG-Nummer!\",VLOOKUP(C843,Katastralgemeinden!A$2:$B$3041,2,\"falsch\")),\"\")","v":""},null,null,null,null,null,null,null,null,"",0,{"$f":"IF('Anhang Grundstücksverzeichnis'!G843=Texte!$A$25,F843,0)","v":0},{"$f":"IF('Anhang Grundstücksverzeichnis'!G843=Texte!$A$26,F843,0)","v":0},{"$f":"IF('Anhang Grundstücksverzeichnis'!G843=Texte!$A$27,F843,0)","v":0},{"$f":"IF('Anhang Grundstücksverzeichnis'!G843=Texte!$A$28,F843,0)","v":0}]
[834,{"$f":"IF(C844<>\"\",IF(ISNA(VLOOKUP(C844,Katastralgemeinden!$A$2:$B$3041,2,FALSE)),\"Ungültige KG-Nummer!\",VLOOKUP(C844,Katastralgemeinden!A$2:$B$3041,2,\"falsch\")),\"\")","v":""},null,null,null,null,null,null,null,null,{"$f":"IF(G844<>\"\",IF(G844=\"Eigengrundfläche\",0,IF(G844=\"Vorpachtfläche\",1,IF(G844=\"Abrundung +\",3,IF(G844=\"Abrundung -\",4,5)))),\"\")","v":""},{"$f":"IF(OR(LOWER(H844)=\"x\",LOWER(H844)=\"j\"),1,0)","v":0},{"$f":"IF('Anhang Grundstücksverzeichnis'!G844=Texte!$A$25,F844,0)","v":0},{"$f":"IF('Anhang Grundstücksverzeichnis'!G844=Texte!$A$26,F844,0)","v":0},{"$f":"IF('Anhang Grundstücksverzeichnis'!G844=Texte!$A$27,F844,0)","v":0},{"$f":"IF('Anhang Grundstücksverzeichnis'!G844=Texte!$A$28,F844,0)","v":0}]
[835,{"$f":"IF(C845<>\"\",IF(ISNA(VLOOKUP(C845,Katastralgemeinden!$A$2:$B$3041,2,FALSE)),\"Ungültige KG-Nummer!\",VLOOKUP(C845,Katastralgemeinden!A$2:$B$3041,2,\"falsch\")),\"\")","v":""},null,null,null,null,null,null,null,null,"",0,{"$f":"IF('Anhang Grundstücksverzeichnis'!G845=Texte!$A$25,F845,0)","v":0},{"$f":"IF('Anhang Grundstücksverzeichnis'!G845=Texte!$A$26,F845,0)","v":0},{"$f":"IF('Anhang Grundstücksverzeichnis'!G845=Texte!$A$27,F845,0)","v":0},{"$f":"IF('Anhang Grundstücksverzeichnis'!G845=Texte!$A$28,F845,0)","v":0}]
[836,{"$f":"IF(C846<>\"\",IF(ISNA(VLOOKUP(C846,Katastralgemeinden!$A$2:$B$3041,2,FALSE)),\"Ungültige KG-Nummer!\",VLOOKUP(C846,Katastralgemeinden!A$2:$B$3041,2,\"falsch\")),\"\")","v":""},null,null,null,null,null,null,null,null,"",0,{"$f":"IF('Anhang Grundstücksverzeichnis'!G846=Texte!$A$25,F846,0)","v":0},{"$f":"IF('Anhang Grundstücksverzeichnis'!G846=Texte!$A$26,F846,0)","v":0},{"$f":"IF('Anhang Grundstücksverzeichnis'!G846=Texte!$A$27,F846,0)","v":0},{"$f":"IF('Anhang Grundstücksverzeichnis'!G846=Texte!$A$28,F846,0)","v":0}]
[837,{"$f":"IF(C847<>\"\",IF(ISNA(VLOOKUP(C847,Katastralgemeinden!$A$2:$B$3041,2,FALSE)),\"Ungültige KG-Nummer!\",VLOOKUP(C847,Katastralgemeinden!A$2:$B$3041,2,\"falsch\")),\"\")","v":""},null,null,null,null,null,null,null,null,"",0,{"$f":"IF('Anhang Grundstücksverzeichnis'!G847=Texte!$A$25,F847,0)","v":0},{"$f":"IF('Anhang Grundstücksverzeichnis'!G847=Texte!$A$26,F847,0)","v":0},{"$f":"IF('Anhang Grundstücksverzeichnis'!G847=Texte!$A$27,F847,0)","v":0},{"$f":"IF('Anhang Grundstücksverzeichnis'!G847=Texte!$A$28,F847,0)","v":0}]
[838,{"$f":"IF(C848<>\"\",IF(ISNA(VLOOKUP(C848,Katastralgemeinden!$A$2:$B$3041,2,FALSE)),\"Ungültige KG-Nummer!\",VLOOKUP(C848,Katastralgemeinden!A$2:$B$3041,2,\"falsch\")),\"\")","v":""},null,null,null,null,null,null,null,null,"",0,{"$f":"IF('Anhang Grundstücksverzeichnis'!G848=Texte!$A$25,F848,0)","v":0},{"$f":"IF('Anhang Grundstücksverzeichnis'!G848=Texte!$A$26,F848,0)","v":0},{"$f":"IF('Anhang Grundstücksverzeichnis'!G848=Texte!$A$27,F848,0)","v":0},{"$f":"IF('Anhang Grundstücksverzeichnis'!G848=Texte!$A$28,F848,0)","v":0}]
[839,{"$f":"IF(C849<>\"\",IF(ISNA(VLOOKUP(C849,Katastralgemeinden!$A$2:$B$3041,2,FALSE)),\"Ungültige KG-Nummer!\",VLOOKUP(C849,Katastralgemeinden!A$2:$B$3041,2,\"falsch\")),\"\")","v":""},null,null,null,null,null,null,null,null,"",0,{"$f":"IF('Anhang Grundstücksverzeichnis'!G849=Texte!$A$25,F849,0)","v":0},{"$f":"IF('Anhang Grundstücksverzeichnis'!G849=Texte!$A$26,F849,0)","v":0},{"$f":"IF('Anhang Grundstücksverzeichnis'!G849=Texte!$A$27,F849,0)","v":0},{"$f":"IF('Anhang Grundstücksverzeichnis'!G849=Texte!$A$28,F849,0)","v":0}]
[840,{"$f":"IF(C850<>\"\",IF(ISNA(VLOOKUP(C850,Katastralgemeinden!$A$2:$B$3041,2,FALSE)),\"Ungültige KG-Nummer!\",VLOOKUP(C850,Katastralgemeinden!A$2:$B$3041,2,\"falsch\")),\"\")","v":""},null,null,null,null,null,null,null,null,"",0,{"$f":"IF('Anhang Grundstücksverzeichnis'!G850=Texte!$A$25,F850,0)","v":0},{"$f":"IF('Anhang Grundstücksverzeichnis'!G850=Texte!$A$26,F850,0)","v":0},{"$f":"IF('Anhang Grundstücksverzeichnis'!G850=Texte!$A$27,F850,0)","v":0},{"$f":"IF('Anhang Grundstücksverzeichnis'!G850=Texte!$A$28,F850,0)","v":0}]
[841,{"$f":"IF(C851<>\"\",IF(ISNA(VLOOKUP(C851,Katastralgemeinden!$A$2:$B$3041,2,FALSE)),\"Ungültige KG-Nummer!\",VLOOKUP(C851,Katastralgemeinden!A$2:$B$3041,2,\"falsch\")),\"\")","v":""},null,null,null,null,null,null,null,null,"",0,{"$f":"IF('Anhang Grundstücksverzeichnis'!G851=Texte!$A$25,F851,0)","v":0},{"$f":"IF('Anhang Grundstücksverzeichnis'!G851=Texte!$A$26,F851,0)","v":0},{"$f":"IF('Anhang Grundstücksverzeichnis'!G851=Texte!$A$27,F851,0)","v":0},{"$f":"IF('Anhang Grundstücksverzeichnis'!G851=Texte!$A$28,F851,0)","v":0}]
[842,{"$f":"IF(C852<>\"\",IF(ISNA(VLOOKUP(C852,Katastralgemeinden!$A$2:$B$3041,2,FALSE)),\"Ungültige KG-Nummer!\",VLOOKUP(C852,Katastralgemeinden!A$2:$B$3041,2,\"falsch\")),\"\")","v":""},null,null,null,null,null,null,null,null,"",0,{"$f":"IF('Anhang Grundstücksverzeichnis'!G852=Texte!$A$25,F852,0)","v":0},{"$f":"IF('Anhang Grundstücksverzeichnis'!G852=Texte!$A$26,F852,0)","v":0},{"$f":"IF('Anhang Grundstücksverzeichnis'!G852=Texte!$A$27,F852,0)","v":0},{"$f":"IF('Anhang Grundstücksverzeichnis'!G852=Texte!$A$28,F852,0)","v":0}]
[843,{"$f":"IF(C853<>\"\",IF(ISNA(VLOOKUP(C853,Katastralgemeinden!$A$2:$B$3041,2,FALSE)),\"Ungültige KG-Nummer!\",VLOOKUP(C853,Katastralgemeinden!A$2:$B$3041,2,\"falsch\")),\"\")","v":""},null,null,null,null,null,null,null,null,"",0,{"$f":"IF('Anhang Grundstücksverzeichnis'!G853=Texte!$A$25,F853,0)","v":0},{"$f":"IF('Anhang Grundstücksverzeichnis'!G853=Texte!$A$26,F853,0)","v":0},{"$f":"IF('Anhang Grundstücksverzeichnis'!G853=Texte!$A$27,F853,0)","v":0},{"$f":"IF('Anhang Grundstücksverzeichnis'!G853=Texte!$A$28,F853,0)","v":0}]
[844,{"$f":"IF(C854<>\"\",IF(ISNA(VLOOKUP(C854,Katastralgemeinden!$A$2:$B$3041,2,FALSE)),\"Ungültige KG-Nummer!\",VLOOKUP(C854,Katastralgemeinden!A$2:$B$3041,2,\"falsch\")),\"\")","v":""},null,null,null,null,null,null,null,null,"",0,{"$f":"IF('Anhang Grundstücksverzeichnis'!G854=Texte!$A$25,F854,0)","v":0},{"$f":"IF('Anhang Grundstücksverzeichnis'!G854=Texte!$A$26,F854,0)","v":0},{"$f":"IF('Anhang Grundstücksverzeichnis'!G854=Texte!$A$27,F854,0)","v":0},{"$f":"IF('Anhang Grundstücksverzeichnis'!G854=Texte!$A$28,F854,0)","v":0}]
[845,{"$f":"IF(C855<>\"\",IF(ISNA(VLOOKUP(C855,Katastralgemeinden!$A$2:$B$3041,2,FALSE)),\"Ungültige KG-Nummer!\",VLOOKUP(C855,Katastralgemeinden!A$2:$B$3041,2,\"falsch\")),\"\")","v":""},null,null,null,null,null,null,null,null,"",0,{"$f":"IF('Anhang Grundstücksverzeichnis'!G855=Texte!$A$25,F855,0)","v":0},{"$f":"IF('Anhang Grundstücksverzeichnis'!G855=Texte!$A$26,F855,0)","v":0},{"$f":"IF('Anhang Grundstücksverzeichnis'!G855=Texte!$A$27,F855,0)","v":0},{"$f":"IF('Anhang Grundstücksverzeichnis'!G855=Texte!$A$28,F855,0)","v":0}]
[846,{"$f":"IF(C856<>\"\",IF(ISNA(VLOOKUP(C856,Katastralgemeinden!$A$2:$B$3041,2,FALSE)),\"Ungültige KG-Nummer!\",VLOOKUP(C856,Katastralgemeinden!A$2:$B$3041,2,\"falsch\")),\"\")","v":""},null,null,null,null,null,null,null,null,"",0,{"$f":"IF('Anhang Grundstücksverzeichnis'!G856=Texte!$A$25,F856,0)","v":0},{"$f":"IF('Anhang Grundstücksverzeichnis'!G856=Texte!$A$26,F856,0)","v":0},{"$f":"IF('Anhang Grundstücksverzeichnis'!G856=Texte!$A$27,F856,0)","v":0},{"$f":"IF('Anhang Grundstücksverzeichnis'!G856=Texte!$A$28,F856,0)","v":0}]
[847,{"$f":"IF(C857<>\"\",IF(ISNA(VLOOKUP(C857,Katastralgemeinden!$A$2:$B$3041,2,FALSE)),\"Ungültige KG-Nummer!\",VLOOKUP(C857,Katastralgemeinden!A$2:$B$3041,2,\"falsch\")),\"\")","v":""},null,null,null,null,null,null,null,null,"",0,{"$f":"IF('Anhang Grundstücksverzeichnis'!G857=Texte!$A$25,F857,0)","v":0},{"$f":"IF('Anhang Grundstücksverzeichnis'!G857=Texte!$A$26,F857,0)","v":0},{"$f":"IF('Anhang Grundstücksverzeichnis'!G857=Texte!$A$27,F857,0)","v":0},{"$f":"IF('Anhang Grundstücksverzeichnis'!G857=Texte!$A$28,F857,0)","v":0}]
[848,{"$f":"IF(C858<>\"\",IF(ISNA(VLOOKUP(C858,Katastralgemeinden!$A$2:$B$3041,2,FALSE)),\"Ungültige KG-Nummer!\",VLOOKUP(C858,Katastralgemeinden!A$2:$B$3041,2,\"falsch\")),\"\")","v":""},null,null,null,null,null,null,null,null,"",0,{"$f":"IF('Anhang Grundstücksverzeichnis'!G858=Texte!$A$25,F858,0)","v":0},{"$f":"IF('Anhang Grundstücksverzeichnis'!G858=Texte!$A$26,F858,0)","v":0},{"$f":"IF('Anhang Grundstücksverzeichnis'!G858=Texte!$A$27,F858,0)","v":0},{"$f":"IF('Anhang Grundstücksverzeichnis'!G858=Texte!$A$28,F858,0)","v":0}]
[849,{"$f":"IF(C859<>\"\",IF(ISNA(VLOOKUP(C859,Katastralgemeinden!$A$2:$B$3041,2,FALSE)),\"Ungültige KG-Nummer!\",VLOOKUP(C859,Katastralgemeinden!A$2:$B$3041,2,\"falsch\")),\"\")","v":""},null,null,null,null,null,null,null,null,"",0,{"$f":"IF('Anhang Grundstücksverzeichnis'!G859=Texte!$A$25,F859,0)","v":0},{"$f":"IF('Anhang Grundstücksverzeichnis'!G859=Texte!$A$26,F859,0)","v":0},{"$f":"IF('Anhang Grundstücksverzeichnis'!G859=Texte!$A$27,F859,0)","v":0},{"$f":"IF('Anhang Grundstücksverzeichnis'!G859=Texte!$A$28,F859,0)","v":0}]
[850,{"$f":"IF(C860<>\"\",IF(ISNA(VLOOKUP(C860,Katastralgemeinden!$A$2:$B$3041,2,FALSE)),\"Ungültige KG-Nummer!\",VLOOKUP(C860,Katastralgemeinden!A$2:$B$3041,2,\"falsch\")),\"\")","v":""},null,null,null,null,null,null,null,null,"",0,{"$f":"IF('Anhang Grundstücksverzeichnis'!G860=Texte!$A$25,F860,0)","v":0},{"$f":"IF('Anhang Grundstücksverzeichnis'!G860=Texte!$A$26,F860,0)","v":0},{"$f":"IF('Anhang Grundstücksverzeichnis'!G860=Texte!$A$27,F860,0)","v":0},{"$f":"IF('Anhang Grundstücksverzeichnis'!G860=Texte!$A$28,F860,0)","v":0}]
[851,{"$f":"IF(C861<>\"\",IF(ISNA(VLOOKUP(C861,Katastralgemeinden!$A$2:$B$3041,2,FALSE)),\"Ungültige KG-Nummer!\",VLOOKUP(C861,Katastralgemeinden!A$2:$B$3041,2,\"falsch\")),\"\")","v":""},null,null,null,null,null,null,null,null,"",0,{"$f":"IF('Anhang Grundstücksverzeichnis'!G861=Texte!$A$25,F861,0)","v":0},{"$f":"IF('Anhang Grundstücksverzeichnis'!G861=Texte!$A$26,F861,0)","v":0},{"$f":"IF('Anhang Grundstücksverzeichnis'!G861=Texte!$A$27,F861,0)","v":0},{"$f":"IF('Anhang Grundstücksverzeichnis'!G861=Texte!$A$28,F861,0)","v":0}]
[852,{"$f":"IF(C862<>\"\",IF(ISNA(VLOOKUP(C862,Katastralgemeinden!$A$2:$B$3041,2,FALSE)),\"Ungültige KG-Nummer!\",VLOOKUP(C862,Katastralgemeinden!A$2:$B$3041,2,\"falsch\")),\"\")","v":""},null,null,null,null,null,null,null,null,"",0,{"$f":"IF('Anhang Grundstücksverzeichnis'!G862=Texte!$A$25,F862,0)","v":0},{"$f":"IF('Anhang Grundstücksverzeichnis'!G862=Texte!$A$26,F862,0)","v":0},{"$f":"IF('Anhang Grundstücksverzeichnis'!G862=Texte!$A$27,F862,0)","v":0},{"$f":"IF('Anhang Grundstücksverzeichnis'!G862=Texte!$A$28,F862,0)","v":0}]
[853,{"$f":"IF(C863<>\"\",IF(ISNA(VLOOKUP(C863,Katastralgemeinden!$A$2:$B$3041,2,FALSE)),\"Ungültige KG-Nummer!\",VLOOKUP(C863,Katastralgemeinden!A$2:$B$3041,2,\"falsch\")),\"\")","v":""},null,null,null,null,null,null,null,null,"",0,{"$f":"IF('Anhang Grundstücksverzeichnis'!G863=Texte!$A$25,F863,0)","v":0},{"$f":"IF('Anhang Grundstücksverzeichnis'!G863=Texte!$A$26,F863,0)","v":0},{"$f":"IF('Anhang Grundstücksverzeichnis'!G863=Texte!$A$27,F863,0)","v":0},{"$f":"IF('Anhang Grundstücksverzeichnis'!G863=Texte!$A$28,F863,0)","v":0}]
[854,{"$f":"IF(C864<>\"\",IF(ISNA(VLOOKUP(C864,Katastralgemeinden!$A$2:$B$3041,2,FALSE)),\"Ungültige KG-Nummer!\",VLOOKUP(C864,Katastralgemeinden!A$2:$B$3041,2,\"falsch\")),\"\")","v":""},null,null,null,null,null,null,null,null,"",0,{"$f":"IF('Anhang Grundstücksverzeichnis'!G864=Texte!$A$25,F864,0)","v":0},{"$f":"IF('Anhang Grundstücksverzeichnis'!G864=Texte!$A$26,F864,0)","v":0},{"$f":"IF('Anhang Grundstücksverzeichnis'!G864=Texte!$A$27,F864,0)","v":0},{"$f":"IF('Anhang Grundstücksverzeichnis'!G864=Texte!$A$28,F864,0)","v":0}]
[855,{"$f":"IF(C865<>\"\",IF(ISNA(VLOOKUP(C865,Katastralgemeinden!$A$2:$B$3041,2,FALSE)),\"Ungültige KG-Nummer!\",VLOOKUP(C865,Katastralgemeinden!A$2:$B$3041,2,\"falsch\")),\"\")","v":""},null,null,null,null,null,null,null,null,"",0,{"$f":"IF('Anhang Grundstücksverzeichnis'!G865=Texte!$A$25,F865,0)","v":0},{"$f":"IF('Anhang Grundstücksverzeichnis'!G865=Texte!$A$26,F865,0)","v":0},{"$f":"IF('Anhang Grundstücksverzeichnis'!G865=Texte!$A$27,F865,0)","v":0},{"$f":"IF('Anhang Grundstücksverzeichnis'!G865=Texte!$A$28,F865,0)","v":0}]
[856,{"$f":"IF(C866<>\"\",IF(ISNA(VLOOKUP(C866,Katastralgemeinden!$A$2:$B$3041,2,FALSE)),\"Ungültige KG-Nummer!\",VLOOKUP(C866,Katastralgemeinden!A$2:$B$3041,2,\"falsch\")),\"\")","v":""},null,null,null,null,null,null,null,null,"",0,{"$f":"IF('Anhang Grundstücksverzeichnis'!G866=Texte!$A$25,F866,0)","v":0},{"$f":"IF('Anhang Grundstücksverzeichnis'!G866=Texte!$A$26,F866,0)","v":0},{"$f":"IF('Anhang Grundstücksverzeichnis'!G866=Texte!$A$27,F866,0)","v":0},{"$f":"IF('Anhang Grundstücksverzeichnis'!G866=Texte!$A$28,F866,0)","v":0}]
[857,{"$f":"IF(C867<>\"\",IF(ISNA(VLOOKUP(C867,Katastralgemeinden!$A$2:$B$3041,2,FALSE)),\"Ungültige KG-Nummer!\",VLOOKUP(C867,Katastralgemeinden!A$2:$B$3041,2,\"falsch\")),\"\")","v":""},null,null,null,null,null,null,null,null,"",0,{"$f":"IF('Anhang Grundstücksverzeichnis'!G867=Texte!$A$25,F867,0)","v":0},{"$f":"IF('Anhang Grundstücksverzeichnis'!G867=Texte!$A$26,F867,0)","v":0},{"$f":"IF('Anhang Grundstücksverzeichnis'!G867=Texte!$A$27,F867,0)","v":0},{"$f":"IF('Anhang Grundstücksverzeichnis'!G867=Texte!$A$28,F867,0)","v":0}]
[858,{"$f":"IF(C868<>\"\",IF(ISNA(VLOOKUP(C868,Katastralgemeinden!$A$2:$B$3041,2,FALSE)),\"Ungültige KG-Nummer!\",VLOOKUP(C868,Katastralgemeinden!A$2:$B$3041,2,\"falsch\")),\"\")","v":""},null,null,null,null,null,null,null,null,"",0,{"$f":"IF('Anhang Grundstücksverzeichnis'!G868=Texte!$A$25,F868,0)","v":0},{"$f":"IF('Anhang Grundstücksverzeichnis'!G868=Texte!$A$26,F868,0)","v":0},{"$f":"IF('Anhang Grundstücksverzeichnis'!G868=Texte!$A$27,F868,0)","v":0},{"$f":"IF('Anhang Grundstücksverzeichnis'!G868=Texte!$A$28,F868,0)","v":0}]
[859,{"$f":"IF(C869<>\"\",IF(ISNA(VLOOKUP(C869,Katastralgemeinden!$A$2:$B$3041,2,FALSE)),\"Ungültige KG-Nummer!\",VLOOKUP(C869,Katastralgemeinden!A$2:$B$3041,2,\"falsch\")),\"\")","v":""},null,null,null,null,null,null,null,null,"",0,{"$f":"IF('Anhang Grundstücksverzeichnis'!G869=Texte!$A$25,F869,0)","v":0},{"$f":"IF('Anhang Grundstücksverzeichnis'!G869=Texte!$A$26,F869,0)","v":0},{"$f":"IF('Anhang Grundstücksverzeichnis'!G869=Texte!$A$27,F869,0)","v":0},{"$f":"IF('Anhang Grundstücksverzeichnis'!G869=Texte!$A$28,F869,0)","v":0}]
[860,{"$f":"IF(C870<>\"\",IF(ISNA(VLOOKUP(C870,Katastralgemeinden!$A$2:$B$3041,2,FALSE)),\"Ungültige KG-Nummer!\",VLOOKUP(C870,Katastralgemeinden!A$2:$B$3041,2,\"falsch\")),\"\")","v":""},null,null,null,null,null,null,null,null,"",0,{"$f":"IF('Anhang Grundstücksverzeichnis'!G870=Texte!$A$25,F870,0)","v":0},{"$f":"IF('Anhang Grundstücksverzeichnis'!G870=Texte!$A$26,F870,0)","v":0},{"$f":"IF('Anhang Grundstücksverzeichnis'!G870=Texte!$A$27,F870,0)","v":0},{"$f":"IF('Anhang Grundstücksverzeichnis'!G870=Texte!$A$28,F870,0)","v":0}]
[861,{"$f":"IF(C871<>\"\",IF(ISNA(VLOOKUP(C871,Katastralgemeinden!$A$2:$B$3041,2,FALSE)),\"Ungültige KG-Nummer!\",VLOOKUP(C871,Katastralgemeinden!A$2:$B$3041,2,\"falsch\")),\"\")","v":""},null,null,null,null,null,null,null,null,"",0,{"$f":"IF('Anhang Grundstücksverzeichnis'!G871=Texte!$A$25,F871,0)","v":0},{"$f":"IF('Anhang Grundstücksverzeichnis'!G871=Texte!$A$26,F871,0)","v":0},{"$f":"IF('Anhang Grundstücksverzeichnis'!G871=Texte!$A$27,F871,0)","v":0},{"$f":"IF('Anhang Grundstücksverzeichnis'!G871=Texte!$A$28,F871,0)","v":0}]
[862,{"$f":"IF(C872<>\"\",IF(ISNA(VLOOKUP(C872,Katastralgemeinden!$A$2:$B$3041,2,FALSE)),\"Ungültige KG-Nummer!\",VLOOKUP(C872,Katastralgemeinden!A$2:$B$3041,2,\"falsch\")),\"\")","v":""},null,null,null,null,null,null,null,null,"",0,{"$f":"IF('Anhang Grundstücksverzeichnis'!G872=Texte!$A$25,F872,0)","v":0},{"$f":"IF('Anhang Grundstücksverzeichnis'!G872=Texte!$A$26,F872,0)","v":0},{"$f":"IF('Anhang Grundstücksverzeichnis'!G872=Texte!$A$27,F872,0)","v":0},{"$f":"IF('Anhang Grundstücksverzeichnis'!G872=Texte!$A$28,F872,0)","v":0}]
[863,{"$f":"IF(C873<>\"\",IF(ISNA(VLOOKUP(C873,Katastralgemeinden!$A$2:$B$3041,2,FALSE)),\"Ungültige KG-Nummer!\",VLOOKUP(C873,Katastralgemeinden!A$2:$B$3041,2,\"falsch\")),\"\")","v":""},null,null,null,null,null,null,null,null,"",0,{"$f":"IF('Anhang Grundstücksverzeichnis'!G873=Texte!$A$25,F873,0)","v":0},{"$f":"IF('Anhang Grundstücksverzeichnis'!G873=Texte!$A$26,F873,0)","v":0},{"$f":"IF('Anhang Grundstücksverzeichnis'!G873=Texte!$A$27,F873,0)","v":0},{"$f":"IF('Anhang Grundstücksverzeichnis'!G873=Texte!$A$28,F873,0)","v":0}]
[864,{"$f":"IF(C874<>\"\",IF(ISNA(VLOOKUP(C874,Katastralgemeinden!$A$2:$B$3041,2,FALSE)),\"Ungültige KG-Nummer!\",VLOOKUP(C874,Katastralgemeinden!A$2:$B$3041,2,\"falsch\")),\"\")","v":""},null,null,null,null,null,null,null,null,"",0,{"$f":"IF('Anhang Grundstücksverzeichnis'!G874=Texte!$A$25,F874,0)","v":0},{"$f":"IF('Anhang Grundstücksverzeichnis'!G874=Texte!$A$26,F874,0)","v":0},{"$f":"IF('Anhang Grundstücksverzeichnis'!G874=Texte!$A$27,F874,0)","v":0},{"$f":"IF('Anhang Grundstücksverzeichnis'!G874=Texte!$A$28,F874,0)","v":0}]
[865,{"$f":"IF(C875<>\"\",IF(ISNA(VLOOKUP(C875,Katastralgemeinden!$A$2:$B$3041,2,FALSE)),\"Ungültige KG-Nummer!\",VLOOKUP(C875,Katastralgemeinden!A$2:$B$3041,2,\"falsch\")),\"\")","v":""},null,null,null,null,null,null,null,null,"",0,{"$f":"IF('Anhang Grundstücksverzeichnis'!G875=Texte!$A$25,F875,0)","v":0},{"$f":"IF('Anhang Grundstücksverzeichnis'!G875=Texte!$A$26,F875,0)","v":0},{"$f":"IF('Anhang Grundstücksverzeichnis'!G875=Texte!$A$27,F875,0)","v":0},{"$f":"IF('Anhang Grundstücksverzeichnis'!G875=Texte!$A$28,F875,0)","v":0}]
[866,{"$f":"IF(C876<>\"\",IF(ISNA(VLOOKUP(C876,Katastralgemeinden!$A$2:$B$3041,2,FALSE)),\"Ungültige KG-Nummer!\",VLOOKUP(C876,Katastralgemeinden!A$2:$B$3041,2,\"falsch\")),\"\")","v":""},null,null,null,null,null,null,null,null,"",0,{"$f":"IF('Anhang Grundstücksverzeichnis'!G876=Texte!$A$25,F876,0)","v":0},{"$f":"IF('Anhang Grundstücksverzeichnis'!G876=Texte!$A$26,F876,0)","v":0},{"$f":"IF('Anhang Grundstücksverzeichnis'!G876=Texte!$A$27,F876,0)","v":0},{"$f":"IF('Anhang Grundstücksverzeichnis'!G876=Texte!$A$28,F876,0)","v":0}]
[867,{"$f":"IF(C877<>\"\",IF(ISNA(VLOOKUP(C877,Katastralgemeinden!$A$2:$B$3041,2,FALSE)),\"Ungültige KG-Nummer!\",VLOOKUP(C877,Katastralgemeinden!A$2:$B$3041,2,\"falsch\")),\"\")","v":""},null,null,null,null,null,null,null,null,"",0,{"$f":"IF('Anhang Grundstücksverzeichnis'!G877=Texte!$A$25,F877,0)","v":0},{"$f":"IF('Anhang Grundstücksverzeichnis'!G877=Texte!$A$26,F877,0)","v":0},{"$f":"IF('Anhang Grundstücksverzeichnis'!G877=Texte!$A$27,F877,0)","v":0},{"$f":"IF('Anhang Grundstücksverzeichnis'!G877=Texte!$A$28,F877,0)","v":0}]
[868,{"$f":"IF(C878<>\"\",IF(ISNA(VLOOKUP(C878,Katastralgemeinden!$A$2:$B$3041,2,FALSE)),\"Ungültige KG-Nummer!\",VLOOKUP(C878,Katastralgemeinden!A$2:$B$3041,2,\"falsch\")),\"\")","v":""},null,null,null,null,null,null,null,null,"",0,{"$f":"IF('Anhang Grundstücksverzeichnis'!G878=Texte!$A$25,F878,0)","v":0},{"$f":"IF('Anhang Grundstücksverzeichnis'!G878=Texte!$A$26,F878,0)","v":0},{"$f":"IF('Anhang Grundstücksverzeichnis'!G878=Texte!$A$27,F878,0)","v":0},{"$f":"IF('Anhang Grundstücksverzeichnis'!G878=Texte!$A$28,F878,0)","v":0}]
[869,{"$f":"IF(C879<>\"\",IF(ISNA(VLOOKUP(C879,Katastralgemeinden!$A$2:$B$3041,2,FALSE)),\"Ungültige KG-Nummer!\",VLOOKUP(C879,Katastralgemeinden!A$2:$B$3041,2,\"falsch\")),\"\")","v":""},null,null,null,null,null,null,null,null,"",0,{"$f":"IF('Anhang Grundstücksverzeichnis'!G879=Texte!$A$25,F879,0)","v":0},{"$f":"IF('Anhang Grundstücksverzeichnis'!G879=Texte!$A$26,F879,0)","v":0},{"$f":"IF('Anhang Grundstücksverzeichnis'!G879=Texte!$A$27,F879,0)","v":0},{"$f":"IF('Anhang Grundstücksverzeichnis'!G879=Texte!$A$28,F879,0)","v":0}]
[870,{"$f":"IF(C880<>\"\",IF(ISNA(VLOOKUP(C880,Katastralgemeinden!$A$2:$B$3041,2,FALSE)),\"Ungültige KG-Nummer!\",VLOOKUP(C880,Katastralgemeinden!A$2:$B$3041,2,\"falsch\")),\"\")","v":""},null,null,null,null,null,null,null,null,"",0,{"$f":"IF('Anhang Grundstücksverzeichnis'!G880=Texte!$A$25,F880,0)","v":0},{"$f":"IF('Anhang Grundstücksverzeichnis'!G880=Texte!$A$26,F880,0)","v":0},{"$f":"IF('Anhang Grundstücksverzeichnis'!G880=Texte!$A$27,F880,0)","v":0},{"$f":"IF('Anhang Grundstücksverzeichnis'!G880=Texte!$A$28,F880,0)","v":0}]
[871,{"$f":"IF(C881<>\"\",IF(ISNA(VLOOKUP(C881,Katastralgemeinden!$A$2:$B$3041,2,FALSE)),\"Ungültige KG-Nummer!\",VLOOKUP(C881,Katastralgemeinden!A$2:$B$3041,2,\"falsch\")),\"\")","v":""},null,null,null,null,null,null,null,null,"",0,{"$f":"IF('Anhang Grundstücksverzeichnis'!G881=Texte!$A$25,F881,0)","v":0},{"$f":"IF('Anhang Grundstücksverzeichnis'!G881=Texte!$A$26,F881,0)","v":0},{"$f":"IF('Anhang Grundstücksverzeichnis'!G881=Texte!$A$27,F881,0)","v":0},{"$f":"IF('Anhang Grundstücksverzeichnis'!G881=Texte!$A$28,F881,0)","v":0}]
[872,{"$f":"IF(C882<>\"\",IF(ISNA(VLOOKUP(C882,Katastralgemeinden!$A$2:$B$3041,2,FALSE)),\"Ungültige KG-Nummer!\",VLOOKUP(C882,Katastralgemeinden!A$2:$B$3041,2,\"falsch\")),\"\")","v":""},null,null,null,null,null,null,null,null,"",0,{"$f":"IF('Anhang Grundstücksverzeichnis'!G882=Texte!$A$25,F882,0)","v":0},{"$f":"IF('Anhang Grundstücksverzeichnis'!G882=Texte!$A$26,F882,0)","v":0},{"$f":"IF('Anhang Grundstücksverzeichnis'!G882=Texte!$A$27,F882,0)","v":0},{"$f":"IF('Anhang Grundstücksverzeichnis'!G882=Texte!$A$28,F882,0)","v":0}]
[873,{"$f":"IF(C883<>\"\",IF(ISNA(VLOOKUP(C883,Katastralgemeinden!$A$2:$B$3041,2,FALSE)),\"Ungültige KG-Nummer!\",VLOOKUP(C883,Katastralgemeinden!A$2:$B$3041,2,\"falsch\")),\"\")","v":""},null,null,null,null,null,null,null,null,"",0,{"$f":"IF('Anhang Grundstücksverzeichnis'!G883=Texte!$A$25,F883,0)","v":0},{"$f":"IF('Anhang Grundstücksverzeichnis'!G883=Texte!$A$26,F883,0)","v":0},{"$f":"IF('Anhang Grundstücksverzeichnis'!G883=Texte!$A$27,F883,0)","v":0},{"$f":"IF('Anhang Grundstücksverzeichnis'!G883=Texte!$A$28,F883,0)","v":0}]
[874,{"$f":"IF(C884<>\"\",IF(ISNA(VLOOKUP(C884,Katastralgemeinden!$A$2:$B$3041,2,FALSE)),\"Ungültige KG-Nummer!\",VLOOKUP(C884,Katastralgemeinden!A$2:$B$3041,2,\"falsch\")),\"\")","v":""},null,null,null,null,null,null,null,null,"",0,{"$f":"IF('Anhang Grundstücksverzeichnis'!G884=Texte!$A$25,F884,0)","v":0},{"$f":"IF('Anhang Grundstücksverzeichnis'!G884=Texte!$A$26,F884,0)","v":0},{"$f":"IF('Anhang Grundstücksverzeichnis'!G884=Texte!$A$27,F884,0)","v":0},{"$f":"IF('Anhang Grundstücksverzeichnis'!G884=Texte!$A$28,F884,0)","v":0}]
[875,{"$f":"IF(C885<>\"\",IF(ISNA(VLOOKUP(C885,Katastralgemeinden!$A$2:$B$3041,2,FALSE)),\"Ungültige KG-Nummer!\",VLOOKUP(C885,Katastralgemeinden!A$2:$B$3041,2,\"falsch\")),\"\")","v":""},null,null,null,null,null,null,null,null,"",0,{"$f":"IF('Anhang Grundstücksverzeichnis'!G885=Texte!$A$25,F885,0)","v":0},{"$f":"IF('Anhang Grundstücksverzeichnis'!G885=Texte!$A$26,F885,0)","v":0},{"$f":"IF('Anhang Grundstücksverzeichnis'!G885=Texte!$A$27,F885,0)","v":0},{"$f":"IF('Anhang Grundstücksverzeichnis'!G885=Texte!$A$28,F885,0)","v":0}]
[876,{"$f":"IF(C886<>\"\",IF(ISNA(VLOOKUP(C886,Katastralgemeinden!$A$2:$B$3041,2,FALSE)),\"Ungültige KG-Nummer!\",VLOOKUP(C886,Katastralgemeinden!A$2:$B$3041,2,\"falsch\")),\"\")","v":""},null,null,null,null,null,null,null,null,"",0,{"$f":"IF('Anhang Grundstücksverzeichnis'!G886=Texte!$A$25,F886,0)","v":0},{"$f":"IF('Anhang Grundstücksverzeichnis'!G886=Texte!$A$26,F886,0)","v":0},{"$f":"IF('Anhang Grundstücksverzeichnis'!G886=Texte!$A$27,F886,0)","v":0},{"$f":"IF('Anhang Grundstücksverzeichnis'!G886=Texte!$A$28,F886,0)","v":0}]
[877,{"$f":"IF(C887<>\"\",IF(ISNA(VLOOKUP(C887,Katastralgemeinden!$A$2:$B$3041,2,FALSE)),\"Ungültige KG-Nummer!\",VLOOKUP(C887,Katastralgemeinden!A$2:$B$3041,2,\"falsch\")),\"\")","v":""},null,null,null,null,null,null,null,null,"",0,{"$f":"IF('Anhang Grundstücksverzeichnis'!G887=Texte!$A$25,F887,0)","v":0},{"$f":"IF('Anhang Grundstücksverzeichnis'!G887=Texte!$A$26,F887,0)","v":0},{"$f":"IF('Anhang Grundstücksverzeichnis'!G887=Texte!$A$27,F887,0)","v":0},{"$f":"IF('Anhang Grundstücksverzeichnis'!G887=Texte!$A$28,F887,0)","v":0}]
[878,{"$f":"IF(C888<>\"\",IF(ISNA(VLOOKUP(C888,Katastralgemeinden!$A$2:$B$3041,2,FALSE)),\"Ungültige KG-Nummer!\",VLOOKUP(C888,Katastralgemeinden!A$2:$B$3041,2,\"falsch\")),\"\")","v":""},null,null,null,null,null,null,null,null,"",0,{"$f":"IF('Anhang Grundstücksverzeichnis'!G888=Texte!$A$25,F888,0)","v":0},{"$f":"IF('Anhang Grundstücksverzeichnis'!G888=Texte!$A$26,F888,0)","v":0},{"$f":"IF('Anhang Grundstücksverzeichnis'!G888=Texte!$A$27,F888,0)","v":0},{"$f":"IF('Anhang Grundstücksverzeichnis'!G888=Texte!$A$28,F888,0)","v":0}]
[879,{"$f":"IF(C889<>\"\",IF(ISNA(VLOOKUP(C889,Katastralgemeinden!$A$2:$B$3041,2,FALSE)),\"Ungültige KG-Nummer!\",VLOOKUP(C889,Katastralgemeinden!A$2:$B$3041,2,\"falsch\")),\"\")","v":""},null,null,null,null,null,null,null,null,"",0,{"$f":"IF('Anhang Grundstücksverzeichnis'!G889=Texte!$A$25,F889,0)","v":0},{"$f":"IF('Anhang Grundstücksverzeichnis'!G889=Texte!$A$26,F889,0)","v":0},{"$f":"IF('Anhang Grundstücksverzeichnis'!G889=Texte!$A$27,F889,0)","v":0},{"$f":"IF('Anhang Grundstücksverzeichnis'!G889=Texte!$A$28,F889,0)","v":0}]
[880,{"$f":"IF(C890<>\"\",IF(ISNA(VLOOKUP(C890,Katastralgemeinden!$A$2:$B$3041,2,FALSE)),\"Ungültige KG-Nummer!\",VLOOKUP(C890,Katastralgemeinden!A$2:$B$3041,2,\"falsch\")),\"\")","v":""},null,null,null,null,null,null,null,null,"",0,{"$f":"IF('Anhang Grundstücksverzeichnis'!G890=Texte!$A$25,F890,0)","v":0},{"$f":"IF('Anhang Grundstücksverzeichnis'!G890=Texte!$A$26,F890,0)","v":0},{"$f":"IF('Anhang Grundstücksverzeichnis'!G890=Texte!$A$27,F890,0)","v":0},{"$f":"IF('Anhang Grundstücksverzeichnis'!G890=Texte!$A$28,F890,0)","v":0}]
[881,{"$f":"IF(C891<>\"\",IF(ISNA(VLOOKUP(C891,Katastralgemeinden!$A$2:$B$3041,2,FALSE)),\"Ungültige KG-Nummer!\",VLOOKUP(C891,Katastralgemeinden!A$2:$B$3041,2,\"falsch\")),\"\")","v":""},null,null,null,null,null,null,null,null,"",0,{"$f":"IF('Anhang Grundstücksverzeichnis'!G891=Texte!$A$25,F891,0)","v":0},{"$f":"IF('Anhang Grundstücksverzeichnis'!G891=Texte!$A$26,F891,0)","v":0},{"$f":"IF('Anhang Grundstücksverzeichnis'!G891=Texte!$A$27,F891,0)","v":0},{"$f":"IF('Anhang Grundstücksverzeichnis'!G891=Texte!$A$28,F891,0)","v":0}]
[882,{"$f":"IF(C892<>\"\",IF(ISNA(VLOOKUP(C892,Katastralgemeinden!$A$2:$B$3041,2,FALSE)),\"Ungültige KG-Nummer!\",VLOOKUP(C892,Katastralgemeinden!A$2:$B$3041,2,\"falsch\")),\"\")","v":""},null,null,null,null,null,null,null,null,"",0,{"$f":"IF('Anhang Grundstücksverzeichnis'!G892=Texte!$A$25,F892,0)","v":0},{"$f":"IF('Anhang Grundstücksverzeichnis'!G892=Texte!$A$26,F892,0)","v":0},{"$f":"IF('Anhang Grundstücksverzeichnis'!G892=Texte!$A$27,F892,0)","v":0},{"$f":"IF('Anhang Grundstücksverzeichnis'!G892=Texte!$A$28,F892,0)","v":0}]
[883,{"$f":"IF(C893<>\"\",IF(ISNA(VLOOKUP(C893,Katastralgemeinden!$A$2:$B$3041,2,FALSE)),\"Ungültige KG-Nummer!\",VLOOKUP(C893,Katastralgemeinden!A$2:$B$3041,2,\"falsch\")),\"\")","v":""},null,null,null,null,null,null,null,null,"",0,{"$f":"IF('Anhang Grundstücksverzeichnis'!G893=Texte!$A$25,F893,0)","v":0},{"$f":"IF('Anhang Grundstücksverzeichnis'!G893=Texte!$A$26,F893,0)","v":0},{"$f":"IF('Anhang Grundstücksverzeichnis'!G893=Texte!$A$27,F893,0)","v":0},{"$f":"IF('Anhang Grundstücksverzeichnis'!G893=Texte!$A$28,F893,0)","v":0}]
[884,{"$f":"IF(C894<>\"\",IF(ISNA(VLOOKUP(C894,Katastralgemeinden!$A$2:$B$3041,2,FALSE)),\"Ungültige KG-Nummer!\",VLOOKUP(C894,Katastralgemeinden!A$2:$B$3041,2,\"falsch\")),\"\")","v":""},null,null,null,null,null,null,null,null,"",0,{"$f":"IF('Anhang Grundstücksverzeichnis'!G894=Texte!$A$25,F894,0)","v":0},{"$f":"IF('Anhang Grundstücksverzeichnis'!G894=Texte!$A$26,F894,0)","v":0},{"$f":"IF('Anhang Grundstücksverzeichnis'!G894=Texte!$A$27,F894,0)","v":0},{"$f":"IF('Anhang Grundstücksverzeichnis'!G894=Texte!$A$28,F894,0)","v":0}]
[885,{"$f":"IF(C895<>\"\",IF(ISNA(VLOOKUP(C895,Katastralgemeinden!$A$2:$B$3041,2,FALSE)),\"Ungültige KG-Nummer!\",VLOOKUP(C895,Katastralgemeinden!A$2:$B$3041,2,\"falsch\")),\"\")","v":""},null,null,null,null,null,null,null,null,"",0,{"$f":"IF('Anhang Grundstücksverzeichnis'!G895=Texte!$A$25,F895,0)","v":0},{"$f":"IF('Anhang Grundstücksverzeichnis'!G895=Texte!$A$26,F895,0)","v":0},{"$f":"IF('Anhang Grundstücksverzeichnis'!G895=Texte!$A$27,F895,0)","v":0},{"$f":"IF('Anhang Grundstücksverzeichnis'!G895=Texte!$A$28,F895,0)","v":0}]
[886,{"$f":"IF(C896<>\"\",IF(ISNA(VLOOKUP(C896,Katastralgemeinden!$A$2:$B$3041,2,FALSE)),\"Ungültige KG-Nummer!\",VLOOKUP(C896,Katastralgemeinden!A$2:$B$3041,2,\"falsch\")),\"\")","v":""},null,null,null,null,null,null,null,null,"",0,{"$f":"IF('Anhang Grundstücksverzeichnis'!G896=Texte!$A$25,F896,0)","v":0},{"$f":"IF('Anhang Grundstücksverzeichnis'!G896=Texte!$A$26,F896,0)","v":0},{"$f":"IF('Anhang Grundstücksverzeichnis'!G896=Texte!$A$27,F896,0)","v":0},{"$f":"IF('Anhang Grundstücksverzeichnis'!G896=Texte!$A$28,F896,0)","v":0}]
[887,{"$f":"IF(C897<>\"\",IF(ISNA(VLOOKUP(C897,Katastralgemeinden!$A$2:$B$3041,2,FALSE)),\"Ungültige KG-Nummer!\",VLOOKUP(C897,Katastralgemeinden!A$2:$B$3041,2,\"falsch\")),\"\")","v":""},null,null,null,null,null,null,null,null,"",0,{"$f":"IF('Anhang Grundstücksverzeichnis'!G897=Texte!$A$25,F897,0)","v":0},{"$f":"IF('Anhang Grundstücksverzeichnis'!G897=Texte!$A$26,F897,0)","v":0},{"$f":"IF('Anhang Grundstücksverzeichnis'!G897=Texte!$A$27,F897,0)","v":0},{"$f":"IF('Anhang Grundstücksverzeichnis'!G897=Texte!$A$28,F897,0)","v":0}]
[888,{"$f":"IF(C898<>\"\",IF(ISNA(VLOOKUP(C898,Katastralgemeinden!$A$2:$B$3041,2,FALSE)),\"Ungültige KG-Nummer!\",VLOOKUP(C898,Katastralgemeinden!A$2:$B$3041,2,\"falsch\")),\"\")","v":""},null,null,null,null,null,null,null,null,"",0,{"$f":"IF('Anhang Grundstücksverzeichnis'!G898=Texte!$A$25,F898,0)","v":0},{"$f":"IF('Anhang Grundstücksverzeichnis'!G898=Texte!$A$26,F898,0)","v":0},{"$f":"IF('Anhang Grundstücksverzeichnis'!G898=Texte!$A$27,F898,0)","v":0},{"$f":"IF('Anhang Grundstücksverzeichnis'!G898=Texte!$A$28,F898,0)","v":0}]
[889,{"$f":"IF(C899<>\"\",IF(ISNA(VLOOKUP(C899,Katastralgemeinden!$A$2:$B$3041,2,FALSE)),\"Ungültige KG-Nummer!\",VLOOKUP(C899,Katastralgemeinden!A$2:$B$3041,2,\"falsch\")),\"\")","v":""},null,null,null,null,null,null,null,null,"",0,{"$f":"IF('Anhang Grundstücksverzeichnis'!G899=Texte!$A$25,F899,0)","v":0},{"$f":"IF('Anhang Grundstücksverzeichnis'!G899=Texte!$A$26,F899,0)","v":0},{"$f":"IF('Anhang Grundstücksverzeichnis'!G899=Texte!$A$27,F899,0)","v":0},{"$f":"IF('Anhang Grundstücksverzeichnis'!G899=Texte!$A$28,F899,0)","v":0}]
[890,{"$f":"IF(C900<>\"\",IF(ISNA(VLOOKUP(C900,Katastralgemeinden!$A$2:$B$3041,2,FALSE)),\"Ungültige KG-Nummer!\",VLOOKUP(C900,Katastralgemeinden!A$2:$B$3041,2,\"falsch\")),\"\")","v":""},null,null,null,null,null,null,null,null,"",0,{"$f":"IF('Anhang Grundstücksverzeichnis'!G900=Texte!$A$25,F900,0)","v":0},{"$f":"IF('Anhang Grundstücksverzeichnis'!G900=Texte!$A$26,F900,0)","v":0},{"$f":"IF('Anhang Grundstücksverzeichnis'!G900=Texte!$A$27,F900,0)","v":0},{"$f":"IF('Anhang Grundstücksverzeichnis'!G900=Texte!$A$28,F900,0)","v":0}]
[891,{"$f":"IF(C901<>\"\",IF(ISNA(VLOOKUP(C901,Katastralgemeinden!$A$2:$B$3041,2,FALSE)),\"Ungültige KG-Nummer!\",VLOOKUP(C901,Katastralgemeinden!A$2:$B$3041,2,\"falsch\")),\"\")","v":""},null,null,null,null,null,null,null,null,"",0,{"$f":"IF('Anhang Grundstücksverzeichnis'!G901=Texte!$A$25,F901,0)","v":0},{"$f":"IF('Anhang Grundstücksverzeichnis'!G901=Texte!$A$26,F901,0)","v":0},{"$f":"IF('Anhang Grundstücksverzeichnis'!G901=Texte!$A$27,F901,0)","v":0},{"$f":"IF('Anhang Grundstücksverzeichnis'!G901=Texte!$A$28,F901,0)","v":0}]
[892,{"$f":"IF(C902<>\"\",IF(ISNA(VLOOKUP(C902,Katastralgemeinden!$A$2:$B$3041,2,FALSE)),\"Ungültige KG-Nummer!\",VLOOKUP(C902,Katastralgemeinden!A$2:$B$3041,2,\"falsch\")),\"\")","v":""},null,null,null,null,null,null,null,null,"",0,{"$f":"IF('Anhang Grundstücksverzeichnis'!G902=Texte!$A$25,F902,0)","v":0},{"$f":"IF('Anhang Grundstücksverzeichnis'!G902=Texte!$A$26,F902,0)","v":0},{"$f":"IF('Anhang Grundstücksverzeichnis'!G902=Texte!$A$27,F902,0)","v":0},{"$f":"IF('Anhang Grundstücksverzeichnis'!G902=Texte!$A$28,F902,0)","v":0}]
[893,{"$f":"IF(C903<>\"\",IF(ISNA(VLOOKUP(C903,Katastralgemeinden!$A$2:$B$3041,2,FALSE)),\"Ungültige KG-Nummer!\",VLOOKUP(C903,Katastralgemeinden!A$2:$B$3041,2,\"falsch\")),\"\")","v":""},null,null,null,null,null,null,null,null,"",0,{"$f":"IF('Anhang Grundstücksverzeichnis'!G903=Texte!$A$25,F903,0)","v":0},{"$f":"IF('Anhang Grundstücksverzeichnis'!G903=Texte!$A$26,F903,0)","v":0},{"$f":"IF('Anhang Grundstücksverzeichnis'!G903=Texte!$A$27,F903,0)","v":0},{"$f":"IF('Anhang Grundstücksverzeichnis'!G903=Texte!$A$28,F903,0)","v":0}]
[894,{"$f":"IF(C904<>\"\",IF(ISNA(VLOOKUP(C904,Katastralgemeinden!$A$2:$B$3041,2,FALSE)),\"Ungültige KG-Nummer!\",VLOOKUP(C904,Katastralgemeinden!A$2:$B$3041,2,\"falsch\")),\"\")","v":""},null,null,null,null,null,null,null,null,"",0,{"$f":"IF('Anhang Grundstücksverzeichnis'!G904=Texte!$A$25,F904,0)","v":0},{"$f":"IF('Anhang Grundstücksverzeichnis'!G904=Texte!$A$26,F904,0)","v":0},{"$f":"IF('Anhang Grundstücksverzeichnis'!G904=Texte!$A$27,F904,0)","v":0},{"$f":"IF('Anhang Grundstücksverzeichnis'!G904=Texte!$A$28,F904,0)","v":0}]
[895,{"$f":"IF(C905<>\"\",IF(ISNA(VLOOKUP(C905,Katastralgemeinden!$A$2:$B$3041,2,FALSE)),\"Ungültige KG-Nummer!\",VLOOKUP(C905,Katastralgemeinden!A$2:$B$3041,2,\"falsch\")),\"\")","v":""},null,null,null,null,null,null,null,null,"",0,{"$f":"IF('Anhang Grundstücksverzeichnis'!G905=Texte!$A$25,F905,0)","v":0},{"$f":"IF('Anhang Grundstücksverzeichnis'!G905=Texte!$A$26,F905,0)","v":0},{"$f":"IF('Anhang Grundstücksverzeichnis'!G905=Texte!$A$27,F905,0)","v":0},{"$f":"IF('Anhang Grundstücksverzeichnis'!G905=Texte!$A$28,F905,0)","v":0}]
[896,{"$f":"IF(C906<>\"\",IF(ISNA(VLOOKUP(C906,Katastralgemeinden!$A$2:$B$3041,2,FALSE)),\"Ungültige KG-Nummer!\",VLOOKUP(C906,Katastralgemeinden!A$2:$B$3041,2,\"falsch\")),\"\")","v":""},null,null,null,null,null,null,null,null,"",0,{"$f":"IF('Anhang Grundstücksverzeichnis'!G906=Texte!$A$25,F906,0)","v":0},{"$f":"IF('Anhang Grundstücksverzeichnis'!G906=Texte!$A$26,F906,0)","v":0},{"$f":"IF('Anhang Grundstücksverzeichnis'!G906=Texte!$A$27,F906,0)","v":0},{"$f":"IF('Anhang Grundstücksverzeichnis'!G906=Texte!$A$28,F906,0)","v":0}]
[897,{"$f":"IF(C907<>\"\",IF(ISNA(VLOOKUP(C907,Katastralgemeinden!$A$2:$B$3041,2,FALSE)),\"Ungültige KG-Nummer!\",VLOOKUP(C907,Katastralgemeinden!A$2:$B$3041,2,\"falsch\")),\"\")","v":""},null,null,null,null,null,null,null,null,"",0,{"$f":"IF('Anhang Grundstücksverzeichnis'!G907=Texte!$A$25,F907,0)","v":0},{"$f":"IF('Anhang Grundstücksverzeichnis'!G907=Texte!$A$26,F907,0)","v":0},{"$f":"IF('Anhang Grundstücksverzeichnis'!G907=Texte!$A$27,F907,0)","v":0},{"$f":"IF('Anhang Grundstücksverzeichnis'!G907=Texte!$A$28,F907,0)","v":0}]
[898,{"$f":"IF(C908<>\"\",IF(ISNA(VLOOKUP(C908,Katastralgemeinden!$A$2:$B$3041,2,FALSE)),\"Ungültige KG-Nummer!\",VLOOKUP(C908,Katastralgemeinden!A$2:$B$3041,2,\"falsch\")),\"\")","v":""},null,null,null,null,null,null,null,null,{"$f":"IF(G908<>\"\",IF(G908=\"Eigengrundfläche\",0,IF(G908=\"Vorpachtfläche\",1,IF(G908=\"Abrundung +\",3,IF(G908=\"Abrundung -\",4,5)))),\"\")","v":""},{"$f":"IF(OR(LOWER(H908)=\"x\",LOWER(H908)=\"j\"),1,0)","v":0},{"$f":"IF('Anhang Grundstücksverzeichnis'!G908=Texte!$A$25,F908,0)","v":0},{"$f":"IF('Anhang Grundstücksverzeichnis'!G908=Texte!$A$26,F908,0)","v":0},{"$f":"IF('Anhang Grundstücksverzeichnis'!G908=Texte!$A$27,F908,0)","v":0},{"$f":"IF('Anhang Grundstücksverzeichnis'!G908=Texte!$A$28,F908,0)","v":0}]
[899,{"$f":"IF(C909<>\"\",IF(ISNA(VLOOKUP(C909,Katastralgemeinden!$A$2:$B$3041,2,FALSE)),\"Ungültige KG-Nummer!\",VLOOKUP(C909,Katastralgemeinden!A$2:$B$3041,2,\"falsch\")),\"\")","v":""},null,null,null,null,null,null,null,null,"",0,{"$f":"IF('Anhang Grundstücksverzeichnis'!G909=Texte!$A$25,F909,0)","v":0},{"$f":"IF('Anhang Grundstücksverzeichnis'!G909=Texte!$A$26,F909,0)","v":0},{"$f":"IF('Anhang Grundstücksverzeichnis'!G909=Texte!$A$27,F909,0)","v":0},{"$f":"IF('Anhang Grundstücksverzeichnis'!G909=Texte!$A$28,F909,0)","v":0}]
[900,{"$f":"IF(C910<>\"\",IF(ISNA(VLOOKUP(C910,Katastralgemeinden!$A$2:$B$3041,2,FALSE)),\"Ungültige KG-Nummer!\",VLOOKUP(C910,Katastralgemeinden!A$2:$B$3041,2,\"falsch\")),\"\")","v":""},null,null,null,null,null,null,null,null,"",0,{"$f":"IF('Anhang Grundstücksverzeichnis'!G910=Texte!$A$25,F910,0)","v":0},{"$f":"IF('Anhang Grundstücksverzeichnis'!G910=Texte!$A$26,F910,0)","v":0},{"$f":"IF('Anhang Grundstücksverzeichnis'!G910=Texte!$A$27,F910,0)","v":0},{"$f":"IF('Anhang Grundstücksverzeichnis'!G910=Texte!$A$28,F910,0)","v":0}]
[901,{"$f":"IF(C911<>\"\",IF(ISNA(VLOOKUP(C911,Katastralgemeinden!$A$2:$B$3041,2,FALSE)),\"Ungültige KG-Nummer!\",VLOOKUP(C911,Katastralgemeinden!A$2:$B$3041,2,\"falsch\")),\"\")","v":""},null,null,null,null,null,null,null,null,"",0,{"$f":"IF('Anhang Grundstücksverzeichnis'!G911=Texte!$A$25,F911,0)","v":0},{"$f":"IF('Anhang Grundstücksverzeichnis'!G911=Texte!$A$26,F911,0)","v":0},{"$f":"IF('Anhang Grundstücksverzeichnis'!G911=Texte!$A$27,F911,0)","v":0},{"$f":"IF('Anhang Grundstücksverzeichnis'!G911=Texte!$A$28,F911,0)","v":0}]
[902,{"$f":"IF(C912<>\"\",IF(ISNA(VLOOKUP(C912,Katastralgemeinden!$A$2:$B$3041,2,FALSE)),\"Ungültige KG-Nummer!\",VLOOKUP(C912,Katastralgemeinden!A$2:$B$3041,2,\"falsch\")),\"\")","v":""},null,null,null,null,null,null,null,null,"",0,{"$f":"IF('Anhang Grundstücksverzeichnis'!G912=Texte!$A$25,F912,0)","v":0},{"$f":"IF('Anhang Grundstücksverzeichnis'!G912=Texte!$A$26,F912,0)","v":0},{"$f":"IF('Anhang Grundstücksverzeichnis'!G912=Texte!$A$27,F912,0)","v":0},{"$f":"IF('Anhang Grundstücksverzeichnis'!G912=Texte!$A$28,F912,0)","v":0}]
[903,{"$f":"IF(C913<>\"\",IF(ISNA(VLOOKUP(C913,Katastralgemeinden!$A$2:$B$3041,2,FALSE)),\"Ungültige KG-Nummer!\",VLOOKUP(C913,Katastralgemeinden!A$2:$B$3041,2,\"falsch\")),\"\")","v":""},null,null,null,null,null,null,null,null,"",0,{"$f":"IF('Anhang Grundstücksverzeichnis'!G913=Texte!$A$25,F913,0)","v":0},{"$f":"IF('Anhang Grundstücksverzeichnis'!G913=Texte!$A$26,F913,0)","v":0},{"$f":"IF('Anhang Grundstücksverzeichnis'!G913=Texte!$A$27,F913,0)","v":0},{"$f":"IF('Anhang Grundstücksverzeichnis'!G913=Texte!$A$28,F913,0)","v":0}]
[904,{"$f":"IF(C914<>\"\",IF(ISNA(VLOOKUP(C914,Katastralgemeinden!$A$2:$B$3041,2,FALSE)),\"Ungültige KG-Nummer!\",VLOOKUP(C914,Katastralgemeinden!A$2:$B$3041,2,\"falsch\")),\"\")","v":""},null,null,null,null,null,null,null,null,"",0,{"$f":"IF('Anhang Grundstücksverzeichnis'!G914=Texte!$A$25,F914,0)","v":0},{"$f":"IF('Anhang Grundstücksverzeichnis'!G914=Texte!$A$26,F914,0)","v":0},{"$f":"IF('Anhang Grundstücksverzeichnis'!G914=Texte!$A$27,F914,0)","v":0},{"$f":"IF('Anhang Grundstücksverzeichnis'!G914=Texte!$A$28,F914,0)","v":0}]
[905,{"$f":"IF(C915<>\"\",IF(ISNA(VLOOKUP(C915,Katastralgemeinden!$A$2:$B$3041,2,FALSE)),\"Ungültige KG-Nummer!\",VLOOKUP(C915,Katastralgemeinden!A$2:$B$3041,2,\"falsch\")),\"\")","v":""},null,null,null,null,null,null,null,null,"",0,{"$f":"IF('Anhang Grundstücksverzeichnis'!G915=Texte!$A$25,F915,0)","v":0},{"$f":"IF('Anhang Grundstücksverzeichnis'!G915=Texte!$A$26,F915,0)","v":0},{"$f":"IF('Anhang Grundstücksverzeichnis'!G915=Texte!$A$27,F915,0)","v":0},{"$f":"IF('Anhang Grundstücksverzeichnis'!G915=Texte!$A$28,F915,0)","v":0}]
[906,{"$f":"IF(C916<>\"\",IF(ISNA(VLOOKUP(C916,Katastralgemeinden!$A$2:$B$3041,2,FALSE)),\"Ungültige KG-Nummer!\",VLOOKUP(C916,Katastralgemeinden!A$2:$B$3041,2,\"falsch\")),\"\")","v":""},null,null,null,null,null,null,null,null,"",0,{"$f":"IF('Anhang Grundstücksverzeichnis'!G916=Texte!$A$25,F916,0)","v":0},{"$f":"IF('Anhang Grundstücksverzeichnis'!G916=Texte!$A$26,F916,0)","v":0},{"$f":"IF('Anhang Grundstücksverzeichnis'!G916=Texte!$A$27,F916,0)","v":0},{"$f":"IF('Anhang Grundstücksverzeichnis'!G916=Texte!$A$28,F916,0)","v":0}]
[907,{"$f":"IF(C917<>\"\",IF(ISNA(VLOOKUP(C917,Katastralgemeinden!$A$2:$B$3041,2,FALSE)),\"Ungültige KG-Nummer!\",VLOOKUP(C917,Katastralgemeinden!A$2:$B$3041,2,\"falsch\")),\"\")","v":""},null,null,null,null,null,null,null,null,"",0,{"$f":"IF('Anhang Grundstücksverzeichnis'!G917=Texte!$A$25,F917,0)","v":0},{"$f":"IF('Anhang Grundstücksverzeichnis'!G917=Texte!$A$26,F917,0)","v":0},{"$f":"IF('Anhang Grundstücksverzeichnis'!G917=Texte!$A$27,F917,0)","v":0},{"$f":"IF('Anhang Grundstücksverzeichnis'!G917=Texte!$A$28,F917,0)","v":0}]
[908,{"$f":"IF(C918<>\"\",IF(ISNA(VLOOKUP(C918,Katastralgemeinden!$A$2:$B$3041,2,FALSE)),\"Ungültige KG-Nummer!\",VLOOKUP(C918,Katastralgemeinden!A$2:$B$3041,2,\"falsch\")),\"\")","v":""},null,null,null,null,null,null,null,null,"",0,{"$f":"IF('Anhang Grundstücksverzeichnis'!G918=Texte!$A$25,F918,0)","v":0},{"$f":"IF('Anhang Grundstücksverzeichnis'!G918=Texte!$A$26,F918,0)","v":0},{"$f":"IF('Anhang Grundstücksverzeichnis'!G918=Texte!$A$27,F918,0)","v":0},{"$f":"IF('Anhang Grundstücksverzeichnis'!G918=Texte!$A$28,F918,0)","v":0}]
[909,{"$f":"IF(C919<>\"\",IF(ISNA(VLOOKUP(C919,Katastralgemeinden!$A$2:$B$3041,2,FALSE)),\"Ungültige KG-Nummer!\",VLOOKUP(C919,Katastralgemeinden!A$2:$B$3041,2,\"falsch\")),\"\")","v":""},null,null,null,null,null,null,null,null,"",0,{"$f":"IF('Anhang Grundstücksverzeichnis'!G919=Texte!$A$25,F919,0)","v":0},{"$f":"IF('Anhang Grundstücksverzeichnis'!G919=Texte!$A$26,F919,0)","v":0},{"$f":"IF('Anhang Grundstücksverzeichnis'!G919=Texte!$A$27,F919,0)","v":0},{"$f":"IF('Anhang Grundstücksverzeichnis'!G919=Texte!$A$28,F919,0)","v":0}]
[910,{"$f":"IF(C920<>\"\",IF(ISNA(VLOOKUP(C920,Katastralgemeinden!$A$2:$B$3041,2,FALSE)),\"Ungültige KG-Nummer!\",VLOOKUP(C920,Katastralgemeinden!A$2:$B$3041,2,\"falsch\")),\"\")","v":""},null,null,null,null,null,null,null,null,"",0,{"$f":"IF('Anhang Grundstücksverzeichnis'!G920=Texte!$A$25,F920,0)","v":0},{"$f":"IF('Anhang Grundstücksverzeichnis'!G920=Texte!$A$26,F920,0)","v":0},{"$f":"IF('Anhang Grundstücksverzeichnis'!G920=Texte!$A$27,F920,0)","v":0},{"$f":"IF('Anhang Grundstücksverzeichnis'!G920=Texte!$A$28,F920,0)","v":0}]
[911,{"$f":"IF(C921<>\"\",IF(ISNA(VLOOKUP(C921,Katastralgemeinden!$A$2:$B$3041,2,FALSE)),\"Ungültige KG-Nummer!\",VLOOKUP(C921,Katastralgemeinden!A$2:$B$3041,2,\"falsch\")),\"\")","v":""},null,null,null,null,null,null,null,null,"",0,{"$f":"IF('Anhang Grundstücksverzeichnis'!G921=Texte!$A$25,F921,0)","v":0},{"$f":"IF('Anhang Grundstücksverzeichnis'!G921=Texte!$A$26,F921,0)","v":0},{"$f":"IF('Anhang Grundstücksverzeichnis'!G921=Texte!$A$27,F921,0)","v":0},{"$f":"IF('Anhang Grundstücksverzeichnis'!G921=Texte!$A$28,F921,0)","v":0}]
[912,{"$f":"IF(C922<>\"\",IF(ISNA(VLOOKUP(C922,Katastralgemeinden!$A$2:$B$3041,2,FALSE)),\"Ungültige KG-Nummer!\",VLOOKUP(C922,Katastralgemeinden!A$2:$B$3041,2,\"falsch\")),\"\")","v":""},null,null,null,null,null,null,null,null,"",0,{"$f":"IF('Anhang Grundstücksverzeichnis'!G922=Texte!$A$25,F922,0)","v":0},{"$f":"IF('Anhang Grundstücksverzeichnis'!G922=Texte!$A$26,F922,0)","v":0},{"$f":"IF('Anhang Grundstücksverzeichnis'!G922=Texte!$A$27,F922,0)","v":0},{"$f":"IF('Anhang Grundstücksverzeichnis'!G922=Texte!$A$28,F922,0)","v":0}]
[913,{"$f":"IF(C923<>\"\",IF(ISNA(VLOOKUP(C923,Katastralgemeinden!$A$2:$B$3041,2,FALSE)),\"Ungültige KG-Nummer!\",VLOOKUP(C923,Katastralgemeinden!A$2:$B$3041,2,\"falsch\")),\"\")","v":""},null,null,null,null,null,null,null,null,"",0,{"$f":"IF('Anhang Grundstücksverzeichnis'!G923=Texte!$A$25,F923,0)","v":0},{"$f":"IF('Anhang Grundstücksverzeichnis'!G923=Texte!$A$26,F923,0)","v":0},{"$f":"IF('Anhang Grundstücksverzeichnis'!G923=Texte!$A$27,F923,0)","v":0},{"$f":"IF('Anhang Grundstücksverzeichnis'!G923=Texte!$A$28,F923,0)","v":0}]
[914,{"$f":"IF(C924<>\"\",IF(ISNA(VLOOKUP(C924,Katastralgemeinden!$A$2:$B$3041,2,FALSE)),\"Ungültige KG-Nummer!\",VLOOKUP(C924,Katastralgemeinden!A$2:$B$3041,2,\"falsch\")),\"\")","v":""},null,null,null,null,null,null,null,null,"",0,{"$f":"IF('Anhang Grundstücksverzeichnis'!G924=Texte!$A$25,F924,0)","v":0},{"$f":"IF('Anhang Grundstücksverzeichnis'!G924=Texte!$A$26,F924,0)","v":0},{"$f":"IF('Anhang Grundstücksverzeichnis'!G924=Texte!$A$27,F924,0)","v":0},{"$f":"IF('Anhang Grundstücksverzeichnis'!G924=Texte!$A$28,F924,0)","v":0}]
[915,{"$f":"IF(C925<>\"\",IF(ISNA(VLOOKUP(C925,Katastralgemeinden!$A$2:$B$3041,2,FALSE)),\"Ungültige KG-Nummer!\",VLOOKUP(C925,Katastralgemeinden!A$2:$B$3041,2,\"falsch\")),\"\")","v":""},null,null,null,null,null,null,null,null,"",0,{"$f":"IF('Anhang Grundstücksverzeichnis'!G925=Texte!$A$25,F925,0)","v":0},{"$f":"IF('Anhang Grundstücksverzeichnis'!G925=Texte!$A$26,F925,0)","v":0},{"$f":"IF('Anhang Grundstücksverzeichnis'!G925=Texte!$A$27,F925,0)","v":0},{"$f":"IF('Anhang Grundstücksverzeichnis'!G925=Texte!$A$28,F925,0)","v":0}]
[916,{"$f":"IF(C926<>\"\",IF(ISNA(VLOOKUP(C926,Katastralgemeinden!$A$2:$B$3041,2,FALSE)),\"Ungültige KG-Nummer!\",VLOOKUP(C926,Katastralgemeinden!A$2:$B$3041,2,\"falsch\")),\"\")","v":""},null,null,null,null,null,null,null,null,"",0,{"$f":"IF('Anhang Grundstücksverzeichnis'!G926=Texte!$A$25,F926,0)","v":0},{"$f":"IF('Anhang Grundstücksverzeichnis'!G926=Texte!$A$26,F926,0)","v":0},{"$f":"IF('Anhang Grundstücksverzeichnis'!G926=Texte!$A$27,F926,0)","v":0},{"$f":"IF('Anhang Grundstücksverzeichnis'!G926=Texte!$A$28,F926,0)","v":0}]
[917,{"$f":"IF(C927<>\"\",IF(ISNA(VLOOKUP(C927,Katastralgemeinden!$A$2:$B$3041,2,FALSE)),\"Ungültige KG-Nummer!\",VLOOKUP(C927,Katastralgemeinden!A$2:$B$3041,2,\"falsch\")),\"\")","v":""},null,null,null,null,null,null,null,null,"",0,{"$f":"IF('Anhang Grundstücksverzeichnis'!G927=Texte!$A$25,F927,0)","v":0},{"$f":"IF('Anhang Grundstücksverzeichnis'!G927=Texte!$A$26,F927,0)","v":0},{"$f":"IF('Anhang Grundstücksverzeichnis'!G927=Texte!$A$27,F927,0)","v":0},{"$f":"IF('Anhang Grundstücksverzeichnis'!G927=Texte!$A$28,F927,0)","v":0}]
[918,{"$f":"IF(C928<>\"\",IF(ISNA(VLOOKUP(C928,Katastralgemeinden!$A$2:$B$3041,2,FALSE)),\"Ungültige KG-Nummer!\",VLOOKUP(C928,Katastralgemeinden!A$2:$B$3041,2,\"falsch\")),\"\")","v":""},null,null,null,null,null,null,null,null,"",0,{"$f":"IF('Anhang Grundstücksverzeichnis'!G928=Texte!$A$25,F928,0)","v":0},{"$f":"IF('Anhang Grundstücksverzeichnis'!G928=Texte!$A$26,F928,0)","v":0},{"$f":"IF('Anhang Grundstücksverzeichnis'!G928=Texte!$A$27,F928,0)","v":0},{"$f":"IF('Anhang Grundstücksverzeichnis'!G928=Texte!$A$28,F928,0)","v":0}]
[919,{"$f":"IF(C929<>\"\",IF(ISNA(VLOOKUP(C929,Katastralgemeinden!$A$2:$B$3041,2,FALSE)),\"Ungültige KG-Nummer!\",VLOOKUP(C929,Katastralgemeinden!A$2:$B$3041,2,\"falsch\")),\"\")","v":""},null,null,null,null,null,null,null,null,"",0,{"$f":"IF('Anhang Grundstücksverzeichnis'!G929=Texte!$A$25,F929,0)","v":0},{"$f":"IF('Anhang Grundstücksverzeichnis'!G929=Texte!$A$26,F929,0)","v":0},{"$f":"IF('Anhang Grundstücksverzeichnis'!G929=Texte!$A$27,F929,0)","v":0},{"$f":"IF('Anhang Grundstücksverzeichnis'!G929=Texte!$A$28,F929,0)","v":0}]
[920,{"$f":"IF(C930<>\"\",IF(ISNA(VLOOKUP(C930,Katastralgemeinden!$A$2:$B$3041,2,FALSE)),\"Ungültige KG-Nummer!\",VLOOKUP(C930,Katastralgemeinden!A$2:$B$3041,2,\"falsch\")),\"\")","v":""},null,null,null,null,null,null,null,null,"",0,{"$f":"IF('Anhang Grundstücksverzeichnis'!G930=Texte!$A$25,F930,0)","v":0},{"$f":"IF('Anhang Grundstücksverzeichnis'!G930=Texte!$A$26,F930,0)","v":0},{"$f":"IF('Anhang Grundstücksverzeichnis'!G930=Texte!$A$27,F930,0)","v":0},{"$f":"IF('Anhang Grundstücksverzeichnis'!G930=Texte!$A$28,F930,0)","v":0}]
[921,{"$f":"IF(C931<>\"\",IF(ISNA(VLOOKUP(C931,Katastralgemeinden!$A$2:$B$3041,2,FALSE)),\"Ungültige KG-Nummer!\",VLOOKUP(C931,Katastralgemeinden!A$2:$B$3041,2,\"falsch\")),\"\")","v":""},null,null,null,null,null,null,null,null,"",0,{"$f":"IF('Anhang Grundstücksverzeichnis'!G931=Texte!$A$25,F931,0)","v":0},{"$f":"IF('Anhang Grundstücksverzeichnis'!G931=Texte!$A$26,F931,0)","v":0},{"$f":"IF('Anhang Grundstücksverzeichnis'!G931=Texte!$A$27,F931,0)","v":0},{"$f":"IF('Anhang Grundstücksverzeichnis'!G931=Texte!$A$28,F931,0)","v":0}]
[922,{"$f":"IF(C932<>\"\",IF(ISNA(VLOOKUP(C932,Katastralgemeinden!$A$2:$B$3041,2,FALSE)),\"Ungültige KG-Nummer!\",VLOOKUP(C932,Katastralgemeinden!A$2:$B$3041,2,\"falsch\")),\"\")","v":""},null,null,null,null,null,null,null,null,"",0,{"$f":"IF('Anhang Grundstücksverzeichnis'!G932=Texte!$A$25,F932,0)","v":0},{"$f":"IF('Anhang Grundstücksverzeichnis'!G932=Texte!$A$26,F932,0)","v":0},{"$f":"IF('Anhang Grundstücksverzeichnis'!G932=Texte!$A$27,F932,0)","v":0},{"$f":"IF('Anhang Grundstücksverzeichnis'!G932=Texte!$A$28,F932,0)","v":0}]
[923,{"$f":"IF(C933<>\"\",IF(ISNA(VLOOKUP(C933,Katastralgemeinden!$A$2:$B$3041,2,FALSE)),\"Ungültige KG-Nummer!\",VLOOKUP(C933,Katastralgemeinden!A$2:$B$3041,2,\"falsch\")),\"\")","v":""},null,null,null,null,null,null,null,null,"",0,{"$f":"IF('Anhang Grundstücksverzeichnis'!G933=Texte!$A$25,F933,0)","v":0},{"$f":"IF('Anhang Grundstücksverzeichnis'!G933=Texte!$A$26,F933,0)","v":0},{"$f":"IF('Anhang Grundstücksverzeichnis'!G933=Texte!$A$27,F933,0)","v":0},{"$f":"IF('Anhang Grundstücksverzeichnis'!G933=Texte!$A$28,F933,0)","v":0}]
[924,{"$f":"IF(C934<>\"\",IF(ISNA(VLOOKUP(C934,Katastralgemeinden!$A$2:$B$3041,2,FALSE)),\"Ungültige KG-Nummer!\",VLOOKUP(C934,Katastralgemeinden!A$2:$B$3041,2,\"falsch\")),\"\")","v":""},null,null,null,null,null,null,null,null,"",0,{"$f":"IF('Anhang Grundstücksverzeichnis'!G934=Texte!$A$25,F934,0)","v":0},{"$f":"IF('Anhang Grundstücksverzeichnis'!G934=Texte!$A$26,F934,0)","v":0},{"$f":"IF('Anhang Grundstücksverzeichnis'!G934=Texte!$A$27,F934,0)","v":0},{"$f":"IF('Anhang Grundstücksverzeichnis'!G934=Texte!$A$28,F934,0)","v":0}]
[925,{"$f":"IF(C935<>\"\",IF(ISNA(VLOOKUP(C935,Katastralgemeinden!$A$2:$B$3041,2,FALSE)),\"Ungültige KG-Nummer!\",VLOOKUP(C935,Katastralgemeinden!A$2:$B$3041,2,\"falsch\")),\"\")","v":""},null,null,null,null,null,null,null,null,"",0,{"$f":"IF('Anhang Grundstücksverzeichnis'!G935=Texte!$A$25,F935,0)","v":0},{"$f":"IF('Anhang Grundstücksverzeichnis'!G935=Texte!$A$26,F935,0)","v":0},{"$f":"IF('Anhang Grundstücksverzeichnis'!G935=Texte!$A$27,F935,0)","v":0},{"$f":"IF('Anhang Grundstücksverzeichnis'!G935=Texte!$A$28,F935,0)","v":0}]
[926,{"$f":"IF(C936<>\"\",IF(ISNA(VLOOKUP(C936,Katastralgemeinden!$A$2:$B$3041,2,FALSE)),\"Ungültige KG-Nummer!\",VLOOKUP(C936,Katastralgemeinden!A$2:$B$3041,2,\"falsch\")),\"\")","v":""},null,null,null,null,null,null,null,null,"",0,{"$f":"IF('Anhang Grundstücksverzeichnis'!G936=Texte!$A$25,F936,0)","v":0},{"$f":"IF('Anhang Grundstücksverzeichnis'!G936=Texte!$A$26,F936,0)","v":0},{"$f":"IF('Anhang Grundstücksverzeichnis'!G936=Texte!$A$27,F936,0)","v":0},{"$f":"IF('Anhang Grundstücksverzeichnis'!G936=Texte!$A$28,F936,0)","v":0}]
[927,{"$f":"IF(C937<>\"\",IF(ISNA(VLOOKUP(C937,Katastralgemeinden!$A$2:$B$3041,2,FALSE)),\"Ungültige KG-Nummer!\",VLOOKUP(C937,Katastralgemeinden!A$2:$B$3041,2,\"falsch\")),\"\")","v":""},null,null,null,null,null,null,null,null,"",0,{"$f":"IF('Anhang Grundstücksverzeichnis'!G937=Texte!$A$25,F937,0)","v":0},{"$f":"IF('Anhang Grundstücksverzeichnis'!G937=Texte!$A$26,F937,0)","v":0},{"$f":"IF('Anhang Grundstücksverzeichnis'!G937=Texte!$A$27,F937,0)","v":0},{"$f":"IF('Anhang Grundstücksverzeichnis'!G937=Texte!$A$28,F937,0)","v":0}]
[928,{"$f":"IF(C938<>\"\",IF(ISNA(VLOOKUP(C938,Katastralgemeinden!$A$2:$B$3041,2,FALSE)),\"Ungültige KG-Nummer!\",VLOOKUP(C938,Katastralgemeinden!A$2:$B$3041,2,\"falsch\")),\"\")","v":""},null,null,null,null,null,null,null,null,"",0,{"$f":"IF('Anhang Grundstücksverzeichnis'!G938=Texte!$A$25,F938,0)","v":0},{"$f":"IF('Anhang Grundstücksverzeichnis'!G938=Texte!$A$26,F938,0)","v":0},{"$f":"IF('Anhang Grundstücksverzeichnis'!G938=Texte!$A$27,F938,0)","v":0},{"$f":"IF('Anhang Grundstücksverzeichnis'!G938=Texte!$A$28,F938,0)","v":0}]
[929,{"$f":"IF(C939<>\"\",IF(ISNA(VLOOKUP(C939,Katastralgemeinden!$A$2:$B$3041,2,FALSE)),\"Ungültige KG-Nummer!\",VLOOKUP(C939,Katastralgemeinden!A$2:$B$3041,2,\"falsch\")),\"\")","v":""},null,null,null,null,null,null,null,null,"",0,{"$f":"IF('Anhang Grundstücksverzeichnis'!G939=Texte!$A$25,F939,0)","v":0},{"$f":"IF('Anhang Grundstücksverzeichnis'!G939=Texte!$A$26,F939,0)","v":0},{"$f":"IF('Anhang Grundstücksverzeichnis'!G939=Texte!$A$27,F939,0)","v":0},{"$f":"IF('Anhang Grundstücksverzeichnis'!G939=Texte!$A$28,F939,0)","v":0}]
[930,{"$f":"IF(C940<>\"\",IF(ISNA(VLOOKUP(C940,Katastralgemeinden!$A$2:$B$3041,2,FALSE)),\"Ungültige KG-Nummer!\",VLOOKUP(C940,Katastralgemeinden!A$2:$B$3041,2,\"falsch\")),\"\")","v":""},null,null,null,null,null,null,null,null,"",0,{"$f":"IF('Anhang Grundstücksverzeichnis'!G940=Texte!$A$25,F940,0)","v":0},{"$f":"IF('Anhang Grundstücksverzeichnis'!G940=Texte!$A$26,F940,0)","v":0},{"$f":"IF('Anhang Grundstücksverzeichnis'!G940=Texte!$A$27,F940,0)","v":0},{"$f":"IF('Anhang Grundstücksverzeichnis'!G940=Texte!$A$28,F940,0)","v":0}]
[931,{"$f":"IF(C941<>\"\",IF(ISNA(VLOOKUP(C941,Katastralgemeinden!$A$2:$B$3041,2,FALSE)),\"Ungültige KG-Nummer!\",VLOOKUP(C941,Katastralgemeinden!A$2:$B$3041,2,\"falsch\")),\"\")","v":""},null,null,null,null,null,null,null,null,"",0,{"$f":"IF('Anhang Grundstücksverzeichnis'!G941=Texte!$A$25,F941,0)","v":0},{"$f":"IF('Anhang Grundstücksverzeichnis'!G941=Texte!$A$26,F941,0)","v":0},{"$f":"IF('Anhang Grundstücksverzeichnis'!G941=Texte!$A$27,F941,0)","v":0},{"$f":"IF('Anhang Grundstücksverzeichnis'!G941=Texte!$A$28,F941,0)","v":0}]
[932,{"$f":"IF(C942<>\"\",IF(ISNA(VLOOKUP(C942,Katastralgemeinden!$A$2:$B$3041,2,FALSE)),\"Ungültige KG-Nummer!\",VLOOKUP(C942,Katastralgemeinden!A$2:$B$3041,2,\"falsch\")),\"\")","v":""},null,null,null,null,null,null,null,null,"",0,{"$f":"IF('Anhang Grundstücksverzeichnis'!G942=Texte!$A$25,F942,0)","v":0},{"$f":"IF('Anhang Grundstücksverzeichnis'!G942=Texte!$A$26,F942,0)","v":0},{"$f":"IF('Anhang Grundstücksverzeichnis'!G942=Texte!$A$27,F942,0)","v":0},{"$f":"IF('Anhang Grundstücksverzeichnis'!G942=Texte!$A$28,F942,0)","v":0}]
[933,{"$f":"IF(C943<>\"\",IF(ISNA(VLOOKUP(C943,Katastralgemeinden!$A$2:$B$3041,2,FALSE)),\"Ungültige KG-Nummer!\",VLOOKUP(C943,Katastralgemeinden!A$2:$B$3041,2,\"falsch\")),\"\")","v":""},null,null,null,null,null,null,null,null,"",0,{"$f":"IF('Anhang Grundstücksverzeichnis'!G943=Texte!$A$25,F943,0)","v":0},{"$f":"IF('Anhang Grundstücksverzeichnis'!G943=Texte!$A$26,F943,0)","v":0},{"$f":"IF('Anhang Grundstücksverzeichnis'!G943=Texte!$A$27,F943,0)","v":0},{"$f":"IF('Anhang Grundstücksverzeichnis'!G943=Texte!$A$28,F943,0)","v":0}]
[934,{"$f":"IF(C944<>\"\",IF(ISNA(VLOOKUP(C944,Katastralgemeinden!$A$2:$B$3041,2,FALSE)),\"Ungültige KG-Nummer!\",VLOOKUP(C944,Katastralgemeinden!A$2:$B$3041,2,\"falsch\")),\"\")","v":""},null,null,null,null,null,null,null,null,"",0,{"$f":"IF('Anhang Grundstücksverzeichnis'!G944=Texte!$A$25,F944,0)","v":0},{"$f":"IF('Anhang Grundstücksverzeichnis'!G944=Texte!$A$26,F944,0)","v":0},{"$f":"IF('Anhang Grundstücksverzeichnis'!G944=Texte!$A$27,F944,0)","v":0},{"$f":"IF('Anhang Grundstücksverzeichnis'!G944=Texte!$A$28,F944,0)","v":0}]
[935,{"$f":"IF(C945<>\"\",IF(ISNA(VLOOKUP(C945,Katastralgemeinden!$A$2:$B$3041,2,FALSE)),\"Ungültige KG-Nummer!\",VLOOKUP(C945,Katastralgemeinden!A$2:$B$3041,2,\"falsch\")),\"\")","v":""},null,null,null,null,null,null,null,null,"",0,{"$f":"IF('Anhang Grundstücksverzeichnis'!G945=Texte!$A$25,F945,0)","v":0},{"$f":"IF('Anhang Grundstücksverzeichnis'!G945=Texte!$A$26,F945,0)","v":0},{"$f":"IF('Anhang Grundstücksverzeichnis'!G945=Texte!$A$27,F945,0)","v":0},{"$f":"IF('Anhang Grundstücksverzeichnis'!G945=Texte!$A$28,F945,0)","v":0}]
[936,{"$f":"IF(C946<>\"\",IF(ISNA(VLOOKUP(C946,Katastralgemeinden!$A$2:$B$3041,2,FALSE)),\"Ungültige KG-Nummer!\",VLOOKUP(C946,Katastralgemeinden!A$2:$B$3041,2,\"falsch\")),\"\")","v":""},null,null,null,null,null,null,null,null,"",0,{"$f":"IF('Anhang Grundstücksverzeichnis'!G946=Texte!$A$25,F946,0)","v":0},{"$f":"IF('Anhang Grundstücksverzeichnis'!G946=Texte!$A$26,F946,0)","v":0},{"$f":"IF('Anhang Grundstücksverzeichnis'!G946=Texte!$A$27,F946,0)","v":0},{"$f":"IF('Anhang Grundstücksverzeichnis'!G946=Texte!$A$28,F946,0)","v":0}]
[937,{"$f":"IF(C947<>\"\",IF(ISNA(VLOOKUP(C947,Katastralgemeinden!$A$2:$B$3041,2,FALSE)),\"Ungültige KG-Nummer!\",VLOOKUP(C947,Katastralgemeinden!A$2:$B$3041,2,\"falsch\")),\"\")","v":""},null,null,null,null,null,null,null,null,"",0,{"$f":"IF('Anhang Grundstücksverzeichnis'!G947=Texte!$A$25,F947,0)","v":0},{"$f":"IF('Anhang Grundstücksverzeichnis'!G947=Texte!$A$26,F947,0)","v":0},{"$f":"IF('Anhang Grundstücksverzeichnis'!G947=Texte!$A$27,F947,0)","v":0},{"$f":"IF('Anhang Grundstücksverzeichnis'!G947=Texte!$A$28,F947,0)","v":0}]
[938,{"$f":"IF(C948<>\"\",IF(ISNA(VLOOKUP(C948,Katastralgemeinden!$A$2:$B$3041,2,FALSE)),\"Ungültige KG-Nummer!\",VLOOKUP(C948,Katastralgemeinden!A$2:$B$3041,2,\"falsch\")),\"\")","v":""},null,null,null,null,null,null,null,null,"",0,{"$f":"IF('Anhang Grundstücksverzeichnis'!G948=Texte!$A$25,F948,0)","v":0},{"$f":"IF('Anhang Grundstücksverzeichnis'!G948=Texte!$A$26,F948,0)","v":0},{"$f":"IF('Anhang Grundstücksverzeichnis'!G948=Texte!$A$27,F948,0)","v":0},{"$f":"IF('Anhang Grundstücksverzeichnis'!G948=Texte!$A$28,F948,0)","v":0}]
[939,{"$f":"IF(C949<>\"\",IF(ISNA(VLOOKUP(C949,Katastralgemeinden!$A$2:$B$3041,2,FALSE)),\"Ungültige KG-Nummer!\",VLOOKUP(C949,Katastralgemeinden!A$2:$B$3041,2,\"falsch\")),\"\")","v":""},null,null,null,null,null,null,null,null,"",0,{"$f":"IF('Anhang Grundstücksverzeichnis'!G949=Texte!$A$25,F949,0)","v":0},{"$f":"IF('Anhang Grundstücksverzeichnis'!G949=Texte!$A$26,F949,0)","v":0},{"$f":"IF('Anhang Grundstücksverzeichnis'!G949=Texte!$A$27,F949,0)","v":0},{"$f":"IF('Anhang Grundstücksverzeichnis'!G949=Texte!$A$28,F949,0)","v":0}]
[940,{"$f":"IF(C950<>\"\",IF(ISNA(VLOOKUP(C950,Katastralgemeinden!$A$2:$B$3041,2,FALSE)),\"Ungültige KG-Nummer!\",VLOOKUP(C950,Katastralgemeinden!A$2:$B$3041,2,\"falsch\")),\"\")","v":""},null,null,null,null,null,null,null,null,"",0,{"$f":"IF('Anhang Grundstücksverzeichnis'!G950=Texte!$A$25,F950,0)","v":0},{"$f":"IF('Anhang Grundstücksverzeichnis'!G950=Texte!$A$26,F950,0)","v":0},{"$f":"IF('Anhang Grundstücksverzeichnis'!G950=Texte!$A$27,F950,0)","v":0},{"$f":"IF('Anhang Grundstücksverzeichnis'!G950=Texte!$A$28,F950,0)","v":0}]
[941,{"$f":"IF(C951<>\"\",IF(ISNA(VLOOKUP(C951,Katastralgemeinden!$A$2:$B$3041,2,FALSE)),\"Ungültige KG-Nummer!\",VLOOKUP(C951,Katastralgemeinden!A$2:$B$3041,2,\"falsch\")),\"\")","v":""},null,null,null,null,null,null,null,null,"",0,{"$f":"IF('Anhang Grundstücksverzeichnis'!G951=Texte!$A$25,F951,0)","v":0},{"$f":"IF('Anhang Grundstücksverzeichnis'!G951=Texte!$A$26,F951,0)","v":0},{"$f":"IF('Anhang Grundstücksverzeichnis'!G951=Texte!$A$27,F951,0)","v":0},{"$f":"IF('Anhang Grundstücksverzeichnis'!G951=Texte!$A$28,F951,0)","v":0}]
[942,{"$f":"IF(C952<>\"\",IF(ISNA(VLOOKUP(C952,Katastralgemeinden!$A$2:$B$3041,2,FALSE)),\"Ungültige KG-Nummer!\",VLOOKUP(C952,Katastralgemeinden!A$2:$B$3041,2,\"falsch\")),\"\")","v":""},null,null,null,null,null,null,null,null,"",0,{"$f":"IF('Anhang Grundstücksverzeichnis'!G952=Texte!$A$25,F952,0)","v":0},{"$f":"IF('Anhang Grundstücksverzeichnis'!G952=Texte!$A$26,F952,0)","v":0},{"$f":"IF('Anhang Grundstücksverzeichnis'!G952=Texte!$A$27,F952,0)","v":0},{"$f":"IF('Anhang Grundstücksverzeichnis'!G952=Texte!$A$28,F952,0)","v":0}]
[943,{"$f":"IF(C953<>\"\",IF(ISNA(VLOOKUP(C953,Katastralgemeinden!$A$2:$B$3041,2,FALSE)),\"Ungültige KG-Nummer!\",VLOOKUP(C953,Katastralgemeinden!A$2:$B$3041,2,\"falsch\")),\"\")","v":""},null,null,null,null,null,null,null,null,"",0,{"$f":"IF('Anhang Grundstücksverzeichnis'!G953=Texte!$A$25,F953,0)","v":0},{"$f":"IF('Anhang Grundstücksverzeichnis'!G953=Texte!$A$26,F953,0)","v":0},{"$f":"IF('Anhang Grundstücksverzeichnis'!G953=Texte!$A$27,F953,0)","v":0},{"$f":"IF('Anhang Grundstücksverzeichnis'!G953=Texte!$A$28,F953,0)","v":0}]
[944,{"$f":"IF(C954<>\"\",IF(ISNA(VLOOKUP(C954,Katastralgemeinden!$A$2:$B$3041,2,FALSE)),\"Ungültige KG-Nummer!\",VLOOKUP(C954,Katastralgemeinden!A$2:$B$3041,2,\"falsch\")),\"\")","v":""},null,null,null,null,null,null,null,null,"",0,{"$f":"IF('Anhang Grundstücksverzeichnis'!G954=Texte!$A$25,F954,0)","v":0},{"$f":"IF('Anhang Grundstücksverzeichnis'!G954=Texte!$A$26,F954,0)","v":0},{"$f":"IF('Anhang Grundstücksverzeichnis'!G954=Texte!$A$27,F954,0)","v":0},{"$f":"IF('Anhang Grundstücksverzeichnis'!G954=Texte!$A$28,F954,0)","v":0}]
[945,{"$f":"IF(C955<>\"\",IF(ISNA(VLOOKUP(C955,Katastralgemeinden!$A$2:$B$3041,2,FALSE)),\"Ungültige KG-Nummer!\",VLOOKUP(C955,Katastralgemeinden!A$2:$B$3041,2,\"falsch\")),\"\")","v":""},null,null,null,null,null,null,null,null,"",0,{"$f":"IF('Anhang Grundstücksverzeichnis'!G955=Texte!$A$25,F955,0)","v":0},{"$f":"IF('Anhang Grundstücksverzeichnis'!G955=Texte!$A$26,F955,0)","v":0},{"$f":"IF('Anhang Grundstücksverzeichnis'!G955=Texte!$A$27,F955,0)","v":0},{"$f":"IF('Anhang Grundstücksverzeichnis'!G955=Texte!$A$28,F955,0)","v":0}]
[946,{"$f":"IF(C956<>\"\",IF(ISNA(VLOOKUP(C956,Katastralgemeinden!$A$2:$B$3041,2,FALSE)),\"Ungültige KG-Nummer!\",VLOOKUP(C956,Katastralgemeinden!A$2:$B$3041,2,\"falsch\")),\"\")","v":""},null,null,null,null,null,null,null,null,"",0,{"$f":"IF('Anhang Grundstücksverzeichnis'!G956=Texte!$A$25,F956,0)","v":0},{"$f":"IF('Anhang Grundstücksverzeichnis'!G956=Texte!$A$26,F956,0)","v":0},{"$f":"IF('Anhang Grundstücksverzeichnis'!G956=Texte!$A$27,F956,0)","v":0},{"$f":"IF('Anhang Grundstücksverzeichnis'!G956=Texte!$A$28,F956,0)","v":0}]
[947,{"$f":"IF(C957<>\"\",IF(ISNA(VLOOKUP(C957,Katastralgemeinden!$A$2:$B$3041,2,FALSE)),\"Ungültige KG-Nummer!\",VLOOKUP(C957,Katastralgemeinden!A$2:$B$3041,2,\"falsch\")),\"\")","v":""},null,null,null,null,null,null,null,null,"",0,{"$f":"IF('Anhang Grundstücksverzeichnis'!G957=Texte!$A$25,F957,0)","v":0},{"$f":"IF('Anhang Grundstücksverzeichnis'!G957=Texte!$A$26,F957,0)","v":0},{"$f":"IF('Anhang Grundstücksverzeichnis'!G957=Texte!$A$27,F957,0)","v":0},{"$f":"IF('Anhang Grundstücksverzeichnis'!G957=Texte!$A$28,F957,0)","v":0}]
[948,{"$f":"IF(C958<>\"\",IF(ISNA(VLOOKUP(C958,Katastralgemeinden!$A$2:$B$3041,2,FALSE)),\"Ungültige KG-Nummer!\",VLOOKUP(C958,Katastralgemeinden!A$2:$B$3041,2,\"falsch\")),\"\")","v":""},null,null,null,null,null,null,null,null,"",0,{"$f":"IF('Anhang Grundstücksverzeichnis'!G958=Texte!$A$25,F958,0)","v":0},{"$f":"IF('Anhang Grundstücksverzeichnis'!G958=Texte!$A$26,F958,0)","v":0},{"$f":"IF('Anhang Grundstücksverzeichnis'!G958=Texte!$A$27,F958,0)","v":0},{"$f":"IF('Anhang Grundstücksverzeichnis'!G958=Texte!$A$28,F958,0)","v":0}]
[949,{"$f":"IF(C959<>\"\",IF(ISNA(VLOOKUP(C959,Katastralgemeinden!$A$2:$B$3041,2,FALSE)),\"Ungültige KG-Nummer!\",VLOOKUP(C959,Katastralgemeinden!A$2:$B$3041,2,\"falsch\")),\"\")","v":""},null,null,null,null,null,null,null,null,"",0,{"$f":"IF('Anhang Grundstücksverzeichnis'!G959=Texte!$A$25,F959,0)","v":0},{"$f":"IF('Anhang Grundstücksverzeichnis'!G959=Texte!$A$26,F959,0)","v":0},{"$f":"IF('Anhang Grundstücksverzeichnis'!G959=Texte!$A$27,F959,0)","v":0},{"$f":"IF('Anhang Grundstücksverzeichnis'!G959=Texte!$A$28,F959,0)","v":0}]
[950,{"$f":"IF(C960<>\"\",IF(ISNA(VLOOKUP(C960,Katastralgemeinden!$A$2:$B$3041,2,FALSE)),\"Ungültige KG-Nummer!\",VLOOKUP(C960,Katastralgemeinden!A$2:$B$3041,2,\"falsch\")),\"\")","v":""},null,null,null,null,null,null,null,null,"",0,{"$f":"IF('Anhang Grundstücksverzeichnis'!G960=Texte!$A$25,F960,0)","v":0},{"$f":"IF('Anhang Grundstücksverzeichnis'!G960=Texte!$A$26,F960,0)","v":0},{"$f":"IF('Anhang Grundstücksverzeichnis'!G960=Texte!$A$27,F960,0)","v":0},{"$f":"IF('Anhang Grundstücksverzeichnis'!G960=Texte!$A$28,F960,0)","v":0}]
[951,{"$f":"IF(C961<>\"\",IF(ISNA(VLOOKUP(C961,Katastralgemeinden!$A$2:$B$3041,2,FALSE)),\"Ungültige KG-Nummer!\",VLOOKUP(C961,Katastralgemeinden!A$2:$B$3041,2,\"falsch\")),\"\")","v":""},null,null,null,null,null,null,null,null,"",0,{"$f":"IF('Anhang Grundstücksverzeichnis'!G961=Texte!$A$25,F961,0)","v":0},{"$f":"IF('Anhang Grundstücksverzeichnis'!G961=Texte!$A$26,F961,0)","v":0},{"$f":"IF('Anhang Grundstücksverzeichnis'!G961=Texte!$A$27,F961,0)","v":0},{"$f":"IF('Anhang Grundstücksverzeichnis'!G961=Texte!$A$28,F961,0)","v":0}]
[952,{"$f":"IF(C962<>\"\",IF(ISNA(VLOOKUP(C962,Katastralgemeinden!$A$2:$B$3041,2,FALSE)),\"Ungültige KG-Nummer!\",VLOOKUP(C962,Katastralgemeinden!A$2:$B$3041,2,\"falsch\")),\"\")","v":""},null,null,null,null,null,null,null,null,"",0,{"$f":"IF('Anhang Grundstücksverzeichnis'!G962=Texte!$A$25,F962,0)","v":0},{"$f":"IF('Anhang Grundstücksverzeichnis'!G962=Texte!$A$26,F962,0)","v":0},{"$f":"IF('Anhang Grundstücksverzeichnis'!G962=Texte!$A$27,F962,0)","v":0},{"$f":"IF('Anhang Grundstücksverzeichnis'!G962=Texte!$A$28,F962,0)","v":0}]
[953,{"$f":"IF(C963<>\"\",IF(ISNA(VLOOKUP(C963,Katastralgemeinden!$A$2:$B$3041,2,FALSE)),\"Ungültige KG-Nummer!\",VLOOKUP(C963,Katastralgemeinden!A$2:$B$3041,2,\"falsch\")),\"\")","v":""},null,null,null,null,null,null,null,null,"",0,{"$f":"IF('Anhang Grundstücksverzeichnis'!G963=Texte!$A$25,F963,0)","v":0},{"$f":"IF('Anhang Grundstücksverzeichnis'!G963=Texte!$A$26,F963,0)","v":0},{"$f":"IF('Anhang Grundstücksverzeichnis'!G963=Texte!$A$27,F963,0)","v":0},{"$f":"IF('Anhang Grundstücksverzeichnis'!G963=Texte!$A$28,F963,0)","v":0}]
[954,{"$f":"IF(C964<>\"\",IF(ISNA(VLOOKUP(C964,Katastralgemeinden!$A$2:$B$3041,2,FALSE)),\"Ungültige KG-Nummer!\",VLOOKUP(C964,Katastralgemeinden!A$2:$B$3041,2,\"falsch\")),\"\")","v":""},null,null,null,null,null,null,null,null,"",0,{"$f":"IF('Anhang Grundstücksverzeichnis'!G964=Texte!$A$25,F964,0)","v":0},{"$f":"IF('Anhang Grundstücksverzeichnis'!G964=Texte!$A$26,F964,0)","v":0},{"$f":"IF('Anhang Grundstücksverzeichnis'!G964=Texte!$A$27,F964,0)","v":0},{"$f":"IF('Anhang Grundstücksverzeichnis'!G964=Texte!$A$28,F964,0)","v":0}]
[955,{"$f":"IF(C965<>\"\",IF(ISNA(VLOOKUP(C965,Katastralgemeinden!$A$2:$B$3041,2,FALSE)),\"Ungültige KG-Nummer!\",VLOOKUP(C965,Katastralgemeinden!A$2:$B$3041,2,\"falsch\")),\"\")","v":""},null,null,null,null,null,null,null,null,"",0,{"$f":"IF('Anhang Grundstücksverzeichnis'!G965=Texte!$A$25,F965,0)","v":0},{"$f":"IF('Anhang Grundstücksverzeichnis'!G965=Texte!$A$26,F965,0)","v":0},{"$f":"IF('Anhang Grundstücksverzeichnis'!G965=Texte!$A$27,F965,0)","v":0},{"$f":"IF('Anhang Grundstücksverzeichnis'!G965=Texte!$A$28,F965,0)","v":0}]
[956,{"$f":"IF(C966<>\"\",IF(ISNA(VLOOKUP(C966,Katastralgemeinden!$A$2:$B$3041,2,FALSE)),\"Ungültige KG-Nummer!\",VLOOKUP(C966,Katastralgemeinden!A$2:$B$3041,2,\"falsch\")),\"\")","v":""},null,null,null,null,null,null,null,null,"",0,{"$f":"IF('Anhang Grundstücksverzeichnis'!G966=Texte!$A$25,F966,0)","v":0},{"$f":"IF('Anhang Grundstücksverzeichnis'!G966=Texte!$A$26,F966,0)","v":0},{"$f":"IF('Anhang Grundstücksverzeichnis'!G966=Texte!$A$27,F966,0)","v":0},{"$f":"IF('Anhang Grundstücksverzeichnis'!G966=Texte!$A$28,F966,0)","v":0}]
[957,{"$f":"IF(C967<>\"\",IF(ISNA(VLOOKUP(C967,Katastralgemeinden!$A$2:$B$3041,2,FALSE)),\"Ungültige KG-Nummer!\",VLOOKUP(C967,Katastralgemeinden!A$2:$B$3041,2,\"falsch\")),\"\")","v":""},null,null,null,null,null,null,null,null,"",0,{"$f":"IF('Anhang Grundstücksverzeichnis'!G967=Texte!$A$25,F967,0)","v":0},{"$f":"IF('Anhang Grundstücksverzeichnis'!G967=Texte!$A$26,F967,0)","v":0},{"$f":"IF('Anhang Grundstücksverzeichnis'!G967=Texte!$A$27,F967,0)","v":0},{"$f":"IF('Anhang Grundstücksverzeichnis'!G967=Texte!$A$28,F967,0)","v":0}]
[958,{"$f":"IF(C968<>\"\",IF(ISNA(VLOOKUP(C968,Katastralgemeinden!$A$2:$B$3041,2,FALSE)),\"Ungültige KG-Nummer!\",VLOOKUP(C968,Katastralgemeinden!A$2:$B$3041,2,\"falsch\")),\"\")","v":""},null,null,null,null,null,null,null,null,"",0,{"$f":"IF('Anhang Grundstücksverzeichnis'!G968=Texte!$A$25,F968,0)","v":0},{"$f":"IF('Anhang Grundstücksverzeichnis'!G968=Texte!$A$26,F968,0)","v":0},{"$f":"IF('Anhang Grundstücksverzeichnis'!G968=Texte!$A$27,F968,0)","v":0},{"$f":"IF('Anhang Grundstücksverzeichnis'!G968=Texte!$A$28,F968,0)","v":0}]
[959,{"$f":"IF(C969<>\"\",IF(ISNA(VLOOKUP(C969,Katastralgemeinden!$A$2:$B$3041,2,FALSE)),\"Ungültige KG-Nummer!\",VLOOKUP(C969,Katastralgemeinden!A$2:$B$3041,2,\"falsch\")),\"\")","v":""},null,null,null,null,null,null,null,null,"",0,{"$f":"IF('Anhang Grundstücksverzeichnis'!G969=Texte!$A$25,F969,0)","v":0},{"$f":"IF('Anhang Grundstücksverzeichnis'!G969=Texte!$A$26,F969,0)","v":0},{"$f":"IF('Anhang Grundstücksverzeichnis'!G969=Texte!$A$27,F969,0)","v":0},{"$f":"IF('Anhang Grundstücksverzeichnis'!G969=Texte!$A$28,F969,0)","v":0}]
[960,{"$f":"IF(C970<>\"\",IF(ISNA(VLOOKUP(C970,Katastralgemeinden!$A$2:$B$3041,2,FALSE)),\"Ungültige KG-Nummer!\",VLOOKUP(C970,Katastralgemeinden!A$2:$B$3041,2,\"falsch\")),\"\")","v":""},null,null,null,null,null,null,null,null,"",0,{"$f":"IF('Anhang Grundstücksverzeichnis'!G970=Texte!$A$25,F970,0)","v":0},{"$f":"IF('Anhang Grundstücksverzeichnis'!G970=Texte!$A$26,F970,0)","v":0},{"$f":"IF('Anhang Grundstücksverzeichnis'!G970=Texte!$A$27,F970,0)","v":0},{"$f":"IF('Anhang Grundstücksverzeichnis'!G970=Texte!$A$28,F970,0)","v":0}]
[961,{"$f":"IF(C971<>\"\",IF(ISNA(VLOOKUP(C971,Katastralgemeinden!$A$2:$B$3041,2,FALSE)),\"Ungültige KG-Nummer!\",VLOOKUP(C971,Katastralgemeinden!A$2:$B$3041,2,\"falsch\")),\"\")","v":""},null,null,null,null,null,null,null,null,"",0,{"$f":"IF('Anhang Grundstücksverzeichnis'!G971=Texte!$A$25,F971,0)","v":0},{"$f":"IF('Anhang Grundstücksverzeichnis'!G971=Texte!$A$26,F971,0)","v":0},{"$f":"IF('Anhang Grundstücksverzeichnis'!G971=Texte!$A$27,F971,0)","v":0},{"$f":"IF('Anhang Grundstücksverzeichnis'!G971=Texte!$A$28,F971,0)","v":0}]
[962,{"$f":"IF(C972<>\"\",IF(ISNA(VLOOKUP(C972,Katastralgemeinden!$A$2:$B$3041,2,FALSE)),\"Ungültige KG-Nummer!\",VLOOKUP(C972,Katastralgemeinden!A$2:$B$3041,2,\"falsch\")),\"\")","v":""},null,null,null,null,null,null,null,null,{"$f":"IF(G972<>\"\",IF(G972=\"Eigengrundfläche\",0,IF(G972=\"Vorpachtfläche\",1,IF(G972=\"Abrundung +\",3,IF(G972=\"Abrundung -\",4,5)))),\"\")","v":""},{"$f":"IF(OR(LOWER(H972)=\"x\",LOWER(H972)=\"j\"),1,0)","v":0},{"$f":"IF('Anhang Grundstücksverzeichnis'!G972=Texte!$A$25,F972,0)","v":0},{"$f":"IF('Anhang Grundstücksverzeichnis'!G972=Texte!$A$26,F972,0)","v":0},{"$f":"IF('Anhang Grundstücksverzeichnis'!G972=Texte!$A$27,F972,0)","v":0},{"$f":"IF('Anhang Grundstücksverzeichnis'!G972=Texte!$A$28,F972,0)","v":0}]
[963,{"$f":"IF(C973<>\"\",IF(ISNA(VLOOKUP(C973,Katastralgemeinden!$A$2:$B$3041,2,FALSE)),\"Ungültige KG-Nummer!\",VLOOKUP(C973,Katastralgemeinden!A$2:$B$3041,2,\"falsch\")),\"\")","v":""},null,null,null,null,null,null,null,null,"",0,{"$f":"IF('Anhang Grundstücksverzeichnis'!G973=Texte!$A$25,F973,0)","v":0},{"$f":"IF('Anhang Grundstücksverzeichnis'!G973=Texte!$A$26,F973,0)","v":0},{"$f":"IF('Anhang Grundstücksverzeichnis'!G973=Texte!$A$27,F973,0)","v":0},{"$f":"IF('Anhang Grundstücksverzeichnis'!G973=Texte!$A$28,F973,0)","v":0}]
[964,{"$f":"IF(C974<>\"\",IF(ISNA(VLOOKUP(C974,Katastralgemeinden!$A$2:$B$3041,2,FALSE)),\"Ungültige KG-Nummer!\",VLOOKUP(C974,Katastralgemeinden!A$2:$B$3041,2,\"falsch\")),\"\")","v":""},null,null,null,null,null,null,null,null,"",0,{"$f":"IF('Anhang Grundstücksverzeichnis'!G974=Texte!$A$25,F974,0)","v":0},{"$f":"IF('Anhang Grundstücksverzeichnis'!G974=Texte!$A$26,F974,0)","v":0},{"$f":"IF('Anhang Grundstücksverzeichnis'!G974=Texte!$A$27,F974,0)","v":0},{"$f":"IF('Anhang Grundstücksverzeichnis'!G974=Texte!$A$28,F974,0)","v":0}]
[965,{"$f":"IF(C975<>\"\",IF(ISNA(VLOOKUP(C975,Katastralgemeinden!$A$2:$B$3041,2,FALSE)),\"Ungültige KG-Nummer!\",VLOOKUP(C975,Katastralgemeinden!A$2:$B$3041,2,\"falsch\")),\"\")","v":""},null,null,null,null,null,null,null,null,"",0,{"$f":"IF('Anhang Grundstücksverzeichnis'!G975=Texte!$A$25,F975,0)","v":0},{"$f":"IF('Anhang Grundstücksverzeichnis'!G975=Texte!$A$26,F975,0)","v":0},{"$f":"IF('Anhang Grundstücksverzeichnis'!G975=Texte!$A$27,F975,0)","v":0},{"$f":"IF('Anhang Grundstücksverzeichnis'!G975=Texte!$A$28,F975,0)","v":0}]
[966,{"$f":"IF(C976<>\"\",IF(ISNA(VLOOKUP(C976,Katastralgemeinden!$A$2:$B$3041,2,FALSE)),\"Ungültige KG-Nummer!\",VLOOKUP(C976,Katastralgemeinden!A$2:$B$3041,2,\"falsch\")),\"\")","v":""},null,null,null,null,null,null,null,null,"",0,{"$f":"IF('Anhang Grundstücksverzeichnis'!G976=Texte!$A$25,F976,0)","v":0},{"$f":"IF('Anhang Grundstücksverzeichnis'!G976=Texte!$A$26,F976,0)","v":0},{"$f":"IF('Anhang Grundstücksverzeichnis'!G976=Texte!$A$27,F976,0)","v":0},{"$f":"IF('Anhang Grundstücksverzeichnis'!G976=Texte!$A$28,F976,0)","v":0}]
[967,{"$f":"IF(C977<>\"\",IF(ISNA(VLOOKUP(C977,Katastralgemeinden!$A$2:$B$3041,2,FALSE)),\"Ungültige KG-Nummer!\",VLOOKUP(C977,Katastralgemeinden!A$2:$B$3041,2,\"falsch\")),\"\")","v":""},null,null,null,null,null,null,null,null,"",0,{"$f":"IF('Anhang Grundstücksverzeichnis'!G977=Texte!$A$25,F977,0)","v":0},{"$f":"IF('Anhang Grundstücksverzeichnis'!G977=Texte!$A$26,F977,0)","v":0},{"$f":"IF('Anhang Grundstücksverzeichnis'!G977=Texte!$A$27,F977,0)","v":0},{"$f":"IF('Anhang Grundstücksverzeichnis'!G977=Texte!$A$28,F977,0)","v":0}]
[968,{"$f":"IF(C978<>\"\",IF(ISNA(VLOOKUP(C978,Katastralgemeinden!$A$2:$B$3041,2,FALSE)),\"Ungültige KG-Nummer!\",VLOOKUP(C978,Katastralgemeinden!A$2:$B$3041,2,\"falsch\")),\"\")","v":""},null,null,null,null,null,null,null,null,"",0,{"$f":"IF('Anhang Grundstücksverzeichnis'!G978=Texte!$A$25,F978,0)","v":0},{"$f":"IF('Anhang Grundstücksverzeichnis'!G978=Texte!$A$26,F978,0)","v":0},{"$f":"IF('Anhang Grundstücksverzeichnis'!G978=Texte!$A$27,F978,0)","v":0},{"$f":"IF('Anhang Grundstücksverzeichnis'!G978=Texte!$A$28,F978,0)","v":0}]
[969,{"$f":"IF(C979<>\"\",IF(ISNA(VLOOKUP(C979,Katastralgemeinden!$A$2:$B$3041,2,FALSE)),\"Ungültige KG-Nummer!\",VLOOKUP(C979,Katastralgemeinden!A$2:$B$3041,2,\"falsch\")),\"\")","v":""},null,null,null,null,null,null,null,null,"",0,{"$f":"IF('Anhang Grundstücksverzeichnis'!G979=Texte!$A$25,F979,0)","v":0},{"$f":"IF('Anhang Grundstücksverzeichnis'!G979=Texte!$A$26,F979,0)","v":0},{"$f":"IF('Anhang Grundstücksverzeichnis'!G979=Texte!$A$27,F979,0)","v":0},{"$f":"IF('Anhang Grundstücksverzeichnis'!G979=Texte!$A$28,F979,0)","v":0}]
[970,{"$f":"IF(C980<>\"\",IF(ISNA(VLOOKUP(C980,Katastralgemeinden!$A$2:$B$3041,2,FALSE)),\"Ungültige KG-Nummer!\",VLOOKUP(C980,Katastralgemeinden!A$2:$B$3041,2,\"falsch\")),\"\")","v":""},null,null,null,null,null,null,null,null,"",0,{"$f":"IF('Anhang Grundstücksverzeichnis'!G980=Texte!$A$25,F980,0)","v":0},{"$f":"IF('Anhang Grundstücksverzeichnis'!G980=Texte!$A$26,F980,0)","v":0},{"$f":"IF('Anhang Grundstücksverzeichnis'!G980=Texte!$A$27,F980,0)","v":0},{"$f":"IF('Anhang Grundstücksverzeichnis'!G980=Texte!$A$28,F980,0)","v":0}]
[971,{"$f":"IF(C981<>\"\",IF(ISNA(VLOOKUP(C981,Katastralgemeinden!$A$2:$B$3041,2,FALSE)),\"Ungültige KG-Nummer!\",VLOOKUP(C981,Katastralgemeinden!A$2:$B$3041,2,\"falsch\")),\"\")","v":""},null,null,null,null,null,null,null,null,"",0,{"$f":"IF('Anhang Grundstücksverzeichnis'!G981=Texte!$A$25,F981,0)","v":0},{"$f":"IF('Anhang Grundstücksverzeichnis'!G981=Texte!$A$26,F981,0)","v":0},{"$f":"IF('Anhang Grundstücksverzeichnis'!G981=Texte!$A$27,F981,0)","v":0},{"$f":"IF('Anhang Grundstücksverzeichnis'!G981=Texte!$A$28,F981,0)","v":0}]
[972,{"$f":"IF(C982<>\"\",IF(ISNA(VLOOKUP(C982,Katastralgemeinden!$A$2:$B$3041,2,FALSE)),\"Ungültige KG-Nummer!\",VLOOKUP(C982,Katastralgemeinden!A$2:$B$3041,2,\"falsch\")),\"\")","v":""},null,null,null,null,null,null,null,null,"",0,{"$f":"IF('Anhang Grundstücksverzeichnis'!G982=Texte!$A$25,F982,0)","v":0},{"$f":"IF('Anhang Grundstücksverzeichnis'!G982=Texte!$A$26,F982,0)","v":0},{"$f":"IF('Anhang Grundstücksverzeichnis'!G982=Texte!$A$27,F982,0)","v":0},{"$f":"IF('Anhang Grundstücksverzeichnis'!G982=Texte!$A$28,F982,0)","v":0}]
[973,{"$f":"IF(C983<>\"\",IF(ISNA(VLOOKUP(C983,Katastralgemeinden!$A$2:$B$3041,2,FALSE)),\"Ungültige KG-Nummer!\",VLOOKUP(C983,Katastralgemeinden!A$2:$B$3041,2,\"falsch\")),\"\")","v":""},null,null,null,null,null,null,null,null,"",0,{"$f":"IF('Anhang Grundstücksverzeichnis'!G983=Texte!$A$25,F983,0)","v":0},{"$f":"IF('Anhang Grundstücksverzeichnis'!G983=Texte!$A$26,F983,0)","v":0},{"$f":"IF('Anhang Grundstücksverzeichnis'!G983=Texte!$A$27,F983,0)","v":0},{"$f":"IF('Anhang Grundstücksverzeichnis'!G983=Texte!$A$28,F983,0)","v":0}]
[974,{"$f":"IF(C984<>\"\",IF(ISNA(VLOOKUP(C984,Katastralgemeinden!$A$2:$B$3041,2,FALSE)),\"Ungültige KG-Nummer!\",VLOOKUP(C984,Katastralgemeinden!A$2:$B$3041,2,\"falsch\")),\"\")","v":""},null,null,null,null,null,null,null,null,"",0,{"$f":"IF('Anhang Grundstücksverzeichnis'!G984=Texte!$A$25,F984,0)","v":0},{"$f":"IF('Anhang Grundstücksverzeichnis'!G984=Texte!$A$26,F984,0)","v":0},{"$f":"IF('Anhang Grundstücksverzeichnis'!G984=Texte!$A$27,F984,0)","v":0},{"$f":"IF('Anhang Grundstücksverzeichnis'!G984=Texte!$A$28,F984,0)","v":0}]
[975,{"$f":"IF(C985<>\"\",IF(ISNA(VLOOKUP(C985,Katastralgemeinden!$A$2:$B$3041,2,FALSE)),\"Ungültige KG-Nummer!\",VLOOKUP(C985,Katastralgemeinden!A$2:$B$3041,2,\"falsch\")),\"\")","v":""},null,null,null,null,null,null,null,null,"",0,{"$f":"IF('Anhang Grundstücksverzeichnis'!G985=Texte!$A$25,F985,0)","v":0},{"$f":"IF('Anhang Grundstücksverzeichnis'!G985=Texte!$A$26,F985,0)","v":0},{"$f":"IF('Anhang Grundstücksverzeichnis'!G985=Texte!$A$27,F985,0)","v":0},{"$f":"IF('Anhang Grundstücksverzeichnis'!G985=Texte!$A$28,F985,0)","v":0}]
[976,{"$f":"IF(C986<>\"\",IF(ISNA(VLOOKUP(C986,Katastralgemeinden!$A$2:$B$3041,2,FALSE)),\"Ungültige KG-Nummer!\",VLOOKUP(C986,Katastralgemeinden!A$2:$B$3041,2,\"falsch\")),\"\")","v":""},null,null,null,null,null,null,null,null,"",0,{"$f":"IF('Anhang Grundstücksverzeichnis'!G986=Texte!$A$25,F986,0)","v":0},{"$f":"IF('Anhang Grundstücksverzeichnis'!G986=Texte!$A$26,F986,0)","v":0},{"$f":"IF('Anhang Grundstücksverzeichnis'!G986=Texte!$A$27,F986,0)","v":0},{"$f":"IF('Anhang Grundstücksverzeichnis'!G986=Texte!$A$28,F986,0)","v":0}]
[977,{"$f":"IF(C987<>\"\",IF(ISNA(VLOOKUP(C987,Katastralgemeinden!$A$2:$B$3041,2,FALSE)),\"Ungültige KG-Nummer!\",VLOOKUP(C987,Katastralgemeinden!A$2:$B$3041,2,\"falsch\")),\"\")","v":""},null,null,null,null,null,null,null,null,"",0,{"$f":"IF('Anhang Grundstücksverzeichnis'!G987=Texte!$A$25,F987,0)","v":0},{"$f":"IF('Anhang Grundstücksverzeichnis'!G987=Texte!$A$26,F987,0)","v":0},{"$f":"IF('Anhang Grundstücksverzeichnis'!G987=Texte!$A$27,F987,0)","v":0},{"$f":"IF('Anhang Grundstücksverzeichnis'!G987=Texte!$A$28,F987,0)","v":0}]
[978,{"$f":"IF(C988<>\"\",IF(ISNA(VLOOKUP(C988,Katastralgemeinden!$A$2:$B$3041,2,FALSE)),\"Ungültige KG-Nummer!\",VLOOKUP(C988,Katastralgemeinden!A$2:$B$3041,2,\"falsch\")),\"\")","v":""},null,null,null,null,null,null,null,null,"",0,{"$f":"IF('Anhang Grundstücksverzeichnis'!G988=Texte!$A$25,F988,0)","v":0},{"$f":"IF('Anhang Grundstücksverzeichnis'!G988=Texte!$A$26,F988,0)","v":0},{"$f":"IF('Anhang Grundstücksverzeichnis'!G988=Texte!$A$27,F988,0)","v":0},{"$f":"IF('Anhang Grundstücksverzeichnis'!G988=Texte!$A$28,F988,0)","v":0}]
[979,{"$f":"IF(C989<>\"\",IF(ISNA(VLOOKUP(C989,Katastralgemeinden!$A$2:$B$3041,2,FALSE)),\"Ungültige KG-Nummer!\",VLOOKUP(C989,Katastralgemeinden!A$2:$B$3041,2,\"falsch\")),\"\")","v":""},null,null,null,null,null,null,null,null,"",0,{"$f":"IF('Anhang Grundstücksverzeichnis'!G989=Texte!$A$25,F989,0)","v":0},{"$f":"IF('Anhang Grundstücksverzeichnis'!G989=Texte!$A$26,F989,0)","v":0},{"$f":"IF('Anhang Grundstücksverzeichnis'!G989=Texte!$A$27,F989,0)","v":0},{"$f":"IF('Anhang Grundstücksverzeichnis'!G989=Texte!$A$28,F989,0)","v":0}]
[980,{"$f":"IF(C990<>\"\",IF(ISNA(VLOOKUP(C990,Katastralgemeinden!$A$2:$B$3041,2,FALSE)),\"Ungültige KG-Nummer!\",VLOOKUP(C990,Katastralgemeinden!A$2:$B$3041,2,\"falsch\")),\"\")","v":""},null,null,null,null,null,null,null,null,"",0,{"$f":"IF('Anhang Grundstücksverzeichnis'!G990=Texte!$A$25,F990,0)","v":0},{"$f":"IF('Anhang Grundstücksverzeichnis'!G990=Texte!$A$26,F990,0)","v":0},{"$f":"IF('Anhang Grundstücksverzeichnis'!G990=Texte!$A$27,F990,0)","v":0},{"$f":"IF('Anhang Grundstücksverzeichnis'!G990=Texte!$A$28,F990,0)","v":0}]
[981,{"$f":"IF(C991<>\"\",IF(ISNA(VLOOKUP(C991,Katastralgemeinden!$A$2:$B$3041,2,FALSE)),\"Ungültige KG-Nummer!\",VLOOKUP(C991,Katastralgemeinden!A$2:$B$3041,2,\"falsch\")),\"\")","v":""},null,null,null,null,null,null,null,null,"",0,{"$f":"IF('Anhang Grundstücksverzeichnis'!G991=Texte!$A$25,F991,0)","v":0},{"$f":"IF('Anhang Grundstücksverzeichnis'!G991=Texte!$A$26,F991,0)","v":0},{"$f":"IF('Anhang Grundstücksverzeichnis'!G991=Texte!$A$27,F991,0)","v":0},{"$f":"IF('Anhang Grundstücksverzeichnis'!G991=Texte!$A$28,F991,0)","v":0}]
[982,{"$f":"IF(C992<>\"\",IF(ISNA(VLOOKUP(C992,Katastralgemeinden!$A$2:$B$3041,2,FALSE)),\"Ungültige KG-Nummer!\",VLOOKUP(C992,Katastralgemeinden!A$2:$B$3041,2,\"falsch\")),\"\")","v":""},null,null,null,null,null,null,null,null,"",0,{"$f":"IF('Anhang Grundstücksverzeichnis'!G992=Texte!$A$25,F992,0)","v":0},{"$f":"IF('Anhang Grundstücksverzeichnis'!G992=Texte!$A$26,F992,0)","v":0},{"$f":"IF('Anhang Grundstücksverzeichnis'!G992=Texte!$A$27,F992,0)","v":0},{"$f":"IF('Anhang Grundstücksverzeichnis'!G992=Texte!$A$28,F992,0)","v":0}]
[983,{"$f":"IF(C993<>\"\",IF(ISNA(VLOOKUP(C993,Katastralgemeinden!$A$2:$B$3041,2,FALSE)),\"Ungültige KG-Nummer!\",VLOOKUP(C993,Katastralgemeinden!A$2:$B$3041,2,\"falsch\")),\"\")","v":""},null,null,null,null,null,null,null,null,"",0,{"$f":"IF('Anhang Grundstücksverzeichnis'!G993=Texte!$A$25,F993,0)","v":0},{"$f":"IF('Anhang Grundstücksverzeichnis'!G993=Texte!$A$26,F993,0)","v":0},{"$f":"IF('Anhang Grundstücksverzeichnis'!G993=Texte!$A$27,F993,0)","v":0},{"$f":"IF('Anhang Grundstücksverzeichnis'!G993=Texte!$A$28,F993,0)","v":0}]
[984,{"$f":"IF(C994<>\"\",IF(ISNA(VLOOKUP(C994,Katastralgemeinden!$A$2:$B$3041,2,FALSE)),\"Ungültige KG-Nummer!\",VLOOKUP(C994,Katastralgemeinden!A$2:$B$3041,2,\"falsch\")),\"\")","v":""},null,null,null,null,null,null,null,null,"",0,{"$f":"IF('Anhang Grundstücksverzeichnis'!G994=Texte!$A$25,F994,0)","v":0},{"$f":"IF('Anhang Grundstücksverzeichnis'!G994=Texte!$A$26,F994,0)","v":0},{"$f":"IF('Anhang Grundstücksverzeichnis'!G994=Texte!$A$27,F994,0)","v":0},{"$f":"IF('Anhang Grundstücksverzeichnis'!G994=Texte!$A$28,F994,0)","v":0}]
[985,{"$f":"IF(C995<>\"\",IF(ISNA(VLOOKUP(C995,Katastralgemeinden!$A$2:$B$3041,2,FALSE)),\"Ungültige KG-Nummer!\",VLOOKUP(C995,Katastralgemeinden!A$2:$B$3041,2,\"falsch\")),\"\")","v":""},null,null,null,null,null,null,null,null,"",0,{"$f":"IF('Anhang Grundstücksverzeichnis'!G995=Texte!$A$25,F995,0)","v":0},{"$f":"IF('Anhang Grundstücksverzeichnis'!G995=Texte!$A$26,F995,0)","v":0},{"$f":"IF('Anhang Grundstücksverzeichnis'!G995=Texte!$A$27,F995,0)","v":0},{"$f":"IF('Anhang Grundstücksverzeichnis'!G995=Texte!$A$28,F995,0)","v":0}]
[986,{"$f":"IF(C996<>\"\",IF(ISNA(VLOOKUP(C996,Katastralgemeinden!$A$2:$B$3041,2,FALSE)),\"Ungültige KG-Nummer!\",VLOOKUP(C996,Katastralgemeinden!A$2:$B$3041,2,\"falsch\")),\"\")","v":""},null,null,null,null,null,null,null,null,"",0,{"$f":"IF('Anhang Grundstücksverzeichnis'!G996=Texte!$A$25,F996,0)","v":0},{"$f":"IF('Anhang Grundstücksverzeichnis'!G996=Texte!$A$26,F996,0)","v":0},{"$f":"IF('Anhang Grundstücksverzeichnis'!G996=Texte!$A$27,F996,0)","v":0},{"$f":"IF('Anhang Grundstücksverzeichnis'!G996=Texte!$A$28,F996,0)","v":0}]
[987,{"$f":"IF(C997<>\"\",IF(ISNA(VLOOKUP(C997,Katastralgemeinden!$A$2:$B$3041,2,FALSE)),\"Ungültige KG-Nummer!\",VLOOKUP(C997,Katastralgemeinden!A$2:$B$3041,2,\"falsch\")),\"\")","v":""},null,null,null,null,null,null,null,null,"",0,{"$f":"IF('Anhang Grundstücksverzeichnis'!G997=Texte!$A$25,F997,0)","v":0},{"$f":"IF('Anhang Grundstücksverzeichnis'!G997=Texte!$A$26,F997,0)","v":0},{"$f":"IF('Anhang Grundstücksverzeichnis'!G997=Texte!$A$27,F997,0)","v":0},{"$f":"IF('Anhang Grundstücksverzeichnis'!G997=Texte!$A$28,F997,0)","v":0}]
[988,{"$f":"IF(C998<>\"\",IF(ISNA(VLOOKUP(C998,Katastralgemeinden!$A$2:$B$3041,2,FALSE)),\"Ungültige KG-Nummer!\",VLOOKUP(C998,Katastralgemeinden!A$2:$B$3041,2,\"falsch\")),\"\")","v":""},null,null,null,null,null,null,null,null,"",0,{"$f":"IF('Anhang Grundstücksverzeichnis'!G998=Texte!$A$25,F998,0)","v":0},{"$f":"IF('Anhang Grundstücksverzeichnis'!G998=Texte!$A$26,F998,0)","v":0},{"$f":"IF('Anhang Grundstücksverzeichnis'!G998=Texte!$A$27,F998,0)","v":0},{"$f":"IF('Anhang Grundstücksverzeichnis'!G998=Texte!$A$28,F998,0)","v":0}]
[989,{"$f":"IF(C999<>\"\",IF(ISNA(VLOOKUP(C999,Katastralgemeinden!$A$2:$B$3041,2,FALSE)),\"Ungültige KG-Nummer!\",VLOOKUP(C999,Katastralgemeinden!A$2:$B$3041,2,\"falsch\")),\"\")","v":""},null,null,null,null,null,null,null,null,"",0,{"$f":"IF('Anhang Grundstücksverzeichnis'!G999=Texte!$A$25,F999,0)","v":0},{"$f":"IF('Anhang Grundstücksverzeichnis'!G999=Texte!$A$26,F999,0)","v":0},{"$f":"IF('Anhang Grundstücksverzeichnis'!G999=Texte!$A$27,F999,0)","v":0},{"$f":"IF('Anhang Grundstücksverzeichnis'!G999=Texte!$A$28,F999,0)","v":0}]
[990,{"$f":"IF(C1000<>\"\",IF(ISNA(VLOOKUP(C1000,Katastralgemeinden!$A$2:$B$3041,2,FALSE)),\"Ungültige KG-Nummer!\",VLOOKUP(C1000,Katastralgemeinden!A$2:$B$3041,2,\"falsch\")),\"\")","v":""},null,null,null,null,null,null,null,null,"",0,{"$f":"IF('Anhang Grundstücksverzeichnis'!G1000=Texte!$A$25,F1000,0)","v":0},{"$f":"IF('Anhang Grundstücksverzeichnis'!G1000=Texte!$A$26,F1000,0)","v":0},{"$f":"IF('Anhang Grundstücksverzeichnis'!G1000=Texte!$A$27,F1000,0)","v":0},{"$f":"IF('Anhang Grundstücksverzeichnis'!G1000=Texte!$A$28,F1000,0)","v":0}]
[991,{"$f":"IF(C1001<>\"\",IF(ISNA(VLOOKUP(C1001,Katastralgemeinden!$A$2:$B$3041,2,FALSE)),\"Ungültige KG-Nummer!\",VLOOKUP(C1001,Katastralgemeinden!A$2:$B$3041,2,\"falsch\")),\"\")","v":""},null,null,null,null,null,null,null,null,"",0,{"$f":"IF('Anhang Grundstücksverzeichnis'!G1001=Texte!$A$25,F1001,0)","v":0},{"$f":"IF('Anhang Grundstücksverzeichnis'!G1001=Texte!$A$26,F1001,0)","v":0},{"$f":"IF('Anhang Grundstücksverzeichnis'!G1001=Texte!$A$27,F1001,0)","v":0},{"$f":"IF('Anhang Grundstücksverzeichnis'!G1001=Texte!$A$28,F1001,0)","v":0}]
[992,{"$f":"IF(C1002<>\"\",IF(ISNA(VLOOKUP(C1002,Katastralgemeinden!$A$2:$B$3041,2,FALSE)),\"Ungültige KG-Nummer!\",VLOOKUP(C1002,Katastralgemeinden!A$2:$B$3041,2,\"falsch\")),\"\")","v":""},null,null,null,null,null,null,null,null,"",0,{"$f":"IF('Anhang Grundstücksverzeichnis'!G1002=Texte!$A$25,F1002,0)","v":0},{"$f":"IF('Anhang Grundstücksverzeichnis'!G1002=Texte!$A$26,F1002,0)","v":0},{"$f":"IF('Anhang Grundstücksverzeichnis'!G1002=Texte!$A$27,F1002,0)","v":0},{"$f":"IF('Anhang Grundstücksverzeichnis'!G1002=Texte!$A$28,F1002,0)","v":0}]
[993,{"$f":"IF(C1003<>\"\",IF(ISNA(VLOOKUP(C1003,Katastralgemeinden!$A$2:$B$3041,2,FALSE)),\"Ungültige KG-Nummer!\",VLOOKUP(C1003,Katastralgemeinden!A$2:$B$3041,2,\"falsch\")),\"\")","v":""},null,null,null,null,null,null,null,null,"",0,{"$f":"IF('Anhang Grundstücksverzeichnis'!G1003=Texte!$A$25,F1003,0)","v":0},{"$f":"IF('Anhang Grundstücksverzeichnis'!G1003=Texte!$A$26,F1003,0)","v":0},{"$f":"IF('Anhang Grundstücksverzeichnis'!G1003=Texte!$A$27,F1003,0)","v":0},{"$f":"IF('Anhang Grundstücksverzeichnis'!G1003=Texte!$A$28,F1003,0)","v":0}]
[994,{"$f":"IF(C1004<>\"\",IF(ISNA(VLOOKUP(C1004,Katastralgemeinden!$A$2:$B$3041,2,FALSE)),\"Ungültige KG-Nummer!\",VLOOKUP(C1004,Katastralgemeinden!A$2:$B$3041,2,\"falsch\")),\"\")","v":""},null,null,null,null,null,null,null,null,"",0,{"$f":"IF('Anhang Grundstücksverzeichnis'!G1004=Texte!$A$25,F1004,0)","v":0},{"$f":"IF('Anhang Grundstücksverzeichnis'!G1004=Texte!$A$26,F1004,0)","v":0},{"$f":"IF('Anhang Grundstücksverzeichnis'!G1004=Texte!$A$27,F1004,0)","v":0},{"$f":"IF('Anhang Grundstücksverzeichnis'!G1004=Texte!$A$28,F1004,0)","v":0}]
[995,{"$f":"IF(C1005<>\"\",IF(ISNA(VLOOKUP(C1005,Katastralgemeinden!$A$2:$B$3041,2,FALSE)),\"Ungültige KG-Nummer!\",VLOOKUP(C1005,Katastralgemeinden!A$2:$B$3041,2,\"falsch\")),\"\")","v":""},null,null,null,null,null,null,null,null,"",0,{"$f":"IF('Anhang Grundstücksverzeichnis'!G1005=Texte!$A$25,F1005,0)","v":0},{"$f":"IF('Anhang Grundstücksverzeichnis'!G1005=Texte!$A$26,F1005,0)","v":0},{"$f":"IF('Anhang Grundstücksverzeichnis'!G1005=Texte!$A$27,F1005,0)","v":0},{"$f":"IF('Anhang Grundstücksverzeichnis'!G1005=Texte!$A$28,F1005,0)","v":0}]
[996,{"$f":"IF(C1006<>\"\",IF(ISNA(VLOOKUP(C1006,Katastralgemeinden!$A$2:$B$3041,2,FALSE)),\"Ungültige KG-Nummer!\",VLOOKUP(C1006,Katastralgemeinden!A$2:$B$3041,2,\"falsch\")),\"\")","v":""},null,null,null,null,null,null,null,null,"",0,{"$f":"IF('Anhang Grundstücksverzeichnis'!G1006=Texte!$A$25,F1006,0)","v":0},{"$f":"IF('Anhang Grundstücksverzeichnis'!G1006=Texte!$A$26,F1006,0)","v":0},{"$f":"IF('Anhang Grundstücksverzeichnis'!G1006=Texte!$A$27,F1006,0)","v":0},{"$f":"IF('Anhang Grundstücksverzeichnis'!G1006=Texte!$A$28,F1006,0)","v":0}]
[997,{"$f":"IF(C1007<>\"\",IF(ISNA(VLOOKUP(C1007,Katastralgemeinden!$A$2:$B$3041,2,FALSE)),\"Ungültige KG-Nummer!\",VLOOKUP(C1007,Katastralgemeinden!A$2:$B$3041,2,\"falsch\")),\"\")","v":""},null,null,null,null,null,null,null,null,"",0,{"$f":"IF('Anhang Grundstücksverzeichnis'!G1007=Texte!$A$25,F1007,0)","v":0},{"$f":"IF('Anhang Grundstücksverzeichnis'!G1007=Texte!$A$26,F1007,0)","v":0},{"$f":"IF('Anhang Grundstücksverzeichnis'!G1007=Texte!$A$27,F1007,0)","v":0},{"$f":"IF('Anhang Grundstücksverzeichnis'!G1007=Texte!$A$28,F1007,0)","v":0}]
[998,{"$f":"IF(C1008<>\"\",IF(ISNA(VLOOKUP(C1008,Katastralgemeinden!$A$2:$B$3041,2,FALSE)),\"Ungültige KG-Nummer!\",VLOOKUP(C1008,Katastralgemeinden!A$2:$B$3041,2,\"falsch\")),\"\")","v":""},null,null,null,null,null,null,null,null,"",0,{"$f":"IF('Anhang Grundstücksverzeichnis'!G1008=Texte!$A$25,F1008,0)","v":0},{"$f":"IF('Anhang Grundstücksverzeichnis'!G1008=Texte!$A$26,F1008,0)","v":0},{"$f":"IF('Anhang Grundstücksverzeichnis'!G1008=Texte!$A$27,F1008,0)","v":0},{"$f":"IF('Anhang Grundstücksverzeichnis'!G1008=Texte!$A$28,F1008,0)","v":0}]
[999,{"$f":"IF(C1009<>\"\",IF(ISNA(VLOOKUP(C1009,Katastralgemeinden!$A$2:$B$3041,2,FALSE)),\"Ungültige KG-Nummer!\",VLOOKUP(C1009,Katastralgemeinden!A$2:$B$3041,2,\"falsch\")),\"\")","v":""},null,null,null,null,null,null,null,null,"",0,{"$f":"IF('Anhang Grundstücksverzeichnis'!G1009=Texte!$A$25,F1009,0)","v":0},{"$f":"IF('Anhang Grundstücksverzeichnis'!G1009=Texte!$A$26,F1009,0)","v":0},{"$f":"IF('Anhang Grundstücksverzeichnis'!G1009=Texte!$A$27,F1009,0)","v":0},{"$f":"IF('Anhang Grundstücksverzeichnis'!G1009=Texte!$A$28,F1009,0)","v":0}]
[1000,{"$f":"IF(C1010<>\"\",IF(ISNA(VLOOKUP(C1010,Katastralgemeinden!$A$2:$B$3041,2,FALSE)),\"Ungültige KG-Nummer!\",VLOOKUP(C1010,Katastralgemeinden!A$2:$B$3041,2,\"falsch\")),\"\")","v":""},null,null,null,null,null,null,null,null,"",0,{"$f":"IF('Anhang Grundstücksverzeichnis'!G1010=Texte!$A$25,F1010,0)","v":0},{"$f":"IF('Anhang Grundstücksverzeichnis'!G1010=Texte!$A$26,F1010,0)","v":0},{"$f":"IF('Anhang Grundstücksverzeichnis'!G1010=Texte!$A$27,F1010,0)","v":0},{"$f":"IF('Anhang Grundstücksverzeichnis'!G1010=Texte!$A$28,F1010,0)","v":0}]
[1001,{"$f":"IF(C1011<>\"\",IF(ISNA(VLOOKUP(C1011,Katastralgemeinden!$A$2:$B$3041,2,FALSE)),\"Ungültige KG-Nummer!\",VLOOKUP(C1011,Katastralgemeinden!A$2:$B$3041,2,\"falsch\")),\"\")","v":""},null,null,null,null,null,null,null,null,"",0,{"$f":"IF('Anhang Grundstücksverzeichnis'!G1011=Texte!$A$25,F1011,0)","v":0},{"$f":"IF('Anhang Grundstücksverzeichnis'!G1011=Texte!$A$26,F1011,0)","v":0},{"$f":"IF('Anhang Grundstücksverzeichnis'!G1011=Texte!$A$27,F1011,0)","v":0},{"$f":"IF('Anhang Grundstücksverzeichnis'!G1011=Texte!$A$28,F1011,0)","v":0}]
[1002,{"$f":"IF(C1012<>\"\",IF(ISNA(VLOOKUP(C1012,Katastralgemeinden!$A$2:$B$3041,2,FALSE)),\"Ungültige KG-Nummer!\",VLOOKUP(C1012,Katastralgemeinden!A$2:$B$3041,2,\"falsch\")),\"\")","v":""},null,null,null,null,null,null,null,null,"",0,{"$f":"IF('Anhang Grundstücksverzeichnis'!G1012=Texte!$A$25,F1012,0)","v":0},{"$f":"IF('Anhang Grundstücksverzeichnis'!G1012=Texte!$A$26,F1012,0)","v":0},{"$f":"IF('Anhang Grundstücksverzeichnis'!G1012=Texte!$A$27,F1012,0)","v":0},{"$f":"IF('Anhang Grundstücksverzeichnis'!G1012=Texte!$A$28,F1012,0)","v":0}]
[1003,{"$f":"IF(C1013<>\"\",IF(ISNA(VLOOKUP(C1013,Katastralgemeinden!$A$2:$B$3041,2,FALSE)),\"Ungültige KG-Nummer!\",VLOOKUP(C1013,Katastralgemeinden!A$2:$B$3041,2,\"falsch\")),\"\")","v":""},null,null,null,null,null,null,null,null,"",0,{"$f":"IF('Anhang Grundstücksverzeichnis'!G1013=Texte!$A$25,F1013,0)","v":0},{"$f":"IF('Anhang Grundstücksverzeichnis'!G1013=Texte!$A$26,F1013,0)","v":0},{"$f":"IF('Anhang Grundstücksverzeichnis'!G1013=Texte!$A$27,F1013,0)","v":0},{"$f":"IF('Anhang Grundstücksverzeichnis'!G1013=Texte!$A$28,F1013,0)","v":0}]
[1004,{"$f":"IF(C1014<>\"\",IF(ISNA(VLOOKUP(C1014,Katastralgemeinden!$A$2:$B$3041,2,FALSE)),\"Ungültige KG-Nummer!\",VLOOKUP(C1014,Katastralgemeinden!A$2:$B$3041,2,\"falsch\")),\"\")","v":""},null,null,null,null,null,null,null,null,"",0,{"$f":"IF('Anhang Grundstücksverzeichnis'!G1014=Texte!$A$25,F1014,0)","v":0},{"$f":"IF('Anhang Grundstücksverzeichnis'!G1014=Texte!$A$26,F1014,0)","v":0},{"$f":"IF('Anhang Grundstücksverzeichnis'!G1014=Texte!$A$27,F1014,0)","v":0},{"$f":"IF('Anhang Grundstücksverzeichnis'!G1014=Texte!$A$28,F1014,0)","v":0}]
[1005,{"$f":"IF(C1015<>\"\",IF(ISNA(VLOOKUP(C1015,Katastralgemeinden!$A$2:$B$3041,2,FALSE)),\"Ungültige KG-Nummer!\",VLOOKUP(C1015,Katastralgemeinden!A$2:$B$3041,2,\"falsch\")),\"\")","v":""},null,null,null,null,null,null,null,null,"",0,{"$f":"IF('Anhang Grundstücksverzeichnis'!G1015=Texte!$A$25,F1015,0)","v":0},{"$f":"IF('Anhang Grundstücksverzeichnis'!G1015=Texte!$A$26,F1015,0)","v":0},{"$f":"IF('Anhang Grundstücksverzeichnis'!G1015=Texte!$A$27,F1015,0)","v":0},{"$f":"IF('Anhang Grundstücksverzeichnis'!G1015=Texte!$A$28,F1015,0)","v":0}]
[1006,{"$f":"IF(C1016<>\"\",IF(ISNA(VLOOKUP(C1016,Katastralgemeinden!$A$2:$B$3041,2,FALSE)),\"Ungültige KG-Nummer!\",VLOOKUP(C1016,Katastralgemeinden!A$2:$B$3041,2,\"falsch\")),\"\")","v":""},null,null,null,null,null,null,null,null,"",0,{"$f":"IF('Anhang Grundstücksverzeichnis'!G1016=Texte!$A$25,F1016,0)","v":0},{"$f":"IF('Anhang Grundstücksverzeichnis'!G1016=Texte!$A$26,F1016,0)","v":0},{"$f":"IF('Anhang Grundstücksverzeichnis'!G1016=Texte!$A$27,F1016,0)","v":0},{"$f":"IF('Anhang Grundstücksverzeichnis'!G1016=Texte!$A$28,F1016,0)","v":0}]
[1007,{"$f":"IF(C1017<>\"\",IF(ISNA(VLOOKUP(C1017,Katastralgemeinden!$A$2:$B$3041,2,FALSE)),\"Ungültige KG-Nummer!\",VLOOKUP(C1017,Katastralgemeinden!A$2:$B$3041,2,\"falsch\")),\"\")","v":""},null,null,null,null,null,null,null,null,"",0,{"$f":"IF('Anhang Grundstücksverzeichnis'!G1017=Texte!$A$25,F1017,0)","v":0},{"$f":"IF('Anhang Grundstücksverzeichnis'!G1017=Texte!$A$26,F1017,0)","v":0},{"$f":"IF('Anhang Grundstücksverzeichnis'!G1017=Texte!$A$27,F1017,0)","v":0},{"$f":"IF('Anhang Grundstücksverzeichnis'!G1017=Texte!$A$28,F1017,0)","v":0}]
[1008,{"$f":"IF(C1018<>\"\",IF(ISNA(VLOOKUP(C1018,Katastralgemeinden!$A$2:$B$3041,2,FALSE)),\"Ungültige KG-Nummer!\",VLOOKUP(C1018,Katastralgemeinden!A$2:$B$3041,2,\"falsch\")),\"\")","v":""},null,null,null,null,null,null,null,null,"",0,{"$f":"IF('Anhang Grundstücksverzeichnis'!G1018=Texte!$A$25,F1018,0)","v":0},{"$f":"IF('Anhang Grundstücksverzeichnis'!G1018=Texte!$A$26,F1018,0)","v":0},{"$f":"IF('Anhang Grundstücksverzeichnis'!G1018=Texte!$A$27,F1018,0)","v":0},{"$f":"IF('Anhang Grundstücksverzeichnis'!G1018=Texte!$A$28,F1018,0)","v":0}]
[1009,{"$f":"IF(C1019<>\"\",IF(ISNA(VLOOKUP(C1019,Katastralgemeinden!$A$2:$B$3041,2,FALSE)),\"Ungültige KG-Nummer!\",VLOOKUP(C1019,Katastralgemeinden!A$2:$B$3041,2,\"falsch\")),\"\")","v":""},null,null,null,null,null,null,null,null,"",0,{"$f":"IF('Anhang Grundstücksverzeichnis'!G1019=Texte!$A$25,F1019,0)","v":0},{"$f":"IF('Anhang Grundstücksverzeichnis'!G1019=Texte!$A$26,F1019,0)","v":0},{"$f":"IF('Anhang Grundstücksverzeichnis'!G1019=Texte!$A$27,F1019,0)","v":0},{"$f":"IF('Anhang Grundstücksverzeichnis'!G1019=Texte!$A$28,F1019,0)","v":0}]
[1010,{"$f":"IF(C1020<>\"\",IF(ISNA(VLOOKUP(C1020,Katastralgemeinden!$A$2:$B$3041,2,FALSE)),\"Ungültige KG-Nummer!\",VLOOKUP(C1020,Katastralgemeinden!A$2:$B$3041,2,\"falsch\")),\"\")","v":""},null,null,null,null,null,null,null,null,"",0,{"$f":"IF('Anhang Grundstücksverzeichnis'!G1020=Texte!$A$25,F1020,0)","v":0},{"$f":"IF('Anhang Grundstücksverzeichnis'!G1020=Texte!$A$26,F1020,0)","v":0},{"$f":"IF('Anhang Grundstücksverzeichnis'!G1020=Texte!$A$27,F1020,0)","v":0},{"$f":"IF('Anhang Grundstücksverzeichnis'!G1020=Texte!$A$28,F1020,0)","v":0}]
[1011,{"$f":"IF(C1021<>\"\",IF(ISNA(VLOOKUP(C1021,Katastralgemeinden!$A$2:$B$3041,2,FALSE)),\"Ungültige KG-Nummer!\",VLOOKUP(C1021,Katastralgemeinden!A$2:$B$3041,2,\"falsch\")),\"\")","v":""},null,null,null,null,null,null,null,null,"",0,{"$f":"IF('Anhang Grundstücksverzeichnis'!G1021=Texte!$A$25,F1021,0)","v":0},{"$f":"IF('Anhang Grundstücksverzeichnis'!G1021=Texte!$A$26,F1021,0)","v":0},{"$f":"IF('Anhang Grundstücksverzeichnis'!G1021=Texte!$A$27,F1021,0)","v":0},{"$f":"IF('Anhang Grundstücksverzeichnis'!G1021=Texte!$A$28,F1021,0)","v":0}]
[1012,{"$f":"IF(C1022<>\"\",IF(ISNA(VLOOKUP(C1022,Katastralgemeinden!$A$2:$B$3041,2,FALSE)),\"Ungültige KG-Nummer!\",VLOOKUP(C1022,Katastralgemeinden!A$2:$B$3041,2,\"falsch\")),\"\")","v":""},null,null,null,null,null,null,null,null,"",0,{"$f":"IF('Anhang Grundstücksverzeichnis'!G1022=Texte!$A$25,F1022,0)","v":0},{"$f":"IF('Anhang Grundstücksverzeichnis'!G1022=Texte!$A$26,F1022,0)","v":0},{"$f":"IF('Anhang Grundstücksverzeichnis'!G1022=Texte!$A$27,F1022,0)","v":0},{"$f":"IF('Anhang Grundstücksverzeichnis'!G1022=Texte!$A$28,F1022,0)","v":0}]
[1013,{"$f":"IF(C1023<>\"\",IF(ISNA(VLOOKUP(C1023,Katastralgemeinden!$A$2:$B$3041,2,FALSE)),\"Ungültige KG-Nummer!\",VLOOKUP(C1023,Katastralgemeinden!A$2:$B$3041,2,\"falsch\")),\"\")","v":""},null,null,null,null,null,null,null,null,"",0,{"$f":"IF('Anhang Grundstücksverzeichnis'!G1023=Texte!$A$25,F1023,0)","v":0},{"$f":"IF('Anhang Grundstücksverzeichnis'!G1023=Texte!$A$26,F1023,0)","v":0},{"$f":"IF('Anhang Grundstücksverzeichnis'!G1023=Texte!$A$27,F1023,0)","v":0},{"$f":"IF('Anhang Grundstücksverzeichnis'!G1023=Texte!$A$28,F1023,0)","v":0}]
[1014,{"$f":"IF(C1024<>\"\",IF(ISNA(VLOOKUP(C1024,Katastralgemeinden!$A$2:$B$3041,2,FALSE)),\"Ungültige KG-Nummer!\",VLOOKUP(C1024,Katastralgemeinden!A$2:$B$3041,2,\"falsch\")),\"\")","v":""},null,null,null,null,null,null,null,null,"",0,{"$f":"IF('Anhang Grundstücksverzeichnis'!G1024=Texte!$A$25,F1024,0)","v":0},{"$f":"IF('Anhang Grundstücksverzeichnis'!G1024=Texte!$A$26,F1024,0)","v":0},{"$f":"IF('Anhang Grundstücksverzeichnis'!G1024=Texte!$A$27,F1024,0)","v":0},{"$f":"IF('Anhang Grundstücksverzeichnis'!G1024=Texte!$A$28,F1024,0)","v":0}]
[1015,{"$f":"IF(C1025<>\"\",IF(ISNA(VLOOKUP(C1025,Katastralgemeinden!$A$2:$B$3041,2,FALSE)),\"Ungültige KG-Nummer!\",VLOOKUP(C1025,Katastralgemeinden!A$2:$B$3041,2,\"falsch\")),\"\")","v":""},null,null,null,null,null,null,null,null,"",0,{"$f":"IF('Anhang Grundstücksverzeichnis'!G1025=Texte!$A$25,F1025,0)","v":0},{"$f":"IF('Anhang Grundstücksverzeichnis'!G1025=Texte!$A$26,F1025,0)","v":0},{"$f":"IF('Anhang Grundstücksverzeichnis'!G1025=Texte!$A$27,F1025,0)","v":0},{"$f":"IF('Anhang Grundstücksverzeichnis'!G1025=Texte!$A$28,F1025,0)","v":0}]
[1016,{"$f":"IF(C1026<>\"\",IF(ISNA(VLOOKUP(C1026,Katastralgemeinden!$A$2:$B$3041,2,FALSE)),\"Ungültige KG-Nummer!\",VLOOKUP(C1026,Katastralgemeinden!A$2:$B$3041,2,\"falsch\")),\"\")","v":""},null,null,null,null,null,null,null,null,"",0,{"$f":"IF('Anhang Grundstücksverzeichnis'!G1026=Texte!$A$25,F1026,0)","v":0},{"$f":"IF('Anhang Grundstücksverzeichnis'!G1026=Texte!$A$26,F1026,0)","v":0},{"$f":"IF('Anhang Grundstücksverzeichnis'!G1026=Texte!$A$27,F1026,0)","v":0},{"$f":"IF('Anhang Grundstücksverzeichnis'!G1026=Texte!$A$28,F1026,0)","v":0}]
[1017,{"$f":"IF(C1027<>\"\",IF(ISNA(VLOOKUP(C1027,Katastralgemeinden!$A$2:$B$3041,2,FALSE)),\"Ungültige KG-Nummer!\",VLOOKUP(C1027,Katastralgemeinden!A$2:$B$3041,2,\"falsch\")),\"\")","v":""},null,null,null,null,null,null,null,null,"",0,{"$f":"IF('Anhang Grundstücksverzeichnis'!G1027=Texte!$A$25,F1027,0)","v":0},{"$f":"IF('Anhang Grundstücksverzeichnis'!G1027=Texte!$A$26,F1027,0)","v":0},{"$f":"IF('Anhang Grundstücksverzeichnis'!G1027=Texte!$A$27,F1027,0)","v":0},{"$f":"IF('Anhang Grundstücksverzeichnis'!G1027=Texte!$A$28,F1027,0)","v":0}]
[1018,{"$f":"IF(C1028<>\"\",IF(ISNA(VLOOKUP(C1028,Katastralgemeinden!$A$2:$B$3041,2,FALSE)),\"Ungültige KG-Nummer!\",VLOOKUP(C1028,Katastralgemeinden!A$2:$B$3041,2,\"falsch\")),\"\")","v":""},null,null,null,null,null,null,null,null,"",0,{"$f":"IF('Anhang Grundstücksverzeichnis'!G1028=Texte!$A$25,F1028,0)","v":0},{"$f":"IF('Anhang Grundstücksverzeichnis'!G1028=Texte!$A$26,F1028,0)","v":0},{"$f":"IF('Anhang Grundstücksverzeichnis'!G1028=Texte!$A$27,F1028,0)","v":0},{"$f":"IF('Anhang Grundstücksverzeichnis'!G1028=Texte!$A$28,F1028,0)","v":0}]
[1019,{"$f":"IF(C1029<>\"\",IF(ISNA(VLOOKUP(C1029,Katastralgemeinden!$A$2:$B$3041,2,FALSE)),\"Ungültige KG-Nummer!\",VLOOKUP(C1029,Katastralgemeinden!A$2:$B$3041,2,\"falsch\")),\"\")","v":""},null,null,null,null,null,null,null,null,"",0,{"$f":"IF('Anhang Grundstücksverzeichnis'!G1029=Texte!$A$25,F1029,0)","v":0},{"$f":"IF('Anhang Grundstücksverzeichnis'!G1029=Texte!$A$26,F1029,0)","v":0},{"$f":"IF('Anhang Grundstücksverzeichnis'!G1029=Texte!$A$27,F1029,0)","v":0},{"$f":"IF('Anhang Grundstücksverzeichnis'!G1029=Texte!$A$28,F1029,0)","v":0}]
[1020,{"$f":"IF(C1030<>\"\",IF(ISNA(VLOOKUP(C1030,Katastralgemeinden!$A$2:$B$3041,2,FALSE)),\"Ungültige KG-Nummer!\",VLOOKUP(C1030,Katastralgemeinden!A$2:$B$3041,2,\"falsch\")),\"\")","v":""},null,null,null,null,null,null,null,null,"",0,{"$f":"IF('Anhang Grundstücksverzeichnis'!G1030=Texte!$A$25,F1030,0)","v":0},{"$f":"IF('Anhang Grundstücksverzeichnis'!G1030=Texte!$A$26,F1030,0)","v":0},{"$f":"IF('Anhang Grundstücksverzeichnis'!G1030=Texte!$A$27,F1030,0)","v":0},{"$f":"IF('Anhang Grundstücksverzeichnis'!G1030=Texte!$A$28,F1030,0)","v":0}]
[1021,{"$f":"IF(C1031<>\"\",IF(ISNA(VLOOKUP(C1031,Katastralgemeinden!$A$2:$B$3041,2,FALSE)),\"Ungültige KG-Nummer!\",VLOOKUP(C1031,Katastralgemeinden!A$2:$B$3041,2,\"falsch\")),\"\")","v":""},null,null,null,null,null,null,null,null,"",0,{"$f":"IF('Anhang Grundstücksverzeichnis'!G1031=Texte!$A$25,F1031,0)","v":0},{"$f":"IF('Anhang Grundstücksverzeichnis'!G1031=Texte!$A$26,F1031,0)","v":0},{"$f":"IF('Anhang Grundstücksverzeichnis'!G1031=Texte!$A$27,F1031,0)","v":0},{"$f":"IF('Anhang Grundstücksverzeichnis'!G1031=Texte!$A$28,F1031,0)","v":0}]
[1022,{"$f":"IF(C1032<>\"\",IF(ISNA(VLOOKUP(C1032,Katastralgemeinden!$A$2:$B$3041,2,FALSE)),\"Ungültige KG-Nummer!\",VLOOKUP(C1032,Katastralgemeinden!A$2:$B$3041,2,\"falsch\")),\"\")","v":""},null,null,null,null,null,null,null,null,"",0,{"$f":"IF('Anhang Grundstücksverzeichnis'!G1032=Texte!$A$25,F1032,0)","v":0},{"$f":"IF('Anhang Grundstücksverzeichnis'!G1032=Texte!$A$26,F1032,0)","v":0},{"$f":"IF('Anhang Grundstücksverzeichnis'!G1032=Texte!$A$27,F1032,0)","v":0},{"$f":"IF('Anhang Grundstücksverzeichnis'!G1032=Texte!$A$28,F1032,0)","v":0}]
[1023,{"$f":"IF(C1033<>\"\",IF(ISNA(VLOOKUP(C1033,Katastralgemeinden!$A$2:$B$3041,2,FALSE)),\"Ungültige KG-Nummer!\",VLOOKUP(C1033,Katastralgemeinden!A$2:$B$3041,2,\"falsch\")),\"\")","v":""},null,null,null,null,null,null,null,null,"",0,{"$f":"IF('Anhang Grundstücksverzeichnis'!G1033=Texte!$A$25,F1033,0)","v":0},{"$f":"IF('Anhang Grundstücksverzeichnis'!G1033=Texte!$A$26,F1033,0)","v":0},{"$f":"IF('Anhang Grundstücksverzeichnis'!G1033=Texte!$A$27,F1033,0)","v":0},{"$f":"IF('Anhang Grundstücksverzeichnis'!G1033=Texte!$A$28,F1033,0)","v":0}]
[1024,{"$f":"IF(C1034<>\"\",IF(ISNA(VLOOKUP(C1034,Katastralgemeinden!$A$2:$B$3041,2,FALSE)),\"Ungültige KG-Nummer!\",VLOOKUP(C1034,Katastralgemeinden!A$2:$B$3041,2,\"falsch\")),\"\")","v":""},null,null,null,null,null,null,null,null,"",0,{"$f":"IF('Anhang Grundstücksverzeichnis'!G1034=Texte!$A$25,F1034,0)","v":0},{"$f":"IF('Anhang Grundstücksverzeichnis'!G1034=Texte!$A$26,F1034,0)","v":0},{"$f":"IF('Anhang Grundstücksverzeichnis'!G1034=Texte!$A$27,F1034,0)","v":0},{"$f":"IF('Anhang Grundstücksverzeichnis'!G1034=Texte!$A$28,F1034,0)","v":0}]
[1025,{"$f":"IF(C1035<>\"\",IF(ISNA(VLOOKUP(C1035,Katastralgemeinden!$A$2:$B$3041,2,FALSE)),\"Ungültige KG-Nummer!\",VLOOKUP(C1035,Katastralgemeinden!A$2:$B$3041,2,\"falsch\")),\"\")","v":""},null,null,null,null,null,null,null,null,"",0,{"$f":"IF('Anhang Grundstücksverzeichnis'!G1035=Texte!$A$25,F1035,0)","v":0},{"$f":"IF('Anhang Grundstücksverzeichnis'!G1035=Texte!$A$26,F1035,0)","v":0},{"$f":"IF('Anhang Grundstücksverzeichnis'!G1035=Texte!$A$27,F1035,0)","v":0},{"$f":"IF('Anhang Grundstücksverzeichnis'!G1035=Texte!$A$28,F1035,0)","v":0}]
[1026,{"$f":"IF(C1036<>\"\",IF(ISNA(VLOOKUP(C1036,Katastralgemeinden!$A$2:$B$3041,2,FALSE)),\"Ungültige KG-Nummer!\",VLOOKUP(C1036,Katastralgemeinden!A$2:$B$3041,2,\"falsch\")),\"\")","v":""},null,null,null,null,null,null,null,null,{"$f":"IF(G1036<>\"\",IF(G1036=\"Eigengrundfläche\",0,IF(G1036=\"Vorpachtfläche\",1,IF(G1036=\"Abrundung +\",3,IF(G1036=\"Abrundung -\",4,5)))),\"\")","v":""},{"$f":"IF(OR(LOWER(H1036)=\"x\",LOWER(H1036)=\"j\"),1,0)","v":0},{"$f":"IF('Anhang Grundstücksverzeichnis'!G1036=Texte!$A$25,F1036,0)","v":0},{"$f":"IF('Anhang Grundstücksverzeichnis'!G1036=Texte!$A$26,F1036,0)","v":0},{"$f":"IF('Anhang Grundstücksverzeichnis'!G1036=Texte!$A$27,F1036,0)","v":0},{"$f":"IF('Anhang Grundstücksverzeichnis'!G1036=Texte!$A$28,F1036,0)","v":0}]
[1027,{"$f":"IF(C1037<>\"\",IF(ISNA(VLOOKUP(C1037,Katastralgemeinden!$A$2:$B$3041,2,FALSE)),\"Ungültige KG-Nummer!\",VLOOKUP(C1037,Katastralgemeinden!A$2:$B$3041,2,\"falsch\")),\"\")","v":""},null,null,null,null,null,null,null,null,"",0,{"$f":"IF('Anhang Grundstücksverzeichnis'!G1037=Texte!$A$25,F1037,0)","v":0},{"$f":"IF('Anhang Grundstücksverzeichnis'!G1037=Texte!$A$26,F1037,0)","v":0},{"$f":"IF('Anhang Grundstücksverzeichnis'!G1037=Texte!$A$27,F1037,0)","v":0},{"$f":"IF('Anhang Grundstücksverzeichnis'!G1037=Texte!$A$28,F1037,0)","v":0}]
[1028,{"$f":"IF(C1038<>\"\",IF(ISNA(VLOOKUP(C1038,Katastralgemeinden!$A$2:$B$3041,2,FALSE)),\"Ungültige KG-Nummer!\",VLOOKUP(C1038,Katastralgemeinden!A$2:$B$3041,2,\"falsch\")),\"\")","v":""},null,null,null,null,null,null,null,null,"",0,{"$f":"IF('Anhang Grundstücksverzeichnis'!G1038=Texte!$A$25,F1038,0)","v":0},{"$f":"IF('Anhang Grundstücksverzeichnis'!G1038=Texte!$A$26,F1038,0)","v":0},{"$f":"IF('Anhang Grundstücksverzeichnis'!G1038=Texte!$A$27,F1038,0)","v":0},{"$f":"IF('Anhang Grundstücksverzeichnis'!G1038=Texte!$A$28,F1038,0)","v":0}]
[1029,{"$f":"IF(C1039<>\"\",IF(ISNA(VLOOKUP(C1039,Katastralgemeinden!$A$2:$B$3041,2,FALSE)),\"Ungültige KG-Nummer!\",VLOOKUP(C1039,Katastralgemeinden!A$2:$B$3041,2,\"falsch\")),\"\")","v":""},null,null,null,null,null,null,null,null,"",0,{"$f":"IF('Anhang Grundstücksverzeichnis'!G1039=Texte!$A$25,F1039,0)","v":0},{"$f":"IF('Anhang Grundstücksverzeichnis'!G1039=Texte!$A$26,F1039,0)","v":0},{"$f":"IF('Anhang Grundstücksverzeichnis'!G1039=Texte!$A$27,F1039,0)","v":0},{"$f":"IF('Anhang Grundstücksverzeichnis'!G1039=Texte!$A$28,F1039,0)","v":0}]
[1030,{"$f":"IF(C1040<>\"\",IF(ISNA(VLOOKUP(C1040,Katastralgemeinden!$A$2:$B$3041,2,FALSE)),\"Ungültige KG-Nummer!\",VLOOKUP(C1040,Katastralgemeinden!A$2:$B$3041,2,\"falsch\")),\"\")","v":""},null,null,null,null,null,null,null,null,"",0,{"$f":"IF('Anhang Grundstücksverzeichnis'!G1040=Texte!$A$25,F1040,0)","v":0},{"$f":"IF('Anhang Grundstücksverzeichnis'!G1040=Texte!$A$26,F1040,0)","v":0},{"$f":"IF('Anhang Grundstücksverzeichnis'!G1040=Texte!$A$27,F1040,0)","v":0},{"$f":"IF('Anhang Grundstücksverzeichnis'!G1040=Texte!$A$28,F1040,0)","v":0}]
[1031,{"$f":"IF(C1041<>\"\",IF(ISNA(VLOOKUP(C1041,Katastralgemeinden!$A$2:$B$3041,2,FALSE)),\"Ungültige KG-Nummer!\",VLOOKUP(C1041,Katastralgemeinden!A$2:$B$3041,2,\"falsch\")),\"\")","v":""},null,null,null,null,null,null,null,null,"",0,{"$f":"IF('Anhang Grundstücksverzeichnis'!G1041=Texte!$A$25,F1041,0)","v":0},{"$f":"IF('Anhang Grundstücksverzeichnis'!G1041=Texte!$A$26,F1041,0)","v":0},{"$f":"IF('Anhang Grundstücksverzeichnis'!G1041=Texte!$A$27,F1041,0)","v":0},{"$f":"IF('Anhang Grundstücksverzeichnis'!G1041=Texte!$A$28,F1041,0)","v":0}]
[1032,{"$f":"IF(C1042<>\"\",IF(ISNA(VLOOKUP(C1042,Katastralgemeinden!$A$2:$B$3041,2,FALSE)),\"Ungültige KG-Nummer!\",VLOOKUP(C1042,Katastralgemeinden!A$2:$B$3041,2,\"falsch\")),\"\")","v":""},null,null,null,null,null,null,null,null,"",0,{"$f":"IF('Anhang Grundstücksverzeichnis'!G1042=Texte!$A$25,F1042,0)","v":0},{"$f":"IF('Anhang Grundstücksverzeichnis'!G1042=Texte!$A$26,F1042,0)","v":0},{"$f":"IF('Anhang Grundstücksverzeichnis'!G1042=Texte!$A$27,F1042,0)","v":0},{"$f":"IF('Anhang Grundstücksverzeichnis'!G1042=Texte!$A$28,F1042,0)","v":0}]
[1033,{"$f":"IF(C1043<>\"\",IF(ISNA(VLOOKUP(C1043,Katastralgemeinden!$A$2:$B$3041,2,FALSE)),\"Ungültige KG-Nummer!\",VLOOKUP(C1043,Katastralgemeinden!A$2:$B$3041,2,\"falsch\")),\"\")","v":""},null,null,null,null,null,null,null,null,"",0,{"$f":"IF('Anhang Grundstücksverzeichnis'!G1043=Texte!$A$25,F1043,0)","v":0},{"$f":"IF('Anhang Grundstücksverzeichnis'!G1043=Texte!$A$26,F1043,0)","v":0},{"$f":"IF('Anhang Grundstücksverzeichnis'!G1043=Texte!$A$27,F1043,0)","v":0},{"$f":"IF('Anhang Grundstücksverzeichnis'!G1043=Texte!$A$28,F1043,0)","v":0}]
[1034,{"$f":"IF(C1044<>\"\",IF(ISNA(VLOOKUP(C1044,Katastralgemeinden!$A$2:$B$3041,2,FALSE)),\"Ungültige KG-Nummer!\",VLOOKUP(C1044,Katastralgemeinden!A$2:$B$3041,2,\"falsch\")),\"\")","v":""},null,null,null,null,null,null,null,null,"",0,{"$f":"IF('Anhang Grundstücksverzeichnis'!G1044=Texte!$A$25,F1044,0)","v":0},{"$f":"IF('Anhang Grundstücksverzeichnis'!G1044=Texte!$A$26,F1044,0)","v":0},{"$f":"IF('Anhang Grundstücksverzeichnis'!G1044=Texte!$A$27,F1044,0)","v":0},{"$f":"IF('Anhang Grundstücksverzeichnis'!G1044=Texte!$A$28,F1044,0)","v":0}]
[1035,{"$f":"IF(C1045<>\"\",IF(ISNA(VLOOKUP(C1045,Katastralgemeinden!$A$2:$B$3041,2,FALSE)),\"Ungültige KG-Nummer!\",VLOOKUP(C1045,Katastralgemeinden!A$2:$B$3041,2,\"falsch\")),\"\")","v":""},null,null,null,null,null,null,null,null,"",0,{"$f":"IF('Anhang Grundstücksverzeichnis'!G1045=Texte!$A$25,F1045,0)","v":0},{"$f":"IF('Anhang Grundstücksverzeichnis'!G1045=Texte!$A$26,F1045,0)","v":0},{"$f":"IF('Anhang Grundstücksverzeichnis'!G1045=Texte!$A$27,F1045,0)","v":0},{"$f":"IF('Anhang Grundstücksverzeichnis'!G1045=Texte!$A$28,F1045,0)","v":0}]
[1036,{"$f":"IF(C1046<>\"\",IF(ISNA(VLOOKUP(C1046,Katastralgemeinden!$A$2:$B$3041,2,FALSE)),\"Ungültige KG-Nummer!\",VLOOKUP(C1046,Katastralgemeinden!A$2:$B$3041,2,\"falsch\")),\"\")","v":""},null,null,null,null,null,null,null,null,"",0,{"$f":"IF('Anhang Grundstücksverzeichnis'!G1046=Texte!$A$25,F1046,0)","v":0},{"$f":"IF('Anhang Grundstücksverzeichnis'!G1046=Texte!$A$26,F1046,0)","v":0},{"$f":"IF('Anhang Grundstücksverzeichnis'!G1046=Texte!$A$27,F1046,0)","v":0},{"$f":"IF('Anhang Grundstücksverzeichnis'!G1046=Texte!$A$28,F1046,0)","v":0}]
[1037,{"$f":"IF(C1047<>\"\",IF(ISNA(VLOOKUP(C1047,Katastralgemeinden!$A$2:$B$3041,2,FALSE)),\"Ungültige KG-Nummer!\",VLOOKUP(C1047,Katastralgemeinden!A$2:$B$3041,2,\"falsch\")),\"\")","v":""},null,null,null,null,null,null,null,null,"",0,{"$f":"IF('Anhang Grundstücksverzeichnis'!G1047=Texte!$A$25,F1047,0)","v":0},{"$f":"IF('Anhang Grundstücksverzeichnis'!G1047=Texte!$A$26,F1047,0)","v":0},{"$f":"IF('Anhang Grundstücksverzeichnis'!G1047=Texte!$A$27,F1047,0)","v":0},{"$f":"IF('Anhang Grundstücksverzeichnis'!G1047=Texte!$A$28,F1047,0)","v":0}]
[1038,{"$f":"IF(C1048<>\"\",IF(ISNA(VLOOKUP(C1048,Katastralgemeinden!$A$2:$B$3041,2,FALSE)),\"Ungültige KG-Nummer!\",VLOOKUP(C1048,Katastralgemeinden!A$2:$B$3041,2,\"falsch\")),\"\")","v":""},null,null,null,null,null,null,null,null,"",0,{"$f":"IF('Anhang Grundstücksverzeichnis'!G1048=Texte!$A$25,F1048,0)","v":0},{"$f":"IF('Anhang Grundstücksverzeichnis'!G1048=Texte!$A$26,F1048,0)","v":0},{"$f":"IF('Anhang Grundstücksverzeichnis'!G1048=Texte!$A$27,F1048,0)","v":0},{"$f":"IF('Anhang Grundstücksverzeichnis'!G1048=Texte!$A$28,F1048,0)","v":0}]
[1039,{"$f":"IF(C1049<>\"\",IF(ISNA(VLOOKUP(C1049,Katastralgemeinden!$A$2:$B$3041,2,FALSE)),\"Ungültige KG-Nummer!\",VLOOKUP(C1049,Katastralgemeinden!A$2:$B$3041,2,\"falsch\")),\"\")","v":""},null,null,null,null,null,null,null,null,"",0,{"$f":"IF('Anhang Grundstücksverzeichnis'!G1049=Texte!$A$25,F1049,0)","v":0},{"$f":"IF('Anhang Grundstücksverzeichnis'!G1049=Texte!$A$26,F1049,0)","v":0},{"$f":"IF('Anhang Grundstücksverzeichnis'!G1049=Texte!$A$27,F1049,0)","v":0},{"$f":"IF('Anhang Grundstücksverzeichnis'!G1049=Texte!$A$28,F1049,0)","v":0}]
[1040,{"$f":"IF(C1050<>\"\",IF(ISNA(VLOOKUP(C1050,Katastralgemeinden!$A$2:$B$3041,2,FALSE)),\"Ungültige KG-Nummer!\",VLOOKUP(C1050,Katastralgemeinden!A$2:$B$3041,2,\"falsch\")),\"\")","v":""},null,null,null,null,null,null,null,null,"",0,{"$f":"IF('Anhang Grundstücksverzeichnis'!G1050=Texte!$A$25,F1050,0)","v":0},{"$f":"IF('Anhang Grundstücksverzeichnis'!G1050=Texte!$A$26,F1050,0)","v":0},{"$f":"IF('Anhang Grundstücksverzeichnis'!G1050=Texte!$A$27,F1050,0)","v":0},{"$f":"IF('Anhang Grundstücksverzeichnis'!G1050=Texte!$A$28,F1050,0)","v":0}]
[1041,{"$f":"IF(C1051<>\"\",IF(ISNA(VLOOKUP(C1051,Katastralgemeinden!$A$2:$B$3041,2,FALSE)),\"Ungültige KG-Nummer!\",VLOOKUP(C1051,Katastralgemeinden!A$2:$B$3041,2,\"falsch\")),\"\")","v":""},null,null,null,null,null,null,null,null,"",0,{"$f":"IF('Anhang Grundstücksverzeichnis'!G1051=Texte!$A$25,F1051,0)","v":0},{"$f":"IF('Anhang Grundstücksverzeichnis'!G1051=Texte!$A$26,F1051,0)","v":0},{"$f":"IF('Anhang Grundstücksverzeichnis'!G1051=Texte!$A$27,F1051,0)","v":0},{"$f":"IF('Anhang Grundstücksverzeichnis'!G1051=Texte!$A$28,F1051,0)","v":0}]
[1042,{"$f":"IF(C1052<>\"\",IF(ISNA(VLOOKUP(C1052,Katastralgemeinden!$A$2:$B$3041,2,FALSE)),\"Ungültige KG-Nummer!\",VLOOKUP(C1052,Katastralgemeinden!A$2:$B$3041,2,\"falsch\")),\"\")","v":""},null,null,null,null,null,null,null,null,"",0,{"$f":"IF('Anhang Grundstücksverzeichnis'!G1052=Texte!$A$25,F1052,0)","v":0},{"$f":"IF('Anhang Grundstücksverzeichnis'!G1052=Texte!$A$26,F1052,0)","v":0},{"$f":"IF('Anhang Grundstücksverzeichnis'!G1052=Texte!$A$27,F1052,0)","v":0},{"$f":"IF('Anhang Grundstücksverzeichnis'!G1052=Texte!$A$28,F1052,0)","v":0}]
[1043,{"$f":"IF(C1053<>\"\",IF(ISNA(VLOOKUP(C1053,Katastralgemeinden!$A$2:$B$3041,2,FALSE)),\"Ungültige KG-Nummer!\",VLOOKUP(C1053,Katastralgemeinden!A$2:$B$3041,2,\"falsch\")),\"\")","v":""},null,null,null,null,null,null,null,null,"",0,{"$f":"IF('Anhang Grundstücksverzeichnis'!G1053=Texte!$A$25,F1053,0)","v":0},{"$f":"IF('Anhang Grundstücksverzeichnis'!G1053=Texte!$A$26,F1053,0)","v":0},{"$f":"IF('Anhang Grundstücksverzeichnis'!G1053=Texte!$A$27,F1053,0)","v":0},{"$f":"IF('Anhang Grundstücksverzeichnis'!G1053=Texte!$A$28,F1053,0)","v":0}]
[1044,{"$f":"IF(C1054<>\"\",IF(ISNA(VLOOKUP(C1054,Katastralgemeinden!$A$2:$B$3041,2,FALSE)),\"Ungültige KG-Nummer!\",VLOOKUP(C1054,Katastralgemeinden!A$2:$B$3041,2,\"falsch\")),\"\")","v":""},null,null,null,null,null,null,null,null,"",0,{"$f":"IF('Anhang Grundstücksverzeichnis'!G1054=Texte!$A$25,F1054,0)","v":0},{"$f":"IF('Anhang Grundstücksverzeichnis'!G1054=Texte!$A$26,F1054,0)","v":0},{"$f":"IF('Anhang Grundstücksverzeichnis'!G1054=Texte!$A$27,F1054,0)","v":0},{"$f":"IF('Anhang Grundstücksverzeichnis'!G1054=Texte!$A$28,F1054,0)","v":0}]
[1045,{"$f":"IF(C1055<>\"\",IF(ISNA(VLOOKUP(C1055,Katastralgemeinden!$A$2:$B$3041,2,FALSE)),\"Ungültige KG-Nummer!\",VLOOKUP(C1055,Katastralgemeinden!A$2:$B$3041,2,\"falsch\")),\"\")","v":""},null,null,null,null,null,null,null,null,"",0,{"$f":"IF('Anhang Grundstücksverzeichnis'!G1055=Texte!$A$25,F1055,0)","v":0},{"$f":"IF('Anhang Grundstücksverzeichnis'!G1055=Texte!$A$26,F1055,0)","v":0},{"$f":"IF('Anhang Grundstücksverzeichnis'!G1055=Texte!$A$27,F1055,0)","v":0},{"$f":"IF('Anhang Grundstücksverzeichnis'!G1055=Texte!$A$28,F1055,0)","v":0}]
[1046,{"$f":"IF(C1056<>\"\",IF(ISNA(VLOOKUP(C1056,Katastralgemeinden!$A$2:$B$3041,2,FALSE)),\"Ungültige KG-Nummer!\",VLOOKUP(C1056,Katastralgemeinden!A$2:$B$3041,2,\"falsch\")),\"\")","v":""},null,null,null,null,null,null,null,null,"",0,{"$f":"IF('Anhang Grundstücksverzeichnis'!G1056=Texte!$A$25,F1056,0)","v":0},{"$f":"IF('Anhang Grundstücksverzeichnis'!G1056=Texte!$A$26,F1056,0)","v":0},{"$f":"IF('Anhang Grundstücksverzeichnis'!G1056=Texte!$A$27,F1056,0)","v":0},{"$f":"IF('Anhang Grundstücksverzeichnis'!G1056=Texte!$A$28,F1056,0)","v":0}]
[1047,{"$f":"IF(C1057<>\"\",IF(ISNA(VLOOKUP(C1057,Katastralgemeinden!$A$2:$B$3041,2,FALSE)),\"Ungültige KG-Nummer!\",VLOOKUP(C1057,Katastralgemeinden!A$2:$B$3041,2,\"falsch\")),\"\")","v":""},null,null,null,null,null,null,null,null,"",0,{"$f":"IF('Anhang Grundstücksverzeichnis'!G1057=Texte!$A$25,F1057,0)","v":0},{"$f":"IF('Anhang Grundstücksverzeichnis'!G1057=Texte!$A$26,F1057,0)","v":0},{"$f":"IF('Anhang Grundstücksverzeichnis'!G1057=Texte!$A$27,F1057,0)","v":0},{"$f":"IF('Anhang Grundstücksverzeichnis'!G1057=Texte!$A$28,F1057,0)","v":0}]
[1048,{"$f":"IF(C1058<>\"\",IF(ISNA(VLOOKUP(C1058,Katastralgemeinden!$A$2:$B$3041,2,FALSE)),\"Ungültige KG-Nummer!\",VLOOKUP(C1058,Katastralgemeinden!A$2:$B$3041,2,\"falsch\")),\"\")","v":""},null,null,null,null,null,null,null,null,"",0,{"$f":"IF('Anhang Grundstücksverzeichnis'!G1058=Texte!$A$25,F1058,0)","v":0},{"$f":"IF('Anhang Grundstücksverzeichnis'!G1058=Texte!$A$26,F1058,0)","v":0},{"$f":"IF('Anhang Grundstücksverzeichnis'!G1058=Texte!$A$27,F1058,0)","v":0},{"$f":"IF('Anhang Grundstücksverzeichnis'!G1058=Texte!$A$28,F1058,0)","v":0}]
[1049,{"$f":"IF(C1059<>\"\",IF(ISNA(VLOOKUP(C1059,Katastralgemeinden!$A$2:$B$3041,2,FALSE)),\"Ungültige KG-Nummer!\",VLOOKUP(C1059,Katastralgemeinden!A$2:$B$3041,2,\"falsch\")),\"\")","v":""},null,null,null,null,null,null,null,null,"",0,{"$f":"IF('Anhang Grundstücksverzeichnis'!G1059=Texte!$A$25,F1059,0)","v":0},{"$f":"IF('Anhang Grundstücksverzeichnis'!G1059=Texte!$A$26,F1059,0)","v":0},{"$f":"IF('Anhang Grundstücksverzeichnis'!G1059=Texte!$A$27,F1059,0)","v":0},{"$f":"IF('Anhang Grundstücksverzeichnis'!G1059=Texte!$A$28,F1059,0)","v":0}]
[1050,{"$f":"IF(C1060<>\"\",IF(ISNA(VLOOKUP(C1060,Katastralgemeinden!$A$2:$B$3041,2,FALSE)),\"Ungültige KG-Nummer!\",VLOOKUP(C1060,Katastralgemeinden!A$2:$B$3041,2,\"falsch\")),\"\")","v":""},null,null,null,null,null,null,null,null,"",0,{"$f":"IF('Anhang Grundstücksverzeichnis'!G1060=Texte!$A$25,F1060,0)","v":0},{"$f":"IF('Anhang Grundstücksverzeichnis'!G1060=Texte!$A$26,F1060,0)","v":0},{"$f":"IF('Anhang Grundstücksverzeichnis'!G1060=Texte!$A$27,F1060,0)","v":0},{"$f":"IF('Anhang Grundstücksverzeichnis'!G1060=Texte!$A$28,F1060,0)","v":0}]
[1051,{"$f":"IF(C1061<>\"\",IF(ISNA(VLOOKUP(C1061,Katastralgemeinden!$A$2:$B$3041,2,FALSE)),\"Ungültige KG-Nummer!\",VLOOKUP(C1061,Katastralgemeinden!A$2:$B$3041,2,\"falsch\")),\"\")","v":""},null,null,null,null,null,null,null,null,"",0,{"$f":"IF('Anhang Grundstücksverzeichnis'!G1061=Texte!$A$25,F1061,0)","v":0},{"$f":"IF('Anhang Grundstücksverzeichnis'!G1061=Texte!$A$26,F1061,0)","v":0},{"$f":"IF('Anhang Grundstücksverzeichnis'!G1061=Texte!$A$27,F1061,0)","v":0},{"$f":"IF('Anhang Grundstücksverzeichnis'!G1061=Texte!$A$28,F1061,0)","v":0}]
[1052,{"$f":"IF(C1062<>\"\",IF(ISNA(VLOOKUP(C1062,Katastralgemeinden!$A$2:$B$3041,2,FALSE)),\"Ungültige KG-Nummer!\",VLOOKUP(C1062,Katastralgemeinden!A$2:$B$3041,2,\"falsch\")),\"\")","v":""},null,null,null,null,null,null,null,null,"",0,{"$f":"IF('Anhang Grundstücksverzeichnis'!G1062=Texte!$A$25,F1062,0)","v":0},{"$f":"IF('Anhang Grundstücksverzeichnis'!G1062=Texte!$A$26,F1062,0)","v":0},{"$f":"IF('Anhang Grundstücksverzeichnis'!G1062=Texte!$A$27,F1062,0)","v":0},{"$f":"IF('Anhang Grundstücksverzeichnis'!G1062=Texte!$A$28,F1062,0)","v":0}]
[1053,{"$f":"IF(C1063<>\"\",IF(ISNA(VLOOKUP(C1063,Katastralgemeinden!$A$2:$B$3041,2,FALSE)),\"Ungültige KG-Nummer!\",VLOOKUP(C1063,Katastralgemeinden!A$2:$B$3041,2,\"falsch\")),\"\")","v":""},null,null,null,null,null,null,null,null,"",0,{"$f":"IF('Anhang Grundstücksverzeichnis'!G1063=Texte!$A$25,F1063,0)","v":0},{"$f":"IF('Anhang Grundstücksverzeichnis'!G1063=Texte!$A$26,F1063,0)","v":0},{"$f":"IF('Anhang Grundstücksverzeichnis'!G1063=Texte!$A$27,F1063,0)","v":0},{"$f":"IF('Anhang Grundstücksverzeichnis'!G1063=Texte!$A$28,F1063,0)","v":0}]
[1054,{"$f":"IF(C1064<>\"\",IF(ISNA(VLOOKUP(C1064,Katastralgemeinden!$A$2:$B$3041,2,FALSE)),\"Ungültige KG-Nummer!\",VLOOKUP(C1064,Katastralgemeinden!A$2:$B$3041,2,\"falsch\")),\"\")","v":""},null,null,null,null,null,null,null,null,"",0,{"$f":"IF('Anhang Grundstücksverzeichnis'!G1064=Texte!$A$25,F1064,0)","v":0},{"$f":"IF('Anhang Grundstücksverzeichnis'!G1064=Texte!$A$26,F1064,0)","v":0},{"$f":"IF('Anhang Grundstücksverzeichnis'!G1064=Texte!$A$27,F1064,0)","v":0},{"$f":"IF('Anhang Grundstücksverzeichnis'!G1064=Texte!$A$28,F1064,0)","v":0}]
[1055,{"$f":"IF(C1065<>\"\",IF(ISNA(VLOOKUP(C1065,Katastralgemeinden!$A$2:$B$3041,2,FALSE)),\"Ungültige KG-Nummer!\",VLOOKUP(C1065,Katastralgemeinden!A$2:$B$3041,2,\"falsch\")),\"\")","v":""},null,null,null,null,null,null,null,null,"",0,{"$f":"IF('Anhang Grundstücksverzeichnis'!G1065=Texte!$A$25,F1065,0)","v":0},{"$f":"IF('Anhang Grundstücksverzeichnis'!G1065=Texte!$A$26,F1065,0)","v":0},{"$f":"IF('Anhang Grundstücksverzeichnis'!G1065=Texte!$A$27,F1065,0)","v":0},{"$f":"IF('Anhang Grundstücksverzeichnis'!G1065=Texte!$A$28,F1065,0)","v":0}]
[1056,{"$f":"IF(C1066<>\"\",IF(ISNA(VLOOKUP(C1066,Katastralgemeinden!$A$2:$B$3041,2,FALSE)),\"Ungültige KG-Nummer!\",VLOOKUP(C1066,Katastralgemeinden!A$2:$B$3041,2,\"falsch\")),\"\")","v":""},null,null,null,null,null,null,null,null,"",0,{"$f":"IF('Anhang Grundstücksverzeichnis'!G1066=Texte!$A$25,F1066,0)","v":0},{"$f":"IF('Anhang Grundstücksverzeichnis'!G1066=Texte!$A$26,F1066,0)","v":0},{"$f":"IF('Anhang Grundstücksverzeichnis'!G1066=Texte!$A$27,F1066,0)","v":0},{"$f":"IF('Anhang Grundstücksverzeichnis'!G1066=Texte!$A$28,F1066,0)","v":0}]
[1057,{"$f":"IF(C1067<>\"\",IF(ISNA(VLOOKUP(C1067,Katastralgemeinden!$A$2:$B$3041,2,FALSE)),\"Ungültige KG-Nummer!\",VLOOKUP(C1067,Katastralgemeinden!A$2:$B$3041,2,\"falsch\")),\"\")","v":""},null,null,null,null,null,null,null,null,"",0,{"$f":"IF('Anhang Grundstücksverzeichnis'!G1067=Texte!$A$25,F1067,0)","v":0},{"$f":"IF('Anhang Grundstücksverzeichnis'!G1067=Texte!$A$26,F1067,0)","v":0},{"$f":"IF('Anhang Grundstücksverzeichnis'!G1067=Texte!$A$27,F1067,0)","v":0},{"$f":"IF('Anhang Grundstücksverzeichnis'!G1067=Texte!$A$28,F1067,0)","v":0}]
[1058,{"$f":"IF(C1068<>\"\",IF(ISNA(VLOOKUP(C1068,Katastralgemeinden!$A$2:$B$3041,2,FALSE)),\"Ungültige KG-Nummer!\",VLOOKUP(C1068,Katastralgemeinden!A$2:$B$3041,2,\"falsch\")),\"\")","v":""},null,null,null,null,null,null,null,null,"",0,{"$f":"IF('Anhang Grundstücksverzeichnis'!G1068=Texte!$A$25,F1068,0)","v":0},{"$f":"IF('Anhang Grundstücksverzeichnis'!G1068=Texte!$A$26,F1068,0)","v":0},{"$f":"IF('Anhang Grundstücksverzeichnis'!G1068=Texte!$A$27,F1068,0)","v":0},{"$f":"IF('Anhang Grundstücksverzeichnis'!G1068=Texte!$A$28,F1068,0)","v":0}]
[1059,{"$f":"IF(C1069<>\"\",IF(ISNA(VLOOKUP(C1069,Katastralgemeinden!$A$2:$B$3041,2,FALSE)),\"Ungültige KG-Nummer!\",VLOOKUP(C1069,Katastralgemeinden!A$2:$B$3041,2,\"falsch\")),\"\")","v":""},null,null,null,null,null,null,null,null,"",0,{"$f":"IF('Anhang Grundstücksverzeichnis'!G1069=Texte!$A$25,F1069,0)","v":0},{"$f":"IF('Anhang Grundstücksverzeichnis'!G1069=Texte!$A$26,F1069,0)","v":0},{"$f":"IF('Anhang Grundstücksverzeichnis'!G1069=Texte!$A$27,F1069,0)","v":0},{"$f":"IF('Anhang Grundstücksverzeichnis'!G1069=Texte!$A$28,F1069,0)","v":0}]
[1060,{"$f":"IF(C1070<>\"\",IF(ISNA(VLOOKUP(C1070,Katastralgemeinden!$A$2:$B$3041,2,FALSE)),\"Ungültige KG-Nummer!\",VLOOKUP(C1070,Katastralgemeinden!A$2:$B$3041,2,\"falsch\")),\"\")","v":""},null,null,null,null,null,null,null,null,"",0,{"$f":"IF('Anhang Grundstücksverzeichnis'!G1070=Texte!$A$25,F1070,0)","v":0},{"$f":"IF('Anhang Grundstücksverzeichnis'!G1070=Texte!$A$26,F1070,0)","v":0},{"$f":"IF('Anhang Grundstücksverzeichnis'!G1070=Texte!$A$27,F1070,0)","v":0},{"$f":"IF('Anhang Grundstücksverzeichnis'!G1070=Texte!$A$28,F1070,0)","v":0}]
[1061,{"$f":"IF(C1071<>\"\",IF(ISNA(VLOOKUP(C1071,Katastralgemeinden!$A$2:$B$3041,2,FALSE)),\"Ungültige KG-Nummer!\",VLOOKUP(C1071,Katastralgemeinden!A$2:$B$3041,2,\"falsch\")),\"\")","v":""},null,null,null,null,null,null,null,null,"",0,{"$f":"IF('Anhang Grundstücksverzeichnis'!G1071=Texte!$A$25,F1071,0)","v":0},{"$f":"IF('Anhang Grundstücksverzeichnis'!G1071=Texte!$A$26,F1071,0)","v":0},{"$f":"IF('Anhang Grundstücksverzeichnis'!G1071=Texte!$A$27,F1071,0)","v":0},{"$f":"IF('Anhang Grundstücksverzeichnis'!G1071=Texte!$A$28,F1071,0)","v":0}]
[1062,{"$f":"IF(C1072<>\"\",IF(ISNA(VLOOKUP(C1072,Katastralgemeinden!$A$2:$B$3041,2,FALSE)),\"Ungültige KG-Nummer!\",VLOOKUP(C1072,Katastralgemeinden!A$2:$B$3041,2,\"falsch\")),\"\")","v":""},null,null,null,null,null,null,null,null,"",0,{"$f":"IF('Anhang Grundstücksverzeichnis'!G1072=Texte!$A$25,F1072,0)","v":0},{"$f":"IF('Anhang Grundstücksverzeichnis'!G1072=Texte!$A$26,F1072,0)","v":0},{"$f":"IF('Anhang Grundstücksverzeichnis'!G1072=Texte!$A$27,F1072,0)","v":0},{"$f":"IF('Anhang Grundstücksverzeichnis'!G1072=Texte!$A$28,F1072,0)","v":0}]
[1063,{"$f":"IF(C1073<>\"\",IF(ISNA(VLOOKUP(C1073,Katastralgemeinden!$A$2:$B$3041,2,FALSE)),\"Ungültige KG-Nummer!\",VLOOKUP(C1073,Katastralgemeinden!A$2:$B$3041,2,\"falsch\")),\"\")","v":""},null,null,null,null,null,null,null,null,"",0,{"$f":"IF('Anhang Grundstücksverzeichnis'!G1073=Texte!$A$25,F1073,0)","v":0},{"$f":"IF('Anhang Grundstücksverzeichnis'!G1073=Texte!$A$26,F1073,0)","v":0},{"$f":"IF('Anhang Grundstücksverzeichnis'!G1073=Texte!$A$27,F1073,0)","v":0},{"$f":"IF('Anhang Grundstücksverzeichnis'!G1073=Texte!$A$28,F1073,0)","v":0}]
[1064,{"$f":"IF(C1074<>\"\",IF(ISNA(VLOOKUP(C1074,Katastralgemeinden!$A$2:$B$3041,2,FALSE)),\"Ungültige KG-Nummer!\",VLOOKUP(C1074,Katastralgemeinden!A$2:$B$3041,2,\"falsch\")),\"\")","v":""},null,null,null,null,null,null,null,null,"",0,{"$f":"IF('Anhang Grundstücksverzeichnis'!G1074=Texte!$A$25,F1074,0)","v":0},{"$f":"IF('Anhang Grundstücksverzeichnis'!G1074=Texte!$A$26,F1074,0)","v":0},{"$f":"IF('Anhang Grundstücksverzeichnis'!G1074=Texte!$A$27,F1074,0)","v":0},{"$f":"IF('Anhang Grundstücksverzeichnis'!G1074=Texte!$A$28,F1074,0)","v":0}]
[1065,{"$f":"IF(C1075<>\"\",IF(ISNA(VLOOKUP(C1075,Katastralgemeinden!$A$2:$B$3041,2,FALSE)),\"Ungültige KG-Nummer!\",VLOOKUP(C1075,Katastralgemeinden!A$2:$B$3041,2,\"falsch\")),\"\")","v":""},null,null,null,null,null,null,null,null,"",0,{"$f":"IF('Anhang Grundstücksverzeichnis'!G1075=Texte!$A$25,F1075,0)","v":0},{"$f":"IF('Anhang Grundstücksverzeichnis'!G1075=Texte!$A$26,F1075,0)","v":0},{"$f":"IF('Anhang Grundstücksverzeichnis'!G1075=Texte!$A$27,F1075,0)","v":0},{"$f":"IF('Anhang Grundstücksverzeichnis'!G1075=Texte!$A$28,F1075,0)","v":0}]
[1066,{"$f":"IF(C1076<>\"\",IF(ISNA(VLOOKUP(C1076,Katastralgemeinden!$A$2:$B$3041,2,FALSE)),\"Ungültige KG-Nummer!\",VLOOKUP(C1076,Katastralgemeinden!A$2:$B$3041,2,\"falsch\")),\"\")","v":""},null,null,null,null,null,null,null,null,"",0,{"$f":"IF('Anhang Grundstücksverzeichnis'!G1076=Texte!$A$25,F1076,0)","v":0},{"$f":"IF('Anhang Grundstücksverzeichnis'!G1076=Texte!$A$26,F1076,0)","v":0},{"$f":"IF('Anhang Grundstücksverzeichnis'!G1076=Texte!$A$27,F1076,0)","v":0},{"$f":"IF('Anhang Grundstücksverzeichnis'!G1076=Texte!$A$28,F1076,0)","v":0}]
[1067,{"$f":"IF(C1077<>\"\",IF(ISNA(VLOOKUP(C1077,Katastralgemeinden!$A$2:$B$3041,2,FALSE)),\"Ungültige KG-Nummer!\",VLOOKUP(C1077,Katastralgemeinden!A$2:$B$3041,2,\"falsch\")),\"\")","v":""},null,null,null,null,null,null,null,null,"",0,{"$f":"IF('Anhang Grundstücksverzeichnis'!G1077=Texte!$A$25,F1077,0)","v":0},{"$f":"IF('Anhang Grundstücksverzeichnis'!G1077=Texte!$A$26,F1077,0)","v":0},{"$f":"IF('Anhang Grundstücksverzeichnis'!G1077=Texte!$A$27,F1077,0)","v":0},{"$f":"IF('Anhang Grundstücksverzeichnis'!G1077=Texte!$A$28,F1077,0)","v":0}]
[1068,{"$f":"IF(C1078<>\"\",IF(ISNA(VLOOKUP(C1078,Katastralgemeinden!$A$2:$B$3041,2,FALSE)),\"Ungültige KG-Nummer!\",VLOOKUP(C1078,Katastralgemeinden!A$2:$B$3041,2,\"falsch\")),\"\")","v":""},null,null,null,null,null,null,null,null,"",0,{"$f":"IF('Anhang Grundstücksverzeichnis'!G1078=Texte!$A$25,F1078,0)","v":0},{"$f":"IF('Anhang Grundstücksverzeichnis'!G1078=Texte!$A$26,F1078,0)","v":0},{"$f":"IF('Anhang Grundstücksverzeichnis'!G1078=Texte!$A$27,F1078,0)","v":0},{"$f":"IF('Anhang Grundstücksverzeichnis'!G1078=Texte!$A$28,F1078,0)","v":0}]
[1069,{"$f":"IF(C1079<>\"\",IF(ISNA(VLOOKUP(C1079,Katastralgemeinden!$A$2:$B$3041,2,FALSE)),\"Ungültige KG-Nummer!\",VLOOKUP(C1079,Katastralgemeinden!A$2:$B$3041,2,\"falsch\")),\"\")","v":""},null,null,null,null,null,null,null,null,"",0,{"$f":"IF('Anhang Grundstücksverzeichnis'!G1079=Texte!$A$25,F1079,0)","v":0},{"$f":"IF('Anhang Grundstücksverzeichnis'!G1079=Texte!$A$26,F1079,0)","v":0},{"$f":"IF('Anhang Grundstücksverzeichnis'!G1079=Texte!$A$27,F1079,0)","v":0},{"$f":"IF('Anhang Grundstücksverzeichnis'!G1079=Texte!$A$28,F1079,0)","v":0}]
[1070,{"$f":"IF(C1080<>\"\",IF(ISNA(VLOOKUP(C1080,Katastralgemeinden!$A$2:$B$3041,2,FALSE)),\"Ungültige KG-Nummer!\",VLOOKUP(C1080,Katastralgemeinden!A$2:$B$3041,2,\"falsch\")),\"\")","v":""},null,null,null,null,null,null,null,null,"",0,{"$f":"IF('Anhang Grundstücksverzeichnis'!G1080=Texte!$A$25,F1080,0)","v":0},{"$f":"IF('Anhang Grundstücksverzeichnis'!G1080=Texte!$A$26,F1080,0)","v":0},{"$f":"IF('Anhang Grundstücksverzeichnis'!G1080=Texte!$A$27,F1080,0)","v":0},{"$f":"IF('Anhang Grundstücksverzeichnis'!G1080=Texte!$A$28,F1080,0)","v":0}]
[1071,{"$f":"IF(C1081<>\"\",IF(ISNA(VLOOKUP(C1081,Katastralgemeinden!$A$2:$B$3041,2,FALSE)),\"Ungültige KG-Nummer!\",VLOOKUP(C1081,Katastralgemeinden!A$2:$B$3041,2,\"falsch\")),\"\")","v":""},null,null,null,null,null,null,null,null,"",0,{"$f":"IF('Anhang Grundstücksverzeichnis'!G1081=Texte!$A$25,F1081,0)","v":0},{"$f":"IF('Anhang Grundstücksverzeichnis'!G1081=Texte!$A$26,F1081,0)","v":0},{"$f":"IF('Anhang Grundstücksverzeichnis'!G1081=Texte!$A$27,F1081,0)","v":0},{"$f":"IF('Anhang Grundstücksverzeichnis'!G1081=Texte!$A$28,F1081,0)","v":0}]
[1072,{"$f":"IF(C1082<>\"\",IF(ISNA(VLOOKUP(C1082,Katastralgemeinden!$A$2:$B$3041,2,FALSE)),\"Ungültige KG-Nummer!\",VLOOKUP(C1082,Katastralgemeinden!A$2:$B$3041,2,\"falsch\")),\"\")","v":""},null,null,null,null,null,null,null,null,"",0,{"$f":"IF('Anhang Grundstücksverzeichnis'!G1082=Texte!$A$25,F1082,0)","v":0},{"$f":"IF('Anhang Grundstücksverzeichnis'!G1082=Texte!$A$26,F1082,0)","v":0},{"$f":"IF('Anhang Grundstücksverzeichnis'!G1082=Texte!$A$27,F1082,0)","v":0},{"$f":"IF('Anhang Grundstücksverzeichnis'!G1082=Texte!$A$28,F1082,0)","v":0}]
[1073,{"$f":"IF(C1083<>\"\",IF(ISNA(VLOOKUP(C1083,Katastralgemeinden!$A$2:$B$3041,2,FALSE)),\"Ungültige KG-Nummer!\",VLOOKUP(C1083,Katastralgemeinden!A$2:$B$3041,2,\"falsch\")),\"\")","v":""},null,null,null,null,null,null,null,null,"",0,{"$f":"IF('Anhang Grundstücksverzeichnis'!G1083=Texte!$A$25,F1083,0)","v":0},{"$f":"IF('Anhang Grundstücksverzeichnis'!G1083=Texte!$A$26,F1083,0)","v":0},{"$f":"IF('Anhang Grundstücksverzeichnis'!G1083=Texte!$A$27,F1083,0)","v":0},{"$f":"IF('Anhang Grundstücksverzeichnis'!G1083=Texte!$A$28,F1083,0)","v":0}]
[1074,{"$f":"IF(C1084<>\"\",IF(ISNA(VLOOKUP(C1084,Katastralgemeinden!$A$2:$B$3041,2,FALSE)),\"Ungültige KG-Nummer!\",VLOOKUP(C1084,Katastralgemeinden!A$2:$B$3041,2,\"falsch\")),\"\")","v":""},null,null,null,null,null,null,null,null,"",0,{"$f":"IF('Anhang Grundstücksverzeichnis'!G1084=Texte!$A$25,F1084,0)","v":0},{"$f":"IF('Anhang Grundstücksverzeichnis'!G1084=Texte!$A$26,F1084,0)","v":0},{"$f":"IF('Anhang Grundstücksverzeichnis'!G1084=Texte!$A$27,F1084,0)","v":0},{"$f":"IF('Anhang Grundstücksverzeichnis'!G1084=Texte!$A$28,F1084,0)","v":0}]
[1075,{"$f":"IF(C1085<>\"\",IF(ISNA(VLOOKUP(C1085,Katastralgemeinden!$A$2:$B$3041,2,FALSE)),\"Ungültige KG-Nummer!\",VLOOKUP(C1085,Katastralgemeinden!A$2:$B$3041,2,\"falsch\")),\"\")","v":""},null,null,null,null,null,null,null,null,"",0,{"$f":"IF('Anhang Grundstücksverzeichnis'!G1085=Texte!$A$25,F1085,0)","v":0},{"$f":"IF('Anhang Grundstücksverzeichnis'!G1085=Texte!$A$26,F1085,0)","v":0},{"$f":"IF('Anhang Grundstücksverzeichnis'!G1085=Texte!$A$27,F1085,0)","v":0},{"$f":"IF('Anhang Grundstücksverzeichnis'!G1085=Texte!$A$28,F1085,0)","v":0}]
[1076,{"$f":"IF(C1086<>\"\",IF(ISNA(VLOOKUP(C1086,Katastralgemeinden!$A$2:$B$3041,2,FALSE)),\"Ungültige KG-Nummer!\",VLOOKUP(C1086,Katastralgemeinden!A$2:$B$3041,2,\"falsch\")),\"\")","v":""},null,null,null,null,null,null,null,null,"",0,{"$f":"IF('Anhang Grundstücksverzeichnis'!G1086=Texte!$A$25,F1086,0)","v":0},{"$f":"IF('Anhang Grundstücksverzeichnis'!G1086=Texte!$A$26,F1086,0)","v":0},{"$f":"IF('Anhang Grundstücksverzeichnis'!G1086=Texte!$A$27,F1086,0)","v":0},{"$f":"IF('Anhang Grundstücksverzeichnis'!G1086=Texte!$A$28,F1086,0)","v":0}]
[1077,{"$f":"IF(C1087<>\"\",IF(ISNA(VLOOKUP(C1087,Katastralgemeinden!$A$2:$B$3041,2,FALSE)),\"Ungültige KG-Nummer!\",VLOOKUP(C1087,Katastralgemeinden!A$2:$B$3041,2,\"falsch\")),\"\")","v":""},null,null,null,null,null,null,null,null,"",0,{"$f":"IF('Anhang Grundstücksverzeichnis'!G1087=Texte!$A$25,F1087,0)","v":0},{"$f":"IF('Anhang Grundstücksverzeichnis'!G1087=Texte!$A$26,F1087,0)","v":0},{"$f":"IF('Anhang Grundstücksverzeichnis'!G1087=Texte!$A$27,F1087,0)","v":0},{"$f":"IF('Anhang Grundstücksverzeichnis'!G1087=Texte!$A$28,F1087,0)","v":0}]
[1078,{"$f":"IF(C1088<>\"\",IF(ISNA(VLOOKUP(C1088,Katastralgemeinden!$A$2:$B$3041,2,FALSE)),\"Ungültige KG-Nummer!\",VLOOKUP(C1088,Katastralgemeinden!A$2:$B$3041,2,\"falsch\")),\"\")","v":""},null,null,null,null,null,null,null,null,"",0,{"$f":"IF('Anhang Grundstücksverzeichnis'!G1088=Texte!$A$25,F1088,0)","v":0},{"$f":"IF('Anhang Grundstücksverzeichnis'!G1088=Texte!$A$26,F1088,0)","v":0},{"$f":"IF('Anhang Grundstücksverzeichnis'!G1088=Texte!$A$27,F1088,0)","v":0},{"$f":"IF('Anhang Grundstücksverzeichnis'!G1088=Texte!$A$28,F1088,0)","v":0}]
[1079,{"$f":"IF(C1089<>\"\",IF(ISNA(VLOOKUP(C1089,Katastralgemeinden!$A$2:$B$3041,2,FALSE)),\"Ungültige KG-Nummer!\",VLOOKUP(C1089,Katastralgemeinden!A$2:$B$3041,2,\"falsch\")),\"\")","v":""},null,null,null,null,null,null,null,null,"",0,{"$f":"IF('Anhang Grundstücksverzeichnis'!G1089=Texte!$A$25,F1089,0)","v":0},{"$f":"IF('Anhang Grundstücksverzeichnis'!G1089=Texte!$A$26,F1089,0)","v":0},{"$f":"IF('Anhang Grundstücksverzeichnis'!G1089=Texte!$A$27,F1089,0)","v":0},{"$f":"IF('Anhang Grundstücksverzeichnis'!G1089=Texte!$A$28,F1089,0)","v":0}]
[1080,{"$f":"IF(C1090<>\"\",IF(ISNA(VLOOKUP(C1090,Katastralgemeinden!$A$2:$B$3041,2,FALSE)),\"Ungültige KG-Nummer!\",VLOOKUP(C1090,Katastralgemeinden!A$2:$B$3041,2,\"falsch\")),\"\")","v":""},null,null,null,null,null,null,null,null,"",0,{"$f":"IF('Anhang Grundstücksverzeichnis'!G1090=Texte!$A$25,F1090,0)","v":0},{"$f":"IF('Anhang Grundstücksverzeichnis'!G1090=Texte!$A$26,F1090,0)","v":0},{"$f":"IF('Anhang Grundstücksverzeichnis'!G1090=Texte!$A$27,F1090,0)","v":0},{"$f":"IF('Anhang Grundstücksverzeichnis'!G1090=Texte!$A$28,F1090,0)","v":0}]
[1081,{"$f":"IF(C1091<>\"\",IF(ISNA(VLOOKUP(C1091,Katastralgemeinden!$A$2:$B$3041,2,FALSE)),\"Ungültige KG-Nummer!\",VLOOKUP(C1091,Katastralgemeinden!A$2:$B$3041,2,\"falsch\")),\"\")","v":""},null,null,null,null,null,null,null,null,"",0,{"$f":"IF('Anhang Grundstücksverzeichnis'!G1091=Texte!$A$25,F1091,0)","v":0},{"$f":"IF('Anhang Grundstücksverzeichnis'!G1091=Texte!$A$26,F1091,0)","v":0},{"$f":"IF('Anhang Grundstücksverzeichnis'!G1091=Texte!$A$27,F1091,0)","v":0},{"$f":"IF('Anhang Grundstücksverzeichnis'!G1091=Texte!$A$28,F1091,0)","v":0}]
[1082,{"$f":"IF(C1092<>\"\",IF(ISNA(VLOOKUP(C1092,Katastralgemeinden!$A$2:$B$3041,2,FALSE)),\"Ungültige KG-Nummer!\",VLOOKUP(C1092,Katastralgemeinden!A$2:$B$3041,2,\"falsch\")),\"\")","v":""},null,null,null,null,null,null,null,null,"",0,{"$f":"IF('Anhang Grundstücksverzeichnis'!G1092=Texte!$A$25,F1092,0)","v":0},{"$f":"IF('Anhang Grundstücksverzeichnis'!G1092=Texte!$A$26,F1092,0)","v":0},{"$f":"IF('Anhang Grundstücksverzeichnis'!G1092=Texte!$A$27,F1092,0)","v":0},{"$f":"IF('Anhang Grundstücksverzeichnis'!G1092=Texte!$A$28,F1092,0)","v":0}]
[1083,{"$f":"IF(C1093<>\"\",IF(ISNA(VLOOKUP(C1093,Katastralgemeinden!$A$2:$B$3041,2,FALSE)),\"Ungültige KG-Nummer!\",VLOOKUP(C1093,Katastralgemeinden!A$2:$B$3041,2,\"falsch\")),\"\")","v":""},null,null,null,null,null,null,null,null,"",0,{"$f":"IF('Anhang Grundstücksverzeichnis'!G1093=Texte!$A$25,F1093,0)","v":0},{"$f":"IF('Anhang Grundstücksverzeichnis'!G1093=Texte!$A$26,F1093,0)","v":0},{"$f":"IF('Anhang Grundstücksverzeichnis'!G1093=Texte!$A$27,F1093,0)","v":0},{"$f":"IF('Anhang Grundstücksverzeichnis'!G1093=Texte!$A$28,F1093,0)","v":0}]
[1084,{"$f":"IF(C1094<>\"\",IF(ISNA(VLOOKUP(C1094,Katastralgemeinden!$A$2:$B$3041,2,FALSE)),\"Ungültige KG-Nummer!\",VLOOKUP(C1094,Katastralgemeinden!A$2:$B$3041,2,\"falsch\")),\"\")","v":""},null,null,null,null,null,null,null,null,"",0,{"$f":"IF('Anhang Grundstücksverzeichnis'!G1094=Texte!$A$25,F1094,0)","v":0},{"$f":"IF('Anhang Grundstücksverzeichnis'!G1094=Texte!$A$26,F1094,0)","v":0},{"$f":"IF('Anhang Grundstücksverzeichnis'!G1094=Texte!$A$27,F1094,0)","v":0},{"$f":"IF('Anhang Grundstücksverzeichnis'!G1094=Texte!$A$28,F1094,0)","v":0}]
[1085,{"$f":"IF(C1095<>\"\",IF(ISNA(VLOOKUP(C1095,Katastralgemeinden!$A$2:$B$3041,2,FALSE)),\"Ungültige KG-Nummer!\",VLOOKUP(C1095,Katastralgemeinden!A$2:$B$3041,2,\"falsch\")),\"\")","v":""},null,null,null,null,null,null,null,null,"",0,{"$f":"IF('Anhang Grundstücksverzeichnis'!G1095=Texte!$A$25,F1095,0)","v":0},{"$f":"IF('Anhang Grundstücksverzeichnis'!G1095=Texte!$A$26,F1095,0)","v":0},{"$f":"IF('Anhang Grundstücksverzeichnis'!G1095=Texte!$A$27,F1095,0)","v":0},{"$f":"IF('Anhang Grundstücksverzeichnis'!G1095=Texte!$A$28,F1095,0)","v":0}]
[1086,{"$f":"IF(C1096<>\"\",IF(ISNA(VLOOKUP(C1096,Katastralgemeinden!$A$2:$B$3041,2,FALSE)),\"Ungültige KG-Nummer!\",VLOOKUP(C1096,Katastralgemeinden!A$2:$B$3041,2,\"falsch\")),\"\")","v":""},null,null,null,null,null,null,null,null,"",0,{"$f":"IF('Anhang Grundstücksverzeichnis'!G1096=Texte!$A$25,F1096,0)","v":0},{"$f":"IF('Anhang Grundstücksverzeichnis'!G1096=Texte!$A$26,F1096,0)","v":0},{"$f":"IF('Anhang Grundstücksverzeichnis'!G1096=Texte!$A$27,F1096,0)","v":0},{"$f":"IF('Anhang Grundstücksverzeichnis'!G1096=Texte!$A$28,F1096,0)","v":0}]
[1087,{"$f":"IF(C1097<>\"\",IF(ISNA(VLOOKUP(C1097,Katastralgemeinden!$A$2:$B$3041,2,FALSE)),\"Ungültige KG-Nummer!\",VLOOKUP(C1097,Katastralgemeinden!A$2:$B$3041,2,\"falsch\")),\"\")","v":""},null,null,null,null,null,null,null,null,"",0,{"$f":"IF('Anhang Grundstücksverzeichnis'!G1097=Texte!$A$25,F1097,0)","v":0},{"$f":"IF('Anhang Grundstücksverzeichnis'!G1097=Texte!$A$26,F1097,0)","v":0},{"$f":"IF('Anhang Grundstücksverzeichnis'!G1097=Texte!$A$27,F1097,0)","v":0},{"$f":"IF('Anhang Grundstücksverzeichnis'!G1097=Texte!$A$28,F1097,0)","v":0}]
[1088,{"$f":"IF(C1098<>\"\",IF(ISNA(VLOOKUP(C1098,Katastralgemeinden!$A$2:$B$3041,2,FALSE)),\"Ungültige KG-Nummer!\",VLOOKUP(C1098,Katastralgemeinden!A$2:$B$3041,2,\"falsch\")),\"\")","v":""},null,null,null,null,null,null,null,null,"",0,{"$f":"IF('Anhang Grundstücksverzeichnis'!G1098=Texte!$A$25,F1098,0)","v":0},{"$f":"IF('Anhang Grundstücksverzeichnis'!G1098=Texte!$A$26,F1098,0)","v":0},{"$f":"IF('Anhang Grundstücksverzeichnis'!G1098=Texte!$A$27,F1098,0)","v":0},{"$f":"IF('Anhang Grundstücksverzeichnis'!G1098=Texte!$A$28,F1098,0)","v":0}]
[1089,{"$f":"IF(C1099<>\"\",IF(ISNA(VLOOKUP(C1099,Katastralgemeinden!$A$2:$B$3041,2,FALSE)),\"Ungültige KG-Nummer!\",VLOOKUP(C1099,Katastralgemeinden!A$2:$B$3041,2,\"falsch\")),\"\")","v":""},null,null,null,null,null,null,null,null,"",0,{"$f":"IF('Anhang Grundstücksverzeichnis'!G1099=Texte!$A$25,F1099,0)","v":0},{"$f":"IF('Anhang Grundstücksverzeichnis'!G1099=Texte!$A$26,F1099,0)","v":0},{"$f":"IF('Anhang Grundstücksverzeichnis'!G1099=Texte!$A$27,F1099,0)","v":0},{"$f":"IF('Anhang Grundstücksverzeichnis'!G1099=Texte!$A$28,F1099,0)","v":0}]
[1090,{"$f":"IF(C1100<>\"\",IF(ISNA(VLOOKUP(C1100,Katastralgemeinden!$A$2:$B$3041,2,FALSE)),\"Ungültige KG-Nummer!\",VLOOKUP(C1100,Katastralgemeinden!A$2:$B$3041,2,\"falsch\")),\"\")","v":""},null,null,null,null,null,null,null,null,{"$f":"IF(G1100<>\"\",IF(G1100=\"Eigengrundfläche\",0,IF(G1100=\"Vorpachtfläche\",1,IF(G1100=\"Abrundung +\",3,IF(G1100=\"Abrundung -\",4,5)))),\"\")","v":""},{"$f":"IF(OR(LOWER(H1100)=\"x\",LOWER(H1100)=\"j\"),1,0)","v":0},{"$f":"IF('Anhang Grundstücksverzeichnis'!G1100=Texte!$A$25,F1100,0)","v":0},{"$f":"IF('Anhang Grundstücksverzeichnis'!G1100=Texte!$A$26,F1100,0)","v":0},{"$f":"IF('Anhang Grundstücksverzeichnis'!G1100=Texte!$A$27,F1100,0)","v":0},{"$f":"IF('Anhang Grundstücksverzeichnis'!G1100=Texte!$A$28,F1100,0)","v":0}]
[1091,{"$f":"IF(C1101<>\"\",IF(ISNA(VLOOKUP(C1101,Katastralgemeinden!$A$2:$B$3041,2,FALSE)),\"Ungültige KG-Nummer!\",VLOOKUP(C1101,Katastralgemeinden!A$2:$B$3041,2,\"falsch\")),\"\")","v":""},null,null,null,null,null,null,null,null,"",0,{"$f":"IF('Anhang Grundstücksverzeichnis'!G1101=Texte!$A$25,F1101,0)","v":0},{"$f":"IF('Anhang Grundstücksverzeichnis'!G1101=Texte!$A$26,F1101,0)","v":0},{"$f":"IF('Anhang Grundstücksverzeichnis'!G1101=Texte!$A$27,F1101,0)","v":0},{"$f":"IF('Anhang Grundstücksverzeichnis'!G1101=Texte!$A$28,F1101,0)","v":0}]
[1092,{"$f":"IF(C1102<>\"\",IF(ISNA(VLOOKUP(C1102,Katastralgemeinden!$A$2:$B$3041,2,FALSE)),\"Ungültige KG-Nummer!\",VLOOKUP(C1102,Katastralgemeinden!A$2:$B$3041,2,\"falsch\")),\"\")","v":""},null,null,null,null,null,null,null,null,"",0,{"$f":"IF('Anhang Grundstücksverzeichnis'!G1102=Texte!$A$25,F1102,0)","v":0},{"$f":"IF('Anhang Grundstücksverzeichnis'!G1102=Texte!$A$26,F1102,0)","v":0},{"$f":"IF('Anhang Grundstücksverzeichnis'!G1102=Texte!$A$27,F1102,0)","v":0},{"$f":"IF('Anhang Grundstücksverzeichnis'!G1102=Texte!$A$28,F1102,0)","v":0}]
[1093,{"$f":"IF(C1103<>\"\",IF(ISNA(VLOOKUP(C1103,Katastralgemeinden!$A$2:$B$3041,2,FALSE)),\"Ungültige KG-Nummer!\",VLOOKUP(C1103,Katastralgemeinden!A$2:$B$3041,2,\"falsch\")),\"\")","v":""},null,null,null,null,null,null,null,null,"",0,{"$f":"IF('Anhang Grundstücksverzeichnis'!G1103=Texte!$A$25,F1103,0)","v":0},{"$f":"IF('Anhang Grundstücksverzeichnis'!G1103=Texte!$A$26,F1103,0)","v":0},{"$f":"IF('Anhang Grundstücksverzeichnis'!G1103=Texte!$A$27,F1103,0)","v":0},{"$f":"IF('Anhang Grundstücksverzeichnis'!G1103=Texte!$A$28,F1103,0)","v":0}]
[1094,{"$f":"IF(C1104<>\"\",IF(ISNA(VLOOKUP(C1104,Katastralgemeinden!$A$2:$B$3041,2,FALSE)),\"Ungültige KG-Nummer!\",VLOOKUP(C1104,Katastralgemeinden!A$2:$B$3041,2,\"falsch\")),\"\")","v":""},null,null,null,null,null,null,null,null,"",0,{"$f":"IF('Anhang Grundstücksverzeichnis'!G1104=Texte!$A$25,F1104,0)","v":0},{"$f":"IF('Anhang Grundstücksverzeichnis'!G1104=Texte!$A$26,F1104,0)","v":0},{"$f":"IF('Anhang Grundstücksverzeichnis'!G1104=Texte!$A$27,F1104,0)","v":0},{"$f":"IF('Anhang Grundstücksverzeichnis'!G1104=Texte!$A$28,F1104,0)","v":0}]
[1095,{"$f":"IF(C1105<>\"\",IF(ISNA(VLOOKUP(C1105,Katastralgemeinden!$A$2:$B$3041,2,FALSE)),\"Ungültige KG-Nummer!\",VLOOKUP(C1105,Katastralgemeinden!A$2:$B$3041,2,\"falsch\")),\"\")","v":""},null,null,null,null,null,null,null,null,"",0,{"$f":"IF('Anhang Grundstücksverzeichnis'!G1105=Texte!$A$25,F1105,0)","v":0},{"$f":"IF('Anhang Grundstücksverzeichnis'!G1105=Texte!$A$26,F1105,0)","v":0},{"$f":"IF('Anhang Grundstücksverzeichnis'!G1105=Texte!$A$27,F1105,0)","v":0},{"$f":"IF('Anhang Grundstücksverzeichnis'!G1105=Texte!$A$28,F1105,0)","v":0}]
[1096,{"$f":"IF(C1106<>\"\",IF(ISNA(VLOOKUP(C1106,Katastralgemeinden!$A$2:$B$3041,2,FALSE)),\"Ungültige KG-Nummer!\",VLOOKUP(C1106,Katastralgemeinden!A$2:$B$3041,2,\"falsch\")),\"\")","v":""},null,null,null,null,null,null,null,null,"",0,{"$f":"IF('Anhang Grundstücksverzeichnis'!G1106=Texte!$A$25,F1106,0)","v":0},{"$f":"IF('Anhang Grundstücksverzeichnis'!G1106=Texte!$A$26,F1106,0)","v":0},{"$f":"IF('Anhang Grundstücksverzeichnis'!G1106=Texte!$A$27,F1106,0)","v":0},{"$f":"IF('Anhang Grundstücksverzeichnis'!G1106=Texte!$A$28,F1106,0)","v":0}]
[1097,{"$f":"IF(C1107<>\"\",IF(ISNA(VLOOKUP(C1107,Katastralgemeinden!$A$2:$B$3041,2,FALSE)),\"Ungültige KG-Nummer!\",VLOOKUP(C1107,Katastralgemeinden!A$2:$B$3041,2,\"falsch\")),\"\")","v":""},null,null,null,null,null,null,null,null,"",0,{"$f":"IF('Anhang Grundstücksverzeichnis'!G1107=Texte!$A$25,F1107,0)","v":0},{"$f":"IF('Anhang Grundstücksverzeichnis'!G1107=Texte!$A$26,F1107,0)","v":0},{"$f":"IF('Anhang Grundstücksverzeichnis'!G1107=Texte!$A$27,F1107,0)","v":0},{"$f":"IF('Anhang Grundstücksverzeichnis'!G1107=Texte!$A$28,F1107,0)","v":0}]
[1098,{"$f":"IF(C1108<>\"\",IF(ISNA(VLOOKUP(C1108,Katastralgemeinden!$A$2:$B$3041,2,FALSE)),\"Ungültige KG-Nummer!\",VLOOKUP(C1108,Katastralgemeinden!A$2:$B$3041,2,\"falsch\")),\"\")","v":""},null,null,null,null,null,null,null,null,"",0,{"$f":"IF('Anhang Grundstücksverzeichnis'!G1108=Texte!$A$25,F1108,0)","v":0},{"$f":"IF('Anhang Grundstücksverzeichnis'!G1108=Texte!$A$26,F1108,0)","v":0},{"$f":"IF('Anhang Grundstücksverzeichnis'!G1108=Texte!$A$27,F1108,0)","v":0},{"$f":"IF('Anhang Grundstücksverzeichnis'!G1108=Texte!$A$28,F1108,0)","v":0}]
[1099,{"$f":"IF(C1109<>\"\",IF(ISNA(VLOOKUP(C1109,Katastralgemeinden!$A$2:$B$3041,2,FALSE)),\"Ungültige KG-Nummer!\",VLOOKUP(C1109,Katastralgemeinden!A$2:$B$3041,2,\"falsch\")),\"\")","v":""},null,null,null,null,null,null,null,null,"",0,{"$f":"IF('Anhang Grundstücksverzeichnis'!G1109=Texte!$A$25,F1109,0)","v":0},{"$f":"IF('Anhang Grundstücksverzeichnis'!G1109=Texte!$A$26,F1109,0)","v":0},{"$f":"IF('Anhang Grundstücksverzeichnis'!G1109=Texte!$A$27,F1109,0)","v":0},{"$f":"IF('Anhang Grundstücksverzeichnis'!G1109=Texte!$A$28,F1109,0)","v":0}]
[1100,{"$f":"IF(C1110<>\"\",IF(ISNA(VLOOKUP(C1110,Katastralgemeinden!$A$2:$B$3041,2,FALSE)),\"Ungültige KG-Nummer!\",VLOOKUP(C1110,Katastralgemeinden!A$2:$B$3041,2,\"falsch\")),\"\")","v":""},null,null,null,null,null,null,null,null,"",0,{"$f":"IF('Anhang Grundstücksverzeichnis'!G1110=Texte!$A$25,F1110,0)","v":0},{"$f":"IF('Anhang Grundstücksverzeichnis'!G1110=Texte!$A$26,F1110,0)","v":0},{"$f":"IF('Anhang Grundstücksverzeichnis'!G1110=Texte!$A$27,F1110,0)","v":0},{"$f":"IF('Anhang Grundstücksverzeichnis'!G1110=Texte!$A$28,F1110,0)","v":0}]
[1101,{"$f":"IF(C1111<>\"\",IF(ISNA(VLOOKUP(C1111,Katastralgemeinden!$A$2:$B$3041,2,FALSE)),\"Ungültige KG-Nummer!\",VLOOKUP(C1111,Katastralgemeinden!A$2:$B$3041,2,\"falsch\")),\"\")","v":""},null,null,null,null,null,null,null,null,"",0,{"$f":"IF('Anhang Grundstücksverzeichnis'!G1111=Texte!$A$25,F1111,0)","v":0},{"$f":"IF('Anhang Grundstücksverzeichnis'!G1111=Texte!$A$26,F1111,0)","v":0},{"$f":"IF('Anhang Grundstücksverzeichnis'!G1111=Texte!$A$27,F1111,0)","v":0},{"$f":"IF('Anhang Grundstücksverzeichnis'!G1111=Texte!$A$28,F1111,0)","v":0}]
[1102,{"$f":"IF(C1112<>\"\",IF(ISNA(VLOOKUP(C1112,Katastralgemeinden!$A$2:$B$3041,2,FALSE)),\"Ungültige KG-Nummer!\",VLOOKUP(C1112,Katastralgemeinden!A$2:$B$3041,2,\"falsch\")),\"\")","v":""},null,null,null,null,null,null,null,null,"",0,{"$f":"IF('Anhang Grundstücksverzeichnis'!G1112=Texte!$A$25,F1112,0)","v":0},{"$f":"IF('Anhang Grundstücksverzeichnis'!G1112=Texte!$A$26,F1112,0)","v":0},{"$f":"IF('Anhang Grundstücksverzeichnis'!G1112=Texte!$A$27,F1112,0)","v":0},{"$f":"IF('Anhang Grundstücksverzeichnis'!G1112=Texte!$A$28,F1112,0)","v":0}]
[1103,{"$f":"IF(C1113<>\"\",IF(ISNA(VLOOKUP(C1113,Katastralgemeinden!$A$2:$B$3041,2,FALSE)),\"Ungültige KG-Nummer!\",VLOOKUP(C1113,Katastralgemeinden!A$2:$B$3041,2,\"falsch\")),\"\")","v":""},null,null,null,null,null,null,null,null,"",0,{"$f":"IF('Anhang Grundstücksverzeichnis'!G1113=Texte!$A$25,F1113,0)","v":0},{"$f":"IF('Anhang Grundstücksverzeichnis'!G1113=Texte!$A$26,F1113,0)","v":0},{"$f":"IF('Anhang Grundstücksverzeichnis'!G1113=Texte!$A$27,F1113,0)","v":0},{"$f":"IF('Anhang Grundstücksverzeichnis'!G1113=Texte!$A$28,F1113,0)","v":0}]
[1104,{"$f":"IF(C1114<>\"\",IF(ISNA(VLOOKUP(C1114,Katastralgemeinden!$A$2:$B$3041,2,FALSE)),\"Ungültige KG-Nummer!\",VLOOKUP(C1114,Katastralgemeinden!A$2:$B$3041,2,\"falsch\")),\"\")","v":""},null,null,null,null,null,null,null,null,"",0,{"$f":"IF('Anhang Grundstücksverzeichnis'!G1114=Texte!$A$25,F1114,0)","v":0},{"$f":"IF('Anhang Grundstücksverzeichnis'!G1114=Texte!$A$26,F1114,0)","v":0},{"$f":"IF('Anhang Grundstücksverzeichnis'!G1114=Texte!$A$27,F1114,0)","v":0},{"$f":"IF('Anhang Grundstücksverzeichnis'!G1114=Texte!$A$28,F1114,0)","v":0}]
[1105,{"$f":"IF(C1115<>\"\",IF(ISNA(VLOOKUP(C1115,Katastralgemeinden!$A$2:$B$3041,2,FALSE)),\"Ungültige KG-Nummer!\",VLOOKUP(C1115,Katastralgemeinden!A$2:$B$3041,2,\"falsch\")),\"\")","v":""},null,null,null,null,null,null,null,null,"",0,{"$f":"IF('Anhang Grundstücksverzeichnis'!G1115=Texte!$A$25,F1115,0)","v":0},{"$f":"IF('Anhang Grundstücksverzeichnis'!G1115=Texte!$A$26,F1115,0)","v":0},{"$f":"IF('Anhang Grundstücksverzeichnis'!G1115=Texte!$A$27,F1115,0)","v":0},{"$f":"IF('Anhang Grundstücksverzeichnis'!G1115=Texte!$A$28,F1115,0)","v":0}]
[1106,{"$f":"IF(C1116<>\"\",IF(ISNA(VLOOKUP(C1116,Katastralgemeinden!$A$2:$B$3041,2,FALSE)),\"Ungültige KG-Nummer!\",VLOOKUP(C1116,Katastralgemeinden!A$2:$B$3041,2,\"falsch\")),\"\")","v":""},null,null,null,null,null,null,null,null,"",0,{"$f":"IF('Anhang Grundstücksverzeichnis'!G1116=Texte!$A$25,F1116,0)","v":0},{"$f":"IF('Anhang Grundstücksverzeichnis'!G1116=Texte!$A$26,F1116,0)","v":0},{"$f":"IF('Anhang Grundstücksverzeichnis'!G1116=Texte!$A$27,F1116,0)","v":0},{"$f":"IF('Anhang Grundstücksverzeichnis'!G1116=Texte!$A$28,F1116,0)","v":0}]
[1107,{"$f":"IF(C1117<>\"\",IF(ISNA(VLOOKUP(C1117,Katastralgemeinden!$A$2:$B$3041,2,FALSE)),\"Ungültige KG-Nummer!\",VLOOKUP(C1117,Katastralgemeinden!A$2:$B$3041,2,\"falsch\")),\"\")","v":""},null,null,null,null,null,null,null,null,"",0,{"$f":"IF('Anhang Grundstücksverzeichnis'!G1117=Texte!$A$25,F1117,0)","v":0},{"$f":"IF('Anhang Grundstücksverzeichnis'!G1117=Texte!$A$26,F1117,0)","v":0},{"$f":"IF('Anhang Grundstücksverzeichnis'!G1117=Texte!$A$27,F1117,0)","v":0},{"$f":"IF('Anhang Grundstücksverzeichnis'!G1117=Texte!$A$28,F1117,0)","v":0}]
[1108,{"$f":"IF(C1118<>\"\",IF(ISNA(VLOOKUP(C1118,Katastralgemeinden!$A$2:$B$3041,2,FALSE)),\"Ungültige KG-Nummer!\",VLOOKUP(C1118,Katastralgemeinden!A$2:$B$3041,2,\"falsch\")),\"\")","v":""},null,null,null,null,null,null,null,null,"",0,{"$f":"IF('Anhang Grundstücksverzeichnis'!G1118=Texte!$A$25,F1118,0)","v":0},{"$f":"IF('Anhang Grundstücksverzeichnis'!G1118=Texte!$A$26,F1118,0)","v":0},{"$f":"IF('Anhang Grundstücksverzeichnis'!G1118=Texte!$A$27,F1118,0)","v":0},{"$f":"IF('Anhang Grundstücksverzeichnis'!G1118=Texte!$A$28,F1118,0)","v":0}]
[1109,{"$f":"IF(C1119<>\"\",IF(ISNA(VLOOKUP(C1119,Katastralgemeinden!$A$2:$B$3041,2,FALSE)),\"Ungültige KG-Nummer!\",VLOOKUP(C1119,Katastralgemeinden!A$2:$B$3041,2,\"falsch\")),\"\")","v":""},null,null,null,null,null,null,null,null,"",0,{"$f":"IF('Anhang Grundstücksverzeichnis'!G1119=Texte!$A$25,F1119,0)","v":0},{"$f":"IF('Anhang Grundstücksverzeichnis'!G1119=Texte!$A$26,F1119,0)","v":0},{"$f":"IF('Anhang Grundstücksverzeichnis'!G1119=Texte!$A$27,F1119,0)","v":0},{"$f":"IF('Anhang Grundstücksverzeichnis'!G1119=Texte!$A$28,F1119,0)","v":0}]
[1110,{"$f":"IF(C1120<>\"\",IF(ISNA(VLOOKUP(C1120,Katastralgemeinden!$A$2:$B$3041,2,FALSE)),\"Ungültige KG-Nummer!\",VLOOKUP(C1120,Katastralgemeinden!A$2:$B$3041,2,\"falsch\")),\"\")","v":""},null,null,null,null,null,null,null,null,"",0,{"$f":"IF('Anhang Grundstücksverzeichnis'!G1120=Texte!$A$25,F1120,0)","v":0},{"$f":"IF('Anhang Grundstücksverzeichnis'!G1120=Texte!$A$26,F1120,0)","v":0},{"$f":"IF('Anhang Grundstücksverzeichnis'!G1120=Texte!$A$27,F1120,0)","v":0},{"$f":"IF('Anhang Grundstücksverzeichnis'!G1120=Texte!$A$28,F1120,0)","v":0}]
[1111,{"$f":"IF(C1121<>\"\",IF(ISNA(VLOOKUP(C1121,Katastralgemeinden!$A$2:$B$3041,2,FALSE)),\"Ungültige KG-Nummer!\",VLOOKUP(C1121,Katastralgemeinden!A$2:$B$3041,2,\"falsch\")),\"\")","v":""},null,null,null,null,null,null,null,null,"",0,{"$f":"IF('Anhang Grundstücksverzeichnis'!G1121=Texte!$A$25,F1121,0)","v":0},{"$f":"IF('Anhang Grundstücksverzeichnis'!G1121=Texte!$A$26,F1121,0)","v":0},{"$f":"IF('Anhang Grundstücksverzeichnis'!G1121=Texte!$A$27,F1121,0)","v":0},{"$f":"IF('Anhang Grundstücksverzeichnis'!G1121=Texte!$A$28,F1121,0)","v":0}]
[1112,{"$f":"IF(C1122<>\"\",IF(ISNA(VLOOKUP(C1122,Katastralgemeinden!$A$2:$B$3041,2,FALSE)),\"Ungültige KG-Nummer!\",VLOOKUP(C1122,Katastralgemeinden!A$2:$B$3041,2,\"falsch\")),\"\")","v":""},null,null,null,null,null,null,null,null,"",0,{"$f":"IF('Anhang Grundstücksverzeichnis'!G1122=Texte!$A$25,F1122,0)","v":0},{"$f":"IF('Anhang Grundstücksverzeichnis'!G1122=Texte!$A$26,F1122,0)","v":0},{"$f":"IF('Anhang Grundstücksverzeichnis'!G1122=Texte!$A$27,F1122,0)","v":0},{"$f":"IF('Anhang Grundstücksverzeichnis'!G1122=Texte!$A$28,F1122,0)","v":0}]
[1113,{"$f":"IF(C1123<>\"\",IF(ISNA(VLOOKUP(C1123,Katastralgemeinden!$A$2:$B$3041,2,FALSE)),\"Ungültige KG-Nummer!\",VLOOKUP(C1123,Katastralgemeinden!A$2:$B$3041,2,\"falsch\")),\"\")","v":""},null,null,null,null,null,null,null,null,"",0,{"$f":"IF('Anhang Grundstücksverzeichnis'!G1123=Texte!$A$25,F1123,0)","v":0},{"$f":"IF('Anhang Grundstücksverzeichnis'!G1123=Texte!$A$26,F1123,0)","v":0},{"$f":"IF('Anhang Grundstücksverzeichnis'!G1123=Texte!$A$27,F1123,0)","v":0},{"$f":"IF('Anhang Grundstücksverzeichnis'!G1123=Texte!$A$28,F1123,0)","v":0}]
[1114,{"$f":"IF(C1124<>\"\",IF(ISNA(VLOOKUP(C1124,Katastralgemeinden!$A$2:$B$3041,2,FALSE)),\"Ungültige KG-Nummer!\",VLOOKUP(C1124,Katastralgemeinden!A$2:$B$3041,2,\"falsch\")),\"\")","v":""},null,null,null,null,null,null,null,null,"",0,{"$f":"IF('Anhang Grundstücksverzeichnis'!G1124=Texte!$A$25,F1124,0)","v":0},{"$f":"IF('Anhang Grundstücksverzeichnis'!G1124=Texte!$A$26,F1124,0)","v":0},{"$f":"IF('Anhang Grundstücksverzeichnis'!G1124=Texte!$A$27,F1124,0)","v":0},{"$f":"IF('Anhang Grundstücksverzeichnis'!G1124=Texte!$A$28,F1124,0)","v":0}]
[1115,{"$f":"IF(C1125<>\"\",IF(ISNA(VLOOKUP(C1125,Katastralgemeinden!$A$2:$B$3041,2,FALSE)),\"Ungültige KG-Nummer!\",VLOOKUP(C1125,Katastralgemeinden!A$2:$B$3041,2,\"falsch\")),\"\")","v":""},null,null,null,null,null,null,null,null,"",0,{"$f":"IF('Anhang Grundstücksverzeichnis'!G1125=Texte!$A$25,F1125,0)","v":0},{"$f":"IF('Anhang Grundstücksverzeichnis'!G1125=Texte!$A$26,F1125,0)","v":0},{"$f":"IF('Anhang Grundstücksverzeichnis'!G1125=Texte!$A$27,F1125,0)","v":0},{"$f":"IF('Anhang Grundstücksverzeichnis'!G1125=Texte!$A$28,F1125,0)","v":0}]
[1116,{"$f":"IF(C1126<>\"\",IF(ISNA(VLOOKUP(C1126,Katastralgemeinden!$A$2:$B$3041,2,FALSE)),\"Ungültige KG-Nummer!\",VLOOKUP(C1126,Katastralgemeinden!A$2:$B$3041,2,\"falsch\")),\"\")","v":""},null,null,null,null,null,null,null,null,"",0,{"$f":"IF('Anhang Grundstücksverzeichnis'!G1126=Texte!$A$25,F1126,0)","v":0},{"$f":"IF('Anhang Grundstücksverzeichnis'!G1126=Texte!$A$26,F1126,0)","v":0},{"$f":"IF('Anhang Grundstücksverzeichnis'!G1126=Texte!$A$27,F1126,0)","v":0},{"$f":"IF('Anhang Grundstücksverzeichnis'!G1126=Texte!$A$28,F1126,0)","v":0}]
[1117,{"$f":"IF(C1127<>\"\",IF(ISNA(VLOOKUP(C1127,Katastralgemeinden!$A$2:$B$3041,2,FALSE)),\"Ungültige KG-Nummer!\",VLOOKUP(C1127,Katastralgemeinden!A$2:$B$3041,2,\"falsch\")),\"\")","v":""},null,null,null,null,null,null,null,null,"",0,{"$f":"IF('Anhang Grundstücksverzeichnis'!G1127=Texte!$A$25,F1127,0)","v":0},{"$f":"IF('Anhang Grundstücksverzeichnis'!G1127=Texte!$A$26,F1127,0)","v":0},{"$f":"IF('Anhang Grundstücksverzeichnis'!G1127=Texte!$A$27,F1127,0)","v":0},{"$f":"IF('Anhang Grundstücksverzeichnis'!G1127=Texte!$A$28,F1127,0)","v":0}]
[1118,{"$f":"IF(C1128<>\"\",IF(ISNA(VLOOKUP(C1128,Katastralgemeinden!$A$2:$B$3041,2,FALSE)),\"Ungültige KG-Nummer!\",VLOOKUP(C1128,Katastralgemeinden!A$2:$B$3041,2,\"falsch\")),\"\")","v":""},null,null,null,null,null,null,null,null,"",0,{"$f":"IF('Anhang Grundstücksverzeichnis'!G1128=Texte!$A$25,F1128,0)","v":0},{"$f":"IF('Anhang Grundstücksverzeichnis'!G1128=Texte!$A$26,F1128,0)","v":0},{"$f":"IF('Anhang Grundstücksverzeichnis'!G1128=Texte!$A$27,F1128,0)","v":0},{"$f":"IF('Anhang Grundstücksverzeichnis'!G1128=Texte!$A$28,F1128,0)","v":0}]
[1119,{"$f":"IF(C1129<>\"\",IF(ISNA(VLOOKUP(C1129,Katastralgemeinden!$A$2:$B$3041,2,FALSE)),\"Ungültige KG-Nummer!\",VLOOKUP(C1129,Katastralgemeinden!A$2:$B$3041,2,\"falsch\")),\"\")","v":""},null,null,null,null,null,null,null,null,"",0,{"$f":"IF('Anhang Grundstücksverzeichnis'!G1129=Texte!$A$25,F1129,0)","v":0},{"$f":"IF('Anhang Grundstücksverzeichnis'!G1129=Texte!$A$26,F1129,0)","v":0},{"$f":"IF('Anhang Grundstücksverzeichnis'!G1129=Texte!$A$27,F1129,0)","v":0},{"$f":"IF('Anhang Grundstücksverzeichnis'!G1129=Texte!$A$28,F1129,0)","v":0}]
[1120,{"$f":"IF(C1130<>\"\",IF(ISNA(VLOOKUP(C1130,Katastralgemeinden!$A$2:$B$3041,2,FALSE)),\"Ungültige KG-Nummer!\",VLOOKUP(C1130,Katastralgemeinden!A$2:$B$3041,2,\"falsch\")),\"\")","v":""},null,null,null,null,null,null,null,null,"",0,{"$f":"IF('Anhang Grundstücksverzeichnis'!G1130=Texte!$A$25,F1130,0)","v":0},{"$f":"IF('Anhang Grundstücksverzeichnis'!G1130=Texte!$A$26,F1130,0)","v":0},{"$f":"IF('Anhang Grundstücksverzeichnis'!G1130=Texte!$A$27,F1130,0)","v":0},{"$f":"IF('Anhang Grundstücksverzeichnis'!G1130=Texte!$A$28,F1130,0)","v":0}]
[1121,{"$f":"IF(C1131<>\"\",IF(ISNA(VLOOKUP(C1131,Katastralgemeinden!$A$2:$B$3041,2,FALSE)),\"Ungültige KG-Nummer!\",VLOOKUP(C1131,Katastralgemeinden!A$2:$B$3041,2,\"falsch\")),\"\")","v":""},null,null,null,null,null,null,null,null,"",0,{"$f":"IF('Anhang Grundstücksverzeichnis'!G1131=Texte!$A$25,F1131,0)","v":0},{"$f":"IF('Anhang Grundstücksverzeichnis'!G1131=Texte!$A$26,F1131,0)","v":0},{"$f":"IF('Anhang Grundstücksverzeichnis'!G1131=Texte!$A$27,F1131,0)","v":0},{"$f":"IF('Anhang Grundstücksverzeichnis'!G1131=Texte!$A$28,F1131,0)","v":0}]
[1122,{"$f":"IF(C1132<>\"\",IF(ISNA(VLOOKUP(C1132,Katastralgemeinden!$A$2:$B$3041,2,FALSE)),\"Ungültige KG-Nummer!\",VLOOKUP(C1132,Katastralgemeinden!A$2:$B$3041,2,\"falsch\")),\"\")","v":""},null,null,null,null,null,null,null,null,"",0,{"$f":"IF('Anhang Grundstücksverzeichnis'!G1132=Texte!$A$25,F1132,0)","v":0},{"$f":"IF('Anhang Grundstücksverzeichnis'!G1132=Texte!$A$26,F1132,0)","v":0},{"$f":"IF('Anhang Grundstücksverzeichnis'!G1132=Texte!$A$27,F1132,0)","v":0},{"$f":"IF('Anhang Grundstücksverzeichnis'!G1132=Texte!$A$28,F1132,0)","v":0}]
[1123,{"$f":"IF(C1133<>\"\",IF(ISNA(VLOOKUP(C1133,Katastralgemeinden!$A$2:$B$3041,2,FALSE)),\"Ungültige KG-Nummer!\",VLOOKUP(C1133,Katastralgemeinden!A$2:$B$3041,2,\"falsch\")),\"\")","v":""},null,null,null,null,null,null,null,null,"",0,{"$f":"IF('Anhang Grundstücksverzeichnis'!G1133=Texte!$A$25,F1133,0)","v":0},{"$f":"IF('Anhang Grundstücksverzeichnis'!G1133=Texte!$A$26,F1133,0)","v":0},{"$f":"IF('Anhang Grundstücksverzeichnis'!G1133=Texte!$A$27,F1133,0)","v":0},{"$f":"IF('Anhang Grundstücksverzeichnis'!G1133=Texte!$A$28,F1133,0)","v":0}]
[1124,{"$f":"IF(C1134<>\"\",IF(ISNA(VLOOKUP(C1134,Katastralgemeinden!$A$2:$B$3041,2,FALSE)),\"Ungültige KG-Nummer!\",VLOOKUP(C1134,Katastralgemeinden!A$2:$B$3041,2,\"falsch\")),\"\")","v":""},null,null,null,null,null,null,null,null,"",0,{"$f":"IF('Anhang Grundstücksverzeichnis'!G1134=Texte!$A$25,F1134,0)","v":0},{"$f":"IF('Anhang Grundstücksverzeichnis'!G1134=Texte!$A$26,F1134,0)","v":0},{"$f":"IF('Anhang Grundstücksverzeichnis'!G1134=Texte!$A$27,F1134,0)","v":0},{"$f":"IF('Anhang Grundstücksverzeichnis'!G1134=Texte!$A$28,F1134,0)","v":0}]
[1125,{"$f":"IF(C1135<>\"\",IF(ISNA(VLOOKUP(C1135,Katastralgemeinden!$A$2:$B$3041,2,FALSE)),\"Ungültige KG-Nummer!\",VLOOKUP(C1135,Katastralgemeinden!A$2:$B$3041,2,\"falsch\")),\"\")","v":""},null,null,null,null,null,null,null,null,"",0,{"$f":"IF('Anhang Grundstücksverzeichnis'!G1135=Texte!$A$25,F1135,0)","v":0},{"$f":"IF('Anhang Grundstücksverzeichnis'!G1135=Texte!$A$26,F1135,0)","v":0},{"$f":"IF('Anhang Grundstücksverzeichnis'!G1135=Texte!$A$27,F1135,0)","v":0},{"$f":"IF('Anhang Grundstücksverzeichnis'!G1135=Texte!$A$28,F1135,0)","v":0}]
[1126,{"$f":"IF(C1136<>\"\",IF(ISNA(VLOOKUP(C1136,Katastralgemeinden!$A$2:$B$3041,2,FALSE)),\"Ungültige KG-Nummer!\",VLOOKUP(C1136,Katastralgemeinden!A$2:$B$3041,2,\"falsch\")),\"\")","v":""},null,null,null,null,null,null,null,null,"",0,{"$f":"IF('Anhang Grundstücksverzeichnis'!G1136=Texte!$A$25,F1136,0)","v":0},{"$f":"IF('Anhang Grundstücksverzeichnis'!G1136=Texte!$A$26,F1136,0)","v":0},{"$f":"IF('Anhang Grundstücksverzeichnis'!G1136=Texte!$A$27,F1136,0)","v":0},{"$f":"IF('Anhang Grundstücksverzeichnis'!G1136=Texte!$A$28,F1136,0)","v":0}]
[1127,{"$f":"IF(C1137<>\"\",IF(ISNA(VLOOKUP(C1137,Katastralgemeinden!$A$2:$B$3041,2,FALSE)),\"Ungültige KG-Nummer!\",VLOOKUP(C1137,Katastralgemeinden!A$2:$B$3041,2,\"falsch\")),\"\")","v":""},null,null,null,null,null,null,null,null,"",0,{"$f":"IF('Anhang Grundstücksverzeichnis'!G1137=Texte!$A$25,F1137,0)","v":0},{"$f":"IF('Anhang Grundstücksverzeichnis'!G1137=Texte!$A$26,F1137,0)","v":0},{"$f":"IF('Anhang Grundstücksverzeichnis'!G1137=Texte!$A$27,F1137,0)","v":0},{"$f":"IF('Anhang Grundstücksverzeichnis'!G1137=Texte!$A$28,F1137,0)","v":0}]
[1128,{"$f":"IF(C1138<>\"\",IF(ISNA(VLOOKUP(C1138,Katastralgemeinden!$A$2:$B$3041,2,FALSE)),\"Ungültige KG-Nummer!\",VLOOKUP(C1138,Katastralgemeinden!A$2:$B$3041,2,\"falsch\")),\"\")","v":""},null,null,null,null,null,null,null,null,"",0,{"$f":"IF('Anhang Grundstücksverzeichnis'!G1138=Texte!$A$25,F1138,0)","v":0},{"$f":"IF('Anhang Grundstücksverzeichnis'!G1138=Texte!$A$26,F1138,0)","v":0},{"$f":"IF('Anhang Grundstücksverzeichnis'!G1138=Texte!$A$27,F1138,0)","v":0},{"$f":"IF('Anhang Grundstücksverzeichnis'!G1138=Texte!$A$28,F1138,0)","v":0}]
[1129,{"$f":"IF(C1139<>\"\",IF(ISNA(VLOOKUP(C1139,Katastralgemeinden!$A$2:$B$3041,2,FALSE)),\"Ungültige KG-Nummer!\",VLOOKUP(C1139,Katastralgemeinden!A$2:$B$3041,2,\"falsch\")),\"\")","v":""},null,null,null,null,null,null,null,null,"",0,{"$f":"IF('Anhang Grundstücksverzeichnis'!G1139=Texte!$A$25,F1139,0)","v":0},{"$f":"IF('Anhang Grundstücksverzeichnis'!G1139=Texte!$A$26,F1139,0)","v":0},{"$f":"IF('Anhang Grundstücksverzeichnis'!G1139=Texte!$A$27,F1139,0)","v":0},{"$f":"IF('Anhang Grundstücksverzeichnis'!G1139=Texte!$A$28,F1139,0)","v":0}]
[1130,{"$f":"IF(C1140<>\"\",IF(ISNA(VLOOKUP(C1140,Katastralgemeinden!$A$2:$B$3041,2,FALSE)),\"Ungültige KG-Nummer!\",VLOOKUP(C1140,Katastralgemeinden!A$2:$B$3041,2,\"falsch\")),\"\")","v":""},null,null,null,null,null,null,null,null,"",0,{"$f":"IF('Anhang Grundstücksverzeichnis'!G1140=Texte!$A$25,F1140,0)","v":0},{"$f":"IF('Anhang Grundstücksverzeichnis'!G1140=Texte!$A$26,F1140,0)","v":0},{"$f":"IF('Anhang Grundstücksverzeichnis'!G1140=Texte!$A$27,F1140,0)","v":0},{"$f":"IF('Anhang Grundstücksverzeichnis'!G1140=Texte!$A$28,F1140,0)","v":0}]
[1131,{"$f":"IF(C1141<>\"\",IF(ISNA(VLOOKUP(C1141,Katastralgemeinden!$A$2:$B$3041,2,FALSE)),\"Ungültige KG-Nummer!\",VLOOKUP(C1141,Katastralgemeinden!A$2:$B$3041,2,\"falsch\")),\"\")","v":""},null,null,null,null,null,null,null,null,"",0,{"$f":"IF('Anhang Grundstücksverzeichnis'!G1141=Texte!$A$25,F1141,0)","v":0},{"$f":"IF('Anhang Grundstücksverzeichnis'!G1141=Texte!$A$26,F1141,0)","v":0},{"$f":"IF('Anhang Grundstücksverzeichnis'!G1141=Texte!$A$27,F1141,0)","v":0},{"$f":"IF('Anhang Grundstücksverzeichnis'!G1141=Texte!$A$28,F1141,0)","v":0}]
[1132,{"$f":"IF(C1142<>\"\",IF(ISNA(VLOOKUP(C1142,Katastralgemeinden!$A$2:$B$3041,2,FALSE)),\"Ungültige KG-Nummer!\",VLOOKUP(C1142,Katastralgemeinden!A$2:$B$3041,2,\"falsch\")),\"\")","v":""},null,null,null,null,null,null,null,null,"",0,{"$f":"IF('Anhang Grundstücksverzeichnis'!G1142=Texte!$A$25,F1142,0)","v":0},{"$f":"IF('Anhang Grundstücksverzeichnis'!G1142=Texte!$A$26,F1142,0)","v":0},{"$f":"IF('Anhang Grundstücksverzeichnis'!G1142=Texte!$A$27,F1142,0)","v":0},{"$f":"IF('Anhang Grundstücksverzeichnis'!G1142=Texte!$A$28,F1142,0)","v":0}]
[1133,{"$f":"IF(C1143<>\"\",IF(ISNA(VLOOKUP(C1143,Katastralgemeinden!$A$2:$B$3041,2,FALSE)),\"Ungültige KG-Nummer!\",VLOOKUP(C1143,Katastralgemeinden!A$2:$B$3041,2,\"falsch\")),\"\")","v":""},null,null,null,null,null,null,null,null,"",0,{"$f":"IF('Anhang Grundstücksverzeichnis'!G1143=Texte!$A$25,F1143,0)","v":0},{"$f":"IF('Anhang Grundstücksverzeichnis'!G1143=Texte!$A$26,F1143,0)","v":0},{"$f":"IF('Anhang Grundstücksverzeichnis'!G1143=Texte!$A$27,F1143,0)","v":0},{"$f":"IF('Anhang Grundstücksverzeichnis'!G1143=Texte!$A$28,F1143,0)","v":0}]
[1134,{"$f":"IF(C1144<>\"\",IF(ISNA(VLOOKUP(C1144,Katastralgemeinden!$A$2:$B$3041,2,FALSE)),\"Ungültige KG-Nummer!\",VLOOKUP(C1144,Katastralgemeinden!A$2:$B$3041,2,\"falsch\")),\"\")","v":""},null,null,null,null,null,null,null,null,"",0,{"$f":"IF('Anhang Grundstücksverzeichnis'!G1144=Texte!$A$25,F1144,0)","v":0},{"$f":"IF('Anhang Grundstücksverzeichnis'!G1144=Texte!$A$26,F1144,0)","v":0},{"$f":"IF('Anhang Grundstücksverzeichnis'!G1144=Texte!$A$27,F1144,0)","v":0},{"$f":"IF('Anhang Grundstücksverzeichnis'!G1144=Texte!$A$28,F1144,0)","v":0}]
[1135,{"$f":"IF(C1145<>\"\",IF(ISNA(VLOOKUP(C1145,Katastralgemeinden!$A$2:$B$3041,2,FALSE)),\"Ungültige KG-Nummer!\",VLOOKUP(C1145,Katastralgemeinden!A$2:$B$3041,2,\"falsch\")),\"\")","v":""},null,null,null,null,null,null,null,null,"",0,{"$f":"IF('Anhang Grundstücksverzeichnis'!G1145=Texte!$A$25,F1145,0)","v":0},{"$f":"IF('Anhang Grundstücksverzeichnis'!G1145=Texte!$A$26,F1145,0)","v":0},{"$f":"IF('Anhang Grundstücksverzeichnis'!G1145=Texte!$A$27,F1145,0)","v":0},{"$f":"IF('Anhang Grundstücksverzeichnis'!G1145=Texte!$A$28,F1145,0)","v":0}]
[1136,{"$f":"IF(C1146<>\"\",IF(ISNA(VLOOKUP(C1146,Katastralgemeinden!$A$2:$B$3041,2,FALSE)),\"Ungültige KG-Nummer!\",VLOOKUP(C1146,Katastralgemeinden!A$2:$B$3041,2,\"falsch\")),\"\")","v":""},null,null,null,null,null,null,null,null,"",0,{"$f":"IF('Anhang Grundstücksverzeichnis'!G1146=Texte!$A$25,F1146,0)","v":0},{"$f":"IF('Anhang Grundstücksverzeichnis'!G1146=Texte!$A$26,F1146,0)","v":0},{"$f":"IF('Anhang Grundstücksverzeichnis'!G1146=Texte!$A$27,F1146,0)","v":0},{"$f":"IF('Anhang Grundstücksverzeichnis'!G1146=Texte!$A$28,F1146,0)","v":0}]
[1137,{"$f":"IF(C1147<>\"\",IF(ISNA(VLOOKUP(C1147,Katastralgemeinden!$A$2:$B$3041,2,FALSE)),\"Ungültige KG-Nummer!\",VLOOKUP(C1147,Katastralgemeinden!A$2:$B$3041,2,\"falsch\")),\"\")","v":""},null,null,null,null,null,null,null,null,"",0,{"$f":"IF('Anhang Grundstücksverzeichnis'!G1147=Texte!$A$25,F1147,0)","v":0},{"$f":"IF('Anhang Grundstücksverzeichnis'!G1147=Texte!$A$26,F1147,0)","v":0},{"$f":"IF('Anhang Grundstücksverzeichnis'!G1147=Texte!$A$27,F1147,0)","v":0},{"$f":"IF('Anhang Grundstücksverzeichnis'!G1147=Texte!$A$28,F1147,0)","v":0}]
[1138,{"$f":"IF(C1148<>\"\",IF(ISNA(VLOOKUP(C1148,Katastralgemeinden!$A$2:$B$3041,2,FALSE)),\"Ungültige KG-Nummer!\",VLOOKUP(C1148,Katastralgemeinden!A$2:$B$3041,2,\"falsch\")),\"\")","v":""},null,null,null,null,null,null,null,null,"",0,{"$f":"IF('Anhang Grundstücksverzeichnis'!G1148=Texte!$A$25,F1148,0)","v":0},{"$f":"IF('Anhang Grundstücksverzeichnis'!G1148=Texte!$A$26,F1148,0)","v":0},{"$f":"IF('Anhang Grundstücksverzeichnis'!G1148=Texte!$A$27,F1148,0)","v":0},{"$f":"IF('Anhang Grundstücksverzeichnis'!G1148=Texte!$A$28,F1148,0)","v":0}]
[1139,{"$f":"IF(C1149<>\"\",IF(ISNA(VLOOKUP(C1149,Katastralgemeinden!$A$2:$B$3041,2,FALSE)),\"Ungültige KG-Nummer!\",VLOOKUP(C1149,Katastralgemeinden!A$2:$B$3041,2,\"falsch\")),\"\")","v":""},null,null,null,null,null,null,null,null,"",0,{"$f":"IF('Anhang Grundstücksverzeichnis'!G1149=Texte!$A$25,F1149,0)","v":0},{"$f":"IF('Anhang Grundstücksverzeichnis'!G1149=Texte!$A$26,F1149,0)","v":0},{"$f":"IF('Anhang Grundstücksverzeichnis'!G1149=Texte!$A$27,F1149,0)","v":0},{"$f":"IF('Anhang Grundstücksverzeichnis'!G1149=Texte!$A$28,F1149,0)","v":0}]
[1140,{"$f":"IF(C1150<>\"\",IF(ISNA(VLOOKUP(C1150,Katastralgemeinden!$A$2:$B$3041,2,FALSE)),\"Ungültige KG-Nummer!\",VLOOKUP(C1150,Katastralgemeinden!A$2:$B$3041,2,\"falsch\")),\"\")","v":""},null,null,null,null,null,null,null,null,"",0,{"$f":"IF('Anhang Grundstücksverzeichnis'!G1150=Texte!$A$25,F1150,0)","v":0},{"$f":"IF('Anhang Grundstücksverzeichnis'!G1150=Texte!$A$26,F1150,0)","v":0},{"$f":"IF('Anhang Grundstücksverzeichnis'!G1150=Texte!$A$27,F1150,0)","v":0},{"$f":"IF('Anhang Grundstücksverzeichnis'!G1150=Texte!$A$28,F1150,0)","v":0}]
[1141,{"$f":"IF(C1151<>\"\",IF(ISNA(VLOOKUP(C1151,Katastralgemeinden!$A$2:$B$3041,2,FALSE)),\"Ungültige KG-Nummer!\",VLOOKUP(C1151,Katastralgemeinden!A$2:$B$3041,2,\"falsch\")),\"\")","v":""},null,null,null,null,null,null,null,null,"",0,{"$f":"IF('Anhang Grundstücksverzeichnis'!G1151=Texte!$A$25,F1151,0)","v":0},{"$f":"IF('Anhang Grundstücksverzeichnis'!G1151=Texte!$A$26,F1151,0)","v":0},{"$f":"IF('Anhang Grundstücksverzeichnis'!G1151=Texte!$A$27,F1151,0)","v":0},{"$f":"IF('Anhang Grundstücksverzeichnis'!G1151=Texte!$A$28,F1151,0)","v":0}]
[1142,{"$f":"IF(C1152<>\"\",IF(ISNA(VLOOKUP(C1152,Katastralgemeinden!$A$2:$B$3041,2,FALSE)),\"Ungültige KG-Nummer!\",VLOOKUP(C1152,Katastralgemeinden!A$2:$B$3041,2,\"falsch\")),\"\")","v":""},null,null,null,null,null,null,null,null,"",0,{"$f":"IF('Anhang Grundstücksverzeichnis'!G1152=Texte!$A$25,F1152,0)","v":0},{"$f":"IF('Anhang Grundstücksverzeichnis'!G1152=Texte!$A$26,F1152,0)","v":0},{"$f":"IF('Anhang Grundstücksverzeichnis'!G1152=Texte!$A$27,F1152,0)","v":0},{"$f":"IF('Anhang Grundstücksverzeichnis'!G1152=Texte!$A$28,F1152,0)","v":0}]
[1143,{"$f":"IF(C1153<>\"\",IF(ISNA(VLOOKUP(C1153,Katastralgemeinden!$A$2:$B$3041,2,FALSE)),\"Ungültige KG-Nummer!\",VLOOKUP(C1153,Katastralgemeinden!A$2:$B$3041,2,\"falsch\")),\"\")","v":""},null,null,null,null,null,null,null,null,"",0,{"$f":"IF('Anhang Grundstücksverzeichnis'!G1153=Texte!$A$25,F1153,0)","v":0},{"$f":"IF('Anhang Grundstücksverzeichnis'!G1153=Texte!$A$26,F1153,0)","v":0},{"$f":"IF('Anhang Grundstücksverzeichnis'!G1153=Texte!$A$27,F1153,0)","v":0},{"$f":"IF('Anhang Grundstücksverzeichnis'!G1153=Texte!$A$28,F1153,0)","v":0}]
[1144,{"$f":"IF(C1154<>\"\",IF(ISNA(VLOOKUP(C1154,Katastralgemeinden!$A$2:$B$3041,2,FALSE)),\"Ungültige KG-Nummer!\",VLOOKUP(C1154,Katastralgemeinden!A$2:$B$3041,2,\"falsch\")),\"\")","v":""},null,null,null,null,null,null,null,null,"",0,{"$f":"IF('Anhang Grundstücksverzeichnis'!G1154=Texte!$A$25,F1154,0)","v":0},{"$f":"IF('Anhang Grundstücksverzeichnis'!G1154=Texte!$A$26,F1154,0)","v":0},{"$f":"IF('Anhang Grundstücksverzeichnis'!G1154=Texte!$A$27,F1154,0)","v":0},{"$f":"IF('Anhang Grundstücksverzeichnis'!G1154=Texte!$A$28,F1154,0)","v":0}]
[1145,{"$f":"IF(C1155<>\"\",IF(ISNA(VLOOKUP(C1155,Katastralgemeinden!$A$2:$B$3041,2,FALSE)),\"Ungültige KG-Nummer!\",VLOOKUP(C1155,Katastralgemeinden!A$2:$B$3041,2,\"falsch\")),\"\")","v":""},null,null,null,null,null,null,null,null,"",0,{"$f":"IF('Anhang Grundstücksverzeichnis'!G1155=Texte!$A$25,F1155,0)","v":0},{"$f":"IF('Anhang Grundstücksverzeichnis'!G1155=Texte!$A$26,F1155,0)","v":0},{"$f":"IF('Anhang Grundstücksverzeichnis'!G1155=Texte!$A$27,F1155,0)","v":0},{"$f":"IF('Anhang Grundstücksverzeichnis'!G1155=Texte!$A$28,F1155,0)","v":0}]
[1146,{"$f":"IF(C1156<>\"\",IF(ISNA(VLOOKUP(C1156,Katastralgemeinden!$A$2:$B$3041,2,FALSE)),\"Ungültige KG-Nummer!\",VLOOKUP(C1156,Katastralgemeinden!A$2:$B$3041,2,\"falsch\")),\"\")","v":""},null,null,null,null,null,null,null,null,"",0,{"$f":"IF('Anhang Grundstücksverzeichnis'!G1156=Texte!$A$25,F1156,0)","v":0},{"$f":"IF('Anhang Grundstücksverzeichnis'!G1156=Texte!$A$26,F1156,0)","v":0},{"$f":"IF('Anhang Grundstücksverzeichnis'!G1156=Texte!$A$27,F1156,0)","v":0},{"$f":"IF('Anhang Grundstücksverzeichnis'!G1156=Texte!$A$28,F1156,0)","v":0}]
[1147,{"$f":"IF(C1157<>\"\",IF(ISNA(VLOOKUP(C1157,Katastralgemeinden!$A$2:$B$3041,2,FALSE)),\"Ungültige KG-Nummer!\",VLOOKUP(C1157,Katastralgemeinden!A$2:$B$3041,2,\"falsch\")),\"\")","v":""},null,null,null,null,null,null,null,null,"",0,{"$f":"IF('Anhang Grundstücksverzeichnis'!G1157=Texte!$A$25,F1157,0)","v":0},{"$f":"IF('Anhang Grundstücksverzeichnis'!G1157=Texte!$A$26,F1157,0)","v":0},{"$f":"IF('Anhang Grundstücksverzeichnis'!G1157=Texte!$A$27,F1157,0)","v":0},{"$f":"IF('Anhang Grundstücksverzeichnis'!G1157=Texte!$A$28,F1157,0)","v":0}]
[1148,{"$f":"IF(C1158<>\"\",IF(ISNA(VLOOKUP(C1158,Katastralgemeinden!$A$2:$B$3041,2,FALSE)),\"Ungültige KG-Nummer!\",VLOOKUP(C1158,Katastralgemeinden!A$2:$B$3041,2,\"falsch\")),\"\")","v":""},null,null,null,null,null,null,null,null,"",0,{"$f":"IF('Anhang Grundstücksverzeichnis'!G1158=Texte!$A$25,F1158,0)","v":0},{"$f":"IF('Anhang Grundstücksverzeichnis'!G1158=Texte!$A$26,F1158,0)","v":0},{"$f":"IF('Anhang Grundstücksverzeichnis'!G1158=Texte!$A$27,F1158,0)","v":0},{"$f":"IF('Anhang Grundstücksverzeichnis'!G1158=Texte!$A$28,F1158,0)","v":0}]
[1149,{"$f":"IF(C1159<>\"\",IF(ISNA(VLOOKUP(C1159,Katastralgemeinden!$A$2:$B$3041,2,FALSE)),\"Ungültige KG-Nummer!\",VLOOKUP(C1159,Katastralgemeinden!A$2:$B$3041,2,\"falsch\")),\"\")","v":""},null,null,null,null,null,null,null,null,"",0,{"$f":"IF('Anhang Grundstücksverzeichnis'!G1159=Texte!$A$25,F1159,0)","v":0},{"$f":"IF('Anhang Grundstücksverzeichnis'!G1159=Texte!$A$26,F1159,0)","v":0},{"$f":"IF('Anhang Grundstücksverzeichnis'!G1159=Texte!$A$27,F1159,0)","v":0},{"$f":"IF('Anhang Grundstücksverzeichnis'!G1159=Texte!$A$28,F1159,0)","v":0}]
[1150,{"$f":"IF(C1160<>\"\",IF(ISNA(VLOOKUP(C1160,Katastralgemeinden!$A$2:$B$3041,2,FALSE)),\"Ungültige KG-Nummer!\",VLOOKUP(C1160,Katastralgemeinden!A$2:$B$3041,2,\"falsch\")),\"\")","v":""},null,null,null,null,null,null,null,null,"",0,{"$f":"IF('Anhang Grundstücksverzeichnis'!G1160=Texte!$A$25,F1160,0)","v":0},{"$f":"IF('Anhang Grundstücksverzeichnis'!G1160=Texte!$A$26,F1160,0)","v":0},{"$f":"IF('Anhang Grundstücksverzeichnis'!G1160=Texte!$A$27,F1160,0)","v":0},{"$f":"IF('Anhang Grundstücksverzeichnis'!G1160=Texte!$A$28,F1160,0)","v":0}]
[1151,{"$f":"IF(C1161<>\"\",IF(ISNA(VLOOKUP(C1161,Katastralgemeinden!$A$2:$B$3041,2,FALSE)),\"Ungültige KG-Nummer!\",VLOOKUP(C1161,Katastralgemeinden!A$2:$B$3041,2,\"falsch\")),\"\")","v":""},null,null,null,null,null,null,null,null,"",0,{"$f":"IF('Anhang Grundstücksverzeichnis'!G1161=Texte!$A$25,F1161,0)","v":0},{"$f":"IF('Anhang Grundstücksverzeichnis'!G1161=Texte!$A$26,F1161,0)","v":0},{"$f":"IF('Anhang Grundstücksverzeichnis'!G1161=Texte!$A$27,F1161,0)","v":0},{"$f":"IF('Anhang Grundstücksverzeichnis'!G1161=Texte!$A$28,F1161,0)","v":0}]
[1152,{"$f":"IF(C1162<>\"\",IF(ISNA(VLOOKUP(C1162,Katastralgemeinden!$A$2:$B$3041,2,FALSE)),\"Ungültige KG-Nummer!\",VLOOKUP(C1162,Katastralgemeinden!A$2:$B$3041,2,\"falsch\")),\"\")","v":""},null,null,null,null,null,null,null,null,"",0,{"$f":"IF('Anhang Grundstücksverzeichnis'!G1162=Texte!$A$25,F1162,0)","v":0},{"$f":"IF('Anhang Grundstücksverzeichnis'!G1162=Texte!$A$26,F1162,0)","v":0},{"$f":"IF('Anhang Grundstücksverzeichnis'!G1162=Texte!$A$27,F1162,0)","v":0},{"$f":"IF('Anhang Grundstücksverzeichnis'!G1162=Texte!$A$28,F1162,0)","v":0}]
[1153,{"$f":"IF(C1163<>\"\",IF(ISNA(VLOOKUP(C1163,Katastralgemeinden!$A$2:$B$3041,2,FALSE)),\"Ungültige KG-Nummer!\",VLOOKUP(C1163,Katastralgemeinden!A$2:$B$3041,2,\"falsch\")),\"\")","v":""},null,null,null,null,null,null,null,null,"",0,{"$f":"IF('Anhang Grundstücksverzeichnis'!G1163=Texte!$A$25,F1163,0)","v":0},{"$f":"IF('Anhang Grundstücksverzeichnis'!G1163=Texte!$A$26,F1163,0)","v":0},{"$f":"IF('Anhang Grundstücksverzeichnis'!G1163=Texte!$A$27,F1163,0)","v":0},{"$f":"IF('Anhang Grundstücksverzeichnis'!G1163=Texte!$A$28,F1163,0)","v":0}]
[1154,{"$f":"IF(C1164<>\"\",IF(ISNA(VLOOKUP(C1164,Katastralgemeinden!$A$2:$B$3041,2,FALSE)),\"Ungültige KG-Nummer!\",VLOOKUP(C1164,Katastralgemeinden!A$2:$B$3041,2,\"falsch\")),\"\")","v":""},null,null,null,null,null,null,null,null,{"$f":"IF(G1164<>\"\",IF(G1164=\"Eigengrundfläche\",0,IF(G1164=\"Vorpachtfläche\",1,IF(G1164=\"Abrundung +\",3,IF(G1164=\"Abrundung -\",4,5)))),\"\")","v":""},{"$f":"IF(OR(LOWER(H1164)=\"x\",LOWER(H1164)=\"j\"),1,0)","v":0},{"$f":"IF('Anhang Grundstücksverzeichnis'!G1164=Texte!$A$25,F1164,0)","v":0},{"$f":"IF('Anhang Grundstücksverzeichnis'!G1164=Texte!$A$26,F1164,0)","v":0},{"$f":"IF('Anhang Grundstücksverzeichnis'!G1164=Texte!$A$27,F1164,0)","v":0},{"$f":"IF('Anhang Grundstücksverzeichnis'!G1164=Texte!$A$28,F1164,0)","v":0}]
[1155,{"$f":"IF(C1165<>\"\",IF(ISNA(VLOOKUP(C1165,Katastralgemeinden!$A$2:$B$3041,2,FALSE)),\"Ungültige KG-Nummer!\",VLOOKUP(C1165,Katastralgemeinden!A$2:$B$3041,2,\"falsch\")),\"\")","v":""},null,null,null,null,null,null,null,null,"",0,{"$f":"IF('Anhang Grundstücksverzeichnis'!G1165=Texte!$A$25,F1165,0)","v":0},{"$f":"IF('Anhang Grundstücksverzeichnis'!G1165=Texte!$A$26,F1165,0)","v":0},{"$f":"IF('Anhang Grundstücksverzeichnis'!G1165=Texte!$A$27,F1165,0)","v":0},{"$f":"IF('Anhang Grundstücksverzeichnis'!G1165=Texte!$A$28,F1165,0)","v":0}]
[1156,{"$f":"IF(C1166<>\"\",IF(ISNA(VLOOKUP(C1166,Katastralgemeinden!$A$2:$B$3041,2,FALSE)),\"Ungültige KG-Nummer!\",VLOOKUP(C1166,Katastralgemeinden!A$2:$B$3041,2,\"falsch\")),\"\")","v":""},null,null,null,null,null,null,null,null,"",0,{"$f":"IF('Anhang Grundstücksverzeichnis'!G1166=Texte!$A$25,F1166,0)","v":0},{"$f":"IF('Anhang Grundstücksverzeichnis'!G1166=Texte!$A$26,F1166,0)","v":0},{"$f":"IF('Anhang Grundstücksverzeichnis'!G1166=Texte!$A$27,F1166,0)","v":0},{"$f":"IF('Anhang Grundstücksverzeichnis'!G1166=Texte!$A$28,F1166,0)","v":0}]
[1157,{"$f":"IF(C1167<>\"\",IF(ISNA(VLOOKUP(C1167,Katastralgemeinden!$A$2:$B$3041,2,FALSE)),\"Ungültige KG-Nummer!\",VLOOKUP(C1167,Katastralgemeinden!A$2:$B$3041,2,\"falsch\")),\"\")","v":""},null,null,null,null,null,null,null,null,"",0,{"$f":"IF('Anhang Grundstücksverzeichnis'!G1167=Texte!$A$25,F1167,0)","v":0},{"$f":"IF('Anhang Grundstücksverzeichnis'!G1167=Texte!$A$26,F1167,0)","v":0},{"$f":"IF('Anhang Grundstücksverzeichnis'!G1167=Texte!$A$27,F1167,0)","v":0},{"$f":"IF('Anhang Grundstücksverzeichnis'!G1167=Texte!$A$28,F1167,0)","v":0}]
[1158,{"$f":"IF(C1168<>\"\",IF(ISNA(VLOOKUP(C1168,Katastralgemeinden!$A$2:$B$3041,2,FALSE)),\"Ungültige KG-Nummer!\",VLOOKUP(C1168,Katastralgemeinden!A$2:$B$3041,2,\"falsch\")),\"\")","v":""},null,null,null,null,null,null,null,null,"",0,{"$f":"IF('Anhang Grundstücksverzeichnis'!G1168=Texte!$A$25,F1168,0)","v":0},{"$f":"IF('Anhang Grundstücksverzeichnis'!G1168=Texte!$A$26,F1168,0)","v":0},{"$f":"IF('Anhang Grundstücksverzeichnis'!G1168=Texte!$A$27,F1168,0)","v":0},{"$f":"IF('Anhang Grundstücksverzeichnis'!G1168=Texte!$A$28,F1168,0)","v":0}]
[1159,{"$f":"IF(C1169<>\"\",IF(ISNA(VLOOKUP(C1169,Katastralgemeinden!$A$2:$B$3041,2,FALSE)),\"Ungültige KG-Nummer!\",VLOOKUP(C1169,Katastralgemeinden!A$2:$B$3041,2,\"falsch\")),\"\")","v":""},null,null,null,null,null,null,null,null,"",0,{"$f":"IF('Anhang Grundstücksverzeichnis'!G1169=Texte!$A$25,F1169,0)","v":0},{"$f":"IF('Anhang Grundstücksverzeichnis'!G1169=Texte!$A$26,F1169,0)","v":0},{"$f":"IF('Anhang Grundstücksverzeichnis'!G1169=Texte!$A$27,F1169,0)","v":0},{"$f":"IF('Anhang Grundstücksverzeichnis'!G1169=Texte!$A$28,F1169,0)","v":0}]
[1160,{"$f":"IF(C1170<>\"\",IF(ISNA(VLOOKUP(C1170,Katastralgemeinden!$A$2:$B$3041,2,FALSE)),\"Ungültige KG-Nummer!\",VLOOKUP(C1170,Katastralgemeinden!A$2:$B$3041,2,\"falsch\")),\"\")","v":""},null,null,null,null,null,null,null,null,"",0,{"$f":"IF('Anhang Grundstücksverzeichnis'!G1170=Texte!$A$25,F1170,0)","v":0},{"$f":"IF('Anhang Grundstücksverzeichnis'!G1170=Texte!$A$26,F1170,0)","v":0},{"$f":"IF('Anhang Grundstücksverzeichnis'!G1170=Texte!$A$27,F1170,0)","v":0},{"$f":"IF('Anhang Grundstücksverzeichnis'!G1170=Texte!$A$28,F1170,0)","v":0}]
[1161,{"$f":"IF(C1171<>\"\",IF(ISNA(VLOOKUP(C1171,Katastralgemeinden!$A$2:$B$3041,2,FALSE)),\"Ungültige KG-Nummer!\",VLOOKUP(C1171,Katastralgemeinden!A$2:$B$3041,2,\"falsch\")),\"\")","v":""},null,null,null,null,null,null,null,null,"",0,{"$f":"IF('Anhang Grundstücksverzeichnis'!G1171=Texte!$A$25,F1171,0)","v":0},{"$f":"IF('Anhang Grundstücksverzeichnis'!G1171=Texte!$A$26,F1171,0)","v":0},{"$f":"IF('Anhang Grundstücksverzeichnis'!G1171=Texte!$A$27,F1171,0)","v":0},{"$f":"IF('Anhang Grundstücksverzeichnis'!G1171=Texte!$A$28,F1171,0)","v":0}]
[1162,{"$f":"IF(C1172<>\"\",IF(ISNA(VLOOKUP(C1172,Katastralgemeinden!$A$2:$B$3041,2,FALSE)),\"Ungültige KG-Nummer!\",VLOOKUP(C1172,Katastralgemeinden!A$2:$B$3041,2,\"falsch\")),\"\")","v":""},null,null,null,null,null,null,null,null,"",0,{"$f":"IF('Anhang Grundstücksverzeichnis'!G1172=Texte!$A$25,F1172,0)","v":0},{"$f":"IF('Anhang Grundstücksverzeichnis'!G1172=Texte!$A$26,F1172,0)","v":0},{"$f":"IF('Anhang Grundstücksverzeichnis'!G1172=Texte!$A$27,F1172,0)","v":0},{"$f":"IF('Anhang Grundstücksverzeichnis'!G1172=Texte!$A$28,F1172,0)","v":0}]
[1163,{"$f":"IF(C1173<>\"\",IF(ISNA(VLOOKUP(C1173,Katastralgemeinden!$A$2:$B$3041,2,FALSE)),\"Ungültige KG-Nummer!\",VLOOKUP(C1173,Katastralgemeinden!A$2:$B$3041,2,\"falsch\")),\"\")","v":""},null,null,null,null,null,null,null,null,"",0,{"$f":"IF('Anhang Grundstücksverzeichnis'!G1173=Texte!$A$25,F1173,0)","v":0},{"$f":"IF('Anhang Grundstücksverzeichnis'!G1173=Texte!$A$26,F1173,0)","v":0},{"$f":"IF('Anhang Grundstücksverzeichnis'!G1173=Texte!$A$27,F1173,0)","v":0},{"$f":"IF('Anhang Grundstücksverzeichnis'!G1173=Texte!$A$28,F1173,0)","v":0}]
[1164,{"$f":"IF(C1174<>\"\",IF(ISNA(VLOOKUP(C1174,Katastralgemeinden!$A$2:$B$3041,2,FALSE)),\"Ungültige KG-Nummer!\",VLOOKUP(C1174,Katastralgemeinden!A$2:$B$3041,2,\"falsch\")),\"\")","v":""},null,null,null,null,null,null,null,null,"",0,{"$f":"IF('Anhang Grundstücksverzeichnis'!G1174=Texte!$A$25,F1174,0)","v":0},{"$f":"IF('Anhang Grundstücksverzeichnis'!G1174=Texte!$A$26,F1174,0)","v":0},{"$f":"IF('Anhang Grundstücksverzeichnis'!G1174=Texte!$A$27,F1174,0)","v":0},{"$f":"IF('Anhang Grundstücksverzeichnis'!G1174=Texte!$A$28,F1174,0)","v":0}]
[1165,{"$f":"IF(C1175<>\"\",IF(ISNA(VLOOKUP(C1175,Katastralgemeinden!$A$2:$B$3041,2,FALSE)),\"Ungültige KG-Nummer!\",VLOOKUP(C1175,Katastralgemeinden!A$2:$B$3041,2,\"falsch\")),\"\")","v":""},null,null,null,null,null,null,null,null,"",0,{"$f":"IF('Anhang Grundstücksverzeichnis'!G1175=Texte!$A$25,F1175,0)","v":0},{"$f":"IF('Anhang Grundstücksverzeichnis'!G1175=Texte!$A$26,F1175,0)","v":0},{"$f":"IF('Anhang Grundstücksverzeichnis'!G1175=Texte!$A$27,F1175,0)","v":0},{"$f":"IF('Anhang Grundstücksverzeichnis'!G1175=Texte!$A$28,F1175,0)","v":0}]
[1166,{"$f":"IF(C1176<>\"\",IF(ISNA(VLOOKUP(C1176,Katastralgemeinden!$A$2:$B$3041,2,FALSE)),\"Ungültige KG-Nummer!\",VLOOKUP(C1176,Katastralgemeinden!A$2:$B$3041,2,\"falsch\")),\"\")","v":""},null,null,null,null,null,null,null,null,"",0,{"$f":"IF('Anhang Grundstücksverzeichnis'!G1176=Texte!$A$25,F1176,0)","v":0},{"$f":"IF('Anhang Grundstücksverzeichnis'!G1176=Texte!$A$26,F1176,0)","v":0},{"$f":"IF('Anhang Grundstücksverzeichnis'!G1176=Texte!$A$27,F1176,0)","v":0},{"$f":"IF('Anhang Grundstücksverzeichnis'!G1176=Texte!$A$28,F1176,0)","v":0}]
[1167,{"$f":"IF(C1177<>\"\",IF(ISNA(VLOOKUP(C1177,Katastralgemeinden!$A$2:$B$3041,2,FALSE)),\"Ungültige KG-Nummer!\",VLOOKUP(C1177,Katastralgemeinden!A$2:$B$3041,2,\"falsch\")),\"\")","v":""},null,null,null,null,null,null,null,null,"",0,{"$f":"IF('Anhang Grundstücksverzeichnis'!G1177=Texte!$A$25,F1177,0)","v":0},{"$f":"IF('Anhang Grundstücksverzeichnis'!G1177=Texte!$A$26,F1177,0)","v":0},{"$f":"IF('Anhang Grundstücksverzeichnis'!G1177=Texte!$A$27,F1177,0)","v":0},{"$f":"IF('Anhang Grundstücksverzeichnis'!G1177=Texte!$A$28,F1177,0)","v":0}]
[1168,{"$f":"IF(C1178<>\"\",IF(ISNA(VLOOKUP(C1178,Katastralgemeinden!$A$2:$B$3041,2,FALSE)),\"Ungültige KG-Nummer!\",VLOOKUP(C1178,Katastralgemeinden!A$2:$B$3041,2,\"falsch\")),\"\")","v":""},null,null,null,null,null,null,null,null,"",0,{"$f":"IF('Anhang Grundstücksverzeichnis'!G1178=Texte!$A$25,F1178,0)","v":0},{"$f":"IF('Anhang Grundstücksverzeichnis'!G1178=Texte!$A$26,F1178,0)","v":0},{"$f":"IF('Anhang Grundstücksverzeichnis'!G1178=Texte!$A$27,F1178,0)","v":0},{"$f":"IF('Anhang Grundstücksverzeichnis'!G1178=Texte!$A$28,F1178,0)","v":0}]
[1169,{"$f":"IF(C1179<>\"\",IF(ISNA(VLOOKUP(C1179,Katastralgemeinden!$A$2:$B$3041,2,FALSE)),\"Ungültige KG-Nummer!\",VLOOKUP(C1179,Katastralgemeinden!A$2:$B$3041,2,\"falsch\")),\"\")","v":""},null,null,null,null,null,null,null,null,"",0,{"$f":"IF('Anhang Grundstücksverzeichnis'!G1179=Texte!$A$25,F1179,0)","v":0},{"$f":"IF('Anhang Grundstücksverzeichnis'!G1179=Texte!$A$26,F1179,0)","v":0},{"$f":"IF('Anhang Grundstücksverzeichnis'!G1179=Texte!$A$27,F1179,0)","v":0},{"$f":"IF('Anhang Grundstücksverzeichnis'!G1179=Texte!$A$28,F1179,0)","v":0}]
[1170,{"$f":"IF(C1180<>\"\",IF(ISNA(VLOOKUP(C1180,Katastralgemeinden!$A$2:$B$3041,2,FALSE)),\"Ungültige KG-Nummer!\",VLOOKUP(C1180,Katastralgemeinden!A$2:$B$3041,2,\"falsch\")),\"\")","v":""},null,null,null,null,null,null,null,null,"",0,{"$f":"IF('Anhang Grundstücksverzeichnis'!G1180=Texte!$A$25,F1180,0)","v":0},{"$f":"IF('Anhang Grundstücksverzeichnis'!G1180=Texte!$A$26,F1180,0)","v":0},{"$f":"IF('Anhang Grundstücksverzeichnis'!G1180=Texte!$A$27,F1180,0)","v":0},{"$f":"IF('Anhang Grundstücksverzeichnis'!G1180=Texte!$A$28,F1180,0)","v":0}]
[1171,{"$f":"IF(C1181<>\"\",IF(ISNA(VLOOKUP(C1181,Katastralgemeinden!$A$2:$B$3041,2,FALSE)),\"Ungültige KG-Nummer!\",VLOOKUP(C1181,Katastralgemeinden!A$2:$B$3041,2,\"falsch\")),\"\")","v":""},null,null,null,null,null,null,null,null,"",0,{"$f":"IF('Anhang Grundstücksverzeichnis'!G1181=Texte!$A$25,F1181,0)","v":0},{"$f":"IF('Anhang Grundstücksverzeichnis'!G1181=Texte!$A$26,F1181,0)","v":0},{"$f":"IF('Anhang Grundstücksverzeichnis'!G1181=Texte!$A$27,F1181,0)","v":0},{"$f":"IF('Anhang Grundstücksverzeichnis'!G1181=Texte!$A$28,F1181,0)","v":0}]
[1172,{"$f":"IF(C1182<>\"\",IF(ISNA(VLOOKUP(C1182,Katastralgemeinden!$A$2:$B$3041,2,FALSE)),\"Ungültige KG-Nummer!\",VLOOKUP(C1182,Katastralgemeinden!A$2:$B$3041,2,\"falsch\")),\"\")","v":""},null,null,null,null,null,null,null,null,"",0,{"$f":"IF('Anhang Grundstücksverzeichnis'!G1182=Texte!$A$25,F1182,0)","v":0},{"$f":"IF('Anhang Grundstücksverzeichnis'!G1182=Texte!$A$26,F1182,0)","v":0},{"$f":"IF('Anhang Grundstücksverzeichnis'!G1182=Texte!$A$27,F1182,0)","v":0},{"$f":"IF('Anhang Grundstücksverzeichnis'!G1182=Texte!$A$28,F1182,0)","v":0}]
[1173,{"$f":"IF(C1183<>\"\",IF(ISNA(VLOOKUP(C1183,Katastralgemeinden!$A$2:$B$3041,2,FALSE)),\"Ungültige KG-Nummer!\",VLOOKUP(C1183,Katastralgemeinden!A$2:$B$3041,2,\"falsch\")),\"\")","v":""},null,null,null,null,null,null,null,null,"",0,{"$f":"IF('Anhang Grundstücksverzeichnis'!G1183=Texte!$A$25,F1183,0)","v":0},{"$f":"IF('Anhang Grundstücksverzeichnis'!G1183=Texte!$A$26,F1183,0)","v":0},{"$f":"IF('Anhang Grundstücksverzeichnis'!G1183=Texte!$A$27,F1183,0)","v":0},{"$f":"IF('Anhang Grundstücksverzeichnis'!G1183=Texte!$A$28,F1183,0)","v":0}]
[1174,{"$f":"IF(C1184<>\"\",IF(ISNA(VLOOKUP(C1184,Katastralgemeinden!$A$2:$B$3041,2,FALSE)),\"Ungültige KG-Nummer!\",VLOOKUP(C1184,Katastralgemeinden!A$2:$B$3041,2,\"falsch\")),\"\")","v":""},null,null,null,null,null,null,null,null,"",0,{"$f":"IF('Anhang Grundstücksverzeichnis'!G1184=Texte!$A$25,F1184,0)","v":0},{"$f":"IF('Anhang Grundstücksverzeichnis'!G1184=Texte!$A$26,F1184,0)","v":0},{"$f":"IF('Anhang Grundstücksverzeichnis'!G1184=Texte!$A$27,F1184,0)","v":0},{"$f":"IF('Anhang Grundstücksverzeichnis'!G1184=Texte!$A$28,F1184,0)","v":0}]
[1175,{"$f":"IF(C1185<>\"\",IF(ISNA(VLOOKUP(C1185,Katastralgemeinden!$A$2:$B$3041,2,FALSE)),\"Ungültige KG-Nummer!\",VLOOKUP(C1185,Katastralgemeinden!A$2:$B$3041,2,\"falsch\")),\"\")","v":""},null,null,null,null,null,null,null,null,"",0,{"$f":"IF('Anhang Grundstücksverzeichnis'!G1185=Texte!$A$25,F1185,0)","v":0},{"$f":"IF('Anhang Grundstücksverzeichnis'!G1185=Texte!$A$26,F1185,0)","v":0},{"$f":"IF('Anhang Grundstücksverzeichnis'!G1185=Texte!$A$27,F1185,0)","v":0},{"$f":"IF('Anhang Grundstücksverzeichnis'!G1185=Texte!$A$28,F1185,0)","v":0}]
[1176,{"$f":"IF(C1186<>\"\",IF(ISNA(VLOOKUP(C1186,Katastralgemeinden!$A$2:$B$3041,2,FALSE)),\"Ungültige KG-Nummer!\",VLOOKUP(C1186,Katastralgemeinden!A$2:$B$3041,2,\"falsch\")),\"\")","v":""},null,null,null,null,null,null,null,null,"",0,{"$f":"IF('Anhang Grundstücksverzeichnis'!G1186=Texte!$A$25,F1186,0)","v":0},{"$f":"IF('Anhang Grundstücksverzeichnis'!G1186=Texte!$A$26,F1186,0)","v":0},{"$f":"IF('Anhang Grundstücksverzeichnis'!G1186=Texte!$A$27,F1186,0)","v":0},{"$f":"IF('Anhang Grundstücksverzeichnis'!G1186=Texte!$A$28,F1186,0)","v":0}]
[1177,{"$f":"IF(C1187<>\"\",IF(ISNA(VLOOKUP(C1187,Katastralgemeinden!$A$2:$B$3041,2,FALSE)),\"Ungültige KG-Nummer!\",VLOOKUP(C1187,Katastralgemeinden!A$2:$B$3041,2,\"falsch\")),\"\")","v":""},null,null,null,null,null,null,null,null,"",0,{"$f":"IF('Anhang Grundstücksverzeichnis'!G1187=Texte!$A$25,F1187,0)","v":0},{"$f":"IF('Anhang Grundstücksverzeichnis'!G1187=Texte!$A$26,F1187,0)","v":0},{"$f":"IF('Anhang Grundstücksverzeichnis'!G1187=Texte!$A$27,F1187,0)","v":0},{"$f":"IF('Anhang Grundstücksverzeichnis'!G1187=Texte!$A$28,F1187,0)","v":0}]
[1178,{"$f":"IF(C1188<>\"\",IF(ISNA(VLOOKUP(C1188,Katastralgemeinden!$A$2:$B$3041,2,FALSE)),\"Ungültige KG-Nummer!\",VLOOKUP(C1188,Katastralgemeinden!A$2:$B$3041,2,\"falsch\")),\"\")","v":""},null,null,null,null,null,null,null,null,"",0,{"$f":"IF('Anhang Grundstücksverzeichnis'!G1188=Texte!$A$25,F1188,0)","v":0},{"$f":"IF('Anhang Grundstücksverzeichnis'!G1188=Texte!$A$26,F1188,0)","v":0},{"$f":"IF('Anhang Grundstücksverzeichnis'!G1188=Texte!$A$27,F1188,0)","v":0},{"$f":"IF('Anhang Grundstücksverzeichnis'!G1188=Texte!$A$28,F1188,0)","v":0}]
[1179,{"$f":"IF(C1189<>\"\",IF(ISNA(VLOOKUP(C1189,Katastralgemeinden!$A$2:$B$3041,2,FALSE)),\"Ungültige KG-Nummer!\",VLOOKUP(C1189,Katastralgemeinden!A$2:$B$3041,2,\"falsch\")),\"\")","v":""},null,null,null,null,null,null,null,null,"",0,{"$f":"IF('Anhang Grundstücksverzeichnis'!G1189=Texte!$A$25,F1189,0)","v":0},{"$f":"IF('Anhang Grundstücksverzeichnis'!G1189=Texte!$A$26,F1189,0)","v":0},{"$f":"IF('Anhang Grundstücksverzeichnis'!G1189=Texte!$A$27,F1189,0)","v":0},{"$f":"IF('Anhang Grundstücksverzeichnis'!G1189=Texte!$A$28,F1189,0)","v":0}]
[1180,{"$f":"IF(C1190<>\"\",IF(ISNA(VLOOKUP(C1190,Katastralgemeinden!$A$2:$B$3041,2,FALSE)),\"Ungültige KG-Nummer!\",VLOOKUP(C1190,Katastralgemeinden!A$2:$B$3041,2,\"falsch\")),\"\")","v":""},null,null,null,null,null,null,null,null,"",0,{"$f":"IF('Anhang Grundstücksverzeichnis'!G1190=Texte!$A$25,F1190,0)","v":0},{"$f":"IF('Anhang Grundstücksverzeichnis'!G1190=Texte!$A$26,F1190,0)","v":0},{"$f":"IF('Anhang Grundstücksverzeichnis'!G1190=Texte!$A$27,F1190,0)","v":0},{"$f":"IF('Anhang Grundstücksverzeichnis'!G1190=Texte!$A$28,F1190,0)","v":0}]
[1181,{"$f":"IF(C1191<>\"\",IF(ISNA(VLOOKUP(C1191,Katastralgemeinden!$A$2:$B$3041,2,FALSE)),\"Ungültige KG-Nummer!\",VLOOKUP(C1191,Katastralgemeinden!A$2:$B$3041,2,\"falsch\")),\"\")","v":""},null,null,null,null,null,null,null,null,"",0,{"$f":"IF('Anhang Grundstücksverzeichnis'!G1191=Texte!$A$25,F1191,0)","v":0},{"$f":"IF('Anhang Grundstücksverzeichnis'!G1191=Texte!$A$26,F1191,0)","v":0},{"$f":"IF('Anhang Grundstücksverzeichnis'!G1191=Texte!$A$27,F1191,0)","v":0},{"$f":"IF('Anhang Grundstücksverzeichnis'!G1191=Texte!$A$28,F1191,0)","v":0}]
[1182,{"$f":"IF(C1192<>\"\",IF(ISNA(VLOOKUP(C1192,Katastralgemeinden!$A$2:$B$3041,2,FALSE)),\"Ungültige KG-Nummer!\",VLOOKUP(C1192,Katastralgemeinden!A$2:$B$3041,2,\"falsch\")),\"\")","v":""},null,null,null,null,null,null,null,null,"",0,{"$f":"IF('Anhang Grundstücksverzeichnis'!G1192=Texte!$A$25,F1192,0)","v":0},{"$f":"IF('Anhang Grundstücksverzeichnis'!G1192=Texte!$A$26,F1192,0)","v":0},{"$f":"IF('Anhang Grundstücksverzeichnis'!G1192=Texte!$A$27,F1192,0)","v":0},{"$f":"IF('Anhang Grundstücksverzeichnis'!G1192=Texte!$A$28,F1192,0)","v":0}]
[1183,{"$f":"IF(C1193<>\"\",IF(ISNA(VLOOKUP(C1193,Katastralgemeinden!$A$2:$B$3041,2,FALSE)),\"Ungültige KG-Nummer!\",VLOOKUP(C1193,Katastralgemeinden!A$2:$B$3041,2,\"falsch\")),\"\")","v":""},null,null,null,null,null,null,null,null,"",0,{"$f":"IF('Anhang Grundstücksverzeichnis'!G1193=Texte!$A$25,F1193,0)","v":0},{"$f":"IF('Anhang Grundstücksverzeichnis'!G1193=Texte!$A$26,F1193,0)","v":0},{"$f":"IF('Anhang Grundstücksverzeichnis'!G1193=Texte!$A$27,F1193,0)","v":0},{"$f":"IF('Anhang Grundstücksverzeichnis'!G1193=Texte!$A$28,F1193,0)","v":0}]
[1184,{"$f":"IF(C1194<>\"\",IF(ISNA(VLOOKUP(C1194,Katastralgemeinden!$A$2:$B$3041,2,FALSE)),\"Ungültige KG-Nummer!\",VLOOKUP(C1194,Katastralgemeinden!A$2:$B$3041,2,\"falsch\")),\"\")","v":""},null,null,null,null,null,null,null,null,"",0,{"$f":"IF('Anhang Grundstücksverzeichnis'!G1194=Texte!$A$25,F1194,0)","v":0},{"$f":"IF('Anhang Grundstücksverzeichnis'!G1194=Texte!$A$26,F1194,0)","v":0},{"$f":"IF('Anhang Grundstücksverzeichnis'!G1194=Texte!$A$27,F1194,0)","v":0},{"$f":"IF('Anhang Grundstücksverzeichnis'!G1194=Texte!$A$28,F1194,0)","v":0}]
[1185,{"$f":"IF(C1195<>\"\",IF(ISNA(VLOOKUP(C1195,Katastralgemeinden!$A$2:$B$3041,2,FALSE)),\"Ungültige KG-Nummer!\",VLOOKUP(C1195,Katastralgemeinden!A$2:$B$3041,2,\"falsch\")),\"\")","v":""},null,null,null,null,null,null,null,null,"",0,{"$f":"IF('Anhang Grundstücksverzeichnis'!G1195=Texte!$A$25,F1195,0)","v":0},{"$f":"IF('Anhang Grundstücksverzeichnis'!G1195=Texte!$A$26,F1195,0)","v":0},{"$f":"IF('Anhang Grundstücksverzeichnis'!G1195=Texte!$A$27,F1195,0)","v":0},{"$f":"IF('Anhang Grundstücksverzeichnis'!G1195=Texte!$A$28,F1195,0)","v":0}]
[1186,{"$f":"IF(C1196<>\"\",IF(ISNA(VLOOKUP(C1196,Katastralgemeinden!$A$2:$B$3041,2,FALSE)),\"Ungültige KG-Nummer!\",VLOOKUP(C1196,Katastralgemeinden!A$2:$B$3041,2,\"falsch\")),\"\")","v":""},null,null,null,null,null,null,null,null,"",0,{"$f":"IF('Anhang Grundstücksverzeichnis'!G1196=Texte!$A$25,F1196,0)","v":0},{"$f":"IF('Anhang Grundstücksverzeichnis'!G1196=Texte!$A$26,F1196,0)","v":0},{"$f":"IF('Anhang Grundstücksverzeichnis'!G1196=Texte!$A$27,F1196,0)","v":0},{"$f":"IF('Anhang Grundstücksverzeichnis'!G1196=Texte!$A$28,F1196,0)","v":0}]
[1187,{"$f":"IF(C1197<>\"\",IF(ISNA(VLOOKUP(C1197,Katastralgemeinden!$A$2:$B$3041,2,FALSE)),\"Ungültige KG-Nummer!\",VLOOKUP(C1197,Katastralgemeinden!A$2:$B$3041,2,\"falsch\")),\"\")","v":""},null,null,null,null,null,null,null,null,"",0,{"$f":"IF('Anhang Grundstücksverzeichnis'!G1197=Texte!$A$25,F1197,0)","v":0},{"$f":"IF('Anhang Grundstücksverzeichnis'!G1197=Texte!$A$26,F1197,0)","v":0},{"$f":"IF('Anhang Grundstücksverzeichnis'!G1197=Texte!$A$27,F1197,0)","v":0},{"$f":"IF('Anhang Grundstücksverzeichnis'!G1197=Texte!$A$28,F1197,0)","v":0}]
[1188,{"$f":"IF(C1198<>\"\",IF(ISNA(VLOOKUP(C1198,Katastralgemeinden!$A$2:$B$3041,2,FALSE)),\"Ungültige KG-Nummer!\",VLOOKUP(C1198,Katastralgemeinden!A$2:$B$3041,2,\"falsch\")),\"\")","v":""},null,null,null,null,null,null,null,null,"",0,{"$f":"IF('Anhang Grundstücksverzeichnis'!G1198=Texte!$A$25,F1198,0)","v":0},{"$f":"IF('Anhang Grundstücksverzeichnis'!G1198=Texte!$A$26,F1198,0)","v":0},{"$f":"IF('Anhang Grundstücksverzeichnis'!G1198=Texte!$A$27,F1198,0)","v":0},{"$f":"IF('Anhang Grundstücksverzeichnis'!G1198=Texte!$A$28,F1198,0)","v":0}]
[1189,{"$f":"IF(C1199<>\"\",IF(ISNA(VLOOKUP(C1199,Katastralgemeinden!$A$2:$B$3041,2,FALSE)),\"Ungültige KG-Nummer!\",VLOOKUP(C1199,Katastralgemeinden!A$2:$B$3041,2,\"falsch\")),\"\")","v":""},null,null,null,null,null,null,null,null,"",0,{"$f":"IF('Anhang Grundstücksverzeichnis'!G1199=Texte!$A$25,F1199,0)","v":0},{"$f":"IF('Anhang Grundstücksverzeichnis'!G1199=Texte!$A$26,F1199,0)","v":0},{"$f":"IF('Anhang Grundstücksverzeichnis'!G1199=Texte!$A$27,F1199,0)","v":0},{"$f":"IF('Anhang Grundstücksverzeichnis'!G1199=Texte!$A$28,F1199,0)","v":0}]
[1190,{"$f":"IF(C1200<>\"\",IF(ISNA(VLOOKUP(C1200,Katastralgemeinden!$A$2:$B$3041,2,FALSE)),\"Ungültige KG-Nummer!\",VLOOKUP(C1200,Katastralgemeinden!A$2:$B$3041,2,\"falsch\")),\"\")","v":""},null,null,null,null,null,null,null,null,"",0,{"$f":"IF('Anhang Grundstücksverzeichnis'!G1200=Texte!$A$25,F1200,0)","v":0},{"$f":"IF('Anhang Grundstücksverzeichnis'!G1200=Texte!$A$26,F1200,0)","v":0},{"$f":"IF('Anhang Grundstücksverzeichnis'!G1200=Texte!$A$27,F1200,0)","v":0},{"$f":"IF('Anhang Grundstücksverzeichnis'!G1200=Texte!$A$28,F1200,0)","v":0}]
[1191,{"$f":"IF(C1201<>\"\",IF(ISNA(VLOOKUP(C1201,Katastralgemeinden!$A$2:$B$3041,2,FALSE)),\"Ungültige KG-Nummer!\",VLOOKUP(C1201,Katastralgemeinden!A$2:$B$3041,2,\"falsch\")),\"\")","v":""},null,null,null,null,null,null,null,null,"",0,{"$f":"IF('Anhang Grundstücksverzeichnis'!G1201=Texte!$A$25,F1201,0)","v":0},{"$f":"IF('Anhang Grundstücksverzeichnis'!G1201=Texte!$A$26,F1201,0)","v":0},{"$f":"IF('Anhang Grundstücksverzeichnis'!G1201=Texte!$A$27,F1201,0)","v":0},{"$f":"IF('Anhang Grundstücksverzeichnis'!G1201=Texte!$A$28,F1201,0)","v":0}]
[1192,{"$f":"IF(C1202<>\"\",IF(ISNA(VLOOKUP(C1202,Katastralgemeinden!$A$2:$B$3041,2,FALSE)),\"Ungültige KG-Nummer!\",VLOOKUP(C1202,Katastralgemeinden!A$2:$B$3041,2,\"falsch\")),\"\")","v":""},null,null,null,null,null,null,null,null,"",0,{"$f":"IF('Anhang Grundstücksverzeichnis'!G1202=Texte!$A$25,F1202,0)","v":0},{"$f":"IF('Anhang Grundstücksverzeichnis'!G1202=Texte!$A$26,F1202,0)","v":0},{"$f":"IF('Anhang Grundstücksverzeichnis'!G1202=Texte!$A$27,F1202,0)","v":0},{"$f":"IF('Anhang Grundstücksverzeichnis'!G1202=Texte!$A$28,F1202,0)","v":0}]
[1193,{"$f":"IF(C1203<>\"\",IF(ISNA(VLOOKUP(C1203,Katastralgemeinden!$A$2:$B$3041,2,FALSE)),\"Ungültige KG-Nummer!\",VLOOKUP(C1203,Katastralgemeinden!A$2:$B$3041,2,\"falsch\")),\"\")","v":""},null,null,null,null,null,null,null,null,"",0,{"$f":"IF('Anhang Grundstücksverzeichnis'!G1203=Texte!$A$25,F1203,0)","v":0},{"$f":"IF('Anhang Grundstücksverzeichnis'!G1203=Texte!$A$26,F1203,0)","v":0},{"$f":"IF('Anhang Grundstücksverzeichnis'!G1203=Texte!$A$27,F1203,0)","v":0},{"$f":"IF('Anhang Grundstücksverzeichnis'!G1203=Texte!$A$28,F1203,0)","v":0}]
[1194,{"$f":"IF(C1204<>\"\",IF(ISNA(VLOOKUP(C1204,Katastralgemeinden!$A$2:$B$3041,2,FALSE)),\"Ungültige KG-Nummer!\",VLOOKUP(C1204,Katastralgemeinden!A$2:$B$3041,2,\"falsch\")),\"\")","v":""},null,null,null,null,null,null,null,null,"",0,{"$f":"IF('Anhang Grundstücksverzeichnis'!G1204=Texte!$A$25,F1204,0)","v":0},{"$f":"IF('Anhang Grundstücksverzeichnis'!G1204=Texte!$A$26,F1204,0)","v":0},{"$f":"IF('Anhang Grundstücksverzeichnis'!G1204=Texte!$A$27,F1204,0)","v":0},{"$f":"IF('Anhang Grundstücksverzeichnis'!G1204=Texte!$A$28,F1204,0)","v":0}]
[1195,{"$f":"IF(C1205<>\"\",IF(ISNA(VLOOKUP(C1205,Katastralgemeinden!$A$2:$B$3041,2,FALSE)),\"Ungültige KG-Nummer!\",VLOOKUP(C1205,Katastralgemeinden!A$2:$B$3041,2,\"falsch\")),\"\")","v":""},null,null,null,null,null,null,null,null,"",0,{"$f":"IF('Anhang Grundstücksverzeichnis'!G1205=Texte!$A$25,F1205,0)","v":0},{"$f":"IF('Anhang Grundstücksverzeichnis'!G1205=Texte!$A$26,F1205,0)","v":0},{"$f":"IF('Anhang Grundstücksverzeichnis'!G1205=Texte!$A$27,F1205,0)","v":0},{"$f":"IF('Anhang Grundstücksverzeichnis'!G1205=Texte!$A$28,F1205,0)","v":0}]
[1196,{"$f":"IF(C1206<>\"\",IF(ISNA(VLOOKUP(C1206,Katastralgemeinden!$A$2:$B$3041,2,FALSE)),\"Ungültige KG-Nummer!\",VLOOKUP(C1206,Katastralgemeinden!A$2:$B$3041,2,\"falsch\")),\"\")","v":""},null,null,null,null,null,null,null,null,"",0,{"$f":"IF('Anhang Grundstücksverzeichnis'!G1206=Texte!$A$25,F1206,0)","v":0},{"$f":"IF('Anhang Grundstücksverzeichnis'!G1206=Texte!$A$26,F1206,0)","v":0},{"$f":"IF('Anhang Grundstücksverzeichnis'!G1206=Texte!$A$27,F1206,0)","v":0},{"$f":"IF('Anhang Grundstücksverzeichnis'!G1206=Texte!$A$28,F1206,0)","v":0}]
[1197,{"$f":"IF(C1207<>\"\",IF(ISNA(VLOOKUP(C1207,Katastralgemeinden!$A$2:$B$3041,2,FALSE)),\"Ungültige KG-Nummer!\",VLOOKUP(C1207,Katastralgemeinden!A$2:$B$3041,2,\"falsch\")),\"\")","v":""},null,null,null,null,null,null,null,null,"",0,{"$f":"IF('Anhang Grundstücksverzeichnis'!G1207=Texte!$A$25,F1207,0)","v":0},{"$f":"IF('Anhang Grundstücksverzeichnis'!G1207=Texte!$A$26,F1207,0)","v":0},{"$f":"IF('Anhang Grundstücksverzeichnis'!G1207=Texte!$A$27,F1207,0)","v":0},{"$f":"IF('Anhang Grundstücksverzeichnis'!G1207=Texte!$A$28,F1207,0)","v":0}]
[1198,{"$f":"IF(C1208<>\"\",IF(ISNA(VLOOKUP(C1208,Katastralgemeinden!$A$2:$B$3041,2,FALSE)),\"Ungültige KG-Nummer!\",VLOOKUP(C1208,Katastralgemeinden!A$2:$B$3041,2,\"falsch\")),\"\")","v":""},null,null,null,null,null,null,null,null,"",0,{"$f":"IF('Anhang Grundstücksverzeichnis'!G1208=Texte!$A$25,F1208,0)","v":0},{"$f":"IF('Anhang Grundstücksverzeichnis'!G1208=Texte!$A$26,F1208,0)","v":0},{"$f":"IF('Anhang Grundstücksverzeichnis'!G1208=Texte!$A$27,F1208,0)","v":0},{"$f":"IF('Anhang Grundstücksverzeichnis'!G1208=Texte!$A$28,F1208,0)","v":0}]
[1199,{"$f":"IF(C1209<>\"\",IF(ISNA(VLOOKUP(C1209,Katastralgemeinden!$A$2:$B$3041,2,FALSE)),\"Ungültige KG-Nummer!\",VLOOKUP(C1209,Katastralgemeinden!A$2:$B$3041,2,\"falsch\")),\"\")","v":""},null,null,null,null,null,null,null,null,"",0,{"$f":"IF('Anhang Grundstücksverzeichnis'!G1209=Texte!$A$25,F1209,0)","v":0},{"$f":"IF('Anhang Grundstücksverzeichnis'!G1209=Texte!$A$26,F1209,0)","v":0},{"$f":"IF('Anhang Grundstücksverzeichnis'!G1209=Texte!$A$27,F1209,0)","v":0},{"$f":"IF('Anhang Grundstücksverzeichnis'!G1209=Texte!$A$28,F1209,0)","v":0}]
[1200,{"$f":"IF(C1210<>\"\",IF(ISNA(VLOOKUP(C1210,Katastralgemeinden!$A$2:$B$3041,2,FALSE)),\"Ungültige KG-Nummer!\",VLOOKUP(C1210,Katastralgemeinden!A$2:$B$3041,2,\"falsch\")),\"\")","v":""},null,null,null,null,null,null,null,null,"",0,{"$f":"IF('Anhang Grundstücksverzeichnis'!G1210=Texte!$A$25,F1210,0)","v":0},{"$f":"IF('Anhang Grundstücksverzeichnis'!G1210=Texte!$A$26,F1210,0)","v":0},{"$f":"IF('Anhang Grundstücksverzeichnis'!G1210=Texte!$A$27,F1210,0)","v":0},{"$f":"IF('Anhang Grundstücksverzeichnis'!G1210=Texte!$A$28,F1210,0)","v":0}]
[1201,{"$f":"IF(C1211<>\"\",IF(ISNA(VLOOKUP(C1211,Katastralgemeinden!$A$2:$B$3041,2,FALSE)),\"Ungültige KG-Nummer!\",VLOOKUP(C1211,Katastralgemeinden!A$2:$B$3041,2,\"falsch\")),\"\")","v":""},null,null,null,null,null,null,null,null,"",0,{"$f":"IF('Anhang Grundstücksverzeichnis'!G1211=Texte!$A$25,F1211,0)","v":0},{"$f":"IF('Anhang Grundstücksverzeichnis'!G1211=Texte!$A$26,F1211,0)","v":0},{"$f":"IF('Anhang Grundstücksverzeichnis'!G1211=Texte!$A$27,F1211,0)","v":0},{"$f":"IF('Anhang Grundstücksverzeichnis'!G1211=Texte!$A$28,F1211,0)","v":0}]
[1202,{"$f":"IF(C1212<>\"\",IF(ISNA(VLOOKUP(C1212,Katastralgemeinden!$A$2:$B$3041,2,FALSE)),\"Ungültige KG-Nummer!\",VLOOKUP(C1212,Katastralgemeinden!A$2:$B$3041,2,\"falsch\")),\"\")","v":""},null,null,null,null,null,null,null,null,"",0,{"$f":"IF('Anhang Grundstücksverzeichnis'!G1212=Texte!$A$25,F1212,0)","v":0},{"$f":"IF('Anhang Grundstücksverzeichnis'!G1212=Texte!$A$26,F1212,0)","v":0},{"$f":"IF('Anhang Grundstücksverzeichnis'!G1212=Texte!$A$27,F1212,0)","v":0},{"$f":"IF('Anhang Grundstücksverzeichnis'!G1212=Texte!$A$28,F1212,0)","v":0}]
[1203,{"$f":"IF(C1213<>\"\",IF(ISNA(VLOOKUP(C1213,Katastralgemeinden!$A$2:$B$3041,2,FALSE)),\"Ungültige KG-Nummer!\",VLOOKUP(C1213,Katastralgemeinden!A$2:$B$3041,2,\"falsch\")),\"\")","v":""},null,null,null,null,null,null,null,null,"",0,{"$f":"IF('Anhang Grundstücksverzeichnis'!G1213=Texte!$A$25,F1213,0)","v":0},{"$f":"IF('Anhang Grundstücksverzeichnis'!G1213=Texte!$A$26,F1213,0)","v":0},{"$f":"IF('Anhang Grundstücksverzeichnis'!G1213=Texte!$A$27,F1213,0)","v":0},{"$f":"IF('Anhang Grundstücksverzeichnis'!G1213=Texte!$A$28,F1213,0)","v":0}]
[1204,{"$f":"IF(C1214<>\"\",IF(ISNA(VLOOKUP(C1214,Katastralgemeinden!$A$2:$B$3041,2,FALSE)),\"Ungültige KG-Nummer!\",VLOOKUP(C1214,Katastralgemeinden!A$2:$B$3041,2,\"falsch\")),\"\")","v":""},null,null,null,null,null,null,null,null,"",0,{"$f":"IF('Anhang Grundstücksverzeichnis'!G1214=Texte!$A$25,F1214,0)","v":0},{"$f":"IF('Anhang Grundstücksverzeichnis'!G1214=Texte!$A$26,F1214,0)","v":0},{"$f":"IF('Anhang Grundstücksverzeichnis'!G1214=Texte!$A$27,F1214,0)","v":0},{"$f":"IF('Anhang Grundstücksverzeichnis'!G1214=Texte!$A$28,F1214,0)","v":0}]
[1205,{"$f":"IF(C1215<>\"\",IF(ISNA(VLOOKUP(C1215,Katastralgemeinden!$A$2:$B$3041,2,FALSE)),\"Ungültige KG-Nummer!\",VLOOKUP(C1215,Katastralgemeinden!A$2:$B$3041,2,\"falsch\")),\"\")","v":""},null,null,null,null,null,null,null,null,"",0,{"$f":"IF('Anhang Grundstücksverzeichnis'!G1215=Texte!$A$25,F1215,0)","v":0},{"$f":"IF('Anhang Grundstücksverzeichnis'!G1215=Texte!$A$26,F1215,0)","v":0},{"$f":"IF('Anhang Grundstücksverzeichnis'!G1215=Texte!$A$27,F1215,0)","v":0},{"$f":"IF('Anhang Grundstücksverzeichnis'!G1215=Texte!$A$28,F1215,0)","v":0}]
[1206,{"$f":"IF(C1216<>\"\",IF(ISNA(VLOOKUP(C1216,Katastralgemeinden!$A$2:$B$3041,2,FALSE)),\"Ungültige KG-Nummer!\",VLOOKUP(C1216,Katastralgemeinden!A$2:$B$3041,2,\"falsch\")),\"\")","v":""},null,null,null,null,null,null,null,null,"",0,{"$f":"IF('Anhang Grundstücksverzeichnis'!G1216=Texte!$A$25,F1216,0)","v":0},{"$f":"IF('Anhang Grundstücksverzeichnis'!G1216=Texte!$A$26,F1216,0)","v":0},{"$f":"IF('Anhang Grundstücksverzeichnis'!G1216=Texte!$A$27,F1216,0)","v":0},{"$f":"IF('Anhang Grundstücksverzeichnis'!G1216=Texte!$A$28,F1216,0)","v":0}]
[1207,{"$f":"IF(C1217<>\"\",IF(ISNA(VLOOKUP(C1217,Katastralgemeinden!$A$2:$B$3041,2,FALSE)),\"Ungültige KG-Nummer!\",VLOOKUP(C1217,Katastralgemeinden!A$2:$B$3041,2,\"falsch\")),\"\")","v":""},null,null,null,null,null,null,null,null,"",0,{"$f":"IF('Anhang Grundstücksverzeichnis'!G1217=Texte!$A$25,F1217,0)","v":0},{"$f":"IF('Anhang Grundstücksverzeichnis'!G1217=Texte!$A$26,F1217,0)","v":0},{"$f":"IF('Anhang Grundstücksverzeichnis'!G1217=Texte!$A$27,F1217,0)","v":0},{"$f":"IF('Anhang Grundstücksverzeichnis'!G1217=Texte!$A$28,F1217,0)","v":0}]
[1208,{"$f":"IF(C1218<>\"\",IF(ISNA(VLOOKUP(C1218,Katastralgemeinden!$A$2:$B$3041,2,FALSE)),\"Ungültige KG-Nummer!\",VLOOKUP(C1218,Katastralgemeinden!A$2:$B$3041,2,\"falsch\")),\"\")","v":""},null,null,null,null,null,null,null,null,"",0,{"$f":"IF('Anhang Grundstücksverzeichnis'!G1218=Texte!$A$25,F1218,0)","v":0},{"$f":"IF('Anhang Grundstücksverzeichnis'!G1218=Texte!$A$26,F1218,0)","v":0},{"$f":"IF('Anhang Grundstücksverzeichnis'!G1218=Texte!$A$27,F1218,0)","v":0},{"$f":"IF('Anhang Grundstücksverzeichnis'!G1218=Texte!$A$28,F1218,0)","v":0}]
[1209,{"$f":"IF(C1219<>\"\",IF(ISNA(VLOOKUP(C1219,Katastralgemeinden!$A$2:$B$3041,2,FALSE)),\"Ungültige KG-Nummer!\",VLOOKUP(C1219,Katastralgemeinden!A$2:$B$3041,2,\"falsch\")),\"\")","v":""},null,null,null,null,null,null,null,null,"",0,{"$f":"IF('Anhang Grundstücksverzeichnis'!G1219=Texte!$A$25,F1219,0)","v":0},{"$f":"IF('Anhang Grundstücksverzeichnis'!G1219=Texte!$A$26,F1219,0)","v":0},{"$f":"IF('Anhang Grundstücksverzeichnis'!G1219=Texte!$A$27,F1219,0)","v":0},{"$f":"IF('Anhang Grundstücksverzeichnis'!G1219=Texte!$A$28,F1219,0)","v":0}]
[1210,{"$f":"IF(C1220<>\"\",IF(ISNA(VLOOKUP(C1220,Katastralgemeinden!$A$2:$B$3041,2,FALSE)),\"Ungültige KG-Nummer!\",VLOOKUP(C1220,Katastralgemeinden!A$2:$B$3041,2,\"falsch\")),\"\")","v":""},null,null,null,null,null,null,null,null,"",0,{"$f":"IF('Anhang Grundstücksverzeichnis'!G1220=Texte!$A$25,F1220,0)","v":0},{"$f":"IF('Anhang Grundstücksverzeichnis'!G1220=Texte!$A$26,F1220,0)","v":0},{"$f":"IF('Anhang Grundstücksverzeichnis'!G1220=Texte!$A$27,F1220,0)","v":0},{"$f":"IF('Anhang Grundstücksverzeichnis'!G1220=Texte!$A$28,F1220,0)","v":0}]
[1211,{"$f":"IF(C1221<>\"\",IF(ISNA(VLOOKUP(C1221,Katastralgemeinden!$A$2:$B$3041,2,FALSE)),\"Ungültige KG-Nummer!\",VLOOKUP(C1221,Katastralgemeinden!A$2:$B$3041,2,\"falsch\")),\"\")","v":""},null,null,null,null,null,null,null,null,"",0,{"$f":"IF('Anhang Grundstücksverzeichnis'!G1221=Texte!$A$25,F1221,0)","v":0},{"$f":"IF('Anhang Grundstücksverzeichnis'!G1221=Texte!$A$26,F1221,0)","v":0},{"$f":"IF('Anhang Grundstücksverzeichnis'!G1221=Texte!$A$27,F1221,0)","v":0},{"$f":"IF('Anhang Grundstücksverzeichnis'!G1221=Texte!$A$28,F1221,0)","v":0}]
[1212,{"$f":"IF(C1222<>\"\",IF(ISNA(VLOOKUP(C1222,Katastralgemeinden!$A$2:$B$3041,2,FALSE)),\"Ungültige KG-Nummer!\",VLOOKUP(C1222,Katastralgemeinden!A$2:$B$3041,2,\"falsch\")),\"\")","v":""},null,null,null,null,null,null,null,null,"",0,{"$f":"IF('Anhang Grundstücksverzeichnis'!G1222=Texte!$A$25,F1222,0)","v":0},{"$f":"IF('Anhang Grundstücksverzeichnis'!G1222=Texte!$A$26,F1222,0)","v":0},{"$f":"IF('Anhang Grundstücksverzeichnis'!G1222=Texte!$A$27,F1222,0)","v":0},{"$f":"IF('Anhang Grundstücksverzeichnis'!G1222=Texte!$A$28,F1222,0)","v":0}]
[1213,{"$f":"IF(C1223<>\"\",IF(ISNA(VLOOKUP(C1223,Katastralgemeinden!$A$2:$B$3041,2,FALSE)),\"Ungültige KG-Nummer!\",VLOOKUP(C1223,Katastralgemeinden!A$2:$B$3041,2,\"falsch\")),\"\")","v":""},null,null,null,null,null,null,null,null,"",0,{"$f":"IF('Anhang Grundstücksverzeichnis'!G1223=Texte!$A$25,F1223,0)","v":0},{"$f":"IF('Anhang Grundstücksverzeichnis'!G1223=Texte!$A$26,F1223,0)","v":0},{"$f":"IF('Anhang Grundstücksverzeichnis'!G1223=Texte!$A$27,F1223,0)","v":0},{"$f":"IF('Anhang Grundstücksverzeichnis'!G1223=Texte!$A$28,F1223,0)","v":0}]
[1214,{"$f":"IF(C1224<>\"\",IF(ISNA(VLOOKUP(C1224,Katastralgemeinden!$A$2:$B$3041,2,FALSE)),\"Ungültige KG-Nummer!\",VLOOKUP(C1224,Katastralgemeinden!A$2:$B$3041,2,\"falsch\")),\"\")","v":""},null,null,null,null,null,null,null,null,"",0,{"$f":"IF('Anhang Grundstücksverzeichnis'!G1224=Texte!$A$25,F1224,0)","v":0},{"$f":"IF('Anhang Grundstücksverzeichnis'!G1224=Texte!$A$26,F1224,0)","v":0},{"$f":"IF('Anhang Grundstücksverzeichnis'!G1224=Texte!$A$27,F1224,0)","v":0},{"$f":"IF('Anhang Grundstücksverzeichnis'!G1224=Texte!$A$28,F1224,0)","v":0}]
[1215,{"$f":"IF(C1225<>\"\",IF(ISNA(VLOOKUP(C1225,Katastralgemeinden!$A$2:$B$3041,2,FALSE)),\"Ungültige KG-Nummer!\",VLOOKUP(C1225,Katastralgemeinden!A$2:$B$3041,2,\"falsch\")),\"\")","v":""},null,null,null,null,null,null,null,null,"",0,{"$f":"IF('Anhang Grundstücksverzeichnis'!G1225=Texte!$A$25,F1225,0)","v":0},{"$f":"IF('Anhang Grundstücksverzeichnis'!G1225=Texte!$A$26,F1225,0)","v":0},{"$f":"IF('Anhang Grundstücksverzeichnis'!G1225=Texte!$A$27,F1225,0)","v":0},{"$f":"IF('Anhang Grundstücksverzeichnis'!G1225=Texte!$A$28,F1225,0)","v":0}]
[1216,{"$f":"IF(C1226<>\"\",IF(ISNA(VLOOKUP(C1226,Katastralgemeinden!$A$2:$B$3041,2,FALSE)),\"Ungültige KG-Nummer!\",VLOOKUP(C1226,Katastralgemeinden!A$2:$B$3041,2,\"falsch\")),\"\")","v":""},null,null,null,null,null,null,null,null,"",0,{"$f":"IF('Anhang Grundstücksverzeichnis'!G1226=Texte!$A$25,F1226,0)","v":0},{"$f":"IF('Anhang Grundstücksverzeichnis'!G1226=Texte!$A$26,F1226,0)","v":0},{"$f":"IF('Anhang Grundstücksverzeichnis'!G1226=Texte!$A$27,F1226,0)","v":0},{"$f":"IF('Anhang Grundstücksverzeichnis'!G1226=Texte!$A$28,F1226,0)","v":0}]
[1217,{"$f":"IF(C1227<>\"\",IF(ISNA(VLOOKUP(C1227,Katastralgemeinden!$A$2:$B$3041,2,FALSE)),\"Ungültige KG-Nummer!\",VLOOKUP(C1227,Katastralgemeinden!A$2:$B$3041,2,\"falsch\")),\"\")","v":""},null,null,null,null,null,null,null,null,"",0,{"$f":"IF('Anhang Grundstücksverzeichnis'!G1227=Texte!$A$25,F1227,0)","v":0},{"$f":"IF('Anhang Grundstücksverzeichnis'!G1227=Texte!$A$26,F1227,0)","v":0},{"$f":"IF('Anhang Grundstücksverzeichnis'!G1227=Texte!$A$27,F1227,0)","v":0},{"$f":"IF('Anhang Grundstücksverzeichnis'!G1227=Texte!$A$28,F1227,0)","v":0}]
[1218,{"$f":"IF(C1228<>\"\",IF(ISNA(VLOOKUP(C1228,Katastralgemeinden!$A$2:$B$3041,2,FALSE)),\"Ungültige KG-Nummer!\",VLOOKUP(C1228,Katastralgemeinden!A$2:$B$3041,2,\"falsch\")),\"\")","v":""},null,null,null,null,null,null,null,null,{"$f":"IF(G1228<>\"\",IF(G1228=\"Eigengrundfläche\",0,IF(G1228=\"Vorpachtfläche\",1,IF(G1228=\"Abrundung +\",3,IF(G1228=\"Abrundung -\",4,5)))),\"\")","v":""},{"$f":"IF(OR(LOWER(H1228)=\"x\",LOWER(H1228)=\"j\"),1,0)","v":0},{"$f":"IF('Anhang Grundstücksverzeichnis'!G1228=Texte!$A$25,F1228,0)","v":0},{"$f":"IF('Anhang Grundstücksverzeichnis'!G1228=Texte!$A$26,F1228,0)","v":0},{"$f":"IF('Anhang Grundstücksverzeichnis'!G1228=Texte!$A$27,F1228,0)","v":0},{"$f":"IF('Anhang Grundstücksverzeichnis'!G1228=Texte!$A$28,F1228,0)","v":0}]
[1219,{"$f":"IF(C1229<>\"\",IF(ISNA(VLOOKUP(C1229,Katastralgemeinden!$A$2:$B$3041,2,FALSE)),\"Ungültige KG-Nummer!\",VLOOKUP(C1229,Katastralgemeinden!A$2:$B$3041,2,\"falsch\")),\"\")","v":""},null,null,null,null,null,null,null,null,"",0,{"$f":"IF('Anhang Grundstücksverzeichnis'!G1229=Texte!$A$25,F1229,0)","v":0},{"$f":"IF('Anhang Grundstücksverzeichnis'!G1229=Texte!$A$26,F1229,0)","v":0},{"$f":"IF('Anhang Grundstücksverzeichnis'!G1229=Texte!$A$27,F1229,0)","v":0},{"$f":"IF('Anhang Grundstücksverzeichnis'!G1229=Texte!$A$28,F1229,0)","v":0}]
[1220,{"$f":"IF(C1230<>\"\",IF(ISNA(VLOOKUP(C1230,Katastralgemeinden!$A$2:$B$3041,2,FALSE)),\"Ungültige KG-Nummer!\",VLOOKUP(C1230,Katastralgemeinden!A$2:$B$3041,2,\"falsch\")),\"\")","v":""},null,null,null,null,null,null,null,null,"",0,{"$f":"IF('Anhang Grundstücksverzeichnis'!G1230=Texte!$A$25,F1230,0)","v":0},{"$f":"IF('Anhang Grundstücksverzeichnis'!G1230=Texte!$A$26,F1230,0)","v":0},{"$f":"IF('Anhang Grundstücksverzeichnis'!G1230=Texte!$A$27,F1230,0)","v":0},{"$f":"IF('Anhang Grundstücksverzeichnis'!G1230=Texte!$A$28,F1230,0)","v":0}]
[1221,{"$f":"IF(C1231<>\"\",IF(ISNA(VLOOKUP(C1231,Katastralgemeinden!$A$2:$B$3041,2,FALSE)),\"Ungültige KG-Nummer!\",VLOOKUP(C1231,Katastralgemeinden!A$2:$B$3041,2,\"falsch\")),\"\")","v":""},null,null,null,null,null,null,null,null,"",0,{"$f":"IF('Anhang Grundstücksverzeichnis'!G1231=Texte!$A$25,F1231,0)","v":0},{"$f":"IF('Anhang Grundstücksverzeichnis'!G1231=Texte!$A$26,F1231,0)","v":0},{"$f":"IF('Anhang Grundstücksverzeichnis'!G1231=Texte!$A$27,F1231,0)","v":0},{"$f":"IF('Anhang Grundstücksverzeichnis'!G1231=Texte!$A$28,F1231,0)","v":0}]
[1222,{"$f":"IF(C1232<>\"\",IF(ISNA(VLOOKUP(C1232,Katastralgemeinden!$A$2:$B$3041,2,FALSE)),\"Ungültige KG-Nummer!\",VLOOKUP(C1232,Katastralgemeinden!A$2:$B$3041,2,\"falsch\")),\"\")","v":""},null,null,null,null,null,null,null,null,"",0,{"$f":"IF('Anhang Grundstücksverzeichnis'!G1232=Texte!$A$25,F1232,0)","v":0},{"$f":"IF('Anhang Grundstücksverzeichnis'!G1232=Texte!$A$26,F1232,0)","v":0},{"$f":"IF('Anhang Grundstücksverzeichnis'!G1232=Texte!$A$27,F1232,0)","v":0},{"$f":"IF('Anhang Grundstücksverzeichnis'!G1232=Texte!$A$28,F1232,0)","v":0}]
[1223,{"$f":"IF(C1233<>\"\",IF(ISNA(VLOOKUP(C1233,Katastralgemeinden!$A$2:$B$3041,2,FALSE)),\"Ungültige KG-Nummer!\",VLOOKUP(C1233,Katastralgemeinden!A$2:$B$3041,2,\"falsch\")),\"\")","v":""},null,null,null,null,null,null,null,null,"",0,{"$f":"IF('Anhang Grundstücksverzeichnis'!G1233=Texte!$A$25,F1233,0)","v":0},{"$f":"IF('Anhang Grundstücksverzeichnis'!G1233=Texte!$A$26,F1233,0)","v":0},{"$f":"IF('Anhang Grundstücksverzeichnis'!G1233=Texte!$A$27,F1233,0)","v":0},{"$f":"IF('Anhang Grundstücksverzeichnis'!G1233=Texte!$A$28,F1233,0)","v":0}]
[1224,{"$f":"IF(C1234<>\"\",IF(ISNA(VLOOKUP(C1234,Katastralgemeinden!$A$2:$B$3041,2,FALSE)),\"Ungültige KG-Nummer!\",VLOOKUP(C1234,Katastralgemeinden!A$2:$B$3041,2,\"falsch\")),\"\")","v":""},null,null,null,null,null,null,null,null,"",0,{"$f":"IF('Anhang Grundstücksverzeichnis'!G1234=Texte!$A$25,F1234,0)","v":0},{"$f":"IF('Anhang Grundstücksverzeichnis'!G1234=Texte!$A$26,F1234,0)","v":0},{"$f":"IF('Anhang Grundstücksverzeichnis'!G1234=Texte!$A$27,F1234,0)","v":0},{"$f":"IF('Anhang Grundstücksverzeichnis'!G1234=Texte!$A$28,F1234,0)","v":0}]
[1225,{"$f":"IF(C1235<>\"\",IF(ISNA(VLOOKUP(C1235,Katastralgemeinden!$A$2:$B$3041,2,FALSE)),\"Ungültige KG-Nummer!\",VLOOKUP(C1235,Katastralgemeinden!A$2:$B$3041,2,\"falsch\")),\"\")","v":""},null,null,null,null,null,null,null,null,"",0,{"$f":"IF('Anhang Grundstücksverzeichnis'!G1235=Texte!$A$25,F1235,0)","v":0},{"$f":"IF('Anhang Grundstücksverzeichnis'!G1235=Texte!$A$26,F1235,0)","v":0},{"$f":"IF('Anhang Grundstücksverzeichnis'!G1235=Texte!$A$27,F1235,0)","v":0},{"$f":"IF('Anhang Grundstücksverzeichnis'!G1235=Texte!$A$28,F1235,0)","v":0}]
[1226,{"$f":"IF(C1236<>\"\",IF(ISNA(VLOOKUP(C1236,Katastralgemeinden!$A$2:$B$3041,2,FALSE)),\"Ungültige KG-Nummer!\",VLOOKUP(C1236,Katastralgemeinden!A$2:$B$3041,2,\"falsch\")),\"\")","v":""},null,null,null,null,null,null,null,null,"",0,{"$f":"IF('Anhang Grundstücksverzeichnis'!G1236=Texte!$A$25,F1236,0)","v":0},{"$f":"IF('Anhang Grundstücksverzeichnis'!G1236=Texte!$A$26,F1236,0)","v":0},{"$f":"IF('Anhang Grundstücksverzeichnis'!G1236=Texte!$A$27,F1236,0)","v":0},{"$f":"IF('Anhang Grundstücksverzeichnis'!G1236=Texte!$A$28,F1236,0)","v":0}]
[1227,{"$f":"IF(C1237<>\"\",IF(ISNA(VLOOKUP(C1237,Katastralgemeinden!$A$2:$B$3041,2,FALSE)),\"Ungültige KG-Nummer!\",VLOOKUP(C1237,Katastralgemeinden!A$2:$B$3041,2,\"falsch\")),\"\")","v":""},null,null,null,null,null,null,null,null,"",0,{"$f":"IF('Anhang Grundstücksverzeichnis'!G1237=Texte!$A$25,F1237,0)","v":0},{"$f":"IF('Anhang Grundstücksverzeichnis'!G1237=Texte!$A$26,F1237,0)","v":0},{"$f":"IF('Anhang Grundstücksverzeichnis'!G1237=Texte!$A$27,F1237,0)","v":0},{"$f":"IF('Anhang Grundstücksverzeichnis'!G1237=Texte!$A$28,F1237,0)","v":0}]
[1228,{"$f":"IF(C1238<>\"\",IF(ISNA(VLOOKUP(C1238,Katastralgemeinden!$A$2:$B$3041,2,FALSE)),\"Ungültige KG-Nummer!\",VLOOKUP(C1238,Katastralgemeinden!A$2:$B$3041,2,\"falsch\")),\"\")","v":""},null,null,null,null,null,null,null,null,"",0,{"$f":"IF('Anhang Grundstücksverzeichnis'!G1238=Texte!$A$25,F1238,0)","v":0},{"$f":"IF('Anhang Grundstücksverzeichnis'!G1238=Texte!$A$26,F1238,0)","v":0},{"$f":"IF('Anhang Grundstücksverzeichnis'!G1238=Texte!$A$27,F1238,0)","v":0},{"$f":"IF('Anhang Grundstücksverzeichnis'!G1238=Texte!$A$28,F1238,0)","v":0}]
[1229,{"$f":"IF(C1239<>\"\",IF(ISNA(VLOOKUP(C1239,Katastralgemeinden!$A$2:$B$3041,2,FALSE)),\"Ungültige KG-Nummer!\",VLOOKUP(C1239,Katastralgemeinden!A$2:$B$3041,2,\"falsch\")),\"\")","v":""},null,null,null,null,null,null,null,null,"",0,{"$f":"IF('Anhang Grundstücksverzeichnis'!G1239=Texte!$A$25,F1239,0)","v":0},{"$f":"IF('Anhang Grundstücksverzeichnis'!G1239=Texte!$A$26,F1239,0)","v":0},{"$f":"IF('Anhang Grundstücksverzeichnis'!G1239=Texte!$A$27,F1239,0)","v":0},{"$f":"IF('Anhang Grundstücksverzeichnis'!G1239=Texte!$A$28,F1239,0)","v":0}]
[1230,{"$f":"IF(C1240<>\"\",IF(ISNA(VLOOKUP(C1240,Katastralgemeinden!$A$2:$B$3041,2,FALSE)),\"Ungültige KG-Nummer!\",VLOOKUP(C1240,Katastralgemeinden!A$2:$B$3041,2,\"falsch\")),\"\")","v":""},null,null,null,null,null,null,null,null,"",0,{"$f":"IF('Anhang Grundstücksverzeichnis'!G1240=Texte!$A$25,F1240,0)","v":0},{"$f":"IF('Anhang Grundstücksverzeichnis'!G1240=Texte!$A$26,F1240,0)","v":0},{"$f":"IF('Anhang Grundstücksverzeichnis'!G1240=Texte!$A$27,F1240,0)","v":0},{"$f":"IF('Anhang Grundstücksverzeichnis'!G1240=Texte!$A$28,F1240,0)","v":0}]
[1231,{"$f":"IF(C1241<>\"\",IF(ISNA(VLOOKUP(C1241,Katastralgemeinden!$A$2:$B$3041,2,FALSE)),\"Ungültige KG-Nummer!\",VLOOKUP(C1241,Katastralgemeinden!A$2:$B$3041,2,\"falsch\")),\"\")","v":""},null,null,null,null,null,null,null,null,"",0,{"$f":"IF('Anhang Grundstücksverzeichnis'!G1241=Texte!$A$25,F1241,0)","v":0},{"$f":"IF('Anhang Grundstücksverzeichnis'!G1241=Texte!$A$26,F1241,0)","v":0},{"$f":"IF('Anhang Grundstücksverzeichnis'!G1241=Texte!$A$27,F1241,0)","v":0},{"$f":"IF('Anhang Grundstücksverzeichnis'!G1241=Texte!$A$28,F1241,0)","v":0}]
[1232,{"$f":"IF(C1242<>\"\",IF(ISNA(VLOOKUP(C1242,Katastralgemeinden!$A$2:$B$3041,2,FALSE)),\"Ungültige KG-Nummer!\",VLOOKUP(C1242,Katastralgemeinden!A$2:$B$3041,2,\"falsch\")),\"\")","v":""},null,null,null,null,null,null,null,null,"",0,{"$f":"IF('Anhang Grundstücksverzeichnis'!G1242=Texte!$A$25,F1242,0)","v":0},{"$f":"IF('Anhang Grundstücksverzeichnis'!G1242=Texte!$A$26,F1242,0)","v":0},{"$f":"IF('Anhang Grundstücksverzeichnis'!G1242=Texte!$A$27,F1242,0)","v":0},{"$f":"IF('Anhang Grundstücksverzeichnis'!G1242=Texte!$A$28,F1242,0)","v":0}]
[1233,{"$f":"IF(C1243<>\"\",IF(ISNA(VLOOKUP(C1243,Katastralgemeinden!$A$2:$B$3041,2,FALSE)),\"Ungültige KG-Nummer!\",VLOOKUP(C1243,Katastralgemeinden!A$2:$B$3041,2,\"falsch\")),\"\")","v":""},null,null,null,null,null,null,null,null,"",0,{"$f":"IF('Anhang Grundstücksverzeichnis'!G1243=Texte!$A$25,F1243,0)","v":0},{"$f":"IF('Anhang Grundstücksverzeichnis'!G1243=Texte!$A$26,F1243,0)","v":0},{"$f":"IF('Anhang Grundstücksverzeichnis'!G1243=Texte!$A$27,F1243,0)","v":0},{"$f":"IF('Anhang Grundstücksverzeichnis'!G1243=Texte!$A$28,F1243,0)","v":0}]
[1234,{"$f":"IF(C1244<>\"\",IF(ISNA(VLOOKUP(C1244,Katastralgemeinden!$A$2:$B$3041,2,FALSE)),\"Ungültige KG-Nummer!\",VLOOKUP(C1244,Katastralgemeinden!A$2:$B$3041,2,\"falsch\")),\"\")","v":""},null,null,null,null,null,null,null,null,"",0,{"$f":"IF('Anhang Grundstücksverzeichnis'!G1244=Texte!$A$25,F1244,0)","v":0},{"$f":"IF('Anhang Grundstücksverzeichnis'!G1244=Texte!$A$26,F1244,0)","v":0},{"$f":"IF('Anhang Grundstücksverzeichnis'!G1244=Texte!$A$27,F1244,0)","v":0},{"$f":"IF('Anhang Grundstücksverzeichnis'!G1244=Texte!$A$28,F1244,0)","v":0}]
[1235,{"$f":"IF(C1245<>\"\",IF(ISNA(VLOOKUP(C1245,Katastralgemeinden!$A$2:$B$3041,2,FALSE)),\"Ungültige KG-Nummer!\",VLOOKUP(C1245,Katastralgemeinden!A$2:$B$3041,2,\"falsch\")),\"\")","v":""},null,null,null,null,null,null,null,null,"",0,{"$f":"IF('Anhang Grundstücksverzeichnis'!G1245=Texte!$A$25,F1245,0)","v":0},{"$f":"IF('Anhang Grundstücksverzeichnis'!G1245=Texte!$A$26,F1245,0)","v":0},{"$f":"IF('Anhang Grundstücksverzeichnis'!G1245=Texte!$A$27,F1245,0)","v":0},{"$f":"IF('Anhang Grundstücksverzeichnis'!G1245=Texte!$A$28,F1245,0)","v":0}]
[1236,{"$f":"IF(C1246<>\"\",IF(ISNA(VLOOKUP(C1246,Katastralgemeinden!$A$2:$B$3041,2,FALSE)),\"Ungültige KG-Nummer!\",VLOOKUP(C1246,Katastralgemeinden!A$2:$B$3041,2,\"falsch\")),\"\")","v":""},null,null,null,null,null,null,null,null,"",0,{"$f":"IF('Anhang Grundstücksverzeichnis'!G1246=Texte!$A$25,F1246,0)","v":0},{"$f":"IF('Anhang Grundstücksverzeichnis'!G1246=Texte!$A$26,F1246,0)","v":0},{"$f":"IF('Anhang Grundstücksverzeichnis'!G1246=Texte!$A$27,F1246,0)","v":0},{"$f":"IF('Anhang Grundstücksverzeichnis'!G1246=Texte!$A$28,F1246,0)","v":0}]
[1237,{"$f":"IF(C1247<>\"\",IF(ISNA(VLOOKUP(C1247,Katastralgemeinden!$A$2:$B$3041,2,FALSE)),\"Ungültige KG-Nummer!\",VLOOKUP(C1247,Katastralgemeinden!A$2:$B$3041,2,\"falsch\")),\"\")","v":""},null,null,null,null,null,null,null,null,"",0,{"$f":"IF('Anhang Grundstücksverzeichnis'!G1247=Texte!$A$25,F1247,0)","v":0},{"$f":"IF('Anhang Grundstücksverzeichnis'!G1247=Texte!$A$26,F1247,0)","v":0},{"$f":"IF('Anhang Grundstücksverzeichnis'!G1247=Texte!$A$27,F1247,0)","v":0},{"$f":"IF('Anhang Grundstücksverzeichnis'!G1247=Texte!$A$28,F1247,0)","v":0}]
[1238,{"$f":"IF(C1248<>\"\",IF(ISNA(VLOOKUP(C1248,Katastralgemeinden!$A$2:$B$3041,2,FALSE)),\"Ungültige KG-Nummer!\",VLOOKUP(C1248,Katastralgemeinden!A$2:$B$3041,2,\"falsch\")),\"\")","v":""},null,null,null,null,null,null,null,null,"",0,{"$f":"IF('Anhang Grundstücksverzeichnis'!G1248=Texte!$A$25,F1248,0)","v":0},{"$f":"IF('Anhang Grundstücksverzeichnis'!G1248=Texte!$A$26,F1248,0)","v":0},{"$f":"IF('Anhang Grundstücksverzeichnis'!G1248=Texte!$A$27,F1248,0)","v":0},{"$f":"IF('Anhang Grundstücksverzeichnis'!G1248=Texte!$A$28,F1248,0)","v":0}]
[1239,{"$f":"IF(C1249<>\"\",IF(ISNA(VLOOKUP(C1249,Katastralgemeinden!$A$2:$B$3041,2,FALSE)),\"Ungültige KG-Nummer!\",VLOOKUP(C1249,Katastralgemeinden!A$2:$B$3041,2,\"falsch\")),\"\")","v":""},null,null,null,null,null,null,null,null,"",0,{"$f":"IF('Anhang Grundstücksverzeichnis'!G1249=Texte!$A$25,F1249,0)","v":0},{"$f":"IF('Anhang Grundstücksverzeichnis'!G1249=Texte!$A$26,F1249,0)","v":0},{"$f":"IF('Anhang Grundstücksverzeichnis'!G1249=Texte!$A$27,F1249,0)","v":0},{"$f":"IF('Anhang Grundstücksverzeichnis'!G1249=Texte!$A$28,F1249,0)","v":0}]
[1240,{"$f":"IF(C1250<>\"\",IF(ISNA(VLOOKUP(C1250,Katastralgemeinden!$A$2:$B$3041,2,FALSE)),\"Ungültige KG-Nummer!\",VLOOKUP(C1250,Katastralgemeinden!A$2:$B$3041,2,\"falsch\")),\"\")","v":""},null,null,null,null,null,null,null,null,"",0,{"$f":"IF('Anhang Grundstücksverzeichnis'!G1250=Texte!$A$25,F1250,0)","v":0},{"$f":"IF('Anhang Grundstücksverzeichnis'!G1250=Texte!$A$26,F1250,0)","v":0},{"$f":"IF('Anhang Grundstücksverzeichnis'!G1250=Texte!$A$27,F1250,0)","v":0},{"$f":"IF('Anhang Grundstücksverzeichnis'!G1250=Texte!$A$28,F1250,0)","v":0}]
[1241,{"$f":"IF(C1251<>\"\",IF(ISNA(VLOOKUP(C1251,Katastralgemeinden!$A$2:$B$3041,2,FALSE)),\"Ungültige KG-Nummer!\",VLOOKUP(C1251,Katastralgemeinden!A$2:$B$3041,2,\"falsch\")),\"\")","v":""},null,null,null,null,null,null,null,null,"",0,{"$f":"IF('Anhang Grundstücksverzeichnis'!G1251=Texte!$A$25,F1251,0)","v":0},{"$f":"IF('Anhang Grundstücksverzeichnis'!G1251=Texte!$A$26,F1251,0)","v":0},{"$f":"IF('Anhang Grundstücksverzeichnis'!G1251=Texte!$A$27,F1251,0)","v":0},{"$f":"IF('Anhang Grundstücksverzeichnis'!G1251=Texte!$A$28,F1251,0)","v":0}]
[1242,{"$f":"IF(C1252<>\"\",IF(ISNA(VLOOKUP(C1252,Katastralgemeinden!$A$2:$B$3041,2,FALSE)),\"Ungültige KG-Nummer!\",VLOOKUP(C1252,Katastralgemeinden!A$2:$B$3041,2,\"falsch\")),\"\")","v":""},null,null,null,null,null,null,null,null,"",0,{"$f":"IF('Anhang Grundstücksverzeichnis'!G1252=Texte!$A$25,F1252,0)","v":0},{"$f":"IF('Anhang Grundstücksverzeichnis'!G1252=Texte!$A$26,F1252,0)","v":0},{"$f":"IF('Anhang Grundstücksverzeichnis'!G1252=Texte!$A$27,F1252,0)","v":0},{"$f":"IF('Anhang Grundstücksverzeichnis'!G1252=Texte!$A$28,F1252,0)","v":0}]
[1243,{"$f":"IF(C1253<>\"\",IF(ISNA(VLOOKUP(C1253,Katastralgemeinden!$A$2:$B$3041,2,FALSE)),\"Ungültige KG-Nummer!\",VLOOKUP(C1253,Katastralgemeinden!A$2:$B$3041,2,\"falsch\")),\"\")","v":""},null,null,null,null,null,null,null,null,"",0,{"$f":"IF('Anhang Grundstücksverzeichnis'!G1253=Texte!$A$25,F1253,0)","v":0},{"$f":"IF('Anhang Grundstücksverzeichnis'!G1253=Texte!$A$26,F1253,0)","v":0},{"$f":"IF('Anhang Grundstücksverzeichnis'!G1253=Texte!$A$27,F1253,0)","v":0},{"$f":"IF('Anhang Grundstücksverzeichnis'!G1253=Texte!$A$28,F1253,0)","v":0}]
[1244,{"$f":"IF(C1254<>\"\",IF(ISNA(VLOOKUP(C1254,Katastralgemeinden!$A$2:$B$3041,2,FALSE)),\"Ungültige KG-Nummer!\",VLOOKUP(C1254,Katastralgemeinden!A$2:$B$3041,2,\"falsch\")),\"\")","v":""},null,null,null,null,null,null,null,null,"",0,{"$f":"IF('Anhang Grundstücksverzeichnis'!G1254=Texte!$A$25,F1254,0)","v":0},{"$f":"IF('Anhang Grundstücksverzeichnis'!G1254=Texte!$A$26,F1254,0)","v":0},{"$f":"IF('Anhang Grundstücksverzeichnis'!G1254=Texte!$A$27,F1254,0)","v":0},{"$f":"IF('Anhang Grundstücksverzeichnis'!G1254=Texte!$A$28,F1254,0)","v":0}]
[1245,{"$f":"IF(C1255<>\"\",IF(ISNA(VLOOKUP(C1255,Katastralgemeinden!$A$2:$B$3041,2,FALSE)),\"Ungültige KG-Nummer!\",VLOOKUP(C1255,Katastralgemeinden!A$2:$B$3041,2,\"falsch\")),\"\")","v":""},null,null,null,null,null,null,null,null,"",0,{"$f":"IF('Anhang Grundstücksverzeichnis'!G1255=Texte!$A$25,F1255,0)","v":0},{"$f":"IF('Anhang Grundstücksverzeichnis'!G1255=Texte!$A$26,F1255,0)","v":0},{"$f":"IF('Anhang Grundstücksverzeichnis'!G1255=Texte!$A$27,F1255,0)","v":0},{"$f":"IF('Anhang Grundstücksverzeichnis'!G1255=Texte!$A$28,F1255,0)","v":0}]
[1246,{"$f":"IF(C1256<>\"\",IF(ISNA(VLOOKUP(C1256,Katastralgemeinden!$A$2:$B$3041,2,FALSE)),\"Ungültige KG-Nummer!\",VLOOKUP(C1256,Katastralgemeinden!A$2:$B$3041,2,\"falsch\")),\"\")","v":""},null,null,null,null,null,null,null,null,"",0,{"$f":"IF('Anhang Grundstücksverzeichnis'!G1256=Texte!$A$25,F1256,0)","v":0},{"$f":"IF('Anhang Grundstücksverzeichnis'!G1256=Texte!$A$26,F1256,0)","v":0},{"$f":"IF('Anhang Grundstücksverzeichnis'!G1256=Texte!$A$27,F1256,0)","v":0},{"$f":"IF('Anhang Grundstücksverzeichnis'!G1256=Texte!$A$28,F1256,0)","v":0}]
[1247,{"$f":"IF(C1257<>\"\",IF(ISNA(VLOOKUP(C1257,Katastralgemeinden!$A$2:$B$3041,2,FALSE)),\"Ungültige KG-Nummer!\",VLOOKUP(C1257,Katastralgemeinden!A$2:$B$3041,2,\"falsch\")),\"\")","v":""},null,null,null,null,null,null,null,null,"",0,{"$f":"IF('Anhang Grundstücksverzeichnis'!G1257=Texte!$A$25,F1257,0)","v":0},{"$f":"IF('Anhang Grundstücksverzeichnis'!G1257=Texte!$A$26,F1257,0)","v":0},{"$f":"IF('Anhang Grundstücksverzeichnis'!G1257=Texte!$A$27,F1257,0)","v":0},{"$f":"IF('Anhang Grundstücksverzeichnis'!G1257=Texte!$A$28,F1257,0)","v":0}]
[1248,{"$f":"IF(C1258<>\"\",IF(ISNA(VLOOKUP(C1258,Katastralgemeinden!$A$2:$B$3041,2,FALSE)),\"Ungültige KG-Nummer!\",VLOOKUP(C1258,Katastralgemeinden!A$2:$B$3041,2,\"falsch\")),\"\")","v":""},null,null,null,null,null,null,null,null,"",0,{"$f":"IF('Anhang Grundstücksverzeichnis'!G1258=Texte!$A$25,F1258,0)","v":0},{"$f":"IF('Anhang Grundstücksverzeichnis'!G1258=Texte!$A$26,F1258,0)","v":0},{"$f":"IF('Anhang Grundstücksverzeichnis'!G1258=Texte!$A$27,F1258,0)","v":0},{"$f":"IF('Anhang Grundstücksverzeichnis'!G1258=Texte!$A$28,F1258,0)","v":0}]
[1249,{"$f":"IF(C1259<>\"\",IF(ISNA(VLOOKUP(C1259,Katastralgemeinden!$A$2:$B$3041,2,FALSE)),\"Ungültige KG-Nummer!\",VLOOKUP(C1259,Katastralgemeinden!A$2:$B$3041,2,\"falsch\")),\"\")","v":""},null,null,null,null,null,null,null,null,"",0,{"$f":"IF('Anhang Grundstücksverzeichnis'!G1259=Texte!$A$25,F1259,0)","v":0},{"$f":"IF('Anhang Grundstücksverzeichnis'!G1259=Texte!$A$26,F1259,0)","v":0},{"$f":"IF('Anhang Grundstücksverzeichnis'!G1259=Texte!$A$27,F1259,0)","v":0},{"$f":"IF('Anhang Grundstücksverzeichnis'!G1259=Texte!$A$28,F1259,0)","v":0}]
[1250,{"$f":"IF(C1260<>\"\",IF(ISNA(VLOOKUP(C1260,Katastralgemeinden!$A$2:$B$3041,2,FALSE)),\"Ungültige KG-Nummer!\",VLOOKUP(C1260,Katastralgemeinden!A$2:$B$3041,2,\"falsch\")),\"\")","v":""},null,null,null,null,null,null,null,null,"",0,{"$f":"IF('Anhang Grundstücksverzeichnis'!G1260=Texte!$A$25,F1260,0)","v":0},{"$f":"IF('Anhang Grundstücksverzeichnis'!G1260=Texte!$A$26,F1260,0)","v":0},{"$f":"IF('Anhang Grundstücksverzeichnis'!G1260=Texte!$A$27,F1260,0)","v":0},{"$f":"IF('Anhang Grundstücksverzeichnis'!G1260=Texte!$A$28,F1260,0)","v":0}]
[1251,{"$f":"IF(C1261<>\"\",IF(ISNA(VLOOKUP(C1261,Katastralgemeinden!$A$2:$B$3041,2,FALSE)),\"Ungültige KG-Nummer!\",VLOOKUP(C1261,Katastralgemeinden!A$2:$B$3041,2,\"falsch\")),\"\")","v":""},null,null,null,null,null,null,null,null,"",0,{"$f":"IF('Anhang Grundstücksverzeichnis'!G1261=Texte!$A$25,F1261,0)","v":0},{"$f":"IF('Anhang Grundstücksverzeichnis'!G1261=Texte!$A$26,F1261,0)","v":0},{"$f":"IF('Anhang Grundstücksverzeichnis'!G1261=Texte!$A$27,F1261,0)","v":0},{"$f":"IF('Anhang Grundstücksverzeichnis'!G1261=Texte!$A$28,F1261,0)","v":0}]
[1252,{"$f":"IF(C1262<>\"\",IF(ISNA(VLOOKUP(C1262,Katastralgemeinden!$A$2:$B$3041,2,FALSE)),\"Ungültige KG-Nummer!\",VLOOKUP(C1262,Katastralgemeinden!A$2:$B$3041,2,\"falsch\")),\"\")","v":""},null,null,null,null,null,null,null,null,"",0,{"$f":"IF('Anhang Grundstücksverzeichnis'!G1262=Texte!$A$25,F1262,0)","v":0},{"$f":"IF('Anhang Grundstücksverzeichnis'!G1262=Texte!$A$26,F1262,0)","v":0},{"$f":"IF('Anhang Grundstücksverzeichnis'!G1262=Texte!$A$27,F1262,0)","v":0},{"$f":"IF('Anhang Grundstücksverzeichnis'!G1262=Texte!$A$28,F1262,0)","v":0}]
[1253,{"$f":"IF(C1263<>\"\",IF(ISNA(VLOOKUP(C1263,Katastralgemeinden!$A$2:$B$3041,2,FALSE)),\"Ungültige KG-Nummer!\",VLOOKUP(C1263,Katastralgemeinden!A$2:$B$3041,2,\"falsch\")),\"\")","v":""},null,null,null,null,null,null,null,null,"",0,{"$f":"IF('Anhang Grundstücksverzeichnis'!G1263=Texte!$A$25,F1263,0)","v":0},{"$f":"IF('Anhang Grundstücksverzeichnis'!G1263=Texte!$A$26,F1263,0)","v":0},{"$f":"IF('Anhang Grundstücksverzeichnis'!G1263=Texte!$A$27,F1263,0)","v":0},{"$f":"IF('Anhang Grundstücksverzeichnis'!G1263=Texte!$A$28,F1263,0)","v":0}]
[1254,{"$f":"IF(C1264<>\"\",IF(ISNA(VLOOKUP(C1264,Katastralgemeinden!$A$2:$B$3041,2,FALSE)),\"Ungültige KG-Nummer!\",VLOOKUP(C1264,Katastralgemeinden!A$2:$B$3041,2,\"falsch\")),\"\")","v":""},null,null,null,null,null,null,null,null,"",0,{"$f":"IF('Anhang Grundstücksverzeichnis'!G1264=Texte!$A$25,F1264,0)","v":0},{"$f":"IF('Anhang Grundstücksverzeichnis'!G1264=Texte!$A$26,F1264,0)","v":0},{"$f":"IF('Anhang Grundstücksverzeichnis'!G1264=Texte!$A$27,F1264,0)","v":0},{"$f":"IF('Anhang Grundstücksverzeichnis'!G1264=Texte!$A$28,F1264,0)","v":0}]
[1255,{"$f":"IF(C1265<>\"\",IF(ISNA(VLOOKUP(C1265,Katastralgemeinden!$A$2:$B$3041,2,FALSE)),\"Ungültige KG-Nummer!\",VLOOKUP(C1265,Katastralgemeinden!A$2:$B$3041,2,\"falsch\")),\"\")","v":""},null,null,null,null,null,null,null,null,"",0,{"$f":"IF('Anhang Grundstücksverzeichnis'!G1265=Texte!$A$25,F1265,0)","v":0},{"$f":"IF('Anhang Grundstücksverzeichnis'!G1265=Texte!$A$26,F1265,0)","v":0},{"$f":"IF('Anhang Grundstücksverzeichnis'!G1265=Texte!$A$27,F1265,0)","v":0},{"$f":"IF('Anhang Grundstücksverzeichnis'!G1265=Texte!$A$28,F1265,0)","v":0}]
[1256,{"$f":"IF(C1266<>\"\",IF(ISNA(VLOOKUP(C1266,Katastralgemeinden!$A$2:$B$3041,2,FALSE)),\"Ungültige KG-Nummer!\",VLOOKUP(C1266,Katastralgemeinden!A$2:$B$3041,2,\"falsch\")),\"\")","v":""},null,null,null,null,null,null,null,null,"",0,{"$f":"IF('Anhang Grundstücksverzeichnis'!G1266=Texte!$A$25,F1266,0)","v":0},{"$f":"IF('Anhang Grundstücksverzeichnis'!G1266=Texte!$A$26,F1266,0)","v":0},{"$f":"IF('Anhang Grundstücksverzeichnis'!G1266=Texte!$A$27,F1266,0)","v":0},{"$f":"IF('Anhang Grundstücksverzeichnis'!G1266=Texte!$A$28,F1266,0)","v":0}]
[1257,{"$f":"IF(C1267<>\"\",IF(ISNA(VLOOKUP(C1267,Katastralgemeinden!$A$2:$B$3041,2,FALSE)),\"Ungültige KG-Nummer!\",VLOOKUP(C1267,Katastralgemeinden!A$2:$B$3041,2,\"falsch\")),\"\")","v":""},null,null,null,null,null,null,null,null,"",0,{"$f":"IF('Anhang Grundstücksverzeichnis'!G1267=Texte!$A$25,F1267,0)","v":0},{"$f":"IF('Anhang Grundstücksverzeichnis'!G1267=Texte!$A$26,F1267,0)","v":0},{"$f":"IF('Anhang Grundstücksverzeichnis'!G1267=Texte!$A$27,F1267,0)","v":0},{"$f":"IF('Anhang Grundstücksverzeichnis'!G1267=Texte!$A$28,F1267,0)","v":0}]
[1258,{"$f":"IF(C1268<>\"\",IF(ISNA(VLOOKUP(C1268,Katastralgemeinden!$A$2:$B$3041,2,FALSE)),\"Ungültige KG-Nummer!\",VLOOKUP(C1268,Katastralgemeinden!A$2:$B$3041,2,\"falsch\")),\"\")","v":""},null,null,null,null,null,null,null,null,"",0,{"$f":"IF('Anhang Grundstücksverzeichnis'!G1268=Texte!$A$25,F1268,0)","v":0},{"$f":"IF('Anhang Grundstücksverzeichnis'!G1268=Texte!$A$26,F1268,0)","v":0},{"$f":"IF('Anhang Grundstücksverzeichnis'!G1268=Texte!$A$27,F1268,0)","v":0},{"$f":"IF('Anhang Grundstücksverzeichnis'!G1268=Texte!$A$28,F1268,0)","v":0}]
[1259,{"$f":"IF(C1269<>\"\",IF(ISNA(VLOOKUP(C1269,Katastralgemeinden!$A$2:$B$3041,2,FALSE)),\"Ungültige KG-Nummer!\",VLOOKUP(C1269,Katastralgemeinden!A$2:$B$3041,2,\"falsch\")),\"\")","v":""},null,null,null,null,null,null,null,null,"",0,{"$f":"IF('Anhang Grundstücksverzeichnis'!G1269=Texte!$A$25,F1269,0)","v":0},{"$f":"IF('Anhang Grundstücksverzeichnis'!G1269=Texte!$A$26,F1269,0)","v":0},{"$f":"IF('Anhang Grundstücksverzeichnis'!G1269=Texte!$A$27,F1269,0)","v":0},{"$f":"IF('Anhang Grundstücksverzeichnis'!G1269=Texte!$A$28,F1269,0)","v":0}]
[1260,{"$f":"IF(C1270<>\"\",IF(ISNA(VLOOKUP(C1270,Katastralgemeinden!$A$2:$B$3041,2,FALSE)),\"Ungültige KG-Nummer!\",VLOOKUP(C1270,Katastralgemeinden!A$2:$B$3041,2,\"falsch\")),\"\")","v":""},null,null,null,null,null,null,null,null,"",0,{"$f":"IF('Anhang Grundstücksverzeichnis'!G1270=Texte!$A$25,F1270,0)","v":0},{"$f":"IF('Anhang Grundstücksverzeichnis'!G1270=Texte!$A$26,F1270,0)","v":0},{"$f":"IF('Anhang Grundstücksverzeichnis'!G1270=Texte!$A$27,F1270,0)","v":0},{"$f":"IF('Anhang Grundstücksverzeichnis'!G1270=Texte!$A$28,F1270,0)","v":0}]
[1261,{"$f":"IF(C1271<>\"\",IF(ISNA(VLOOKUP(C1271,Katastralgemeinden!$A$2:$B$3041,2,FALSE)),\"Ungültige KG-Nummer!\",VLOOKUP(C1271,Katastralgemeinden!A$2:$B$3041,2,\"falsch\")),\"\")","v":""},null,null,null,null,null,null,null,null,"",0,{"$f":"IF('Anhang Grundstücksverzeichnis'!G1271=Texte!$A$25,F1271,0)","v":0},{"$f":"IF('Anhang Grundstücksverzeichnis'!G1271=Texte!$A$26,F1271,0)","v":0},{"$f":"IF('Anhang Grundstücksverzeichnis'!G1271=Texte!$A$27,F1271,0)","v":0},{"$f":"IF('Anhang Grundstücksverzeichnis'!G1271=Texte!$A$28,F1271,0)","v":0}]
[1262,{"$f":"IF(C1272<>\"\",IF(ISNA(VLOOKUP(C1272,Katastralgemeinden!$A$2:$B$3041,2,FALSE)),\"Ungültige KG-Nummer!\",VLOOKUP(C1272,Katastralgemeinden!A$2:$B$3041,2,\"falsch\")),\"\")","v":""},null,null,null,null,null,null,null,null,"",0,{"$f":"IF('Anhang Grundstücksverzeichnis'!G1272=Texte!$A$25,F1272,0)","v":0},{"$f":"IF('Anhang Grundstücksverzeichnis'!G1272=Texte!$A$26,F1272,0)","v":0},{"$f":"IF('Anhang Grundstücksverzeichnis'!G1272=Texte!$A$27,F1272,0)","v":0},{"$f":"IF('Anhang Grundstücksverzeichnis'!G1272=Texte!$A$28,F1272,0)","v":0}]
[1263,{"$f":"IF(C1273<>\"\",IF(ISNA(VLOOKUP(C1273,Katastralgemeinden!$A$2:$B$3041,2,FALSE)),\"Ungültige KG-Nummer!\",VLOOKUP(C1273,Katastralgemeinden!A$2:$B$3041,2,\"falsch\")),\"\")","v":""},null,null,null,null,null,null,null,null,"",0,{"$f":"IF('Anhang Grundstücksverzeichnis'!G1273=Texte!$A$25,F1273,0)","v":0},{"$f":"IF('Anhang Grundstücksverzeichnis'!G1273=Texte!$A$26,F1273,0)","v":0},{"$f":"IF('Anhang Grundstücksverzeichnis'!G1273=Texte!$A$27,F1273,0)","v":0},{"$f":"IF('Anhang Grundstücksverzeichnis'!G1273=Texte!$A$28,F1273,0)","v":0}]
[1264,{"$f":"IF(C1274<>\"\",IF(ISNA(VLOOKUP(C1274,Katastralgemeinden!$A$2:$B$3041,2,FALSE)),\"Ungültige KG-Nummer!\",VLOOKUP(C1274,Katastralgemeinden!A$2:$B$3041,2,\"falsch\")),\"\")","v":""},null,null,null,null,null,null,null,null,"",0,{"$f":"IF('Anhang Grundstücksverzeichnis'!G1274=Texte!$A$25,F1274,0)","v":0},{"$f":"IF('Anhang Grundstücksverzeichnis'!G1274=Texte!$A$26,F1274,0)","v":0},{"$f":"IF('Anhang Grundstücksverzeichnis'!G1274=Texte!$A$27,F1274,0)","v":0},{"$f":"IF('Anhang Grundstücksverzeichnis'!G1274=Texte!$A$28,F1274,0)","v":0}]
[1265,{"$f":"IF(C1275<>\"\",IF(ISNA(VLOOKUP(C1275,Katastralgemeinden!$A$2:$B$3041,2,FALSE)),\"Ungültige KG-Nummer!\",VLOOKUP(C1275,Katastralgemeinden!A$2:$B$3041,2,\"falsch\")),\"\")","v":""},null,null,null,null,null,null,null,null,"",0,{"$f":"IF('Anhang Grundstücksverzeichnis'!G1275=Texte!$A$25,F1275,0)","v":0},{"$f":"IF('Anhang Grundstücksverzeichnis'!G1275=Texte!$A$26,F1275,0)","v":0},{"$f":"IF('Anhang Grundstücksverzeichnis'!G1275=Texte!$A$27,F1275,0)","v":0},{"$f":"IF('Anhang Grundstücksverzeichnis'!G1275=Texte!$A$28,F1275,0)","v":0}]
[1266,{"$f":"IF(C1276<>\"\",IF(ISNA(VLOOKUP(C1276,Katastralgemeinden!$A$2:$B$3041,2,FALSE)),\"Ungültige KG-Nummer!\",VLOOKUP(C1276,Katastralgemeinden!A$2:$B$3041,2,\"falsch\")),\"\")","v":""},null,null,null,null,null,null,null,null,"",0,{"$f":"IF('Anhang Grundstücksverzeichnis'!G1276=Texte!$A$25,F1276,0)","v":0},{"$f":"IF('Anhang Grundstücksverzeichnis'!G1276=Texte!$A$26,F1276,0)","v":0},{"$f":"IF('Anhang Grundstücksverzeichnis'!G1276=Texte!$A$27,F1276,0)","v":0},{"$f":"IF('Anhang Grundstücksverzeichnis'!G1276=Texte!$A$28,F1276,0)","v":0}]
[1267,{"$f":"IF(C1277<>\"\",IF(ISNA(VLOOKUP(C1277,Katastralgemeinden!$A$2:$B$3041,2,FALSE)),\"Ungültige KG-Nummer!\",VLOOKUP(C1277,Katastralgemeinden!A$2:$B$3041,2,\"falsch\")),\"\")","v":""},null,null,null,null,null,null,null,null,"",0,{"$f":"IF('Anhang Grundstücksverzeichnis'!G1277=Texte!$A$25,F1277,0)","v":0},{"$f":"IF('Anhang Grundstücksverzeichnis'!G1277=Texte!$A$26,F1277,0)","v":0},{"$f":"IF('Anhang Grundstücksverzeichnis'!G1277=Texte!$A$27,F1277,0)","v":0},{"$f":"IF('Anhang Grundstücksverzeichnis'!G1277=Texte!$A$28,F1277,0)","v":0}]
[1268,{"$f":"IF(C1278<>\"\",IF(ISNA(VLOOKUP(C1278,Katastralgemeinden!$A$2:$B$3041,2,FALSE)),\"Ungültige KG-Nummer!\",VLOOKUP(C1278,Katastralgemeinden!A$2:$B$3041,2,\"falsch\")),\"\")","v":""},null,null,null,null,null,null,null,null,"",0,{"$f":"IF('Anhang Grundstücksverzeichnis'!G1278=Texte!$A$25,F1278,0)","v":0},{"$f":"IF('Anhang Grundstücksverzeichnis'!G1278=Texte!$A$26,F1278,0)","v":0},{"$f":"IF('Anhang Grundstücksverzeichnis'!G1278=Texte!$A$27,F1278,0)","v":0},{"$f":"IF('Anhang Grundstücksverzeichnis'!G1278=Texte!$A$28,F1278,0)","v":0}]
[1269,{"$f":"IF(C1279<>\"\",IF(ISNA(VLOOKUP(C1279,Katastralgemeinden!$A$2:$B$3041,2,FALSE)),\"Ungültige KG-Nummer!\",VLOOKUP(C1279,Katastralgemeinden!A$2:$B$3041,2,\"falsch\")),\"\")","v":""},null,null,null,null,null,null,null,null,"",0,{"$f":"IF('Anhang Grundstücksverzeichnis'!G1279=Texte!$A$25,F1279,0)","v":0},{"$f":"IF('Anhang Grundstücksverzeichnis'!G1279=Texte!$A$26,F1279,0)","v":0},{"$f":"IF('Anhang Grundstücksverzeichnis'!G1279=Texte!$A$27,F1279,0)","v":0},{"$f":"IF('Anhang Grundstücksverzeichnis'!G1279=Texte!$A$28,F1279,0)","v":0}]
[1270,{"$f":"IF(C1280<>\"\",IF(ISNA(VLOOKUP(C1280,Katastralgemeinden!$A$2:$B$3041,2,FALSE)),\"Ungültige KG-Nummer!\",VLOOKUP(C1280,Katastralgemeinden!A$2:$B$3041,2,\"falsch\")),\"\")","v":""},null,null,null,null,null,null,null,null,"",0,{"$f":"IF('Anhang Grundstücksverzeichnis'!G1280=Texte!$A$25,F1280,0)","v":0},{"$f":"IF('Anhang Grundstücksverzeichnis'!G1280=Texte!$A$26,F1280,0)","v":0},{"$f":"IF('Anhang Grundstücksverzeichnis'!G1280=Texte!$A$27,F1280,0)","v":0},{"$f":"IF('Anhang Grundstücksverzeichnis'!G1280=Texte!$A$28,F1280,0)","v":0}]
[1271,{"$f":"IF(C1281<>\"\",IF(ISNA(VLOOKUP(C1281,Katastralgemeinden!$A$2:$B$3041,2,FALSE)),\"Ungültige KG-Nummer!\",VLOOKUP(C1281,Katastralgemeinden!A$2:$B$3041,2,\"falsch\")),\"\")","v":""},null,null,null,null,null,null,null,null,"",0,{"$f":"IF('Anhang Grundstücksverzeichnis'!G1281=Texte!$A$25,F1281,0)","v":0},{"$f":"IF('Anhang Grundstücksverzeichnis'!G1281=Texte!$A$26,F1281,0)","v":0},{"$f":"IF('Anhang Grundstücksverzeichnis'!G1281=Texte!$A$27,F1281,0)","v":0},{"$f":"IF('Anhang Grundstücksverzeichnis'!G1281=Texte!$A$28,F1281,0)","v":0}]
[1272,{"$f":"IF(C1282<>\"\",IF(ISNA(VLOOKUP(C1282,Katastralgemeinden!$A$2:$B$3041,2,FALSE)),\"Ungültige KG-Nummer!\",VLOOKUP(C1282,Katastralgemeinden!A$2:$B$3041,2,\"falsch\")),\"\")","v":""},null,null,null,null,null,null,null,null,"",0,{"$f":"IF('Anhang Grundstücksverzeichnis'!G1282=Texte!$A$25,F1282,0)","v":0},{"$f":"IF('Anhang Grundstücksverzeichnis'!G1282=Texte!$A$26,F1282,0)","v":0},{"$f":"IF('Anhang Grundstücksverzeichnis'!G1282=Texte!$A$27,F1282,0)","v":0},{"$f":"IF('Anhang Grundstücksverzeichnis'!G1282=Texte!$A$28,F1282,0)","v":0}]
[1273,{"$f":"IF(C1283<>\"\",IF(ISNA(VLOOKUP(C1283,Katastralgemeinden!$A$2:$B$3041,2,FALSE)),\"Ungültige KG-Nummer!\",VLOOKUP(C1283,Katastralgemeinden!A$2:$B$3041,2,\"falsch\")),\"\")","v":""},null,null,null,null,null,null,null,null,"",0,{"$f":"IF('Anhang Grundstücksverzeichnis'!G1283=Texte!$A$25,F1283,0)","v":0},{"$f":"IF('Anhang Grundstücksverzeichnis'!G1283=Texte!$A$26,F1283,0)","v":0},{"$f":"IF('Anhang Grundstücksverzeichnis'!G1283=Texte!$A$27,F1283,0)","v":0},{"$f":"IF('Anhang Grundstücksverzeichnis'!G1283=Texte!$A$28,F1283,0)","v":0}]
[1274,{"$f":"IF(C1284<>\"\",IF(ISNA(VLOOKUP(C1284,Katastralgemeinden!$A$2:$B$3041,2,FALSE)),\"Ungültige KG-Nummer!\",VLOOKUP(C1284,Katastralgemeinden!A$2:$B$3041,2,\"falsch\")),\"\")","v":""},null,null,null,null,null,null,null,null,"",0,{"$f":"IF('Anhang Grundstücksverzeichnis'!G1284=Texte!$A$25,F1284,0)","v":0},{"$f":"IF('Anhang Grundstücksverzeichnis'!G1284=Texte!$A$26,F1284,0)","v":0},{"$f":"IF('Anhang Grundstücksverzeichnis'!G1284=Texte!$A$27,F1284,0)","v":0},{"$f":"IF('Anhang Grundstücksverzeichnis'!G1284=Texte!$A$28,F1284,0)","v":0}]
[1275,{"$f":"IF(C1285<>\"\",IF(ISNA(VLOOKUP(C1285,Katastralgemeinden!$A$2:$B$3041,2,FALSE)),\"Ungültige KG-Nummer!\",VLOOKUP(C1285,Katastralgemeinden!A$2:$B$3041,2,\"falsch\")),\"\")","v":""},null,null,null,null,null,null,null,null,"",0,{"$f":"IF('Anhang Grundstücksverzeichnis'!G1285=Texte!$A$25,F1285,0)","v":0},{"$f":"IF('Anhang Grundstücksverzeichnis'!G1285=Texte!$A$26,F1285,0)","v":0},{"$f":"IF('Anhang Grundstücksverzeichnis'!G1285=Texte!$A$27,F1285,0)","v":0},{"$f":"IF('Anhang Grundstücksverzeichnis'!G1285=Texte!$A$28,F1285,0)","v":0}]
[1276,{"$f":"IF(C1286<>\"\",IF(ISNA(VLOOKUP(C1286,Katastralgemeinden!$A$2:$B$3041,2,FALSE)),\"Ungültige KG-Nummer!\",VLOOKUP(C1286,Katastralgemeinden!A$2:$B$3041,2,\"falsch\")),\"\")","v":""},null,null,null,null,null,null,null,null,"",0,{"$f":"IF('Anhang Grundstücksverzeichnis'!G1286=Texte!$A$25,F1286,0)","v":0},{"$f":"IF('Anhang Grundstücksverzeichnis'!G1286=Texte!$A$26,F1286,0)","v":0},{"$f":"IF('Anhang Grundstücksverzeichnis'!G1286=Texte!$A$27,F1286,0)","v":0},{"$f":"IF('Anhang Grundstücksverzeichnis'!G1286=Texte!$A$28,F1286,0)","v":0}]
[1277,{"$f":"IF(C1287<>\"\",IF(ISNA(VLOOKUP(C1287,Katastralgemeinden!$A$2:$B$3041,2,FALSE)),\"Ungültige KG-Nummer!\",VLOOKUP(C1287,Katastralgemeinden!A$2:$B$3041,2,\"falsch\")),\"\")","v":""},null,null,null,null,null,null,null,null,"",0,{"$f":"IF('Anhang Grundstücksverzeichnis'!G1287=Texte!$A$25,F1287,0)","v":0},{"$f":"IF('Anhang Grundstücksverzeichnis'!G1287=Texte!$A$26,F1287,0)","v":0},{"$f":"IF('Anhang Grundstücksverzeichnis'!G1287=Texte!$A$27,F1287,0)","v":0},{"$f":"IF('Anhang Grundstücksverzeichnis'!G1287=Texte!$A$28,F1287,0)","v":0}]
[1278,{"$f":"IF(C1288<>\"\",IF(ISNA(VLOOKUP(C1288,Katastralgemeinden!$A$2:$B$3041,2,FALSE)),\"Ungültige KG-Nummer!\",VLOOKUP(C1288,Katastralgemeinden!A$2:$B$3041,2,\"falsch\")),\"\")","v":""},null,null,null,null,null,null,null,null,"",0,{"$f":"IF('Anhang Grundstücksverzeichnis'!G1288=Texte!$A$25,F1288,0)","v":0},{"$f":"IF('Anhang Grundstücksverzeichnis'!G1288=Texte!$A$26,F1288,0)","v":0},{"$f":"IF('Anhang Grundstücksverzeichnis'!G1288=Texte!$A$27,F1288,0)","v":0},{"$f":"IF('Anhang Grundstücksverzeichnis'!G1288=Texte!$A$28,F1288,0)","v":0}]
[1279,{"$f":"IF(C1289<>\"\",IF(ISNA(VLOOKUP(C1289,Katastralgemeinden!$A$2:$B$3041,2,FALSE)),\"Ungültige KG-Nummer!\",VLOOKUP(C1289,Katastralgemeinden!A$2:$B$3041,2,\"falsch\")),\"\")","v":""},null,null,null,null,null,null,null,null,"",0,{"$f":"IF('Anhang Grundstücksverzeichnis'!G1289=Texte!$A$25,F1289,0)","v":0},{"$f":"IF('Anhang Grundstücksverzeichnis'!G1289=Texte!$A$26,F1289,0)","v":0},{"$f":"IF('Anhang Grundstücksverzeichnis'!G1289=Texte!$A$27,F1289,0)","v":0},{"$f":"IF('Anhang Grundstücksverzeichnis'!G1289=Texte!$A$28,F1289,0)","v":0}]
[1280,{"$f":"IF(C1290<>\"\",IF(ISNA(VLOOKUP(C1290,Katastralgemeinden!$A$2:$B$3041,2,FALSE)),\"Ungültige KG-Nummer!\",VLOOKUP(C1290,Katastralgemeinden!A$2:$B$3041,2,\"falsch\")),\"\")","v":""},null,null,null,null,null,null,null,null,"",0,{"$f":"IF('Anhang Grundstücksverzeichnis'!G1290=Texte!$A$25,F1290,0)","v":0},{"$f":"IF('Anhang Grundstücksverzeichnis'!G1290=Texte!$A$26,F1290,0)","v":0},{"$f":"IF('Anhang Grundstücksverzeichnis'!G1290=Texte!$A$27,F1290,0)","v":0},{"$f":"IF('Anhang Grundstücksverzeichnis'!G1290=Texte!$A$28,F1290,0)","v":0}]
[1281,{"$f":"IF(C1291<>\"\",IF(ISNA(VLOOKUP(C1291,Katastralgemeinden!$A$2:$B$3041,2,FALSE)),\"Ungültige KG-Nummer!\",VLOOKUP(C1291,Katastralgemeinden!A$2:$B$3041,2,\"falsch\")),\"\")","v":""},null,null,null,null,null,null,null,null,"",0,{"$f":"IF('Anhang Grundstücksverzeichnis'!G1291=Texte!$A$25,F1291,0)","v":0},{"$f":"IF('Anhang Grundstücksverzeichnis'!G1291=Texte!$A$26,F1291,0)","v":0},{"$f":"IF('Anhang Grundstücksverzeichnis'!G1291=Texte!$A$27,F1291,0)","v":0},{"$f":"IF('Anhang Grundstücksverzeichnis'!G1291=Texte!$A$28,F1291,0)","v":0}]
[1282,{"$f":"IF(C1292<>\"\",IF(ISNA(VLOOKUP(C1292,Katastralgemeinden!$A$2:$B$3041,2,FALSE)),\"Ungültige KG-Nummer!\",VLOOKUP(C1292,Katastralgemeinden!A$2:$B$3041,2,\"falsch\")),\"\")","v":""},null,null,null,null,null,null,null,null,{"$f":"IF(G1292<>\"\",IF(G1292=\"Eigengrundfläche\",0,IF(G1292=\"Vorpachtfläche\",1,IF(G1292=\"Abrundung +\",3,IF(G1292=\"Abrundung -\",4,5)))),\"\")","v":""},{"$f":"IF(OR(LOWER(H1292)=\"x\",LOWER(H1292)=\"j\"),1,0)","v":0},{"$f":"IF('Anhang Grundstücksverzeichnis'!G1292=Texte!$A$25,F1292,0)","v":0},{"$f":"IF('Anhang Grundstücksverzeichnis'!G1292=Texte!$A$26,F1292,0)","v":0},{"$f":"IF('Anhang Grundstücksverzeichnis'!G1292=Texte!$A$27,F1292,0)","v":0},{"$f":"IF('Anhang Grundstücksverzeichnis'!G1292=Texte!$A$28,F1292,0)","v":0}]
[1283,{"$f":"IF(C1293<>\"\",IF(ISNA(VLOOKUP(C1293,Katastralgemeinden!$A$2:$B$3041,2,FALSE)),\"Ungültige KG-Nummer!\",VLOOKUP(C1293,Katastralgemeinden!A$2:$B$3041,2,\"falsch\")),\"\")","v":""},null,null,null,null,null,null,null,null,"",0,{"$f":"IF('Anhang Grundstücksverzeichnis'!G1293=Texte!$A$25,F1293,0)","v":0},{"$f":"IF('Anhang Grundstücksverzeichnis'!G1293=Texte!$A$26,F1293,0)","v":0},{"$f":"IF('Anhang Grundstücksverzeichnis'!G1293=Texte!$A$27,F1293,0)","v":0},{"$f":"IF('Anhang Grundstücksverzeichnis'!G1293=Texte!$A$28,F1293,0)","v":0}]
[1284,{"$f":"IF(C1294<>\"\",IF(ISNA(VLOOKUP(C1294,Katastralgemeinden!$A$2:$B$3041,2,FALSE)),\"Ungültige KG-Nummer!\",VLOOKUP(C1294,Katastralgemeinden!A$2:$B$3041,2,\"falsch\")),\"\")","v":""},null,null,null,null,null,null,null,null,"",0,{"$f":"IF('Anhang Grundstücksverzeichnis'!G1294=Texte!$A$25,F1294,0)","v":0},{"$f":"IF('Anhang Grundstücksverzeichnis'!G1294=Texte!$A$26,F1294,0)","v":0},{"$f":"IF('Anhang Grundstücksverzeichnis'!G1294=Texte!$A$27,F1294,0)","v":0},{"$f":"IF('Anhang Grundstücksverzeichnis'!G1294=Texte!$A$28,F1294,0)","v":0}]
[1285,{"$f":"IF(C1295<>\"\",IF(ISNA(VLOOKUP(C1295,Katastralgemeinden!$A$2:$B$3041,2,FALSE)),\"Ungültige KG-Nummer!\",VLOOKUP(C1295,Katastralgemeinden!A$2:$B$3041,2,\"falsch\")),\"\")","v":""},null,null,null,null,null,null,null,null,"",0,{"$f":"IF('Anhang Grundstücksverzeichnis'!G1295=Texte!$A$25,F1295,0)","v":0},{"$f":"IF('Anhang Grundstücksverzeichnis'!G1295=Texte!$A$26,F1295,0)","v":0},{"$f":"IF('Anhang Grundstücksverzeichnis'!G1295=Texte!$A$27,F1295,0)","v":0},{"$f":"IF('Anhang Grundstücksverzeichnis'!G1295=Texte!$A$28,F1295,0)","v":0}]
[1286,{"$f":"IF(C1296<>\"\",IF(ISNA(VLOOKUP(C1296,Katastralgemeinden!$A$2:$B$3041,2,FALSE)),\"Ungültige KG-Nummer!\",VLOOKUP(C1296,Katastralgemeinden!A$2:$B$3041,2,\"falsch\")),\"\")","v":""},null,null,null,null,null,null,null,null,"",0,{"$f":"IF('Anhang Grundstücksverzeichnis'!G1296=Texte!$A$25,F1296,0)","v":0},{"$f":"IF('Anhang Grundstücksverzeichnis'!G1296=Texte!$A$26,F1296,0)","v":0},{"$f":"IF('Anhang Grundstücksverzeichnis'!G1296=Texte!$A$27,F1296,0)","v":0},{"$f":"IF('Anhang Grundstücksverzeichnis'!G1296=Texte!$A$28,F1296,0)","v":0}]
[1287,{"$f":"IF(C1297<>\"\",IF(ISNA(VLOOKUP(C1297,Katastralgemeinden!$A$2:$B$3041,2,FALSE)),\"Ungültige KG-Nummer!\",VLOOKUP(C1297,Katastralgemeinden!A$2:$B$3041,2,\"falsch\")),\"\")","v":""},null,null,null,null,null,null,null,null,"",0,{"$f":"IF('Anhang Grundstücksverzeichnis'!G1297=Texte!$A$25,F1297,0)","v":0},{"$f":"IF('Anhang Grundstücksverzeichnis'!G1297=Texte!$A$26,F1297,0)","v":0},{"$f":"IF('Anhang Grundstücksverzeichnis'!G1297=Texte!$A$27,F1297,0)","v":0},{"$f":"IF('Anhang Grundstücksverzeichnis'!G1297=Texte!$A$28,F1297,0)","v":0}]
[1288,{"$f":"IF(C1298<>\"\",IF(ISNA(VLOOKUP(C1298,Katastralgemeinden!$A$2:$B$3041,2,FALSE)),\"Ungültige KG-Nummer!\",VLOOKUP(C1298,Katastralgemeinden!A$2:$B$3041,2,\"falsch\")),\"\")","v":""},null,null,null,null,null,null,null,null,"",0,{"$f":"IF('Anhang Grundstücksverzeichnis'!G1298=Texte!$A$25,F1298,0)","v":0},{"$f":"IF('Anhang Grundstücksverzeichnis'!G1298=Texte!$A$26,F1298,0)","v":0},{"$f":"IF('Anhang Grundstücksverzeichnis'!G1298=Texte!$A$27,F1298,0)","v":0},{"$f":"IF('Anhang Grundstücksverzeichnis'!G1298=Texte!$A$28,F1298,0)","v":0}]
[1289,{"$f":"IF(C1299<>\"\",IF(ISNA(VLOOKUP(C1299,Katastralgemeinden!$A$2:$B$3041,2,FALSE)),\"Ungültige KG-Nummer!\",VLOOKUP(C1299,Katastralgemeinden!A$2:$B$3041,2,\"falsch\")),\"\")","v":""},null,null,null,null,null,null,null,null,"",0,{"$f":"IF('Anhang Grundstücksverzeichnis'!G1299=Texte!$A$25,F1299,0)","v":0},{"$f":"IF('Anhang Grundstücksverzeichnis'!G1299=Texte!$A$26,F1299,0)","v":0},{"$f":"IF('Anhang Grundstücksverzeichnis'!G1299=Texte!$A$27,F1299,0)","v":0},{"$f":"IF('Anhang Grundstücksverzeichnis'!G1299=Texte!$A$28,F1299,0)","v":0}]
[1290,{"$f":"IF(C1300<>\"\",IF(ISNA(VLOOKUP(C1300,Katastralgemeinden!$A$2:$B$3041,2,FALSE)),\"Ungültige KG-Nummer!\",VLOOKUP(C1300,Katastralgemeinden!A$2:$B$3041,2,\"falsch\")),\"\")","v":""},null,null,null,null,null,null,null,null,"",0,{"$f":"IF('Anhang Grundstücksverzeichnis'!G1300=Texte!$A$25,F1300,0)","v":0},{"$f":"IF('Anhang Grundstücksverzeichnis'!G1300=Texte!$A$26,F1300,0)","v":0},{"$f":"IF('Anhang Grundstücksverzeichnis'!G1300=Texte!$A$27,F1300,0)","v":0},{"$f":"IF('Anhang Grundstücksverzeichnis'!G1300=Texte!$A$28,F1300,0)","v":0}]
[1291,{"$f":"IF(C1301<>\"\",IF(ISNA(VLOOKUP(C1301,Katastralgemeinden!$A$2:$B$3041,2,FALSE)),\"Ungültige KG-Nummer!\",VLOOKUP(C1301,Katastralgemeinden!A$2:$B$3041,2,\"falsch\")),\"\")","v":""},null,null,null,null,null,null,null,null,"",0,{"$f":"IF('Anhang Grundstücksverzeichnis'!G1301=Texte!$A$25,F1301,0)","v":0},{"$f":"IF('Anhang Grundstücksverzeichnis'!G1301=Texte!$A$26,F1301,0)","v":0},{"$f":"IF('Anhang Grundstücksverzeichnis'!G1301=Texte!$A$27,F1301,0)","v":0},{"$f":"IF('Anhang Grundstücksverzeichnis'!G1301=Texte!$A$28,F1301,0)","v":0}]
[1292,{"$f":"IF(C1302<>\"\",IF(ISNA(VLOOKUP(C1302,Katastralgemeinden!$A$2:$B$3041,2,FALSE)),\"Ungültige KG-Nummer!\",VLOOKUP(C1302,Katastralgemeinden!A$2:$B$3041,2,\"falsch\")),\"\")","v":""},null,null,null,null,null,null,null,null,"",0,{"$f":"IF('Anhang Grundstücksverzeichnis'!G1302=Texte!$A$25,F1302,0)","v":0},{"$f":"IF('Anhang Grundstücksverzeichnis'!G1302=Texte!$A$26,F1302,0)","v":0},{"$f":"IF('Anhang Grundstücksverzeichnis'!G1302=Texte!$A$27,F1302,0)","v":0},{"$f":"IF('Anhang Grundstücksverzeichnis'!G1302=Texte!$A$28,F1302,0)","v":0}]
[1293,{"$f":"IF(C1303<>\"\",IF(ISNA(VLOOKUP(C1303,Katastralgemeinden!$A$2:$B$3041,2,FALSE)),\"Ungültige KG-Nummer!\",VLOOKUP(C1303,Katastralgemeinden!A$2:$B$3041,2,\"falsch\")),\"\")","v":""},null,null,null,null,null,null,null,null,"",0,{"$f":"IF('Anhang Grundstücksverzeichnis'!G1303=Texte!$A$25,F1303,0)","v":0},{"$f":"IF('Anhang Grundstücksverzeichnis'!G1303=Texte!$A$26,F1303,0)","v":0},{"$f":"IF('Anhang Grundstücksverzeichnis'!G1303=Texte!$A$27,F1303,0)","v":0},{"$f":"IF('Anhang Grundstücksverzeichnis'!G1303=Texte!$A$28,F1303,0)","v":0}]
[1294,{"$f":"IF(C1304<>\"\",IF(ISNA(VLOOKUP(C1304,Katastralgemeinden!$A$2:$B$3041,2,FALSE)),\"Ungültige KG-Nummer!\",VLOOKUP(C1304,Katastralgemeinden!A$2:$B$3041,2,\"falsch\")),\"\")","v":""},null,null,null,null,null,null,null,null,"",0,{"$f":"IF('Anhang Grundstücksverzeichnis'!G1304=Texte!$A$25,F1304,0)","v":0},{"$f":"IF('Anhang Grundstücksverzeichnis'!G1304=Texte!$A$26,F1304,0)","v":0},{"$f":"IF('Anhang Grundstücksverzeichnis'!G1304=Texte!$A$27,F1304,0)","v":0},{"$f":"IF('Anhang Grundstücksverzeichnis'!G1304=Texte!$A$28,F1304,0)","v":0}]
[1295,{"$f":"IF(C1305<>\"\",IF(ISNA(VLOOKUP(C1305,Katastralgemeinden!$A$2:$B$3041,2,FALSE)),\"Ungültige KG-Nummer!\",VLOOKUP(C1305,Katastralgemeinden!A$2:$B$3041,2,\"falsch\")),\"\")","v":""},null,null,null,null,null,null,null,null,"",0,{"$f":"IF('Anhang Grundstücksverzeichnis'!G1305=Texte!$A$25,F1305,0)","v":0},{"$f":"IF('Anhang Grundstücksverzeichnis'!G1305=Texte!$A$26,F1305,0)","v":0},{"$f":"IF('Anhang Grundstücksverzeichnis'!G1305=Texte!$A$27,F1305,0)","v":0},{"$f":"IF('Anhang Grundstücksverzeichnis'!G1305=Texte!$A$28,F1305,0)","v":0}]
[1296,{"$f":"IF(C1306<>\"\",IF(ISNA(VLOOKUP(C1306,Katastralgemeinden!$A$2:$B$3041,2,FALSE)),\"Ungültige KG-Nummer!\",VLOOKUP(C1306,Katastralgemeinden!A$2:$B$3041,2,\"falsch\")),\"\")","v":""},null,null,null,null,null,null,null,null,"",0,{"$f":"IF('Anhang Grundstücksverzeichnis'!G1306=Texte!$A$25,F1306,0)","v":0},{"$f":"IF('Anhang Grundstücksverzeichnis'!G1306=Texte!$A$26,F1306,0)","v":0},{"$f":"IF('Anhang Grundstücksverzeichnis'!G1306=Texte!$A$27,F1306,0)","v":0},{"$f":"IF('Anhang Grundstücksverzeichnis'!G1306=Texte!$A$28,F1306,0)","v":0}]
[1297,{"$f":"IF(C1307<>\"\",IF(ISNA(VLOOKUP(C1307,Katastralgemeinden!$A$2:$B$3041,2,FALSE)),\"Ungültige KG-Nummer!\",VLOOKUP(C1307,Katastralgemeinden!A$2:$B$3041,2,\"falsch\")),\"\")","v":""},null,null,null,null,null,null,null,null,"",0,{"$f":"IF('Anhang Grundstücksverzeichnis'!G1307=Texte!$A$25,F1307,0)","v":0},{"$f":"IF('Anhang Grundstücksverzeichnis'!G1307=Texte!$A$26,F1307,0)","v":0},{"$f":"IF('Anhang Grundstücksverzeichnis'!G1307=Texte!$A$27,F1307,0)","v":0},{"$f":"IF('Anhang Grundstücksverzeichnis'!G1307=Texte!$A$28,F1307,0)","v":0}]
[1298,{"$f":"IF(C1308<>\"\",IF(ISNA(VLOOKUP(C1308,Katastralgemeinden!$A$2:$B$3041,2,FALSE)),\"Ungültige KG-Nummer!\",VLOOKUP(C1308,Katastralgemeinden!A$2:$B$3041,2,\"falsch\")),\"\")","v":""},null,null,null,null,null,null,null,null,"",0,{"$f":"IF('Anhang Grundstücksverzeichnis'!G1308=Texte!$A$25,F1308,0)","v":0},{"$f":"IF('Anhang Grundstücksverzeichnis'!G1308=Texte!$A$26,F1308,0)","v":0},{"$f":"IF('Anhang Grundstücksverzeichnis'!G1308=Texte!$A$27,F1308,0)","v":0},{"$f":"IF('Anhang Grundstücksverzeichnis'!G1308=Texte!$A$28,F1308,0)","v":0}]
[1299,{"$f":"IF(C1309<>\"\",IF(ISNA(VLOOKUP(C1309,Katastralgemeinden!$A$2:$B$3041,2,FALSE)),\"Ungültige KG-Nummer!\",VLOOKUP(C1309,Katastralgemeinden!A$2:$B$3041,2,\"falsch\")),\"\")","v":""},null,null,null,null,null,null,null,null,"",0,{"$f":"IF('Anhang Grundstücksverzeichnis'!G1309=Texte!$A$25,F1309,0)","v":0},{"$f":"IF('Anhang Grundstücksverzeichnis'!G1309=Texte!$A$26,F1309,0)","v":0},{"$f":"IF('Anhang Grundstücksverzeichnis'!G1309=Texte!$A$27,F1309,0)","v":0},{"$f":"IF('Anhang Grundstücksverzeichnis'!G1309=Texte!$A$28,F1309,0)","v":0}]
[1300,{"$f":"IF(C1310<>\"\",IF(ISNA(VLOOKUP(C1310,Katastralgemeinden!$A$2:$B$3041,2,FALSE)),\"Ungültige KG-Nummer!\",VLOOKUP(C1310,Katastralgemeinden!A$2:$B$3041,2,\"falsch\")),\"\")","v":""},null,null,null,null,null,null,null,null,"",0,{"$f":"IF('Anhang Grundstücksverzeichnis'!G1310=Texte!$A$25,F1310,0)","v":0},{"$f":"IF('Anhang Grundstücksverzeichnis'!G1310=Texte!$A$26,F1310,0)","v":0},{"$f":"IF('Anhang Grundstücksverzeichnis'!G1310=Texte!$A$27,F1310,0)","v":0},{"$f":"IF('Anhang Grundstücksverzeichnis'!G1310=Texte!$A$28,F1310,0)","v":0}]
[1301,{"$f":"IF(C1311<>\"\",IF(ISNA(VLOOKUP(C1311,Katastralgemeinden!$A$2:$B$3041,2,FALSE)),\"Ungültige KG-Nummer!\",VLOOKUP(C1311,Katastralgemeinden!A$2:$B$3041,2,\"falsch\")),\"\")","v":""},null,null,null,null,null,null,null,null,"",0,{"$f":"IF('Anhang Grundstücksverzeichnis'!G1311=Texte!$A$25,F1311,0)","v":0},{"$f":"IF('Anhang Grundstücksverzeichnis'!G1311=Texte!$A$26,F1311,0)","v":0},{"$f":"IF('Anhang Grundstücksverzeichnis'!G1311=Texte!$A$27,F1311,0)","v":0},{"$f":"IF('Anhang Grundstücksverzeichnis'!G1311=Texte!$A$28,F1311,0)","v":0}]
[1302,{"$f":"IF(C1312<>\"\",IF(ISNA(VLOOKUP(C1312,Katastralgemeinden!$A$2:$B$3041,2,FALSE)),\"Ungültige KG-Nummer!\",VLOOKUP(C1312,Katastralgemeinden!A$2:$B$3041,2,\"falsch\")),\"\")","v":""},null,null,null,null,null,null,null,null,"",0,{"$f":"IF('Anhang Grundstücksverzeichnis'!G1312=Texte!$A$25,F1312,0)","v":0},{"$f":"IF('Anhang Grundstücksverzeichnis'!G1312=Texte!$A$26,F1312,0)","v":0},{"$f":"IF('Anhang Grundstücksverzeichnis'!G1312=Texte!$A$27,F1312,0)","v":0},{"$f":"IF('Anhang Grundstücksverzeichnis'!G1312=Texte!$A$28,F1312,0)","v":0}]
[1303,{"$f":"IF(C1313<>\"\",IF(ISNA(VLOOKUP(C1313,Katastralgemeinden!$A$2:$B$3041,2,FALSE)),\"Ungültige KG-Nummer!\",VLOOKUP(C1313,Katastralgemeinden!A$2:$B$3041,2,\"falsch\")),\"\")","v":""},null,null,null,null,null,null,null,null,"",0,{"$f":"IF('Anhang Grundstücksverzeichnis'!G1313=Texte!$A$25,F1313,0)","v":0},{"$f":"IF('Anhang Grundstücksverzeichnis'!G1313=Texte!$A$26,F1313,0)","v":0},{"$f":"IF('Anhang Grundstücksverzeichnis'!G1313=Texte!$A$27,F1313,0)","v":0},{"$f":"IF('Anhang Grundstücksverzeichnis'!G1313=Texte!$A$28,F1313,0)","v":0}]
[1304,{"$f":"IF(C1314<>\"\",IF(ISNA(VLOOKUP(C1314,Katastralgemeinden!$A$2:$B$3041,2,FALSE)),\"Ungültige KG-Nummer!\",VLOOKUP(C1314,Katastralgemeinden!A$2:$B$3041,2,\"falsch\")),\"\")","v":""},null,null,null,null,null,null,null,null,"",0,{"$f":"IF('Anhang Grundstücksverzeichnis'!G1314=Texte!$A$25,F1314,0)","v":0},{"$f":"IF('Anhang Grundstücksverzeichnis'!G1314=Texte!$A$26,F1314,0)","v":0},{"$f":"IF('Anhang Grundstücksverzeichnis'!G1314=Texte!$A$27,F1314,0)","v":0},{"$f":"IF('Anhang Grundstücksverzeichnis'!G1314=Texte!$A$28,F1314,0)","v":0}]
[1305,{"$f":"IF(C1315<>\"\",IF(ISNA(VLOOKUP(C1315,Katastralgemeinden!$A$2:$B$3041,2,FALSE)),\"Ungültige KG-Nummer!\",VLOOKUP(C1315,Katastralgemeinden!A$2:$B$3041,2,\"falsch\")),\"\")","v":""},null,null,null,null,null,null,null,null,"",0,{"$f":"IF('Anhang Grundstücksverzeichnis'!G1315=Texte!$A$25,F1315,0)","v":0},{"$f":"IF('Anhang Grundstücksverzeichnis'!G1315=Texte!$A$26,F1315,0)","v":0},{"$f":"IF('Anhang Grundstücksverzeichnis'!G1315=Texte!$A$27,F1315,0)","v":0},{"$f":"IF('Anhang Grundstücksverzeichnis'!G1315=Texte!$A$28,F1315,0)","v":0}]
[1306,{"$f":"IF(C1316<>\"\",IF(ISNA(VLOOKUP(C1316,Katastralgemeinden!$A$2:$B$3041,2,FALSE)),\"Ungültige KG-Nummer!\",VLOOKUP(C1316,Katastralgemeinden!A$2:$B$3041,2,\"falsch\")),\"\")","v":""},null,null,null,null,null,null,null,null,"",0,{"$f":"IF('Anhang Grundstücksverzeichnis'!G1316=Texte!$A$25,F1316,0)","v":0},{"$f":"IF('Anhang Grundstücksverzeichnis'!G1316=Texte!$A$26,F1316,0)","v":0},{"$f":"IF('Anhang Grundstücksverzeichnis'!G1316=Texte!$A$27,F1316,0)","v":0},{"$f":"IF('Anhang Grundstücksverzeichnis'!G1316=Texte!$A$28,F1316,0)","v":0}]
[1307,{"$f":"IF(C1317<>\"\",IF(ISNA(VLOOKUP(C1317,Katastralgemeinden!$A$2:$B$3041,2,FALSE)),\"Ungültige KG-Nummer!\",VLOOKUP(C1317,Katastralgemeinden!A$2:$B$3041,2,\"falsch\")),\"\")","v":""},null,null,null,null,null,null,null,null,"",0,{"$f":"IF('Anhang Grundstücksverzeichnis'!G1317=Texte!$A$25,F1317,0)","v":0},{"$f":"IF('Anhang Grundstücksverzeichnis'!G1317=Texte!$A$26,F1317,0)","v":0},{"$f":"IF('Anhang Grundstücksverzeichnis'!G1317=Texte!$A$27,F1317,0)","v":0},{"$f":"IF('Anhang Grundstücksverzeichnis'!G1317=Texte!$A$28,F1317,0)","v":0}]
[1308,{"$f":"IF(C1318<>\"\",IF(ISNA(VLOOKUP(C1318,Katastralgemeinden!$A$2:$B$3041,2,FALSE)),\"Ungültige KG-Nummer!\",VLOOKUP(C1318,Katastralgemeinden!A$2:$B$3041,2,\"falsch\")),\"\")","v":""},null,null,null,null,null,null,null,null,"",0,{"$f":"IF('Anhang Grundstücksverzeichnis'!G1318=Texte!$A$25,F1318,0)","v":0},{"$f":"IF('Anhang Grundstücksverzeichnis'!G1318=Texte!$A$26,F1318,0)","v":0},{"$f":"IF('Anhang Grundstücksverzeichnis'!G1318=Texte!$A$27,F1318,0)","v":0},{"$f":"IF('Anhang Grundstücksverzeichnis'!G1318=Texte!$A$28,F1318,0)","v":0}]
[1309,{"$f":"IF(C1319<>\"\",IF(ISNA(VLOOKUP(C1319,Katastralgemeinden!$A$2:$B$3041,2,FALSE)),\"Ungültige KG-Nummer!\",VLOOKUP(C1319,Katastralgemeinden!A$2:$B$3041,2,\"falsch\")),\"\")","v":""},null,null,null,null,null,null,null,null,"",0,{"$f":"IF('Anhang Grundstücksverzeichnis'!G1319=Texte!$A$25,F1319,0)","v":0},{"$f":"IF('Anhang Grundstücksverzeichnis'!G1319=Texte!$A$26,F1319,0)","v":0},{"$f":"IF('Anhang Grundstücksverzeichnis'!G1319=Texte!$A$27,F1319,0)","v":0},{"$f":"IF('Anhang Grundstücksverzeichnis'!G1319=Texte!$A$28,F1319,0)","v":0}]
[1310,{"$f":"IF(C1320<>\"\",IF(ISNA(VLOOKUP(C1320,Katastralgemeinden!$A$2:$B$3041,2,FALSE)),\"Ungültige KG-Nummer!\",VLOOKUP(C1320,Katastralgemeinden!A$2:$B$3041,2,\"falsch\")),\"\")","v":""},null,null,null,null,null,null,null,null,"",0,{"$f":"IF('Anhang Grundstücksverzeichnis'!G1320=Texte!$A$25,F1320,0)","v":0},{"$f":"IF('Anhang Grundstücksverzeichnis'!G1320=Texte!$A$26,F1320,0)","v":0},{"$f":"IF('Anhang Grundstücksverzeichnis'!G1320=Texte!$A$27,F1320,0)","v":0},{"$f":"IF('Anhang Grundstücksverzeichnis'!G1320=Texte!$A$28,F1320,0)","v":0}]
[1311,{"$f":"IF(C1321<>\"\",IF(ISNA(VLOOKUP(C1321,Katastralgemeinden!$A$2:$B$3041,2,FALSE)),\"Ungültige KG-Nummer!\",VLOOKUP(C1321,Katastralgemeinden!A$2:$B$3041,2,\"falsch\")),\"\")","v":""},null,null,null,null,null,null,null,null,"",0,{"$f":"IF('Anhang Grundstücksverzeichnis'!G1321=Texte!$A$25,F1321,0)","v":0},{"$f":"IF('Anhang Grundstücksverzeichnis'!G1321=Texte!$A$26,F1321,0)","v":0},{"$f":"IF('Anhang Grundstücksverzeichnis'!G1321=Texte!$A$27,F1321,0)","v":0},{"$f":"IF('Anhang Grundstücksverzeichnis'!G1321=Texte!$A$28,F1321,0)","v":0}]
[1312,{"$f":"IF(C1322<>\"\",IF(ISNA(VLOOKUP(C1322,Katastralgemeinden!$A$2:$B$3041,2,FALSE)),\"Ungültige KG-Nummer!\",VLOOKUP(C1322,Katastralgemeinden!A$2:$B$3041,2,\"falsch\")),\"\")","v":""},null,null,null,null,null,null,null,null,"",0,{"$f":"IF('Anhang Grundstücksverzeichnis'!G1322=Texte!$A$25,F1322,0)","v":0},{"$f":"IF('Anhang Grundstücksverzeichnis'!G1322=Texte!$A$26,F1322,0)","v":0},{"$f":"IF('Anhang Grundstücksverzeichnis'!G1322=Texte!$A$27,F1322,0)","v":0},{"$f":"IF('Anhang Grundstücksverzeichnis'!G1322=Texte!$A$28,F1322,0)","v":0}]
[1313,{"$f":"IF(C1323<>\"\",IF(ISNA(VLOOKUP(C1323,Katastralgemeinden!$A$2:$B$3041,2,FALSE)),\"Ungültige KG-Nummer!\",VLOOKUP(C1323,Katastralgemeinden!A$2:$B$3041,2,\"falsch\")),\"\")","v":""},null,null,null,null,null,null,null,null,"",0,{"$f":"IF('Anhang Grundstücksverzeichnis'!G1323=Texte!$A$25,F1323,0)","v":0},{"$f":"IF('Anhang Grundstücksverzeichnis'!G1323=Texte!$A$26,F1323,0)","v":0},{"$f":"IF('Anhang Grundstücksverzeichnis'!G1323=Texte!$A$27,F1323,0)","v":0},{"$f":"IF('Anhang Grundstücksverzeichnis'!G1323=Texte!$A$28,F1323,0)","v":0}]
[1314,{"$f":"IF(C1324<>\"\",IF(ISNA(VLOOKUP(C1324,Katastralgemeinden!$A$2:$B$3041,2,FALSE)),\"Ungültige KG-Nummer!\",VLOOKUP(C1324,Katastralgemeinden!A$2:$B$3041,2,\"falsch\")),\"\")","v":""},null,null,null,null,null,null,null,null,"",0,{"$f":"IF('Anhang Grundstücksverzeichnis'!G1324=Texte!$A$25,F1324,0)","v":0},{"$f":"IF('Anhang Grundstücksverzeichnis'!G1324=Texte!$A$26,F1324,0)","v":0},{"$f":"IF('Anhang Grundstücksverzeichnis'!G1324=Texte!$A$27,F1324,0)","v":0},{"$f":"IF('Anhang Grundstücksverzeichnis'!G1324=Texte!$A$28,F1324,0)","v":0}]
[1315,{"$f":"IF(C1325<>\"\",IF(ISNA(VLOOKUP(C1325,Katastralgemeinden!$A$2:$B$3041,2,FALSE)),\"Ungültige KG-Nummer!\",VLOOKUP(C1325,Katastralgemeinden!A$2:$B$3041,2,\"falsch\")),\"\")","v":""},null,null,null,null,null,null,null,null,"",0,{"$f":"IF('Anhang Grundstücksverzeichnis'!G1325=Texte!$A$25,F1325,0)","v":0},{"$f":"IF('Anhang Grundstücksverzeichnis'!G1325=Texte!$A$26,F1325,0)","v":0},{"$f":"IF('Anhang Grundstücksverzeichnis'!G1325=Texte!$A$27,F1325,0)","v":0},{"$f":"IF('Anhang Grundstücksverzeichnis'!G1325=Texte!$A$28,F1325,0)","v":0}]
[1316,{"$f":"IF(C1326<>\"\",IF(ISNA(VLOOKUP(C1326,Katastralgemeinden!$A$2:$B$3041,2,FALSE)),\"Ungültige KG-Nummer!\",VLOOKUP(C1326,Katastralgemeinden!A$2:$B$3041,2,\"falsch\")),\"\")","v":""},null,null,null,null,null,null,null,null,"",0,{"$f":"IF('Anhang Grundstücksverzeichnis'!G1326=Texte!$A$25,F1326,0)","v":0},{"$f":"IF('Anhang Grundstücksverzeichnis'!G1326=Texte!$A$26,F1326,0)","v":0},{"$f":"IF('Anhang Grundstücksverzeichnis'!G1326=Texte!$A$27,F1326,0)","v":0},{"$f":"IF('Anhang Grundstücksverzeichnis'!G1326=Texte!$A$28,F1326,0)","v":0}]
[1317,{"$f":"IF(C1327<>\"\",IF(ISNA(VLOOKUP(C1327,Katastralgemeinden!$A$2:$B$3041,2,FALSE)),\"Ungültige KG-Nummer!\",VLOOKUP(C1327,Katastralgemeinden!A$2:$B$3041,2,\"falsch\")),\"\")","v":""},null,null,null,null,null,null,null,null,"",0,{"$f":"IF('Anhang Grundstücksverzeichnis'!G1327=Texte!$A$25,F1327,0)","v":0},{"$f":"IF('Anhang Grundstücksverzeichnis'!G1327=Texte!$A$26,F1327,0)","v":0},{"$f":"IF('Anhang Grundstücksverzeichnis'!G1327=Texte!$A$27,F1327,0)","v":0},{"$f":"IF('Anhang Grundstücksverzeichnis'!G1327=Texte!$A$28,F1327,0)","v":0}]
[1318,{"$f":"IF(C1328<>\"\",IF(ISNA(VLOOKUP(C1328,Katastralgemeinden!$A$2:$B$3041,2,FALSE)),\"Ungültige KG-Nummer!\",VLOOKUP(C1328,Katastralgemeinden!A$2:$B$3041,2,\"falsch\")),\"\")","v":""},null,null,null,null,null,null,null,null,"",0,{"$f":"IF('Anhang Grundstücksverzeichnis'!G1328=Texte!$A$25,F1328,0)","v":0},{"$f":"IF('Anhang Grundstücksverzeichnis'!G1328=Texte!$A$26,F1328,0)","v":0},{"$f":"IF('Anhang Grundstücksverzeichnis'!G1328=Texte!$A$27,F1328,0)","v":0},{"$f":"IF('Anhang Grundstücksverzeichnis'!G1328=Texte!$A$28,F1328,0)","v":0}]
[1319,{"$f":"IF(C1329<>\"\",IF(ISNA(VLOOKUP(C1329,Katastralgemeinden!$A$2:$B$3041,2,FALSE)),\"Ungültige KG-Nummer!\",VLOOKUP(C1329,Katastralgemeinden!A$2:$B$3041,2,\"falsch\")),\"\")","v":""},null,null,null,null,null,null,null,null,"",0,{"$f":"IF('Anhang Grundstücksverzeichnis'!G1329=Texte!$A$25,F1329,0)","v":0},{"$f":"IF('Anhang Grundstücksverzeichnis'!G1329=Texte!$A$26,F1329,0)","v":0},{"$f":"IF('Anhang Grundstücksverzeichnis'!G1329=Texte!$A$27,F1329,0)","v":0},{"$f":"IF('Anhang Grundstücksverzeichnis'!G1329=Texte!$A$28,F1329,0)","v":0}]
[1320,{"$f":"IF(C1330<>\"\",IF(ISNA(VLOOKUP(C1330,Katastralgemeinden!$A$2:$B$3041,2,FALSE)),\"Ungültige KG-Nummer!\",VLOOKUP(C1330,Katastralgemeinden!A$2:$B$3041,2,\"falsch\")),\"\")","v":""},null,null,null,null,null,null,null,null,"",0,{"$f":"IF('Anhang Grundstücksverzeichnis'!G1330=Texte!$A$25,F1330,0)","v":0},{"$f":"IF('Anhang Grundstücksverzeichnis'!G1330=Texte!$A$26,F1330,0)","v":0},{"$f":"IF('Anhang Grundstücksverzeichnis'!G1330=Texte!$A$27,F1330,0)","v":0},{"$f":"IF('Anhang Grundstücksverzeichnis'!G1330=Texte!$A$28,F1330,0)","v":0}]
[1321,{"$f":"IF(C1331<>\"\",IF(ISNA(VLOOKUP(C1331,Katastralgemeinden!$A$2:$B$3041,2,FALSE)),\"Ungültige KG-Nummer!\",VLOOKUP(C1331,Katastralgemeinden!A$2:$B$3041,2,\"falsch\")),\"\")","v":""},null,null,null,null,null,null,null,null,"",0,{"$f":"IF('Anhang Grundstücksverzeichnis'!G1331=Texte!$A$25,F1331,0)","v":0},{"$f":"IF('Anhang Grundstücksverzeichnis'!G1331=Texte!$A$26,F1331,0)","v":0},{"$f":"IF('Anhang Grundstücksverzeichnis'!G1331=Texte!$A$27,F1331,0)","v":0},{"$f":"IF('Anhang Grundstücksverzeichnis'!G1331=Texte!$A$28,F1331,0)","v":0}]
[1322,{"$f":"IF(C1332<>\"\",IF(ISNA(VLOOKUP(C1332,Katastralgemeinden!$A$2:$B$3041,2,FALSE)),\"Ungültige KG-Nummer!\",VLOOKUP(C1332,Katastralgemeinden!A$2:$B$3041,2,\"falsch\")),\"\")","v":""},null,null,null,null,null,null,null,null,"",0,{"$f":"IF('Anhang Grundstücksverzeichnis'!G1332=Texte!$A$25,F1332,0)","v":0},{"$f":"IF('Anhang Grundstücksverzeichnis'!G1332=Texte!$A$26,F1332,0)","v":0},{"$f":"IF('Anhang Grundstücksverzeichnis'!G1332=Texte!$A$27,F1332,0)","v":0},{"$f":"IF('Anhang Grundstücksverzeichnis'!G1332=Texte!$A$28,F1332,0)","v":0}]
[1323,{"$f":"IF(C1333<>\"\",IF(ISNA(VLOOKUP(C1333,Katastralgemeinden!$A$2:$B$3041,2,FALSE)),\"Ungültige KG-Nummer!\",VLOOKUP(C1333,Katastralgemeinden!A$2:$B$3041,2,\"falsch\")),\"\")","v":""},null,null,null,null,null,null,null,null,"",0,{"$f":"IF('Anhang Grundstücksverzeichnis'!G1333=Texte!$A$25,F1333,0)","v":0},{"$f":"IF('Anhang Grundstücksverzeichnis'!G1333=Texte!$A$26,F1333,0)","v":0},{"$f":"IF('Anhang Grundstücksverzeichnis'!G1333=Texte!$A$27,F1333,0)","v":0},{"$f":"IF('Anhang Grundstücksverzeichnis'!G1333=Texte!$A$28,F1333,0)","v":0}]
[1324,{"$f":"IF(C1334<>\"\",IF(ISNA(VLOOKUP(C1334,Katastralgemeinden!$A$2:$B$3041,2,FALSE)),\"Ungültige KG-Nummer!\",VLOOKUP(C1334,Katastralgemeinden!A$2:$B$3041,2,\"falsch\")),\"\")","v":""},null,null,null,null,null,null,null,null,"",0,{"$f":"IF('Anhang Grundstücksverzeichnis'!G1334=Texte!$A$25,F1334,0)","v":0},{"$f":"IF('Anhang Grundstücksverzeichnis'!G1334=Texte!$A$26,F1334,0)","v":0},{"$f":"IF('Anhang Grundstücksverzeichnis'!G1334=Texte!$A$27,F1334,0)","v":0},{"$f":"IF('Anhang Grundstücksverzeichnis'!G1334=Texte!$A$28,F1334,0)","v":0}]
[1325,{"$f":"IF(C1335<>\"\",IF(ISNA(VLOOKUP(C1335,Katastralgemeinden!$A$2:$B$3041,2,FALSE)),\"Ungültige KG-Nummer!\",VLOOKUP(C1335,Katastralgemeinden!A$2:$B$3041,2,\"falsch\")),\"\")","v":""},null,null,null,null,null,null,null,null,"",0,{"$f":"IF('Anhang Grundstücksverzeichnis'!G1335=Texte!$A$25,F1335,0)","v":0},{"$f":"IF('Anhang Grundstücksverzeichnis'!G1335=Texte!$A$26,F1335,0)","v":0},{"$f":"IF('Anhang Grundstücksverzeichnis'!G1335=Texte!$A$27,F1335,0)","v":0},{"$f":"IF('Anhang Grundstücksverzeichnis'!G1335=Texte!$A$28,F1335,0)","v":0}]
[1326,{"$f":"IF(C1336<>\"\",IF(ISNA(VLOOKUP(C1336,Katastralgemeinden!$A$2:$B$3041,2,FALSE)),\"Ungültige KG-Nummer!\",VLOOKUP(C1336,Katastralgemeinden!A$2:$B$3041,2,\"falsch\")),\"\")","v":""},null,null,null,null,null,null,null,null,"",0,{"$f":"IF('Anhang Grundstücksverzeichnis'!G1336=Texte!$A$25,F1336,0)","v":0},{"$f":"IF('Anhang Grundstücksverzeichnis'!G1336=Texte!$A$26,F1336,0)","v":0},{"$f":"IF('Anhang Grundstücksverzeichnis'!G1336=Texte!$A$27,F1336,0)","v":0},{"$f":"IF('Anhang Grundstücksverzeichnis'!G1336=Texte!$A$28,F1336,0)","v":0}]
[1327,{"$f":"IF(C1337<>\"\",IF(ISNA(VLOOKUP(C1337,Katastralgemeinden!$A$2:$B$3041,2,FALSE)),\"Ungültige KG-Nummer!\",VLOOKUP(C1337,Katastralgemeinden!A$2:$B$3041,2,\"falsch\")),\"\")","v":""},null,null,null,null,null,null,null,null,"",0,{"$f":"IF('Anhang Grundstücksverzeichnis'!G1337=Texte!$A$25,F1337,0)","v":0},{"$f":"IF('Anhang Grundstücksverzeichnis'!G1337=Texte!$A$26,F1337,0)","v":0},{"$f":"IF('Anhang Grundstücksverzeichnis'!G1337=Texte!$A$27,F1337,0)","v":0},{"$f":"IF('Anhang Grundstücksverzeichnis'!G1337=Texte!$A$28,F1337,0)","v":0}]
[1328,{"$f":"IF(C1338<>\"\",IF(ISNA(VLOOKUP(C1338,Katastralgemeinden!$A$2:$B$3041,2,FALSE)),\"Ungültige KG-Nummer!\",VLOOKUP(C1338,Katastralgemeinden!A$2:$B$3041,2,\"falsch\")),\"\")","v":""},null,null,null,null,null,null,null,null,"",0,{"$f":"IF('Anhang Grundstücksverzeichnis'!G1338=Texte!$A$25,F1338,0)","v":0},{"$f":"IF('Anhang Grundstücksverzeichnis'!G1338=Texte!$A$26,F1338,0)","v":0},{"$f":"IF('Anhang Grundstücksverzeichnis'!G1338=Texte!$A$27,F1338,0)","v":0},{"$f":"IF('Anhang Grundstücksverzeichnis'!G1338=Texte!$A$28,F1338,0)","v":0}]
[1329,{"$f":"IF(C1339<>\"\",IF(ISNA(VLOOKUP(C1339,Katastralgemeinden!$A$2:$B$3041,2,FALSE)),\"Ungültige KG-Nummer!\",VLOOKUP(C1339,Katastralgemeinden!A$2:$B$3041,2,\"falsch\")),\"\")","v":""},null,null,null,null,null,null,null,null,"",0,{"$f":"IF('Anhang Grundstücksverzeichnis'!G1339=Texte!$A$25,F1339,0)","v":0},{"$f":"IF('Anhang Grundstücksverzeichnis'!G1339=Texte!$A$26,F1339,0)","v":0},{"$f":"IF('Anhang Grundstücksverzeichnis'!G1339=Texte!$A$27,F1339,0)","v":0},{"$f":"IF('Anhang Grundstücksverzeichnis'!G1339=Texte!$A$28,F1339,0)","v":0}]
[1330,{"$f":"IF(C1340<>\"\",IF(ISNA(VLOOKUP(C1340,Katastralgemeinden!$A$2:$B$3041,2,FALSE)),\"Ungültige KG-Nummer!\",VLOOKUP(C1340,Katastralgemeinden!A$2:$B$3041,2,\"falsch\")),\"\")","v":""},null,null,null,null,null,null,null,null,"",0,{"$f":"IF('Anhang Grundstücksverzeichnis'!G1340=Texte!$A$25,F1340,0)","v":0},{"$f":"IF('Anhang Grundstücksverzeichnis'!G1340=Texte!$A$26,F1340,0)","v":0},{"$f":"IF('Anhang Grundstücksverzeichnis'!G1340=Texte!$A$27,F1340,0)","v":0},{"$f":"IF('Anhang Grundstücksverzeichnis'!G1340=Texte!$A$28,F1340,0)","v":0}]
[1331,{"$f":"IF(C1341<>\"\",IF(ISNA(VLOOKUP(C1341,Katastralgemeinden!$A$2:$B$3041,2,FALSE)),\"Ungültige KG-Nummer!\",VLOOKUP(C1341,Katastralgemeinden!A$2:$B$3041,2,\"falsch\")),\"\")","v":""},null,null,null,null,null,null,null,null,"",0,{"$f":"IF('Anhang Grundstücksverzeichnis'!G1341=Texte!$A$25,F1341,0)","v":0},{"$f":"IF('Anhang Grundstücksverzeichnis'!G1341=Texte!$A$26,F1341,0)","v":0},{"$f":"IF('Anhang Grundstücksverzeichnis'!G1341=Texte!$A$27,F1341,0)","v":0},{"$f":"IF('Anhang Grundstücksverzeichnis'!G1341=Texte!$A$28,F1341,0)","v":0}]
[1332,{"$f":"IF(C1342<>\"\",IF(ISNA(VLOOKUP(C1342,Katastralgemeinden!$A$2:$B$3041,2,FALSE)),\"Ungültige KG-Nummer!\",VLOOKUP(C1342,Katastralgemeinden!A$2:$B$3041,2,\"falsch\")),\"\")","v":""},null,null,null,null,null,null,null,null,"",0,{"$f":"IF('Anhang Grundstücksverzeichnis'!G1342=Texte!$A$25,F1342,0)","v":0},{"$f":"IF('Anhang Grundstücksverzeichnis'!G1342=Texte!$A$26,F1342,0)","v":0},{"$f":"IF('Anhang Grundstücksverzeichnis'!G1342=Texte!$A$27,F1342,0)","v":0},{"$f":"IF('Anhang Grundstücksverzeichnis'!G1342=Texte!$A$28,F1342,0)","v":0}]
[1333,{"$f":"IF(C1343<>\"\",IF(ISNA(VLOOKUP(C1343,Katastralgemeinden!$A$2:$B$3041,2,FALSE)),\"Ungültige KG-Nummer!\",VLOOKUP(C1343,Katastralgemeinden!A$2:$B$3041,2,\"falsch\")),\"\")","v":""},null,null,null,null,null,null,null,null,"",0,{"$f":"IF('Anhang Grundstücksverzeichnis'!G1343=Texte!$A$25,F1343,0)","v":0},{"$f":"IF('Anhang Grundstücksverzeichnis'!G1343=Texte!$A$26,F1343,0)","v":0},{"$f":"IF('Anhang Grundstücksverzeichnis'!G1343=Texte!$A$27,F1343,0)","v":0},{"$f":"IF('Anhang Grundstücksverzeichnis'!G1343=Texte!$A$28,F1343,0)","v":0}]
[1334,{"$f":"IF(C1344<>\"\",IF(ISNA(VLOOKUP(C1344,Katastralgemeinden!$A$2:$B$3041,2,FALSE)),\"Ungültige KG-Nummer!\",VLOOKUP(C1344,Katastralgemeinden!A$2:$B$3041,2,\"falsch\")),\"\")","v":""},null,null,null,null,null,null,null,null,"",0,{"$f":"IF('Anhang Grundstücksverzeichnis'!G1344=Texte!$A$25,F1344,0)","v":0},{"$f":"IF('Anhang Grundstücksverzeichnis'!G1344=Texte!$A$26,F1344,0)","v":0},{"$f":"IF('Anhang Grundstücksverzeichnis'!G1344=Texte!$A$27,F1344,0)","v":0},{"$f":"IF('Anhang Grundstücksverzeichnis'!G1344=Texte!$A$28,F1344,0)","v":0}]
[1335,{"$f":"IF(C1345<>\"\",IF(ISNA(VLOOKUP(C1345,Katastralgemeinden!$A$2:$B$3041,2,FALSE)),\"Ungültige KG-Nummer!\",VLOOKUP(C1345,Katastralgemeinden!A$2:$B$3041,2,\"falsch\")),\"\")","v":""},null,null,null,null,null,null,null,null,"",0,{"$f":"IF('Anhang Grundstücksverzeichnis'!G1345=Texte!$A$25,F1345,0)","v":0},{"$f":"IF('Anhang Grundstücksverzeichnis'!G1345=Texte!$A$26,F1345,0)","v":0},{"$f":"IF('Anhang Grundstücksverzeichnis'!G1345=Texte!$A$27,F1345,0)","v":0},{"$f":"IF('Anhang Grundstücksverzeichnis'!G1345=Texte!$A$28,F1345,0)","v":0}]
[1336,{"$f":"IF(C1346<>\"\",IF(ISNA(VLOOKUP(C1346,Katastralgemeinden!$A$2:$B$3041,2,FALSE)),\"Ungültige KG-Nummer!\",VLOOKUP(C1346,Katastralgemeinden!A$2:$B$3041,2,\"falsch\")),\"\")","v":""},null,null,null,null,null,null,null,null,"",0,{"$f":"IF('Anhang Grundstücksverzeichnis'!G1346=Texte!$A$25,F1346,0)","v":0},{"$f":"IF('Anhang Grundstücksverzeichnis'!G1346=Texte!$A$26,F1346,0)","v":0},{"$f":"IF('Anhang Grundstücksverzeichnis'!G1346=Texte!$A$27,F1346,0)","v":0},{"$f":"IF('Anhang Grundstücksverzeichnis'!G1346=Texte!$A$28,F1346,0)","v":0}]
[1337,{"$f":"IF(C1347<>\"\",IF(ISNA(VLOOKUP(C1347,Katastralgemeinden!$A$2:$B$3041,2,FALSE)),\"Ungültige KG-Nummer!\",VLOOKUP(C1347,Katastralgemeinden!A$2:$B$3041,2,\"falsch\")),\"\")","v":""},null,null,null,null,null,null,null,null,"",0,{"$f":"IF('Anhang Grundstücksverzeichnis'!G1347=Texte!$A$25,F1347,0)","v":0},{"$f":"IF('Anhang Grundstücksverzeichnis'!G1347=Texte!$A$26,F1347,0)","v":0},{"$f":"IF('Anhang Grundstücksverzeichnis'!G1347=Texte!$A$27,F1347,0)","v":0},{"$f":"IF('Anhang Grundstücksverzeichnis'!G1347=Texte!$A$28,F1347,0)","v":0}]
[1338,{"$f":"IF(C1348<>\"\",IF(ISNA(VLOOKUP(C1348,Katastralgemeinden!$A$2:$B$3041,2,FALSE)),\"Ungültige KG-Nummer!\",VLOOKUP(C1348,Katastralgemeinden!A$2:$B$3041,2,\"falsch\")),\"\")","v":""},null,null,null,null,null,null,null,null,"",0,{"$f":"IF('Anhang Grundstücksverzeichnis'!G1348=Texte!$A$25,F1348,0)","v":0},{"$f":"IF('Anhang Grundstücksverzeichnis'!G1348=Texte!$A$26,F1348,0)","v":0},{"$f":"IF('Anhang Grundstücksverzeichnis'!G1348=Texte!$A$27,F1348,0)","v":0},{"$f":"IF('Anhang Grundstücksverzeichnis'!G1348=Texte!$A$28,F1348,0)","v":0}]
[1339,{"$f":"IF(C1349<>\"\",IF(ISNA(VLOOKUP(C1349,Katastralgemeinden!$A$2:$B$3041,2,FALSE)),\"Ungültige KG-Nummer!\",VLOOKUP(C1349,Katastralgemeinden!A$2:$B$3041,2,\"falsch\")),\"\")","v":""},null,null,null,null,null,null,null,null,"",0,{"$f":"IF('Anhang Grundstücksverzeichnis'!G1349=Texte!$A$25,F1349,0)","v":0},{"$f":"IF('Anhang Grundstücksverzeichnis'!G1349=Texte!$A$26,F1349,0)","v":0},{"$f":"IF('Anhang Grundstücksverzeichnis'!G1349=Texte!$A$27,F1349,0)","v":0},{"$f":"IF('Anhang Grundstücksverzeichnis'!G1349=Texte!$A$28,F1349,0)","v":0}]
[1340,{"$f":"IF(C1350<>\"\",IF(ISNA(VLOOKUP(C1350,Katastralgemeinden!$A$2:$B$3041,2,FALSE)),\"Ungültige KG-Nummer!\",VLOOKUP(C1350,Katastralgemeinden!A$2:$B$3041,2,\"falsch\")),\"\")","v":""},null,null,null,null,null,null,null,null,"",0,{"$f":"IF('Anhang Grundstücksverzeichnis'!G1350=Texte!$A$25,F1350,0)","v":0},{"$f":"IF('Anhang Grundstücksverzeichnis'!G1350=Texte!$A$26,F1350,0)","v":0},{"$f":"IF('Anhang Grundstücksverzeichnis'!G1350=Texte!$A$27,F1350,0)","v":0},{"$f":"IF('Anhang Grundstücksverzeichnis'!G1350=Texte!$A$28,F1350,0)","v":0}]
[1341,{"$f":"IF(C1351<>\"\",IF(ISNA(VLOOKUP(C1351,Katastralgemeinden!$A$2:$B$3041,2,FALSE)),\"Ungültige KG-Nummer!\",VLOOKUP(C1351,Katastralgemeinden!A$2:$B$3041,2,\"falsch\")),\"\")","v":""},null,null,null,null,null,null,null,null,"",0,{"$f":"IF('Anhang Grundstücksverzeichnis'!G1351=Texte!$A$25,F1351,0)","v":0},{"$f":"IF('Anhang Grundstücksverzeichnis'!G1351=Texte!$A$26,F1351,0)","v":0},{"$f":"IF('Anhang Grundstücksverzeichnis'!G1351=Texte!$A$27,F1351,0)","v":0},{"$f":"IF('Anhang Grundstücksverzeichnis'!G1351=Texte!$A$28,F1351,0)","v":0}]
[1342,{"$f":"IF(C1352<>\"\",IF(ISNA(VLOOKUP(C1352,Katastralgemeinden!$A$2:$B$3041,2,FALSE)),\"Ungültige KG-Nummer!\",VLOOKUP(C1352,Katastralgemeinden!A$2:$B$3041,2,\"falsch\")),\"\")","v":""},null,null,null,null,null,null,null,null,"",0,{"$f":"IF('Anhang Grundstücksverzeichnis'!G1352=Texte!$A$25,F1352,0)","v":0},{"$f":"IF('Anhang Grundstücksverzeichnis'!G1352=Texte!$A$26,F1352,0)","v":0},{"$f":"IF('Anhang Grundstücksverzeichnis'!G1352=Texte!$A$27,F1352,0)","v":0},{"$f":"IF('Anhang Grundstücksverzeichnis'!G1352=Texte!$A$28,F1352,0)","v":0}]
[1343,{"$f":"IF(C1353<>\"\",IF(ISNA(VLOOKUP(C1353,Katastralgemeinden!$A$2:$B$3041,2,FALSE)),\"Ungültige KG-Nummer!\",VLOOKUP(C1353,Katastralgemeinden!A$2:$B$3041,2,\"falsch\")),\"\")","v":""},null,null,null,null,null,null,null,null,"",0,{"$f":"IF('Anhang Grundstücksverzeichnis'!G1353=Texte!$A$25,F1353,0)","v":0},{"$f":"IF('Anhang Grundstücksverzeichnis'!G1353=Texte!$A$26,F1353,0)","v":0},{"$f":"IF('Anhang Grundstücksverzeichnis'!G1353=Texte!$A$27,F1353,0)","v":0},{"$f":"IF('Anhang Grundstücksverzeichnis'!G1353=Texte!$A$28,F1353,0)","v":0}]
[1344,{"$f":"IF(C1354<>\"\",IF(ISNA(VLOOKUP(C1354,Katastralgemeinden!$A$2:$B$3041,2,FALSE)),\"Ungültige KG-Nummer!\",VLOOKUP(C1354,Katastralgemeinden!A$2:$B$3041,2,\"falsch\")),\"\")","v":""},null,null,null,null,null,null,null,null,"",0,{"$f":"IF('Anhang Grundstücksverzeichnis'!G1354=Texte!$A$25,F1354,0)","v":0},{"$f":"IF('Anhang Grundstücksverzeichnis'!G1354=Texte!$A$26,F1354,0)","v":0},{"$f":"IF('Anhang Grundstücksverzeichnis'!G1354=Texte!$A$27,F1354,0)","v":0},{"$f":"IF('Anhang Grundstücksverzeichnis'!G1354=Texte!$A$28,F1354,0)","v":0}]
[1345,{"$f":"IF(C1355<>\"\",IF(ISNA(VLOOKUP(C1355,Katastralgemeinden!$A$2:$B$3041,2,FALSE)),\"Ungültige KG-Nummer!\",VLOOKUP(C1355,Katastralgemeinden!A$2:$B$3041,2,\"falsch\")),\"\")","v":""},null,null,null,null,null,null,null,null,"",0,{"$f":"IF('Anhang Grundstücksverzeichnis'!G1355=Texte!$A$25,F1355,0)","v":0},{"$f":"IF('Anhang Grundstücksverzeichnis'!G1355=Texte!$A$26,F1355,0)","v":0},{"$f":"IF('Anhang Grundstücksverzeichnis'!G1355=Texte!$A$27,F1355,0)","v":0},{"$f":"IF('Anhang Grundstücksverzeichnis'!G1355=Texte!$A$28,F1355,0)","v":0}]
[1346,{"$f":"IF(C1356<>\"\",IF(ISNA(VLOOKUP(C1356,Katastralgemeinden!$A$2:$B$3041,2,FALSE)),\"Ungültige KG-Nummer!\",VLOOKUP(C1356,Katastralgemeinden!A$2:$B$3041,2,\"falsch\")),\"\")","v":""},null,null,null,null,null,null,null,null,{"$f":"IF(G1356<>\"\",IF(G1356=\"Eigengrundfläche\",0,IF(G1356=\"Vorpachtfläche\",1,IF(G1356=\"Abrundung +\",3,IF(G1356=\"Abrundung -\",4,5)))),\"\")","v":""},{"$f":"IF(OR(LOWER(H1356)=\"x\",LOWER(H1356)=\"j\"),1,0)","v":0},{"$f":"IF('Anhang Grundstücksverzeichnis'!G1356=Texte!$A$25,F1356,0)","v":0},{"$f":"IF('Anhang Grundstücksverzeichnis'!G1356=Texte!$A$26,F1356,0)","v":0},{"$f":"IF('Anhang Grundstücksverzeichnis'!G1356=Texte!$A$27,F1356,0)","v":0},{"$f":"IF('Anhang Grundstücksverzeichnis'!G1356=Texte!$A$28,F1356,0)","v":0}]
[1347,{"$f":"IF(C1357<>\"\",IF(ISNA(VLOOKUP(C1357,Katastralgemeinden!$A$2:$B$3041,2,FALSE)),\"Ungültige KG-Nummer!\",VLOOKUP(C1357,Katastralgemeinden!A$2:$B$3041,2,\"falsch\")),\"\")","v":""},null,null,null,null,null,null,null,null,"",0,{"$f":"IF('Anhang Grundstücksverzeichnis'!G1357=Texte!$A$25,F1357,0)","v":0},{"$f":"IF('Anhang Grundstücksverzeichnis'!G1357=Texte!$A$26,F1357,0)","v":0},{"$f":"IF('Anhang Grundstücksverzeichnis'!G1357=Texte!$A$27,F1357,0)","v":0},{"$f":"IF('Anhang Grundstücksverzeichnis'!G1357=Texte!$A$28,F1357,0)","v":0}]
[1348,{"$f":"IF(C1358<>\"\",IF(ISNA(VLOOKUP(C1358,Katastralgemeinden!$A$2:$B$3041,2,FALSE)),\"Ungültige KG-Nummer!\",VLOOKUP(C1358,Katastralgemeinden!A$2:$B$3041,2,\"falsch\")),\"\")","v":""},null,null,null,null,null,null,null,null,"",0,{"$f":"IF('Anhang Grundstücksverzeichnis'!G1358=Texte!$A$25,F1358,0)","v":0},{"$f":"IF('Anhang Grundstücksverzeichnis'!G1358=Texte!$A$26,F1358,0)","v":0},{"$f":"IF('Anhang Grundstücksverzeichnis'!G1358=Texte!$A$27,F1358,0)","v":0},{"$f":"IF('Anhang Grundstücksverzeichnis'!G1358=Texte!$A$28,F1358,0)","v":0}]
[1349,{"$f":"IF(C1359<>\"\",IF(ISNA(VLOOKUP(C1359,Katastralgemeinden!$A$2:$B$3041,2,FALSE)),\"Ungültige KG-Nummer!\",VLOOKUP(C1359,Katastralgemeinden!A$2:$B$3041,2,\"falsch\")),\"\")","v":""},null,null,null,null,null,null,null,null,"",0,{"$f":"IF('Anhang Grundstücksverzeichnis'!G1359=Texte!$A$25,F1359,0)","v":0},{"$f":"IF('Anhang Grundstücksverzeichnis'!G1359=Texte!$A$26,F1359,0)","v":0},{"$f":"IF('Anhang Grundstücksverzeichnis'!G1359=Texte!$A$27,F1359,0)","v":0},{"$f":"IF('Anhang Grundstücksverzeichnis'!G1359=Texte!$A$28,F1359,0)","v":0}]
[1350,{"$f":"IF(C1360<>\"\",IF(ISNA(VLOOKUP(C1360,Katastralgemeinden!$A$2:$B$3041,2,FALSE)),\"Ungültige KG-Nummer!\",VLOOKUP(C1360,Katastralgemeinden!A$2:$B$3041,2,\"falsch\")),\"\")","v":""},null,null,null,null,null,null,null,null,"",0,{"$f":"IF('Anhang Grundstücksverzeichnis'!G1360=Texte!$A$25,F1360,0)","v":0},{"$f":"IF('Anhang Grundstücksverzeichnis'!G1360=Texte!$A$26,F1360,0)","v":0},{"$f":"IF('Anhang Grundstücksverzeichnis'!G1360=Texte!$A$27,F1360,0)","v":0},{"$f":"IF('Anhang Grundstücksverzeichnis'!G1360=Texte!$A$28,F1360,0)","v":0}]
[1351,{"$f":"IF(C1361<>\"\",IF(ISNA(VLOOKUP(C1361,Katastralgemeinden!$A$2:$B$3041,2,FALSE)),\"Ungültige KG-Nummer!\",VLOOKUP(C1361,Katastralgemeinden!A$2:$B$3041,2,\"falsch\")),\"\")","v":""},null,null,null,null,null,null,null,null,"",0,{"$f":"IF('Anhang Grundstücksverzeichnis'!G1361=Texte!$A$25,F1361,0)","v":0},{"$f":"IF('Anhang Grundstücksverzeichnis'!G1361=Texte!$A$26,F1361,0)","v":0},{"$f":"IF('Anhang Grundstücksverzeichnis'!G1361=Texte!$A$27,F1361,0)","v":0},{"$f":"IF('Anhang Grundstücksverzeichnis'!G1361=Texte!$A$28,F1361,0)","v":0}]
[1352,{"$f":"IF(C1362<>\"\",IF(ISNA(VLOOKUP(C1362,Katastralgemeinden!$A$2:$B$3041,2,FALSE)),\"Ungültige KG-Nummer!\",VLOOKUP(C1362,Katastralgemeinden!A$2:$B$3041,2,\"falsch\")),\"\")","v":""},null,null,null,null,null,null,null,null,"",0,{"$f":"IF('Anhang Grundstücksverzeichnis'!G1362=Texte!$A$25,F1362,0)","v":0},{"$f":"IF('Anhang Grundstücksverzeichnis'!G1362=Texte!$A$26,F1362,0)","v":0},{"$f":"IF('Anhang Grundstücksverzeichnis'!G1362=Texte!$A$27,F1362,0)","v":0},{"$f":"IF('Anhang Grundstücksverzeichnis'!G1362=Texte!$A$28,F1362,0)","v":0}]
[1353,{"$f":"IF(C1363<>\"\",IF(ISNA(VLOOKUP(C1363,Katastralgemeinden!$A$2:$B$3041,2,FALSE)),\"Ungültige KG-Nummer!\",VLOOKUP(C1363,Katastralgemeinden!A$2:$B$3041,2,\"falsch\")),\"\")","v":""},null,null,null,null,null,null,null,null,"",0,{"$f":"IF('Anhang Grundstücksverzeichnis'!G1363=Texte!$A$25,F1363,0)","v":0},{"$f":"IF('Anhang Grundstücksverzeichnis'!G1363=Texte!$A$26,F1363,0)","v":0},{"$f":"IF('Anhang Grundstücksverzeichnis'!G1363=Texte!$A$27,F1363,0)","v":0},{"$f":"IF('Anhang Grundstücksverzeichnis'!G1363=Texte!$A$28,F1363,0)","v":0}]
[1354,{"$f":"IF(C1364<>\"\",IF(ISNA(VLOOKUP(C1364,Katastralgemeinden!$A$2:$B$3041,2,FALSE)),\"Ungültige KG-Nummer!\",VLOOKUP(C1364,Katastralgemeinden!A$2:$B$3041,2,\"falsch\")),\"\")","v":""},null,null,null,null,null,null,null,null,"",0,{"$f":"IF('Anhang Grundstücksverzeichnis'!G1364=Texte!$A$25,F1364,0)","v":0},{"$f":"IF('Anhang Grundstücksverzeichnis'!G1364=Texte!$A$26,F1364,0)","v":0},{"$f":"IF('Anhang Grundstücksverzeichnis'!G1364=Texte!$A$27,F1364,0)","v":0},{"$f":"IF('Anhang Grundstücksverzeichnis'!G1364=Texte!$A$28,F1364,0)","v":0}]
[1355,{"$f":"IF(C1365<>\"\",IF(ISNA(VLOOKUP(C1365,Katastralgemeinden!$A$2:$B$3041,2,FALSE)),\"Ungültige KG-Nummer!\",VLOOKUP(C1365,Katastralgemeinden!A$2:$B$3041,2,\"falsch\")),\"\")","v":""},null,null,null,null,null,null,null,null,"",0,{"$f":"IF('Anhang Grundstücksverzeichnis'!G1365=Texte!$A$25,F1365,0)","v":0},{"$f":"IF('Anhang Grundstücksverzeichnis'!G1365=Texte!$A$26,F1365,0)","v":0},{"$f":"IF('Anhang Grundstücksverzeichnis'!G1365=Texte!$A$27,F1365,0)","v":0},{"$f":"IF('Anhang Grundstücksverzeichnis'!G1365=Texte!$A$28,F1365,0)","v":0}]
[1356,{"$f":"IF(C1366<>\"\",IF(ISNA(VLOOKUP(C1366,Katastralgemeinden!$A$2:$B$3041,2,FALSE)),\"Ungültige KG-Nummer!\",VLOOKUP(C1366,Katastralgemeinden!A$2:$B$3041,2,\"falsch\")),\"\")","v":""},null,null,null,null,null,null,null,null,"",0,{"$f":"IF('Anhang Grundstücksverzeichnis'!G1366=Texte!$A$25,F1366,0)","v":0},{"$f":"IF('Anhang Grundstücksverzeichnis'!G1366=Texte!$A$26,F1366,0)","v":0},{"$f":"IF('Anhang Grundstücksverzeichnis'!G1366=Texte!$A$27,F1366,0)","v":0},{"$f":"IF('Anhang Grundstücksverzeichnis'!G1366=Texte!$A$28,F1366,0)","v":0}]
[1357,{"$f":"IF(C1367<>\"\",IF(ISNA(VLOOKUP(C1367,Katastralgemeinden!$A$2:$B$3041,2,FALSE)),\"Ungültige KG-Nummer!\",VLOOKUP(C1367,Katastralgemeinden!A$2:$B$3041,2,\"falsch\")),\"\")","v":""},null,null,null,null,null,null,null,null,"",0,{"$f":"IF('Anhang Grundstücksverzeichnis'!G1367=Texte!$A$25,F1367,0)","v":0},{"$f":"IF('Anhang Grundstücksverzeichnis'!G1367=Texte!$A$26,F1367,0)","v":0},{"$f":"IF('Anhang Grundstücksverzeichnis'!G1367=Texte!$A$27,F1367,0)","v":0},{"$f":"IF('Anhang Grundstücksverzeichnis'!G1367=Texte!$A$28,F1367,0)","v":0}]
[1358,{"$f":"IF(C1368<>\"\",IF(ISNA(VLOOKUP(C1368,Katastralgemeinden!$A$2:$B$3041,2,FALSE)),\"Ungültige KG-Nummer!\",VLOOKUP(C1368,Katastralgemeinden!A$2:$B$3041,2,\"falsch\")),\"\")","v":""},null,null,null,null,null,null,null,null,"",0,{"$f":"IF('Anhang Grundstücksverzeichnis'!G1368=Texte!$A$25,F1368,0)","v":0},{"$f":"IF('Anhang Grundstücksverzeichnis'!G1368=Texte!$A$26,F1368,0)","v":0},{"$f":"IF('Anhang Grundstücksverzeichnis'!G1368=Texte!$A$27,F1368,0)","v":0},{"$f":"IF('Anhang Grundstücksverzeichnis'!G1368=Texte!$A$28,F1368,0)","v":0}]
[1359,{"$f":"IF(C1369<>\"\",IF(ISNA(VLOOKUP(C1369,Katastralgemeinden!$A$2:$B$3041,2,FALSE)),\"Ungültige KG-Nummer!\",VLOOKUP(C1369,Katastralgemeinden!A$2:$B$3041,2,\"falsch\")),\"\")","v":""},null,null,null,null,null,null,null,null,"",0,{"$f":"IF('Anhang Grundstücksverzeichnis'!G1369=Texte!$A$25,F1369,0)","v":0},{"$f":"IF('Anhang Grundstücksverzeichnis'!G1369=Texte!$A$26,F1369,0)","v":0},{"$f":"IF('Anhang Grundstücksverzeichnis'!G1369=Texte!$A$27,F1369,0)","v":0},{"$f":"IF('Anhang Grundstücksverzeichnis'!G1369=Texte!$A$28,F1369,0)","v":0}]
[1360,{"$f":"IF(C1370<>\"\",IF(ISNA(VLOOKUP(C1370,Katastralgemeinden!$A$2:$B$3041,2,FALSE)),\"Ungültige KG-Nummer!\",VLOOKUP(C1370,Katastralgemeinden!A$2:$B$3041,2,\"falsch\")),\"\")","v":""},null,null,null,null,null,null,null,null,"",0,{"$f":"IF('Anhang Grundstücksverzeichnis'!G1370=Texte!$A$25,F1370,0)","v":0},{"$f":"IF('Anhang Grundstücksverzeichnis'!G1370=Texte!$A$26,F1370,0)","v":0},{"$f":"IF('Anhang Grundstücksverzeichnis'!G1370=Texte!$A$27,F1370,0)","v":0},{"$f":"IF('Anhang Grundstücksverzeichnis'!G1370=Texte!$A$28,F1370,0)","v":0}]
[1361,{"$f":"IF(C1371<>\"\",IF(ISNA(VLOOKUP(C1371,Katastralgemeinden!$A$2:$B$3041,2,FALSE)),\"Ungültige KG-Nummer!\",VLOOKUP(C1371,Katastralgemeinden!A$2:$B$3041,2,\"falsch\")),\"\")","v":""},null,null,null,null,null,null,null,null,"",0,{"$f":"IF('Anhang Grundstücksverzeichnis'!G1371=Texte!$A$25,F1371,0)","v":0},{"$f":"IF('Anhang Grundstücksverzeichnis'!G1371=Texte!$A$26,F1371,0)","v":0},{"$f":"IF('Anhang Grundstücksverzeichnis'!G1371=Texte!$A$27,F1371,0)","v":0},{"$f":"IF('Anhang Grundstücksverzeichnis'!G1371=Texte!$A$28,F1371,0)","v":0}]
[1362,{"$f":"IF(C1372<>\"\",IF(ISNA(VLOOKUP(C1372,Katastralgemeinden!$A$2:$B$3041,2,FALSE)),\"Ungültige KG-Nummer!\",VLOOKUP(C1372,Katastralgemeinden!A$2:$B$3041,2,\"falsch\")),\"\")","v":""},null,null,null,null,null,null,null,null,"",0,{"$f":"IF('Anhang Grundstücksverzeichnis'!G1372=Texte!$A$25,F1372,0)","v":0},{"$f":"IF('Anhang Grundstücksverzeichnis'!G1372=Texte!$A$26,F1372,0)","v":0},{"$f":"IF('Anhang Grundstücksverzeichnis'!G1372=Texte!$A$27,F1372,0)","v":0},{"$f":"IF('Anhang Grundstücksverzeichnis'!G1372=Texte!$A$28,F1372,0)","v":0}]
[1363,{"$f":"IF(C1373<>\"\",IF(ISNA(VLOOKUP(C1373,Katastralgemeinden!$A$2:$B$3041,2,FALSE)),\"Ungültige KG-Nummer!\",VLOOKUP(C1373,Katastralgemeinden!A$2:$B$3041,2,\"falsch\")),\"\")","v":""},null,null,null,null,null,null,null,null,"",0,{"$f":"IF('Anhang Grundstücksverzeichnis'!G1373=Texte!$A$25,F1373,0)","v":0},{"$f":"IF('Anhang Grundstücksverzeichnis'!G1373=Texte!$A$26,F1373,0)","v":0},{"$f":"IF('Anhang Grundstücksverzeichnis'!G1373=Texte!$A$27,F1373,0)","v":0},{"$f":"IF('Anhang Grundstücksverzeichnis'!G1373=Texte!$A$28,F1373,0)","v":0}]
[1364,{"$f":"IF(C1374<>\"\",IF(ISNA(VLOOKUP(C1374,Katastralgemeinden!$A$2:$B$3041,2,FALSE)),\"Ungültige KG-Nummer!\",VLOOKUP(C1374,Katastralgemeinden!A$2:$B$3041,2,\"falsch\")),\"\")","v":""},null,null,null,null,null,null,null,null,"",0,{"$f":"IF('Anhang Grundstücksverzeichnis'!G1374=Texte!$A$25,F1374,0)","v":0},{"$f":"IF('Anhang Grundstücksverzeichnis'!G1374=Texte!$A$26,F1374,0)","v":0},{"$f":"IF('Anhang Grundstücksverzeichnis'!G1374=Texte!$A$27,F1374,0)","v":0},{"$f":"IF('Anhang Grundstücksverzeichnis'!G1374=Texte!$A$28,F1374,0)","v":0}]
[1365,{"$f":"IF(C1375<>\"\",IF(ISNA(VLOOKUP(C1375,Katastralgemeinden!$A$2:$B$3041,2,FALSE)),\"Ungültige KG-Nummer!\",VLOOKUP(C1375,Katastralgemeinden!A$2:$B$3041,2,\"falsch\")),\"\")","v":""},null,null,null,null,null,null,null,null,"",0,{"$f":"IF('Anhang Grundstücksverzeichnis'!G1375=Texte!$A$25,F1375,0)","v":0},{"$f":"IF('Anhang Grundstücksverzeichnis'!G1375=Texte!$A$26,F1375,0)","v":0},{"$f":"IF('Anhang Grundstücksverzeichnis'!G1375=Texte!$A$27,F1375,0)","v":0},{"$f":"IF('Anhang Grundstücksverzeichnis'!G1375=Texte!$A$28,F1375,0)","v":0}]
[1366,{"$f":"IF(C1376<>\"\",IF(ISNA(VLOOKUP(C1376,Katastralgemeinden!$A$2:$B$3041,2,FALSE)),\"Ungültige KG-Nummer!\",VLOOKUP(C1376,Katastralgemeinden!A$2:$B$3041,2,\"falsch\")),\"\")","v":""},null,null,null,null,null,null,null,null,"",0,{"$f":"IF('Anhang Grundstücksverzeichnis'!G1376=Texte!$A$25,F1376,0)","v":0},{"$f":"IF('Anhang Grundstücksverzeichnis'!G1376=Texte!$A$26,F1376,0)","v":0},{"$f":"IF('Anhang Grundstücksverzeichnis'!G1376=Texte!$A$27,F1376,0)","v":0},{"$f":"IF('Anhang Grundstücksverzeichnis'!G1376=Texte!$A$28,F1376,0)","v":0}]
[1367,{"$f":"IF(C1377<>\"\",IF(ISNA(VLOOKUP(C1377,Katastralgemeinden!$A$2:$B$3041,2,FALSE)),\"Ungültige KG-Nummer!\",VLOOKUP(C1377,Katastralgemeinden!A$2:$B$3041,2,\"falsch\")),\"\")","v":""},null,null,null,null,null,null,null,null,"",0,{"$f":"IF('Anhang Grundstücksverzeichnis'!G1377=Texte!$A$25,F1377,0)","v":0},{"$f":"IF('Anhang Grundstücksverzeichnis'!G1377=Texte!$A$26,F1377,0)","v":0},{"$f":"IF('Anhang Grundstücksverzeichnis'!G1377=Texte!$A$27,F1377,0)","v":0},{"$f":"IF('Anhang Grundstücksverzeichnis'!G1377=Texte!$A$28,F1377,0)","v":0}]
[1368,{"$f":"IF(C1378<>\"\",IF(ISNA(VLOOKUP(C1378,Katastralgemeinden!$A$2:$B$3041,2,FALSE)),\"Ungültige KG-Nummer!\",VLOOKUP(C1378,Katastralgemeinden!A$2:$B$3041,2,\"falsch\")),\"\")","v":""},null,null,null,null,null,null,null,null,"",0,{"$f":"IF('Anhang Grundstücksverzeichnis'!G1378=Texte!$A$25,F1378,0)","v":0},{"$f":"IF('Anhang Grundstücksverzeichnis'!G1378=Texte!$A$26,F1378,0)","v":0},{"$f":"IF('Anhang Grundstücksverzeichnis'!G1378=Texte!$A$27,F1378,0)","v":0},{"$f":"IF('Anhang Grundstücksverzeichnis'!G1378=Texte!$A$28,F1378,0)","v":0}]
[1369,{"$f":"IF(C1379<>\"\",IF(ISNA(VLOOKUP(C1379,Katastralgemeinden!$A$2:$B$3041,2,FALSE)),\"Ungültige KG-Nummer!\",VLOOKUP(C1379,Katastralgemeinden!A$2:$B$3041,2,\"falsch\")),\"\")","v":""},null,null,null,null,null,null,null,null,"",0,{"$f":"IF('Anhang Grundstücksverzeichnis'!G1379=Texte!$A$25,F1379,0)","v":0},{"$f":"IF('Anhang Grundstücksverzeichnis'!G1379=Texte!$A$26,F1379,0)","v":0},{"$f":"IF('Anhang Grundstücksverzeichnis'!G1379=Texte!$A$27,F1379,0)","v":0},{"$f":"IF('Anhang Grundstücksverzeichnis'!G1379=Texte!$A$28,F1379,0)","v":0}]
[1370,{"$f":"IF(C1380<>\"\",IF(ISNA(VLOOKUP(C1380,Katastralgemeinden!$A$2:$B$3041,2,FALSE)),\"Ungültige KG-Nummer!\",VLOOKUP(C1380,Katastralgemeinden!A$2:$B$3041,2,\"falsch\")),\"\")","v":""},null,null,null,null,null,null,null,null,"",0,{"$f":"IF('Anhang Grundstücksverzeichnis'!G1380=Texte!$A$25,F1380,0)","v":0},{"$f":"IF('Anhang Grundstücksverzeichnis'!G1380=Texte!$A$26,F1380,0)","v":0},{"$f":"IF('Anhang Grundstücksverzeichnis'!G1380=Texte!$A$27,F1380,0)","v":0},{"$f":"IF('Anhang Grundstücksverzeichnis'!G1380=Texte!$A$28,F1380,0)","v":0}]
[1371,{"$f":"IF(C1381<>\"\",IF(ISNA(VLOOKUP(C1381,Katastralgemeinden!$A$2:$B$3041,2,FALSE)),\"Ungültige KG-Nummer!\",VLOOKUP(C1381,Katastralgemeinden!A$2:$B$3041,2,\"falsch\")),\"\")","v":""},null,null,null,null,null,null,null,null,"",0,{"$f":"IF('Anhang Grundstücksverzeichnis'!G1381=Texte!$A$25,F1381,0)","v":0},{"$f":"IF('Anhang Grundstücksverzeichnis'!G1381=Texte!$A$26,F1381,0)","v":0},{"$f":"IF('Anhang Grundstücksverzeichnis'!G1381=Texte!$A$27,F1381,0)","v":0},{"$f":"IF('Anhang Grundstücksverzeichnis'!G1381=Texte!$A$28,F1381,0)","v":0}]
[1372,{"$f":"IF(C1382<>\"\",IF(ISNA(VLOOKUP(C1382,Katastralgemeinden!$A$2:$B$3041,2,FALSE)),\"Ungültige KG-Nummer!\",VLOOKUP(C1382,Katastralgemeinden!A$2:$B$3041,2,\"falsch\")),\"\")","v":""},null,null,null,null,null,null,null,null,"",0,{"$f":"IF('Anhang Grundstücksverzeichnis'!G1382=Texte!$A$25,F1382,0)","v":0},{"$f":"IF('Anhang Grundstücksverzeichnis'!G1382=Texte!$A$26,F1382,0)","v":0},{"$f":"IF('Anhang Grundstücksverzeichnis'!G1382=Texte!$A$27,F1382,0)","v":0},{"$f":"IF('Anhang Grundstücksverzeichnis'!G1382=Texte!$A$28,F1382,0)","v":0}]
[1373,{"$f":"IF(C1383<>\"\",IF(ISNA(VLOOKUP(C1383,Katastralgemeinden!$A$2:$B$3041,2,FALSE)),\"Ungültige KG-Nummer!\",VLOOKUP(C1383,Katastralgemeinden!A$2:$B$3041,2,\"falsch\")),\"\")","v":""},null,null,null,null,null,null,null,null,"",0,{"$f":"IF('Anhang Grundstücksverzeichnis'!G1383=Texte!$A$25,F1383,0)","v":0},{"$f":"IF('Anhang Grundstücksverzeichnis'!G1383=Texte!$A$26,F1383,0)","v":0},{"$f":"IF('Anhang Grundstücksverzeichnis'!G1383=Texte!$A$27,F1383,0)","v":0},{"$f":"IF('Anhang Grundstücksverzeichnis'!G1383=Texte!$A$28,F1383,0)","v":0}]
[1374,{"$f":"IF(C1384<>\"\",IF(ISNA(VLOOKUP(C1384,Katastralgemeinden!$A$2:$B$3041,2,FALSE)),\"Ungültige KG-Nummer!\",VLOOKUP(C1384,Katastralgemeinden!A$2:$B$3041,2,\"falsch\")),\"\")","v":""},null,null,null,null,null,null,null,null,"",0,{"$f":"IF('Anhang Grundstücksverzeichnis'!G1384=Texte!$A$25,F1384,0)","v":0},{"$f":"IF('Anhang Grundstücksverzeichnis'!G1384=Texte!$A$26,F1384,0)","v":0},{"$f":"IF('Anhang Grundstücksverzeichnis'!G1384=Texte!$A$27,F1384,0)","v":0},{"$f":"IF('Anhang Grundstücksverzeichnis'!G1384=Texte!$A$28,F1384,0)","v":0}]
[1375,{"$f":"IF(C1385<>\"\",IF(ISNA(VLOOKUP(C1385,Katastralgemeinden!$A$2:$B$3041,2,FALSE)),\"Ungültige KG-Nummer!\",VLOOKUP(C1385,Katastralgemeinden!A$2:$B$3041,2,\"falsch\")),\"\")","v":""},null,null,null,null,null,null,null,null,"",0,{"$f":"IF('Anhang Grundstücksverzeichnis'!G1385=Texte!$A$25,F1385,0)","v":0},{"$f":"IF('Anhang Grundstücksverzeichnis'!G1385=Texte!$A$26,F1385,0)","v":0},{"$f":"IF('Anhang Grundstücksverzeichnis'!G1385=Texte!$A$27,F1385,0)","v":0},{"$f":"IF('Anhang Grundstücksverzeichnis'!G1385=Texte!$A$28,F1385,0)","v":0}]
[1376,{"$f":"IF(C1386<>\"\",IF(ISNA(VLOOKUP(C1386,Katastralgemeinden!$A$2:$B$3041,2,FALSE)),\"Ungültige KG-Nummer!\",VLOOKUP(C1386,Katastralgemeinden!A$2:$B$3041,2,\"falsch\")),\"\")","v":""},null,null,null,null,null,null,null,null,"",0,{"$f":"IF('Anhang Grundstücksverzeichnis'!G1386=Texte!$A$25,F1386,0)","v":0},{"$f":"IF('Anhang Grundstücksverzeichnis'!G1386=Texte!$A$26,F1386,0)","v":0},{"$f":"IF('Anhang Grundstücksverzeichnis'!G1386=Texte!$A$27,F1386,0)","v":0},{"$f":"IF('Anhang Grundstücksverzeichnis'!G1386=Texte!$A$28,F1386,0)","v":0}]
[1377,{"$f":"IF(C1387<>\"\",IF(ISNA(VLOOKUP(C1387,Katastralgemeinden!$A$2:$B$3041,2,FALSE)),\"Ungültige KG-Nummer!\",VLOOKUP(C1387,Katastralgemeinden!A$2:$B$3041,2,\"falsch\")),\"\")","v":""},null,null,null,null,null,null,null,null,"",0,{"$f":"IF('Anhang Grundstücksverzeichnis'!G1387=Texte!$A$25,F1387,0)","v":0},{"$f":"IF('Anhang Grundstücksverzeichnis'!G1387=Texte!$A$26,F1387,0)","v":0},{"$f":"IF('Anhang Grundstücksverzeichnis'!G1387=Texte!$A$27,F1387,0)","v":0},{"$f":"IF('Anhang Grundstücksverzeichnis'!G1387=Texte!$A$28,F1387,0)","v":0}]
[1378,{"$f":"IF(C1388<>\"\",IF(ISNA(VLOOKUP(C1388,Katastralgemeinden!$A$2:$B$3041,2,FALSE)),\"Ungültige KG-Nummer!\",VLOOKUP(C1388,Katastralgemeinden!A$2:$B$3041,2,\"falsch\")),\"\")","v":""},null,null,null,null,null,null,null,null,"",0,{"$f":"IF('Anhang Grundstücksverzeichnis'!G1388=Texte!$A$25,F1388,0)","v":0},{"$f":"IF('Anhang Grundstücksverzeichnis'!G1388=Texte!$A$26,F1388,0)","v":0},{"$f":"IF('Anhang Grundstücksverzeichnis'!G1388=Texte!$A$27,F1388,0)","v":0},{"$f":"IF('Anhang Grundstücksverzeichnis'!G1388=Texte!$A$28,F1388,0)","v":0}]
[1379,{"$f":"IF(C1389<>\"\",IF(ISNA(VLOOKUP(C1389,Katastralgemeinden!$A$2:$B$3041,2,FALSE)),\"Ungültige KG-Nummer!\",VLOOKUP(C1389,Katastralgemeinden!A$2:$B$3041,2,\"falsch\")),\"\")","v":""},null,null,null,null,null,null,null,null,"",0,{"$f":"IF('Anhang Grundstücksverzeichnis'!G1389=Texte!$A$25,F1389,0)","v":0},{"$f":"IF('Anhang Grundstücksverzeichnis'!G1389=Texte!$A$26,F1389,0)","v":0},{"$f":"IF('Anhang Grundstücksverzeichnis'!G1389=Texte!$A$27,F1389,0)","v":0},{"$f":"IF('Anhang Grundstücksverzeichnis'!G1389=Texte!$A$28,F1389,0)","v":0}]
[1380,{"$f":"IF(C1390<>\"\",IF(ISNA(VLOOKUP(C1390,Katastralgemeinden!$A$2:$B$3041,2,FALSE)),\"Ungültige KG-Nummer!\",VLOOKUP(C1390,Katastralgemeinden!A$2:$B$3041,2,\"falsch\")),\"\")","v":""},null,null,null,null,null,null,null,null,"",0,{"$f":"IF('Anhang Grundstücksverzeichnis'!G1390=Texte!$A$25,F1390,0)","v":0},{"$f":"IF('Anhang Grundstücksverzeichnis'!G1390=Texte!$A$26,F1390,0)","v":0},{"$f":"IF('Anhang Grundstücksverzeichnis'!G1390=Texte!$A$27,F1390,0)","v":0},{"$f":"IF('Anhang Grundstücksverzeichnis'!G1390=Texte!$A$28,F1390,0)","v":0}]
[1381,{"$f":"IF(C1391<>\"\",IF(ISNA(VLOOKUP(C1391,Katastralgemeinden!$A$2:$B$3041,2,FALSE)),\"Ungültige KG-Nummer!\",VLOOKUP(C1391,Katastralgemeinden!A$2:$B$3041,2,\"falsch\")),\"\")","v":""},null,null,null,null,null,null,null,null,"",0,{"$f":"IF('Anhang Grundstücksverzeichnis'!G1391=Texte!$A$25,F1391,0)","v":0},{"$f":"IF('Anhang Grundstücksverzeichnis'!G1391=Texte!$A$26,F1391,0)","v":0},{"$f":"IF('Anhang Grundstücksverzeichnis'!G1391=Texte!$A$27,F1391,0)","v":0},{"$f":"IF('Anhang Grundstücksverzeichnis'!G1391=Texte!$A$28,F1391,0)","v":0}]
[1382,{"$f":"IF(C1392<>\"\",IF(ISNA(VLOOKUP(C1392,Katastralgemeinden!$A$2:$B$3041,2,FALSE)),\"Ungültige KG-Nummer!\",VLOOKUP(C1392,Katastralgemeinden!A$2:$B$3041,2,\"falsch\")),\"\")","v":""},null,null,null,null,null,null,null,null,"",0,{"$f":"IF('Anhang Grundstücksverzeichnis'!G1392=Texte!$A$25,F1392,0)","v":0},{"$f":"IF('Anhang Grundstücksverzeichnis'!G1392=Texte!$A$26,F1392,0)","v":0},{"$f":"IF('Anhang Grundstücksverzeichnis'!G1392=Texte!$A$27,F1392,0)","v":0},{"$f":"IF('Anhang Grundstücksverzeichnis'!G1392=Texte!$A$28,F1392,0)","v":0}]
[1383,{"$f":"IF(C1393<>\"\",IF(ISNA(VLOOKUP(C1393,Katastralgemeinden!$A$2:$B$3041,2,FALSE)),\"Ungültige KG-Nummer!\",VLOOKUP(C1393,Katastralgemeinden!A$2:$B$3041,2,\"falsch\")),\"\")","v":""},null,null,null,null,null,null,null,null,"",0,{"$f":"IF('Anhang Grundstücksverzeichnis'!G1393=Texte!$A$25,F1393,0)","v":0},{"$f":"IF('Anhang Grundstücksverzeichnis'!G1393=Texte!$A$26,F1393,0)","v":0},{"$f":"IF('Anhang Grundstücksverzeichnis'!G1393=Texte!$A$27,F1393,0)","v":0},{"$f":"IF('Anhang Grundstücksverzeichnis'!G1393=Texte!$A$28,F1393,0)","v":0}]
[1384,{"$f":"IF(C1394<>\"\",IF(ISNA(VLOOKUP(C1394,Katastralgemeinden!$A$2:$B$3041,2,FALSE)),\"Ungültige KG-Nummer!\",VLOOKUP(C1394,Katastralgemeinden!A$2:$B$3041,2,\"falsch\")),\"\")","v":""},null,null,null,null,null,null,null,null,"",0,{"$f":"IF('Anhang Grundstücksverzeichnis'!G1394=Texte!$A$25,F1394,0)","v":0},{"$f":"IF('Anhang Grundstücksverzeichnis'!G1394=Texte!$A$26,F1394,0)","v":0},{"$f":"IF('Anhang Grundstücksverzeichnis'!G1394=Texte!$A$27,F1394,0)","v":0},{"$f":"IF('Anhang Grundstücksverzeichnis'!G1394=Texte!$A$28,F1394,0)","v":0}]
[1385,{"$f":"IF(C1395<>\"\",IF(ISNA(VLOOKUP(C1395,Katastralgemeinden!$A$2:$B$3041,2,FALSE)),\"Ungültige KG-Nummer!\",VLOOKUP(C1395,Katastralgemeinden!A$2:$B$3041,2,\"falsch\")),\"\")","v":""},null,null,null,null,null,null,null,null,"",0,{"$f":"IF('Anhang Grundstücksverzeichnis'!G1395=Texte!$A$25,F1395,0)","v":0},{"$f":"IF('Anhang Grundstücksverzeichnis'!G1395=Texte!$A$26,F1395,0)","v":0},{"$f":"IF('Anhang Grundstücksverzeichnis'!G1395=Texte!$A$27,F1395,0)","v":0},{"$f":"IF('Anhang Grundstücksverzeichnis'!G1395=Texte!$A$28,F1395,0)","v":0}]
[1386,{"$f":"IF(C1396<>\"\",IF(ISNA(VLOOKUP(C1396,Katastralgemeinden!$A$2:$B$3041,2,FALSE)),\"Ungültige KG-Nummer!\",VLOOKUP(C1396,Katastralgemeinden!A$2:$B$3041,2,\"falsch\")),\"\")","v":""},null,null,null,null,null,null,null,null,"",0,{"$f":"IF('Anhang Grundstücksverzeichnis'!G1396=Texte!$A$25,F1396,0)","v":0},{"$f":"IF('Anhang Grundstücksverzeichnis'!G1396=Texte!$A$26,F1396,0)","v":0},{"$f":"IF('Anhang Grundstücksverzeichnis'!G1396=Texte!$A$27,F1396,0)","v":0},{"$f":"IF('Anhang Grundstücksverzeichnis'!G1396=Texte!$A$28,F1396,0)","v":0}]
[1387,{"$f":"IF(C1397<>\"\",IF(ISNA(VLOOKUP(C1397,Katastralgemeinden!$A$2:$B$3041,2,FALSE)),\"Ungültige KG-Nummer!\",VLOOKUP(C1397,Katastralgemeinden!A$2:$B$3041,2,\"falsch\")),\"\")","v":""},null,null,null,null,null,null,null,null,"",0,{"$f":"IF('Anhang Grundstücksverzeichnis'!G1397=Texte!$A$25,F1397,0)","v":0},{"$f":"IF('Anhang Grundstücksverzeichnis'!G1397=Texte!$A$26,F1397,0)","v":0},{"$f":"IF('Anhang Grundstücksverzeichnis'!G1397=Texte!$A$27,F1397,0)","v":0},{"$f":"IF('Anhang Grundstücksverzeichnis'!G1397=Texte!$A$28,F1397,0)","v":0}]
[1388,{"$f":"IF(C1398<>\"\",IF(ISNA(VLOOKUP(C1398,Katastralgemeinden!$A$2:$B$3041,2,FALSE)),\"Ungültige KG-Nummer!\",VLOOKUP(C1398,Katastralgemeinden!A$2:$B$3041,2,\"falsch\")),\"\")","v":""},null,null,null,null,null,null,null,null,"",0,{"$f":"IF('Anhang Grundstücksverzeichnis'!G1398=Texte!$A$25,F1398,0)","v":0},{"$f":"IF('Anhang Grundstücksverzeichnis'!G1398=Texte!$A$26,F1398,0)","v":0},{"$f":"IF('Anhang Grundstücksverzeichnis'!G1398=Texte!$A$27,F1398,0)","v":0},{"$f":"IF('Anhang Grundstücksverzeichnis'!G1398=Texte!$A$28,F1398,0)","v":0}]
[1389,{"$f":"IF(C1399<>\"\",IF(ISNA(VLOOKUP(C1399,Katastralgemeinden!$A$2:$B$3041,2,FALSE)),\"Ungültige KG-Nummer!\",VLOOKUP(C1399,Katastralgemeinden!A$2:$B$3041,2,\"falsch\")),\"\")","v":""},null,null,null,null,null,null,null,null,"",0,{"$f":"IF('Anhang Grundstücksverzeichnis'!G1399=Texte!$A$25,F1399,0)","v":0},{"$f":"IF('Anhang Grundstücksverzeichnis'!G1399=Texte!$A$26,F1399,0)","v":0},{"$f":"IF('Anhang Grundstücksverzeichnis'!G1399=Texte!$A$27,F1399,0)","v":0},{"$f":"IF('Anhang Grundstücksverzeichnis'!G1399=Texte!$A$28,F1399,0)","v":0}]
[1390,{"$f":"IF(C1400<>\"\",IF(ISNA(VLOOKUP(C1400,Katastralgemeinden!$A$2:$B$3041,2,FALSE)),\"Ungültige KG-Nummer!\",VLOOKUP(C1400,Katastralgemeinden!A$2:$B$3041,2,\"falsch\")),\"\")","v":""},null,null,null,null,null,null,null,null,"",0,{"$f":"IF('Anhang Grundstücksverzeichnis'!G1400=Texte!$A$25,F1400,0)","v":0},{"$f":"IF('Anhang Grundstücksverzeichnis'!G1400=Texte!$A$26,F1400,0)","v":0},{"$f":"IF('Anhang Grundstücksverzeichnis'!G1400=Texte!$A$27,F1400,0)","v":0},{"$f":"IF('Anhang Grundstücksverzeichnis'!G1400=Texte!$A$28,F1400,0)","v":0}]
[1391,{"$f":"IF(C1401<>\"\",IF(ISNA(VLOOKUP(C1401,Katastralgemeinden!$A$2:$B$3041,2,FALSE)),\"Ungültige KG-Nummer!\",VLOOKUP(C1401,Katastralgemeinden!A$2:$B$3041,2,\"falsch\")),\"\")","v":""},null,null,null,null,null,null,null,null,"",0,{"$f":"IF('Anhang Grundstücksverzeichnis'!G1401=Texte!$A$25,F1401,0)","v":0},{"$f":"IF('Anhang Grundstücksverzeichnis'!G1401=Texte!$A$26,F1401,0)","v":0},{"$f":"IF('Anhang Grundstücksverzeichnis'!G1401=Texte!$A$27,F1401,0)","v":0},{"$f":"IF('Anhang Grundstücksverzeichnis'!G1401=Texte!$A$28,F1401,0)","v":0}]
[1392,{"$f":"IF(C1402<>\"\",IF(ISNA(VLOOKUP(C1402,Katastralgemeinden!$A$2:$B$3041,2,FALSE)),\"Ungültige KG-Nummer!\",VLOOKUP(C1402,Katastralgemeinden!A$2:$B$3041,2,\"falsch\")),\"\")","v":""},null,null,null,null,null,null,null,null,"",0,{"$f":"IF('Anhang Grundstücksverzeichnis'!G1402=Texte!$A$25,F1402,0)","v":0},{"$f":"IF('Anhang Grundstücksverzeichnis'!G1402=Texte!$A$26,F1402,0)","v":0},{"$f":"IF('Anhang Grundstücksverzeichnis'!G1402=Texte!$A$27,F1402,0)","v":0},{"$f":"IF('Anhang Grundstücksverzeichnis'!G1402=Texte!$A$28,F1402,0)","v":0}]
[1393,{"$f":"IF(C1403<>\"\",IF(ISNA(VLOOKUP(C1403,Katastralgemeinden!$A$2:$B$3041,2,FALSE)),\"Ungültige KG-Nummer!\",VLOOKUP(C1403,Katastralgemeinden!A$2:$B$3041,2,\"falsch\")),\"\")","v":""},null,null,null,null,null,null,null,null,"",0,{"$f":"IF('Anhang Grundstücksverzeichnis'!G1403=Texte!$A$25,F1403,0)","v":0},{"$f":"IF('Anhang Grundstücksverzeichnis'!G1403=Texte!$A$26,F1403,0)","v":0},{"$f":"IF('Anhang Grundstücksverzeichnis'!G1403=Texte!$A$27,F1403,0)","v":0},{"$f":"IF('Anhang Grundstücksverzeichnis'!G1403=Texte!$A$28,F1403,0)","v":0}]
[1394,{"$f":"IF(C1404<>\"\",IF(ISNA(VLOOKUP(C1404,Katastralgemeinden!$A$2:$B$3041,2,FALSE)),\"Ungültige KG-Nummer!\",VLOOKUP(C1404,Katastralgemeinden!A$2:$B$3041,2,\"falsch\")),\"\")","v":""},null,null,null,null,null,null,null,null,"",0,{"$f":"IF('Anhang Grundstücksverzeichnis'!G1404=Texte!$A$25,F1404,0)","v":0},{"$f":"IF('Anhang Grundstücksverzeichnis'!G1404=Texte!$A$26,F1404,0)","v":0},{"$f":"IF('Anhang Grundstücksverzeichnis'!G1404=Texte!$A$27,F1404,0)","v":0},{"$f":"IF('Anhang Grundstücksverzeichnis'!G1404=Texte!$A$28,F1404,0)","v":0}]
[1395,{"$f":"IF(C1405<>\"\",IF(ISNA(VLOOKUP(C1405,Katastralgemeinden!$A$2:$B$3041,2,FALSE)),\"Ungültige KG-Nummer!\",VLOOKUP(C1405,Katastralgemeinden!A$2:$B$3041,2,\"falsch\")),\"\")","v":""},null,null,null,null,null,null,null,null,"",0,{"$f":"IF('Anhang Grundstücksverzeichnis'!G1405=Texte!$A$25,F1405,0)","v":0},{"$f":"IF('Anhang Grundstücksverzeichnis'!G1405=Texte!$A$26,F1405,0)","v":0},{"$f":"IF('Anhang Grundstücksverzeichnis'!G1405=Texte!$A$27,F1405,0)","v":0},{"$f":"IF('Anhang Grundstücksverzeichnis'!G1405=Texte!$A$28,F1405,0)","v":0}]
[1396,{"$f":"IF(C1406<>\"\",IF(ISNA(VLOOKUP(C1406,Katastralgemeinden!$A$2:$B$3041,2,FALSE)),\"Ungültige KG-Nummer!\",VLOOKUP(C1406,Katastralgemeinden!A$2:$B$3041,2,\"falsch\")),\"\")","v":""},null,null,null,null,null,null,null,null,"",0,{"$f":"IF('Anhang Grundstücksverzeichnis'!G1406=Texte!$A$25,F1406,0)","v":0},{"$f":"IF('Anhang Grundstücksverzeichnis'!G1406=Texte!$A$26,F1406,0)","v":0},{"$f":"IF('Anhang Grundstücksverzeichnis'!G1406=Texte!$A$27,F1406,0)","v":0},{"$f":"IF('Anhang Grundstücksverzeichnis'!G1406=Texte!$A$28,F1406,0)","v":0}]
[1397,{"$f":"IF(C1407<>\"\",IF(ISNA(VLOOKUP(C1407,Katastralgemeinden!$A$2:$B$3041,2,FALSE)),\"Ungültige KG-Nummer!\",VLOOKUP(C1407,Katastralgemeinden!A$2:$B$3041,2,\"falsch\")),\"\")","v":""},null,null,null,null,null,null,null,null,"",0,{"$f":"IF('Anhang Grundstücksverzeichnis'!G1407=Texte!$A$25,F1407,0)","v":0},{"$f":"IF('Anhang Grundstücksverzeichnis'!G1407=Texte!$A$26,F1407,0)","v":0},{"$f":"IF('Anhang Grundstücksverzeichnis'!G1407=Texte!$A$27,F1407,0)","v":0},{"$f":"IF('Anhang Grundstücksverzeichnis'!G1407=Texte!$A$28,F1407,0)","v":0}]
[1398,{"$f":"IF(C1408<>\"\",IF(ISNA(VLOOKUP(C1408,Katastralgemeinden!$A$2:$B$3041,2,FALSE)),\"Ungültige KG-Nummer!\",VLOOKUP(C1408,Katastralgemeinden!A$2:$B$3041,2,\"falsch\")),\"\")","v":""},null,null,null,null,null,null,null,null,"",0,{"$f":"IF('Anhang Grundstücksverzeichnis'!G1408=Texte!$A$25,F1408,0)","v":0},{"$f":"IF('Anhang Grundstücksverzeichnis'!G1408=Texte!$A$26,F1408,0)","v":0},{"$f":"IF('Anhang Grundstücksverzeichnis'!G1408=Texte!$A$27,F1408,0)","v":0},{"$f":"IF('Anhang Grundstücksverzeichnis'!G1408=Texte!$A$28,F1408,0)","v":0}]
[1399,{"$f":"IF(C1409<>\"\",IF(ISNA(VLOOKUP(C1409,Katastralgemeinden!$A$2:$B$3041,2,FALSE)),\"Ungültige KG-Nummer!\",VLOOKUP(C1409,Katastralgemeinden!A$2:$B$3041,2,\"falsch\")),\"\")","v":""},null,null,null,null,null,null,null,null,"",0,{"$f":"IF('Anhang Grundstücksverzeichnis'!G1409=Texte!$A$25,F1409,0)","v":0},{"$f":"IF('Anhang Grundstücksverzeichnis'!G1409=Texte!$A$26,F1409,0)","v":0},{"$f":"IF('Anhang Grundstücksverzeichnis'!G1409=Texte!$A$27,F1409,0)","v":0},{"$f":"IF('Anhang Grundstücksverzeichnis'!G1409=Texte!$A$28,F1409,0)","v":0}]
[1400,{"$f":"IF(C1410<>\"\",IF(ISNA(VLOOKUP(C1410,Katastralgemeinden!$A$2:$B$3041,2,FALSE)),\"Ungültige KG-Nummer!\",VLOOKUP(C1410,Katastralgemeinden!A$2:$B$3041,2,\"falsch\")),\"\")","v":""},null,null,null,null,null,null,null,null,"",0,{"$f":"IF('Anhang Grundstücksverzeichnis'!G1410=Texte!$A$25,F1410,0)","v":0},{"$f":"IF('Anhang Grundstücksverzeichnis'!G1410=Texte!$A$26,F1410,0)","v":0},{"$f":"IF('Anhang Grundstücksverzeichnis'!G1410=Texte!$A$27,F1410,0)","v":0},{"$f":"IF('Anhang Grundstücksverzeichnis'!G1410=Texte!$A$28,F1410,0)","v":0}]
[1401,{"$f":"IF(C1411<>\"\",IF(ISNA(VLOOKUP(C1411,Katastralgemeinden!$A$2:$B$3041,2,FALSE)),\"Ungültige KG-Nummer!\",VLOOKUP(C1411,Katastralgemeinden!A$2:$B$3041,2,\"falsch\")),\"\")","v":""},null,null,null,null,null,null,null,null,"",0,{"$f":"IF('Anhang Grundstücksverzeichnis'!G1411=Texte!$A$25,F1411,0)","v":0},{"$f":"IF('Anhang Grundstücksverzeichnis'!G1411=Texte!$A$26,F1411,0)","v":0},{"$f":"IF('Anhang Grundstücksverzeichnis'!G1411=Texte!$A$27,F1411,0)","v":0},{"$f":"IF('Anhang Grundstücksverzeichnis'!G1411=Texte!$A$28,F1411,0)","v":0}]
[1402,{"$f":"IF(C1412<>\"\",IF(ISNA(VLOOKUP(C1412,Katastralgemeinden!$A$2:$B$3041,2,FALSE)),\"Ungültige KG-Nummer!\",VLOOKUP(C1412,Katastralgemeinden!A$2:$B$3041,2,\"falsch\")),\"\")","v":""},null,null,null,null,null,null,null,null,"",0,{"$f":"IF('Anhang Grundstücksverzeichnis'!G1412=Texte!$A$25,F1412,0)","v":0},{"$f":"IF('Anhang Grundstücksverzeichnis'!G1412=Texte!$A$26,F1412,0)","v":0},{"$f":"IF('Anhang Grundstücksverzeichnis'!G1412=Texte!$A$27,F1412,0)","v":0},{"$f":"IF('Anhang Grundstücksverzeichnis'!G1412=Texte!$A$28,F1412,0)","v":0}]
[1403,{"$f":"IF(C1413<>\"\",IF(ISNA(VLOOKUP(C1413,Katastralgemeinden!$A$2:$B$3041,2,FALSE)),\"Ungültige KG-Nummer!\",VLOOKUP(C1413,Katastralgemeinden!A$2:$B$3041,2,\"falsch\")),\"\")","v":""},null,null,null,null,null,null,null,null,"",0,{"$f":"IF('Anhang Grundstücksverzeichnis'!G1413=Texte!$A$25,F1413,0)","v":0},{"$f":"IF('Anhang Grundstücksverzeichnis'!G1413=Texte!$A$26,F1413,0)","v":0},{"$f":"IF('Anhang Grundstücksverzeichnis'!G1413=Texte!$A$27,F1413,0)","v":0},{"$f":"IF('Anhang Grundstücksverzeichnis'!G1413=Texte!$A$28,F1413,0)","v":0}]
[1404,{"$f":"IF(C1414<>\"\",IF(ISNA(VLOOKUP(C1414,Katastralgemeinden!$A$2:$B$3041,2,FALSE)),\"Ungültige KG-Nummer!\",VLOOKUP(C1414,Katastralgemeinden!A$2:$B$3041,2,\"falsch\")),\"\")","v":""},null,null,null,null,null,null,null,null,"",0,{"$f":"IF('Anhang Grundstücksverzeichnis'!G1414=Texte!$A$25,F1414,0)","v":0},{"$f":"IF('Anhang Grundstücksverzeichnis'!G1414=Texte!$A$26,F1414,0)","v":0},{"$f":"IF('Anhang Grundstücksverzeichnis'!G1414=Texte!$A$27,F1414,0)","v":0},{"$f":"IF('Anhang Grundstücksverzeichnis'!G1414=Texte!$A$28,F1414,0)","v":0}]
[1405,{"$f":"IF(C1415<>\"\",IF(ISNA(VLOOKUP(C1415,Katastralgemeinden!$A$2:$B$3041,2,FALSE)),\"Ungültige KG-Nummer!\",VLOOKUP(C1415,Katastralgemeinden!A$2:$B$3041,2,\"falsch\")),\"\")","v":""},null,null,null,null,null,null,null,null,"",0,{"$f":"IF('Anhang Grundstücksverzeichnis'!G1415=Texte!$A$25,F1415,0)","v":0},{"$f":"IF('Anhang Grundstücksverzeichnis'!G1415=Texte!$A$26,F1415,0)","v":0},{"$f":"IF('Anhang Grundstücksverzeichnis'!G1415=Texte!$A$27,F1415,0)","v":0},{"$f":"IF('Anhang Grundstücksverzeichnis'!G1415=Texte!$A$28,F1415,0)","v":0}]
[1406,{"$f":"IF(C1416<>\"\",IF(ISNA(VLOOKUP(C1416,Katastralgemeinden!$A$2:$B$3041,2,FALSE)),\"Ungültige KG-Nummer!\",VLOOKUP(C1416,Katastralgemeinden!A$2:$B$3041,2,\"falsch\")),\"\")","v":""},null,null,null,null,null,null,null,null,"",0,{"$f":"IF('Anhang Grundstücksverzeichnis'!G1416=Texte!$A$25,F1416,0)","v":0},{"$f":"IF('Anhang Grundstücksverzeichnis'!G1416=Texte!$A$26,F1416,0)","v":0},{"$f":"IF('Anhang Grundstücksverzeichnis'!G1416=Texte!$A$27,F1416,0)","v":0},{"$f":"IF('Anhang Grundstücksverzeichnis'!G1416=Texte!$A$28,F1416,0)","v":0}]
[1407,{"$f":"IF(C1417<>\"\",IF(ISNA(VLOOKUP(C1417,Katastralgemeinden!$A$2:$B$3041,2,FALSE)),\"Ungültige KG-Nummer!\",VLOOKUP(C1417,Katastralgemeinden!A$2:$B$3041,2,\"falsch\")),\"\")","v":""},null,null,null,null,null,null,null,null,"",0,{"$f":"IF('Anhang Grundstücksverzeichnis'!G1417=Texte!$A$25,F1417,0)","v":0},{"$f":"IF('Anhang Grundstücksverzeichnis'!G1417=Texte!$A$26,F1417,0)","v":0},{"$f":"IF('Anhang Grundstücksverzeichnis'!G1417=Texte!$A$27,F1417,0)","v":0},{"$f":"IF('Anhang Grundstücksverzeichnis'!G1417=Texte!$A$28,F1417,0)","v":0}]
[1408,{"$f":"IF(C1418<>\"\",IF(ISNA(VLOOKUP(C1418,Katastralgemeinden!$A$2:$B$3041,2,FALSE)),\"Ungültige KG-Nummer!\",VLOOKUP(C1418,Katastralgemeinden!A$2:$B$3041,2,\"falsch\")),\"\")","v":""},null,null,null,null,null,null,null,null,"",0,{"$f":"IF('Anhang Grundstücksverzeichnis'!G1418=Texte!$A$25,F1418,0)","v":0},{"$f":"IF('Anhang Grundstücksverzeichnis'!G1418=Texte!$A$26,F1418,0)","v":0},{"$f":"IF('Anhang Grundstücksverzeichnis'!G1418=Texte!$A$27,F1418,0)","v":0},{"$f":"IF('Anhang Grundstücksverzeichnis'!G1418=Texte!$A$28,F1418,0)","v":0}]
[1409,{"$f":"IF(C1419<>\"\",IF(ISNA(VLOOKUP(C1419,Katastralgemeinden!$A$2:$B$3041,2,FALSE)),\"Ungültige KG-Nummer!\",VLOOKUP(C1419,Katastralgemeinden!A$2:$B$3041,2,\"falsch\")),\"\")","v":""},null,null,null,null,null,null,null,null,"",0,{"$f":"IF('Anhang Grundstücksverzeichnis'!G1419=Texte!$A$25,F1419,0)","v":0},{"$f":"IF('Anhang Grundstücksverzeichnis'!G1419=Texte!$A$26,F1419,0)","v":0},{"$f":"IF('Anhang Grundstücksverzeichnis'!G1419=Texte!$A$27,F1419,0)","v":0},{"$f":"IF('Anhang Grundstücksverzeichnis'!G1419=Texte!$A$28,F1419,0)","v":0}]
[1410,{"$f":"IF(C1420<>\"\",IF(ISNA(VLOOKUP(C1420,Katastralgemeinden!$A$2:$B$3041,2,FALSE)),\"Ungültige KG-Nummer!\",VLOOKUP(C1420,Katastralgemeinden!A$2:$B$3041,2,\"falsch\")),\"\")","v":""},null,null,null,null,null,null,null,null,{"$f":"IF(G1420<>\"\",IF(G1420=\"Eigengrundfläche\",0,IF(G1420=\"Vorpachtfläche\",1,IF(G1420=\"Abrundung +\",3,IF(G1420=\"Abrundung -\",4,5)))),\"\")","v":""},{"$f":"IF(OR(LOWER(H1420)=\"x\",LOWER(H1420)=\"j\"),1,0)","v":0},{"$f":"IF('Anhang Grundstücksverzeichnis'!G1420=Texte!$A$25,F1420,0)","v":0},{"$f":"IF('Anhang Grundstücksverzeichnis'!G1420=Texte!$A$26,F1420,0)","v":0},{"$f":"IF('Anhang Grundstücksverzeichnis'!G1420=Texte!$A$27,F1420,0)","v":0},{"$f":"IF('Anhang Grundstücksverzeichnis'!G1420=Texte!$A$28,F1420,0)","v":0}]
[1411,{"$f":"IF(C1421<>\"\",IF(ISNA(VLOOKUP(C1421,Katastralgemeinden!$A$2:$B$3041,2,FALSE)),\"Ungültige KG-Nummer!\",VLOOKUP(C1421,Katastralgemeinden!A$2:$B$3041,2,\"falsch\")),\"\")","v":""},null,null,null,null,null,null,null,null,"",0,{"$f":"IF('Anhang Grundstücksverzeichnis'!G1421=Texte!$A$25,F1421,0)","v":0},{"$f":"IF('Anhang Grundstücksverzeichnis'!G1421=Texte!$A$26,F1421,0)","v":0},{"$f":"IF('Anhang Grundstücksverzeichnis'!G1421=Texte!$A$27,F1421,0)","v":0},{"$f":"IF('Anhang Grundstücksverzeichnis'!G1421=Texte!$A$28,F1421,0)","v":0}]
[1412,{"$f":"IF(C1422<>\"\",IF(ISNA(VLOOKUP(C1422,Katastralgemeinden!$A$2:$B$3041,2,FALSE)),\"Ungültige KG-Nummer!\",VLOOKUP(C1422,Katastralgemeinden!A$2:$B$3041,2,\"falsch\")),\"\")","v":""},null,null,null,null,null,null,null,null,"",0,{"$f":"IF('Anhang Grundstücksverzeichnis'!G1422=Texte!$A$25,F1422,0)","v":0},{"$f":"IF('Anhang Grundstücksverzeichnis'!G1422=Texte!$A$26,F1422,0)","v":0},{"$f":"IF('Anhang Grundstücksverzeichnis'!G1422=Texte!$A$27,F1422,0)","v":0},{"$f":"IF('Anhang Grundstücksverzeichnis'!G1422=Texte!$A$28,F1422,0)","v":0}]
[1413,{"$f":"IF(C1423<>\"\",IF(ISNA(VLOOKUP(C1423,Katastralgemeinden!$A$2:$B$3041,2,FALSE)),\"Ungültige KG-Nummer!\",VLOOKUP(C1423,Katastralgemeinden!A$2:$B$3041,2,\"falsch\")),\"\")","v":""},null,null,null,null,null,null,null,null,"",0,{"$f":"IF('Anhang Grundstücksverzeichnis'!G1423=Texte!$A$25,F1423,0)","v":0},{"$f":"IF('Anhang Grundstücksverzeichnis'!G1423=Texte!$A$26,F1423,0)","v":0},{"$f":"IF('Anhang Grundstücksverzeichnis'!G1423=Texte!$A$27,F1423,0)","v":0},{"$f":"IF('Anhang Grundstücksverzeichnis'!G1423=Texte!$A$28,F1423,0)","v":0}]
[1414,{"$f":"IF(C1424<>\"\",IF(ISNA(VLOOKUP(C1424,Katastralgemeinden!$A$2:$B$3041,2,FALSE)),\"Ungültige KG-Nummer!\",VLOOKUP(C1424,Katastralgemeinden!A$2:$B$3041,2,\"falsch\")),\"\")","v":""},null,null,null,null,null,null,null,null,"",0,{"$f":"IF('Anhang Grundstücksverzeichnis'!G1424=Texte!$A$25,F1424,0)","v":0},{"$f":"IF('Anhang Grundstücksverzeichnis'!G1424=Texte!$A$26,F1424,0)","v":0},{"$f":"IF('Anhang Grundstücksverzeichnis'!G1424=Texte!$A$27,F1424,0)","v":0},{"$f":"IF('Anhang Grundstücksverzeichnis'!G1424=Texte!$A$28,F1424,0)","v":0}]
[1415,{"$f":"IF(C1425<>\"\",IF(ISNA(VLOOKUP(C1425,Katastralgemeinden!$A$2:$B$3041,2,FALSE)),\"Ungültige KG-Nummer!\",VLOOKUP(C1425,Katastralgemeinden!A$2:$B$3041,2,\"falsch\")),\"\")","v":""},null,null,null,null,null,null,null,null,"",0,{"$f":"IF('Anhang Grundstücksverzeichnis'!G1425=Texte!$A$25,F1425,0)","v":0},{"$f":"IF('Anhang Grundstücksverzeichnis'!G1425=Texte!$A$26,F1425,0)","v":0},{"$f":"IF('Anhang Grundstücksverzeichnis'!G1425=Texte!$A$27,F1425,0)","v":0},{"$f":"IF('Anhang Grundstücksverzeichnis'!G1425=Texte!$A$28,F1425,0)","v":0}]
[1416,{"$f":"IF(C1426<>\"\",IF(ISNA(VLOOKUP(C1426,Katastralgemeinden!$A$2:$B$3041,2,FALSE)),\"Ungültige KG-Nummer!\",VLOOKUP(C1426,Katastralgemeinden!A$2:$B$3041,2,\"falsch\")),\"\")","v":""},null,null,null,null,null,null,null,null,"",0,{"$f":"IF('Anhang Grundstücksverzeichnis'!G1426=Texte!$A$25,F1426,0)","v":0},{"$f":"IF('Anhang Grundstücksverzeichnis'!G1426=Texte!$A$26,F1426,0)","v":0},{"$f":"IF('Anhang Grundstücksverzeichnis'!G1426=Texte!$A$27,F1426,0)","v":0},{"$f":"IF('Anhang Grundstücksverzeichnis'!G1426=Texte!$A$28,F1426,0)","v":0}]
[1417,{"$f":"IF(C1427<>\"\",IF(ISNA(VLOOKUP(C1427,Katastralgemeinden!$A$2:$B$3041,2,FALSE)),\"Ungültige KG-Nummer!\",VLOOKUP(C1427,Katastralgemeinden!A$2:$B$3041,2,\"falsch\")),\"\")","v":""},null,null,null,null,null,null,null,null,"",0,{"$f":"IF('Anhang Grundstücksverzeichnis'!G1427=Texte!$A$25,F1427,0)","v":0},{"$f":"IF('Anhang Grundstücksverzeichnis'!G1427=Texte!$A$26,F1427,0)","v":0},{"$f":"IF('Anhang Grundstücksverzeichnis'!G1427=Texte!$A$27,F1427,0)","v":0},{"$f":"IF('Anhang Grundstücksverzeichnis'!G1427=Texte!$A$28,F1427,0)","v":0}]
[1418,{"$f":"IF(C1428<>\"\",IF(ISNA(VLOOKUP(C1428,Katastralgemeinden!$A$2:$B$3041,2,FALSE)),\"Ungültige KG-Nummer!\",VLOOKUP(C1428,Katastralgemeinden!A$2:$B$3041,2,\"falsch\")),\"\")","v":""},null,null,null,null,null,null,null,null,"",0,{"$f":"IF('Anhang Grundstücksverzeichnis'!G1428=Texte!$A$25,F1428,0)","v":0},{"$f":"IF('Anhang Grundstücksverzeichnis'!G1428=Texte!$A$26,F1428,0)","v":0},{"$f":"IF('Anhang Grundstücksverzeichnis'!G1428=Texte!$A$27,F1428,0)","v":0},{"$f":"IF('Anhang Grundstücksverzeichnis'!G1428=Texte!$A$28,F1428,0)","v":0}]
[1419,{"$f":"IF(C1429<>\"\",IF(ISNA(VLOOKUP(C1429,Katastralgemeinden!$A$2:$B$3041,2,FALSE)),\"Ungültige KG-Nummer!\",VLOOKUP(C1429,Katastralgemeinden!A$2:$B$3041,2,\"falsch\")),\"\")","v":""},null,null,null,null,null,null,null,null,"",0,{"$f":"IF('Anhang Grundstücksverzeichnis'!G1429=Texte!$A$25,F1429,0)","v":0},{"$f":"IF('Anhang Grundstücksverzeichnis'!G1429=Texte!$A$26,F1429,0)","v":0},{"$f":"IF('Anhang Grundstücksverzeichnis'!G1429=Texte!$A$27,F1429,0)","v":0},{"$f":"IF('Anhang Grundstücksverzeichnis'!G1429=Texte!$A$28,F1429,0)","v":0}]
[1420,{"$f":"IF(C1430<>\"\",IF(ISNA(VLOOKUP(C1430,Katastralgemeinden!$A$2:$B$3041,2,FALSE)),\"Ungültige KG-Nummer!\",VLOOKUP(C1430,Katastralgemeinden!A$2:$B$3041,2,\"falsch\")),\"\")","v":""},null,null,null,null,null,null,null,null,"",0,{"$f":"IF('Anhang Grundstücksverzeichnis'!G1430=Texte!$A$25,F1430,0)","v":0},{"$f":"IF('Anhang Grundstücksverzeichnis'!G1430=Texte!$A$26,F1430,0)","v":0},{"$f":"IF('Anhang Grundstücksverzeichnis'!G1430=Texte!$A$27,F1430,0)","v":0},{"$f":"IF('Anhang Grundstücksverzeichnis'!G1430=Texte!$A$28,F1430,0)","v":0}]
[1421,{"$f":"IF(C1431<>\"\",IF(ISNA(VLOOKUP(C1431,Katastralgemeinden!$A$2:$B$3041,2,FALSE)),\"Ungültige KG-Nummer!\",VLOOKUP(C1431,Katastralgemeinden!A$2:$B$3041,2,\"falsch\")),\"\")","v":""},null,null,null,null,null,null,null,null,"",0,{"$f":"IF('Anhang Grundstücksverzeichnis'!G1431=Texte!$A$25,F1431,0)","v":0},{"$f":"IF('Anhang Grundstücksverzeichnis'!G1431=Texte!$A$26,F1431,0)","v":0},{"$f":"IF('Anhang Grundstücksverzeichnis'!G1431=Texte!$A$27,F1431,0)","v":0},{"$f":"IF('Anhang Grundstücksverzeichnis'!G1431=Texte!$A$28,F1431,0)","v":0}]
[1422,{"$f":"IF(C1432<>\"\",IF(ISNA(VLOOKUP(C1432,Katastralgemeinden!$A$2:$B$3041,2,FALSE)),\"Ungültige KG-Nummer!\",VLOOKUP(C1432,Katastralgemeinden!A$2:$B$3041,2,\"falsch\")),\"\")","v":""},null,null,null,null,null,null,null,null,"",0,{"$f":"IF('Anhang Grundstücksverzeichnis'!G1432=Texte!$A$25,F1432,0)","v":0},{"$f":"IF('Anhang Grundstücksverzeichnis'!G1432=Texte!$A$26,F1432,0)","v":0},{"$f":"IF('Anhang Grundstücksverzeichnis'!G1432=Texte!$A$27,F1432,0)","v":0},{"$f":"IF('Anhang Grundstücksverzeichnis'!G1432=Texte!$A$28,F1432,0)","v":0}]
[1423,{"$f":"IF(C1433<>\"\",IF(ISNA(VLOOKUP(C1433,Katastralgemeinden!$A$2:$B$3041,2,FALSE)),\"Ungültige KG-Nummer!\",VLOOKUP(C1433,Katastralgemeinden!A$2:$B$3041,2,\"falsch\")),\"\")","v":""},null,null,null,null,null,null,null,null,"",0,{"$f":"IF('Anhang Grundstücksverzeichnis'!G1433=Texte!$A$25,F1433,0)","v":0},{"$f":"IF('Anhang Grundstücksverzeichnis'!G1433=Texte!$A$26,F1433,0)","v":0},{"$f":"IF('Anhang Grundstücksverzeichnis'!G1433=Texte!$A$27,F1433,0)","v":0},{"$f":"IF('Anhang Grundstücksverzeichnis'!G1433=Texte!$A$28,F1433,0)","v":0}]
[1424,{"$f":"IF(C1434<>\"\",IF(ISNA(VLOOKUP(C1434,Katastralgemeinden!$A$2:$B$3041,2,FALSE)),\"Ungültige KG-Nummer!\",VLOOKUP(C1434,Katastralgemeinden!A$2:$B$3041,2,\"falsch\")),\"\")","v":""},null,null,null,null,null,null,null,null,"",0,{"$f":"IF('Anhang Grundstücksverzeichnis'!G1434=Texte!$A$25,F1434,0)","v":0},{"$f":"IF('Anhang Grundstücksverzeichnis'!G1434=Texte!$A$26,F1434,0)","v":0},{"$f":"IF('Anhang Grundstücksverzeichnis'!G1434=Texte!$A$27,F1434,0)","v":0},{"$f":"IF('Anhang Grundstücksverzeichnis'!G1434=Texte!$A$28,F1434,0)","v":0}]
[1425,{"$f":"IF(C1435<>\"\",IF(ISNA(VLOOKUP(C1435,Katastralgemeinden!$A$2:$B$3041,2,FALSE)),\"Ungültige KG-Nummer!\",VLOOKUP(C1435,Katastralgemeinden!A$2:$B$3041,2,\"falsch\")),\"\")","v":""},null,null,null,null,null,null,null,null,"",0,{"$f":"IF('Anhang Grundstücksverzeichnis'!G1435=Texte!$A$25,F1435,0)","v":0},{"$f":"IF('Anhang Grundstücksverzeichnis'!G1435=Texte!$A$26,F1435,0)","v":0},{"$f":"IF('Anhang Grundstücksverzeichnis'!G1435=Texte!$A$27,F1435,0)","v":0},{"$f":"IF('Anhang Grundstücksverzeichnis'!G1435=Texte!$A$28,F1435,0)","v":0}]
[1426,{"$f":"IF(C1436<>\"\",IF(ISNA(VLOOKUP(C1436,Katastralgemeinden!$A$2:$B$3041,2,FALSE)),\"Ungültige KG-Nummer!\",VLOOKUP(C1436,Katastralgemeinden!A$2:$B$3041,2,\"falsch\")),\"\")","v":""},null,null,null,null,null,null,null,null,"",0,{"$f":"IF('Anhang Grundstücksverzeichnis'!G1436=Texte!$A$25,F1436,0)","v":0},{"$f":"IF('Anhang Grundstücksverzeichnis'!G1436=Texte!$A$26,F1436,0)","v":0},{"$f":"IF('Anhang Grundstücksverzeichnis'!G1436=Texte!$A$27,F1436,0)","v":0},{"$f":"IF('Anhang Grundstücksverzeichnis'!G1436=Texte!$A$28,F1436,0)","v":0}]
[1427,{"$f":"IF(C1437<>\"\",IF(ISNA(VLOOKUP(C1437,Katastralgemeinden!$A$2:$B$3041,2,FALSE)),\"Ungültige KG-Nummer!\",VLOOKUP(C1437,Katastralgemeinden!A$2:$B$3041,2,\"falsch\")),\"\")","v":""},null,null,null,null,null,null,null,null,"",0,{"$f":"IF('Anhang Grundstücksverzeichnis'!G1437=Texte!$A$25,F1437,0)","v":0},{"$f":"IF('Anhang Grundstücksverzeichnis'!G1437=Texte!$A$26,F1437,0)","v":0},{"$f":"IF('Anhang Grundstücksverzeichnis'!G1437=Texte!$A$27,F1437,0)","v":0},{"$f":"IF('Anhang Grundstücksverzeichnis'!G1437=Texte!$A$28,F1437,0)","v":0}]
[1428,{"$f":"IF(C1438<>\"\",IF(ISNA(VLOOKUP(C1438,Katastralgemeinden!$A$2:$B$3041,2,FALSE)),\"Ungültige KG-Nummer!\",VLOOKUP(C1438,Katastralgemeinden!A$2:$B$3041,2,\"falsch\")),\"\")","v":""},null,null,null,null,null,null,null,null,"",0,{"$f":"IF('Anhang Grundstücksverzeichnis'!G1438=Texte!$A$25,F1438,0)","v":0},{"$f":"IF('Anhang Grundstücksverzeichnis'!G1438=Texte!$A$26,F1438,0)","v":0},{"$f":"IF('Anhang Grundstücksverzeichnis'!G1438=Texte!$A$27,F1438,0)","v":0},{"$f":"IF('Anhang Grundstücksverzeichnis'!G1438=Texte!$A$28,F1438,0)","v":0}]
[1429,{"$f":"IF(C1439<>\"\",IF(ISNA(VLOOKUP(C1439,Katastralgemeinden!$A$2:$B$3041,2,FALSE)),\"Ungültige KG-Nummer!\",VLOOKUP(C1439,Katastralgemeinden!A$2:$B$3041,2,\"falsch\")),\"\")","v":""},null,null,null,null,null,null,null,null,"",0,{"$f":"IF('Anhang Grundstücksverzeichnis'!G1439=Texte!$A$25,F1439,0)","v":0},{"$f":"IF('Anhang Grundstücksverzeichnis'!G1439=Texte!$A$26,F1439,0)","v":0},{"$f":"IF('Anhang Grundstücksverzeichnis'!G1439=Texte!$A$27,F1439,0)","v":0},{"$f":"IF('Anhang Grundstücksverzeichnis'!G1439=Texte!$A$28,F1439,0)","v":0}]
[1430,{"$f":"IF(C1440<>\"\",IF(ISNA(VLOOKUP(C1440,Katastralgemeinden!$A$2:$B$3041,2,FALSE)),\"Ungültige KG-Nummer!\",VLOOKUP(C1440,Katastralgemeinden!A$2:$B$3041,2,\"falsch\")),\"\")","v":""},null,null,null,null,null,null,null,null,"",0,{"$f":"IF('Anhang Grundstücksverzeichnis'!G1440=Texte!$A$25,F1440,0)","v":0},{"$f":"IF('Anhang Grundstücksverzeichnis'!G1440=Texte!$A$26,F1440,0)","v":0},{"$f":"IF('Anhang Grundstücksverzeichnis'!G1440=Texte!$A$27,F1440,0)","v":0},{"$f":"IF('Anhang Grundstücksverzeichnis'!G1440=Texte!$A$28,F1440,0)","v":0}]
[1431,{"$f":"IF(C1441<>\"\",IF(ISNA(VLOOKUP(C1441,Katastralgemeinden!$A$2:$B$3041,2,FALSE)),\"Ungültige KG-Nummer!\",VLOOKUP(C1441,Katastralgemeinden!A$2:$B$3041,2,\"falsch\")),\"\")","v":""},null,null,null,null,null,null,null,null,"",0,{"$f":"IF('Anhang Grundstücksverzeichnis'!G1441=Texte!$A$25,F1441,0)","v":0},{"$f":"IF('Anhang Grundstücksverzeichnis'!G1441=Texte!$A$26,F1441,0)","v":0},{"$f":"IF('Anhang Grundstücksverzeichnis'!G1441=Texte!$A$27,F1441,0)","v":0},{"$f":"IF('Anhang Grundstücksverzeichnis'!G1441=Texte!$A$28,F1441,0)","v":0}]
[1432,{"$f":"IF(C1442<>\"\",IF(ISNA(VLOOKUP(C1442,Katastralgemeinden!$A$2:$B$3041,2,FALSE)),\"Ungültige KG-Nummer!\",VLOOKUP(C1442,Katastralgemeinden!A$2:$B$3041,2,\"falsch\")),\"\")","v":""},null,null,null,null,null,null,null,null,"",0,{"$f":"IF('Anhang Grundstücksverzeichnis'!G1442=Texte!$A$25,F1442,0)","v":0},{"$f":"IF('Anhang Grundstücksverzeichnis'!G1442=Texte!$A$26,F1442,0)","v":0},{"$f":"IF('Anhang Grundstücksverzeichnis'!G1442=Texte!$A$27,F1442,0)","v":0},{"$f":"IF('Anhang Grundstücksverzeichnis'!G1442=Texte!$A$28,F1442,0)","v":0}]
[1433,{"$f":"IF(C1443<>\"\",IF(ISNA(VLOOKUP(C1443,Katastralgemeinden!$A$2:$B$3041,2,FALSE)),\"Ungültige KG-Nummer!\",VLOOKUP(C1443,Katastralgemeinden!A$2:$B$3041,2,\"falsch\")),\"\")","v":""},null,null,null,null,null,null,null,null,"",0,{"$f":"IF('Anhang Grundstücksverzeichnis'!G1443=Texte!$A$25,F1443,0)","v":0},{"$f":"IF('Anhang Grundstücksverzeichnis'!G1443=Texte!$A$26,F1443,0)","v":0},{"$f":"IF('Anhang Grundstücksverzeichnis'!G1443=Texte!$A$27,F1443,0)","v":0},{"$f":"IF('Anhang Grundstücksverzeichnis'!G1443=Texte!$A$28,F1443,0)","v":0}]
[1434,{"$f":"IF(C1444<>\"\",IF(ISNA(VLOOKUP(C1444,Katastralgemeinden!$A$2:$B$3041,2,FALSE)),\"Ungültige KG-Nummer!\",VLOOKUP(C1444,Katastralgemeinden!A$2:$B$3041,2,\"falsch\")),\"\")","v":""},null,null,null,null,null,null,null,null,"",0,{"$f":"IF('Anhang Grundstücksverzeichnis'!G1444=Texte!$A$25,F1444,0)","v":0},{"$f":"IF('Anhang Grundstücksverzeichnis'!G1444=Texte!$A$26,F1444,0)","v":0},{"$f":"IF('Anhang Grundstücksverzeichnis'!G1444=Texte!$A$27,F1444,0)","v":0},{"$f":"IF('Anhang Grundstücksverzeichnis'!G1444=Texte!$A$28,F1444,0)","v":0}]
[1435,{"$f":"IF(C1445<>\"\",IF(ISNA(VLOOKUP(C1445,Katastralgemeinden!$A$2:$B$3041,2,FALSE)),\"Ungültige KG-Nummer!\",VLOOKUP(C1445,Katastralgemeinden!A$2:$B$3041,2,\"falsch\")),\"\")","v":""},null,null,null,null,null,null,null,null,"",0,{"$f":"IF('Anhang Grundstücksverzeichnis'!G1445=Texte!$A$25,F1445,0)","v":0},{"$f":"IF('Anhang Grundstücksverzeichnis'!G1445=Texte!$A$26,F1445,0)","v":0},{"$f":"IF('Anhang Grundstücksverzeichnis'!G1445=Texte!$A$27,F1445,0)","v":0},{"$f":"IF('Anhang Grundstücksverzeichnis'!G1445=Texte!$A$28,F1445,0)","v":0}]
[1436,{"$f":"IF(C1446<>\"\",IF(ISNA(VLOOKUP(C1446,Katastralgemeinden!$A$2:$B$3041,2,FALSE)),\"Ungültige KG-Nummer!\",VLOOKUP(C1446,Katastralgemeinden!A$2:$B$3041,2,\"falsch\")),\"\")","v":""},null,null,null,null,null,null,null,null,"",0,{"$f":"IF('Anhang Grundstücksverzeichnis'!G1446=Texte!$A$25,F1446,0)","v":0},{"$f":"IF('Anhang Grundstücksverzeichnis'!G1446=Texte!$A$26,F1446,0)","v":0},{"$f":"IF('Anhang Grundstücksverzeichnis'!G1446=Texte!$A$27,F1446,0)","v":0},{"$f":"IF('Anhang Grundstücksverzeichnis'!G1446=Texte!$A$28,F1446,0)","v":0}]
[1437,{"$f":"IF(C1447<>\"\",IF(ISNA(VLOOKUP(C1447,Katastralgemeinden!$A$2:$B$3041,2,FALSE)),\"Ungültige KG-Nummer!\",VLOOKUP(C1447,Katastralgemeinden!A$2:$B$3041,2,\"falsch\")),\"\")","v":""},null,null,null,null,null,null,null,null,"",0,{"$f":"IF('Anhang Grundstücksverzeichnis'!G1447=Texte!$A$25,F1447,0)","v":0},{"$f":"IF('Anhang Grundstücksverzeichnis'!G1447=Texte!$A$26,F1447,0)","v":0},{"$f":"IF('Anhang Grundstücksverzeichnis'!G1447=Texte!$A$27,F1447,0)","v":0},{"$f":"IF('Anhang Grundstücksverzeichnis'!G1447=Texte!$A$28,F1447,0)","v":0}]
[1438,{"$f":"IF(C1448<>\"\",IF(ISNA(VLOOKUP(C1448,Katastralgemeinden!$A$2:$B$3041,2,FALSE)),\"Ungültige KG-Nummer!\",VLOOKUP(C1448,Katastralgemeinden!A$2:$B$3041,2,\"falsch\")),\"\")","v":""},null,null,null,null,null,null,null,null,"",0,{"$f":"IF('Anhang Grundstücksverzeichnis'!G1448=Texte!$A$25,F1448,0)","v":0},{"$f":"IF('Anhang Grundstücksverzeichnis'!G1448=Texte!$A$26,F1448,0)","v":0},{"$f":"IF('Anhang Grundstücksverzeichnis'!G1448=Texte!$A$27,F1448,0)","v":0},{"$f":"IF('Anhang Grundstücksverzeichnis'!G1448=Texte!$A$28,F1448,0)","v":0}]
[1439,{"$f":"IF(C1449<>\"\",IF(ISNA(VLOOKUP(C1449,Katastralgemeinden!$A$2:$B$3041,2,FALSE)),\"Ungültige KG-Nummer!\",VLOOKUP(C1449,Katastralgemeinden!A$2:$B$3041,2,\"falsch\")),\"\")","v":""},null,null,null,null,null,null,null,null,"",0,{"$f":"IF('Anhang Grundstücksverzeichnis'!G1449=Texte!$A$25,F1449,0)","v":0},{"$f":"IF('Anhang Grundstücksverzeichnis'!G1449=Texte!$A$26,F1449,0)","v":0},{"$f":"IF('Anhang Grundstücksverzeichnis'!G1449=Texte!$A$27,F1449,0)","v":0},{"$f":"IF('Anhang Grundstücksverzeichnis'!G1449=Texte!$A$28,F1449,0)","v":0}]
[1440,{"$f":"IF(C1450<>\"\",IF(ISNA(VLOOKUP(C1450,Katastralgemeinden!$A$2:$B$3041,2,FALSE)),\"Ungültige KG-Nummer!\",VLOOKUP(C1450,Katastralgemeinden!A$2:$B$3041,2,\"falsch\")),\"\")","v":""},null,null,null,null,null,null,null,null,"",0,{"$f":"IF('Anhang Grundstücksverzeichnis'!G1450=Texte!$A$25,F1450,0)","v":0},{"$f":"IF('Anhang Grundstücksverzeichnis'!G1450=Texte!$A$26,F1450,0)","v":0},{"$f":"IF('Anhang Grundstücksverzeichnis'!G1450=Texte!$A$27,F1450,0)","v":0},{"$f":"IF('Anhang Grundstücksverzeichnis'!G1450=Texte!$A$28,F1450,0)","v":0}]
[1441,{"$f":"IF(C1451<>\"\",IF(ISNA(VLOOKUP(C1451,Katastralgemeinden!$A$2:$B$3041,2,FALSE)),\"Ungültige KG-Nummer!\",VLOOKUP(C1451,Katastralgemeinden!A$2:$B$3041,2,\"falsch\")),\"\")","v":""},null,null,null,null,null,null,null,null,"",0,{"$f":"IF('Anhang Grundstücksverzeichnis'!G1451=Texte!$A$25,F1451,0)","v":0},{"$f":"IF('Anhang Grundstücksverzeichnis'!G1451=Texte!$A$26,F1451,0)","v":0},{"$f":"IF('Anhang Grundstücksverzeichnis'!G1451=Texte!$A$27,F1451,0)","v":0},{"$f":"IF('Anhang Grundstücksverzeichnis'!G1451=Texte!$A$28,F1451,0)","v":0}]
[1442,{"$f":"IF(C1452<>\"\",IF(ISNA(VLOOKUP(C1452,Katastralgemeinden!$A$2:$B$3041,2,FALSE)),\"Ungültige KG-Nummer!\",VLOOKUP(C1452,Katastralgemeinden!A$2:$B$3041,2,\"falsch\")),\"\")","v":""},null,null,null,null,null,null,null,null,"",0,{"$f":"IF('Anhang Grundstücksverzeichnis'!G1452=Texte!$A$25,F1452,0)","v":0},{"$f":"IF('Anhang Grundstücksverzeichnis'!G1452=Texte!$A$26,F1452,0)","v":0},{"$f":"IF('Anhang Grundstücksverzeichnis'!G1452=Texte!$A$27,F1452,0)","v":0},{"$f":"IF('Anhang Grundstücksverzeichnis'!G1452=Texte!$A$28,F1452,0)","v":0}]
[1443,{"$f":"IF(C1453<>\"\",IF(ISNA(VLOOKUP(C1453,Katastralgemeinden!$A$2:$B$3041,2,FALSE)),\"Ungültige KG-Nummer!\",VLOOKUP(C1453,Katastralgemeinden!A$2:$B$3041,2,\"falsch\")),\"\")","v":""},null,null,null,null,null,null,null,null,"",0,{"$f":"IF('Anhang Grundstücksverzeichnis'!G1453=Texte!$A$25,F1453,0)","v":0},{"$f":"IF('Anhang Grundstücksverzeichnis'!G1453=Texte!$A$26,F1453,0)","v":0},{"$f":"IF('Anhang Grundstücksverzeichnis'!G1453=Texte!$A$27,F1453,0)","v":0},{"$f":"IF('Anhang Grundstücksverzeichnis'!G1453=Texte!$A$28,F1453,0)","v":0}]
[1444,{"$f":"IF(C1454<>\"\",IF(ISNA(VLOOKUP(C1454,Katastralgemeinden!$A$2:$B$3041,2,FALSE)),\"Ungültige KG-Nummer!\",VLOOKUP(C1454,Katastralgemeinden!A$2:$B$3041,2,\"falsch\")),\"\")","v":""},null,null,null,null,null,null,null,null,"",0,{"$f":"IF('Anhang Grundstücksverzeichnis'!G1454=Texte!$A$25,F1454,0)","v":0},{"$f":"IF('Anhang Grundstücksverzeichnis'!G1454=Texte!$A$26,F1454,0)","v":0},{"$f":"IF('Anhang Grundstücksverzeichnis'!G1454=Texte!$A$27,F1454,0)","v":0},{"$f":"IF('Anhang Grundstücksverzeichnis'!G1454=Texte!$A$28,F1454,0)","v":0}]
[1445,{"$f":"IF(C1455<>\"\",IF(ISNA(VLOOKUP(C1455,Katastralgemeinden!$A$2:$B$3041,2,FALSE)),\"Ungültige KG-Nummer!\",VLOOKUP(C1455,Katastralgemeinden!A$2:$B$3041,2,\"falsch\")),\"\")","v":""},null,null,null,null,null,null,null,null,"",0,{"$f":"IF('Anhang Grundstücksverzeichnis'!G1455=Texte!$A$25,F1455,0)","v":0},{"$f":"IF('Anhang Grundstücksverzeichnis'!G1455=Texte!$A$26,F1455,0)","v":0},{"$f":"IF('Anhang Grundstücksverzeichnis'!G1455=Texte!$A$27,F1455,0)","v":0},{"$f":"IF('Anhang Grundstücksverzeichnis'!G1455=Texte!$A$28,F1455,0)","v":0}]
[1446,{"$f":"IF(C1456<>\"\",IF(ISNA(VLOOKUP(C1456,Katastralgemeinden!$A$2:$B$3041,2,FALSE)),\"Ungültige KG-Nummer!\",VLOOKUP(C1456,Katastralgemeinden!A$2:$B$3041,2,\"falsch\")),\"\")","v":""},null,null,null,null,null,null,null,null,"",0,{"$f":"IF('Anhang Grundstücksverzeichnis'!G1456=Texte!$A$25,F1456,0)","v":0},{"$f":"IF('Anhang Grundstücksverzeichnis'!G1456=Texte!$A$26,F1456,0)","v":0},{"$f":"IF('Anhang Grundstücksverzeichnis'!G1456=Texte!$A$27,F1456,0)","v":0},{"$f":"IF('Anhang Grundstücksverzeichnis'!G1456=Texte!$A$28,F1456,0)","v":0}]
[1447,{"$f":"IF(C1457<>\"\",IF(ISNA(VLOOKUP(C1457,Katastralgemeinden!$A$2:$B$3041,2,FALSE)),\"Ungültige KG-Nummer!\",VLOOKUP(C1457,Katastralgemeinden!A$2:$B$3041,2,\"falsch\")),\"\")","v":""},null,null,null,null,null,null,null,null,"",0,{"$f":"IF('Anhang Grundstücksverzeichnis'!G1457=Texte!$A$25,F1457,0)","v":0},{"$f":"IF('Anhang Grundstücksverzeichnis'!G1457=Texte!$A$26,F1457,0)","v":0},{"$f":"IF('Anhang Grundstücksverzeichnis'!G1457=Texte!$A$27,F1457,0)","v":0},{"$f":"IF('Anhang Grundstücksverzeichnis'!G1457=Texte!$A$28,F1457,0)","v":0}]
[1448,{"$f":"IF(C1458<>\"\",IF(ISNA(VLOOKUP(C1458,Katastralgemeinden!$A$2:$B$3041,2,FALSE)),\"Ungültige KG-Nummer!\",VLOOKUP(C1458,Katastralgemeinden!A$2:$B$3041,2,\"falsch\")),\"\")","v":""},null,null,null,null,null,null,null,null,"",0,{"$f":"IF('Anhang Grundstücksverzeichnis'!G1458=Texte!$A$25,F1458,0)","v":0},{"$f":"IF('Anhang Grundstücksverzeichnis'!G1458=Texte!$A$26,F1458,0)","v":0},{"$f":"IF('Anhang Grundstücksverzeichnis'!G1458=Texte!$A$27,F1458,0)","v":0},{"$f":"IF('Anhang Grundstücksverzeichnis'!G1458=Texte!$A$28,F1458,0)","v":0}]
[1449,{"$f":"IF(C1459<>\"\",IF(ISNA(VLOOKUP(C1459,Katastralgemeinden!$A$2:$B$3041,2,FALSE)),\"Ungültige KG-Nummer!\",VLOOKUP(C1459,Katastralgemeinden!A$2:$B$3041,2,\"falsch\")),\"\")","v":""},null,null,null,null,null,null,null,null,"",0,{"$f":"IF('Anhang Grundstücksverzeichnis'!G1459=Texte!$A$25,F1459,0)","v":0},{"$f":"IF('Anhang Grundstücksverzeichnis'!G1459=Texte!$A$26,F1459,0)","v":0},{"$f":"IF('Anhang Grundstücksverzeichnis'!G1459=Texte!$A$27,F1459,0)","v":0},{"$f":"IF('Anhang Grundstücksverzeichnis'!G1459=Texte!$A$28,F1459,0)","v":0}]
[1450,{"$f":"IF(C1460<>\"\",IF(ISNA(VLOOKUP(C1460,Katastralgemeinden!$A$2:$B$3041,2,FALSE)),\"Ungültige KG-Nummer!\",VLOOKUP(C1460,Katastralgemeinden!A$2:$B$3041,2,\"falsch\")),\"\")","v":""},null,null,null,null,null,null,null,null,"",0,{"$f":"IF('Anhang Grundstücksverzeichnis'!G1460=Texte!$A$25,F1460,0)","v":0},{"$f":"IF('Anhang Grundstücksverzeichnis'!G1460=Texte!$A$26,F1460,0)","v":0},{"$f":"IF('Anhang Grundstücksverzeichnis'!G1460=Texte!$A$27,F1460,0)","v":0},{"$f":"IF('Anhang Grundstücksverzeichnis'!G1460=Texte!$A$28,F1460,0)","v":0}]
[1451,{"$f":"IF(C1461<>\"\",IF(ISNA(VLOOKUP(C1461,Katastralgemeinden!$A$2:$B$3041,2,FALSE)),\"Ungültige KG-Nummer!\",VLOOKUP(C1461,Katastralgemeinden!A$2:$B$3041,2,\"falsch\")),\"\")","v":""},null,null,null,null,null,null,null,null,"",0,{"$f":"IF('Anhang Grundstücksverzeichnis'!G1461=Texte!$A$25,F1461,0)","v":0},{"$f":"IF('Anhang Grundstücksverzeichnis'!G1461=Texte!$A$26,F1461,0)","v":0},{"$f":"IF('Anhang Grundstücksverzeichnis'!G1461=Texte!$A$27,F1461,0)","v":0},{"$f":"IF('Anhang Grundstücksverzeichnis'!G1461=Texte!$A$28,F1461,0)","v":0}]
[1452,{"$f":"IF(C1462<>\"\",IF(ISNA(VLOOKUP(C1462,Katastralgemeinden!$A$2:$B$3041,2,FALSE)),\"Ungültige KG-Nummer!\",VLOOKUP(C1462,Katastralgemeinden!A$2:$B$3041,2,\"falsch\")),\"\")","v":""},null,null,null,null,null,null,null,null,"",0,{"$f":"IF('Anhang Grundstücksverzeichnis'!G1462=Texte!$A$25,F1462,0)","v":0},{"$f":"IF('Anhang Grundstücksverzeichnis'!G1462=Texte!$A$26,F1462,0)","v":0},{"$f":"IF('Anhang Grundstücksverzeichnis'!G1462=Texte!$A$27,F1462,0)","v":0},{"$f":"IF('Anhang Grundstücksverzeichnis'!G1462=Texte!$A$28,F1462,0)","v":0}]
[1453,{"$f":"IF(C1463<>\"\",IF(ISNA(VLOOKUP(C1463,Katastralgemeinden!$A$2:$B$3041,2,FALSE)),\"Ungültige KG-Nummer!\",VLOOKUP(C1463,Katastralgemeinden!A$2:$B$3041,2,\"falsch\")),\"\")","v":""},null,null,null,null,null,null,null,null,"",0,{"$f":"IF('Anhang Grundstücksverzeichnis'!G1463=Texte!$A$25,F1463,0)","v":0},{"$f":"IF('Anhang Grundstücksverzeichnis'!G1463=Texte!$A$26,F1463,0)","v":0},{"$f":"IF('Anhang Grundstücksverzeichnis'!G1463=Texte!$A$27,F1463,0)","v":0},{"$f":"IF('Anhang Grundstücksverzeichnis'!G1463=Texte!$A$28,F1463,0)","v":0}]
[1454,{"$f":"IF(C1464<>\"\",IF(ISNA(VLOOKUP(C1464,Katastralgemeinden!$A$2:$B$3041,2,FALSE)),\"Ungültige KG-Nummer!\",VLOOKUP(C1464,Katastralgemeinden!A$2:$B$3041,2,\"falsch\")),\"\")","v":""},null,null,null,null,null,null,null,null,"",0,{"$f":"IF('Anhang Grundstücksverzeichnis'!G1464=Texte!$A$25,F1464,0)","v":0},{"$f":"IF('Anhang Grundstücksverzeichnis'!G1464=Texte!$A$26,F1464,0)","v":0},{"$f":"IF('Anhang Grundstücksverzeichnis'!G1464=Texte!$A$27,F1464,0)","v":0},{"$f":"IF('Anhang Grundstücksverzeichnis'!G1464=Texte!$A$28,F1464,0)","v":0}]
[1455,{"$f":"IF(C1465<>\"\",IF(ISNA(VLOOKUP(C1465,Katastralgemeinden!$A$2:$B$3041,2,FALSE)),\"Ungültige KG-Nummer!\",VLOOKUP(C1465,Katastralgemeinden!A$2:$B$3041,2,\"falsch\")),\"\")","v":""},null,null,null,null,null,null,null,null,"",0,{"$f":"IF('Anhang Grundstücksverzeichnis'!G1465=Texte!$A$25,F1465,0)","v":0},{"$f":"IF('Anhang Grundstücksverzeichnis'!G1465=Texte!$A$26,F1465,0)","v":0},{"$f":"IF('Anhang Grundstücksverzeichnis'!G1465=Texte!$A$27,F1465,0)","v":0},{"$f":"IF('Anhang Grundstücksverzeichnis'!G1465=Texte!$A$28,F1465,0)","v":0}]
[1456,{"$f":"IF(C1466<>\"\",IF(ISNA(VLOOKUP(C1466,Katastralgemeinden!$A$2:$B$3041,2,FALSE)),\"Ungültige KG-Nummer!\",VLOOKUP(C1466,Katastralgemeinden!A$2:$B$3041,2,\"falsch\")),\"\")","v":""},null,null,null,null,null,null,null,null,"",0,{"$f":"IF('Anhang Grundstücksverzeichnis'!G1466=Texte!$A$25,F1466,0)","v":0},{"$f":"IF('Anhang Grundstücksverzeichnis'!G1466=Texte!$A$26,F1466,0)","v":0},{"$f":"IF('Anhang Grundstücksverzeichnis'!G1466=Texte!$A$27,F1466,0)","v":0},{"$f":"IF('Anhang Grundstücksverzeichnis'!G1466=Texte!$A$28,F1466,0)","v":0}]
[1457,{"$f":"IF(C1467<>\"\",IF(ISNA(VLOOKUP(C1467,Katastralgemeinden!$A$2:$B$3041,2,FALSE)),\"Ungültige KG-Nummer!\",VLOOKUP(C1467,Katastralgemeinden!A$2:$B$3041,2,\"falsch\")),\"\")","v":""},null,null,null,null,null,null,null,null,"",0,{"$f":"IF('Anhang Grundstücksverzeichnis'!G1467=Texte!$A$25,F1467,0)","v":0},{"$f":"IF('Anhang Grundstücksverzeichnis'!G1467=Texte!$A$26,F1467,0)","v":0},{"$f":"IF('Anhang Grundstücksverzeichnis'!G1467=Texte!$A$27,F1467,0)","v":0},{"$f":"IF('Anhang Grundstücksverzeichnis'!G1467=Texte!$A$28,F1467,0)","v":0}]
[1458,{"$f":"IF(C1468<>\"\",IF(ISNA(VLOOKUP(C1468,Katastralgemeinden!$A$2:$B$3041,2,FALSE)),\"Ungültige KG-Nummer!\",VLOOKUP(C1468,Katastralgemeinden!A$2:$B$3041,2,\"falsch\")),\"\")","v":""},null,null,null,null,null,null,null,null,"",0,{"$f":"IF('Anhang Grundstücksverzeichnis'!G1468=Texte!$A$25,F1468,0)","v":0},{"$f":"IF('Anhang Grundstücksverzeichnis'!G1468=Texte!$A$26,F1468,0)","v":0},{"$f":"IF('Anhang Grundstücksverzeichnis'!G1468=Texte!$A$27,F1468,0)","v":0},{"$f":"IF('Anhang Grundstücksverzeichnis'!G1468=Texte!$A$28,F1468,0)","v":0}]
[1459,{"$f":"IF(C1469<>\"\",IF(ISNA(VLOOKUP(C1469,Katastralgemeinden!$A$2:$B$3041,2,FALSE)),\"Ungültige KG-Nummer!\",VLOOKUP(C1469,Katastralgemeinden!A$2:$B$3041,2,\"falsch\")),\"\")","v":""},null,null,null,null,null,null,null,null,"",0,{"$f":"IF('Anhang Grundstücksverzeichnis'!G1469=Texte!$A$25,F1469,0)","v":0},{"$f":"IF('Anhang Grundstücksverzeichnis'!G1469=Texte!$A$26,F1469,0)","v":0},{"$f":"IF('Anhang Grundstücksverzeichnis'!G1469=Texte!$A$27,F1469,0)","v":0},{"$f":"IF('Anhang Grundstücksverzeichnis'!G1469=Texte!$A$28,F1469,0)","v":0}]
[1460,{"$f":"IF(C1470<>\"\",IF(ISNA(VLOOKUP(C1470,Katastralgemeinden!$A$2:$B$3041,2,FALSE)),\"Ungültige KG-Nummer!\",VLOOKUP(C1470,Katastralgemeinden!A$2:$B$3041,2,\"falsch\")),\"\")","v":""},null,null,null,null,null,null,null,null,"",0,{"$f":"IF('Anhang Grundstücksverzeichnis'!G1470=Texte!$A$25,F1470,0)","v":0},{"$f":"IF('Anhang Grundstücksverzeichnis'!G1470=Texte!$A$26,F1470,0)","v":0},{"$f":"IF('Anhang Grundstücksverzeichnis'!G1470=Texte!$A$27,F1470,0)","v":0},{"$f":"IF('Anhang Grundstücksverzeichnis'!G1470=Texte!$A$28,F1470,0)","v":0}]
[1461,{"$f":"IF(C1471<>\"\",IF(ISNA(VLOOKUP(C1471,Katastralgemeinden!$A$2:$B$3041,2,FALSE)),\"Ungültige KG-Nummer!\",VLOOKUP(C1471,Katastralgemeinden!A$2:$B$3041,2,\"falsch\")),\"\")","v":""},null,null,null,null,null,null,null,null,"",0,{"$f":"IF('Anhang Grundstücksverzeichnis'!G1471=Texte!$A$25,F1471,0)","v":0},{"$f":"IF('Anhang Grundstücksverzeichnis'!G1471=Texte!$A$26,F1471,0)","v":0},{"$f":"IF('Anhang Grundstücksverzeichnis'!G1471=Texte!$A$27,F1471,0)","v":0},{"$f":"IF('Anhang Grundstücksverzeichnis'!G1471=Texte!$A$28,F1471,0)","v":0}]
[1462,{"$f":"IF(C1472<>\"\",IF(ISNA(VLOOKUP(C1472,Katastralgemeinden!$A$2:$B$3041,2,FALSE)),\"Ungültige KG-Nummer!\",VLOOKUP(C1472,Katastralgemeinden!A$2:$B$3041,2,\"falsch\")),\"\")","v":""},null,null,null,null,null,null,null,null,"",0,{"$f":"IF('Anhang Grundstücksverzeichnis'!G1472=Texte!$A$25,F1472,0)","v":0},{"$f":"IF('Anhang Grundstücksverzeichnis'!G1472=Texte!$A$26,F1472,0)","v":0},{"$f":"IF('Anhang Grundstücksverzeichnis'!G1472=Texte!$A$27,F1472,0)","v":0},{"$f":"IF('Anhang Grundstücksverzeichnis'!G1472=Texte!$A$28,F1472,0)","v":0}]
[1463,{"$f":"IF(C1473<>\"\",IF(ISNA(VLOOKUP(C1473,Katastralgemeinden!$A$2:$B$3041,2,FALSE)),\"Ungültige KG-Nummer!\",VLOOKUP(C1473,Katastralgemeinden!A$2:$B$3041,2,\"falsch\")),\"\")","v":""},null,null,null,null,null,null,null,null,"",0,{"$f":"IF('Anhang Grundstücksverzeichnis'!G1473=Texte!$A$25,F1473,0)","v":0},{"$f":"IF('Anhang Grundstücksverzeichnis'!G1473=Texte!$A$26,F1473,0)","v":0},{"$f":"IF('Anhang Grundstücksverzeichnis'!G1473=Texte!$A$27,F1473,0)","v":0},{"$f":"IF('Anhang Grundstücksverzeichnis'!G1473=Texte!$A$28,F1473,0)","v":0}]
[1464,{"$f":"IF(C1474<>\"\",IF(ISNA(VLOOKUP(C1474,Katastralgemeinden!$A$2:$B$3041,2,FALSE)),\"Ungültige KG-Nummer!\",VLOOKUP(C1474,Katastralgemeinden!A$2:$B$3041,2,\"falsch\")),\"\")","v":""},null,null,null,null,null,null,null,null,"",0,{"$f":"IF('Anhang Grundstücksverzeichnis'!G1474=Texte!$A$25,F1474,0)","v":0},{"$f":"IF('Anhang Grundstücksverzeichnis'!G1474=Texte!$A$26,F1474,0)","v":0},{"$f":"IF('Anhang Grundstücksverzeichnis'!G1474=Texte!$A$27,F1474,0)","v":0},{"$f":"IF('Anhang Grundstücksverzeichnis'!G1474=Texte!$A$28,F1474,0)","v":0}]
[1465,{"$f":"IF(C1475<>\"\",IF(ISNA(VLOOKUP(C1475,Katastralgemeinden!$A$2:$B$3041,2,FALSE)),\"Ungültige KG-Nummer!\",VLOOKUP(C1475,Katastralgemeinden!A$2:$B$3041,2,\"falsch\")),\"\")","v":""},null,null,null,null,null,null,null,null,"",0,{"$f":"IF('Anhang Grundstücksverzeichnis'!G1475=Texte!$A$25,F1475,0)","v":0},{"$f":"IF('Anhang Grundstücksverzeichnis'!G1475=Texte!$A$26,F1475,0)","v":0},{"$f":"IF('Anhang Grundstücksverzeichnis'!G1475=Texte!$A$27,F1475,0)","v":0},{"$f":"IF('Anhang Grundstücksverzeichnis'!G1475=Texte!$A$28,F1475,0)","v":0}]
[1466,{"$f":"IF(C1476<>\"\",IF(ISNA(VLOOKUP(C1476,Katastralgemeinden!$A$2:$B$3041,2,FALSE)),\"Ungültige KG-Nummer!\",VLOOKUP(C1476,Katastralgemeinden!A$2:$B$3041,2,\"falsch\")),\"\")","v":""},null,null,null,null,null,null,null,null,"",0,{"$f":"IF('Anhang Grundstücksverzeichnis'!G1476=Texte!$A$25,F1476,0)","v":0},{"$f":"IF('Anhang Grundstücksverzeichnis'!G1476=Texte!$A$26,F1476,0)","v":0},{"$f":"IF('Anhang Grundstücksverzeichnis'!G1476=Texte!$A$27,F1476,0)","v":0},{"$f":"IF('Anhang Grundstücksverzeichnis'!G1476=Texte!$A$28,F1476,0)","v":0}]
[1467,{"$f":"IF(C1477<>\"\",IF(ISNA(VLOOKUP(C1477,Katastralgemeinden!$A$2:$B$3041,2,FALSE)),\"Ungültige KG-Nummer!\",VLOOKUP(C1477,Katastralgemeinden!A$2:$B$3041,2,\"falsch\")),\"\")","v":""},null,null,null,null,null,null,null,null,"",0,{"$f":"IF('Anhang Grundstücksverzeichnis'!G1477=Texte!$A$25,F1477,0)","v":0},{"$f":"IF('Anhang Grundstücksverzeichnis'!G1477=Texte!$A$26,F1477,0)","v":0},{"$f":"IF('Anhang Grundstücksverzeichnis'!G1477=Texte!$A$27,F1477,0)","v":0},{"$f":"IF('Anhang Grundstücksverzeichnis'!G1477=Texte!$A$28,F1477,0)","v":0}]
[1468,{"$f":"IF(C1478<>\"\",IF(ISNA(VLOOKUP(C1478,Katastralgemeinden!$A$2:$B$3041,2,FALSE)),\"Ungültige KG-Nummer!\",VLOOKUP(C1478,Katastralgemeinden!A$2:$B$3041,2,\"falsch\")),\"\")","v":""},null,null,null,null,null,null,null,null,"",0,{"$f":"IF('Anhang Grundstücksverzeichnis'!G1478=Texte!$A$25,F1478,0)","v":0},{"$f":"IF('Anhang Grundstücksverzeichnis'!G1478=Texte!$A$26,F1478,0)","v":0},{"$f":"IF('Anhang Grundstücksverzeichnis'!G1478=Texte!$A$27,F1478,0)","v":0},{"$f":"IF('Anhang Grundstücksverzeichnis'!G1478=Texte!$A$28,F1478,0)","v":0}]
[1469,{"$f":"IF(C1479<>\"\",IF(ISNA(VLOOKUP(C1479,Katastralgemeinden!$A$2:$B$3041,2,FALSE)),\"Ungültige KG-Nummer!\",VLOOKUP(C1479,Katastralgemeinden!A$2:$B$3041,2,\"falsch\")),\"\")","v":""},null,null,null,null,null,null,null,null,"",0,{"$f":"IF('Anhang Grundstücksverzeichnis'!G1479=Texte!$A$25,F1479,0)","v":0},{"$f":"IF('Anhang Grundstücksverzeichnis'!G1479=Texte!$A$26,F1479,0)","v":0},{"$f":"IF('Anhang Grundstücksverzeichnis'!G1479=Texte!$A$27,F1479,0)","v":0},{"$f":"IF('Anhang Grundstücksverzeichnis'!G1479=Texte!$A$28,F1479,0)","v":0}]
[1470,{"$f":"IF(C1480<>\"\",IF(ISNA(VLOOKUP(C1480,Katastralgemeinden!$A$2:$B$3041,2,FALSE)),\"Ungültige KG-Nummer!\",VLOOKUP(C1480,Katastralgemeinden!A$2:$B$3041,2,\"falsch\")),\"\")","v":""},null,null,null,null,null,null,null,null,"",0,{"$f":"IF('Anhang Grundstücksverzeichnis'!G1480=Texte!$A$25,F1480,0)","v":0},{"$f":"IF('Anhang Grundstücksverzeichnis'!G1480=Texte!$A$26,F1480,0)","v":0},{"$f":"IF('Anhang Grundstücksverzeichnis'!G1480=Texte!$A$27,F1480,0)","v":0},{"$f":"IF('Anhang Grundstücksverzeichnis'!G1480=Texte!$A$28,F1480,0)","v":0}]
[1471,{"$f":"IF(C1481<>\"\",IF(ISNA(VLOOKUP(C1481,Katastralgemeinden!$A$2:$B$3041,2,FALSE)),\"Ungültige KG-Nummer!\",VLOOKUP(C1481,Katastralgemeinden!A$2:$B$3041,2,\"falsch\")),\"\")","v":""},null,null,null,null,null,null,null,null,"",0,{"$f":"IF('Anhang Grundstücksverzeichnis'!G1481=Texte!$A$25,F1481,0)","v":0},{"$f":"IF('Anhang Grundstücksverzeichnis'!G1481=Texte!$A$26,F1481,0)","v":0},{"$f":"IF('Anhang Grundstücksverzeichnis'!G1481=Texte!$A$27,F1481,0)","v":0},{"$f":"IF('Anhang Grundstücksverzeichnis'!G1481=Texte!$A$28,F1481,0)","v":0}]
[1472,{"$f":"IF(C1482<>\"\",IF(ISNA(VLOOKUP(C1482,Katastralgemeinden!$A$2:$B$3041,2,FALSE)),\"Ungültige KG-Nummer!\",VLOOKUP(C1482,Katastralgemeinden!A$2:$B$3041,2,\"falsch\")),\"\")","v":""},null,null,null,null,null,null,null,null,"",0,{"$f":"IF('Anhang Grundstücksverzeichnis'!G1482=Texte!$A$25,F1482,0)","v":0},{"$f":"IF('Anhang Grundstücksverzeichnis'!G1482=Texte!$A$26,F1482,0)","v":0},{"$f":"IF('Anhang Grundstücksverzeichnis'!G1482=Texte!$A$27,F1482,0)","v":0},{"$f":"IF('Anhang Grundstücksverzeichnis'!G1482=Texte!$A$28,F1482,0)","v":0}]
[1473,{"$f":"IF(C1483<>\"\",IF(ISNA(VLOOKUP(C1483,Katastralgemeinden!$A$2:$B$3041,2,FALSE)),\"Ungültige KG-Nummer!\",VLOOKUP(C1483,Katastralgemeinden!A$2:$B$3041,2,\"falsch\")),\"\")","v":""},null,null,null,null,null,null,null,null,"",0,{"$f":"IF('Anhang Grundstücksverzeichnis'!G1483=Texte!$A$25,F1483,0)","v":0},{"$f":"IF('Anhang Grundstücksverzeichnis'!G1483=Texte!$A$26,F1483,0)","v":0},{"$f":"IF('Anhang Grundstücksverzeichnis'!G1483=Texte!$A$27,F1483,0)","v":0},{"$f":"IF('Anhang Grundstücksverzeichnis'!G1483=Texte!$A$28,F1483,0)","v":0}]
[1474,{"$f":"IF(C1484<>\"\",IF(ISNA(VLOOKUP(C1484,Katastralgemeinden!$A$2:$B$3041,2,FALSE)),\"Ungültige KG-Nummer!\",VLOOKUP(C1484,Katastralgemeinden!A$2:$B$3041,2,\"falsch\")),\"\")","v":""},null,null,null,null,null,null,null,null,{"$f":"IF(G1484<>\"\",IF(G1484=\"Eigengrundfläche\",0,IF(G1484=\"Vorpachtfläche\",1,IF(G1484=\"Abrundung +\",3,IF(G1484=\"Abrundung -\",4,5)))),\"\")","v":""},{"$f":"IF(OR(LOWER(H1484)=\"x\",LOWER(H1484)=\"j\"),1,0)","v":0},{"$f":"IF('Anhang Grundstücksverzeichnis'!G1484=Texte!$A$25,F1484,0)","v":0},{"$f":"IF('Anhang Grundstücksverzeichnis'!G1484=Texte!$A$26,F1484,0)","v":0},{"$f":"IF('Anhang Grundstücksverzeichnis'!G1484=Texte!$A$27,F1484,0)","v":0},{"$f":"IF('Anhang Grundstücksverzeichnis'!G1484=Texte!$A$28,F1484,0)","v":0}]
[1475,{"$f":"IF(C1485<>\"\",IF(ISNA(VLOOKUP(C1485,Katastralgemeinden!$A$2:$B$3041,2,FALSE)),\"Ungültige KG-Nummer!\",VLOOKUP(C1485,Katastralgemeinden!A$2:$B$3041,2,\"falsch\")),\"\")","v":""},null,null,null,null,null,null,null,null,"",0,{"$f":"IF('Anhang Grundstücksverzeichnis'!G1485=Texte!$A$25,F1485,0)","v":0},{"$f":"IF('Anhang Grundstücksverzeichnis'!G1485=Texte!$A$26,F1485,0)","v":0},{"$f":"IF('Anhang Grundstücksverzeichnis'!G1485=Texte!$A$27,F1485,0)","v":0},{"$f":"IF('Anhang Grundstücksverzeichnis'!G1485=Texte!$A$28,F1485,0)","v":0}]
[1476,{"$f":"IF(C1486<>\"\",IF(ISNA(VLOOKUP(C1486,Katastralgemeinden!$A$2:$B$3041,2,FALSE)),\"Ungültige KG-Nummer!\",VLOOKUP(C1486,Katastralgemeinden!A$2:$B$3041,2,\"falsch\")),\"\")","v":""},null,null,null,null,null,null,null,null,"",0,{"$f":"IF('Anhang Grundstücksverzeichnis'!G1486=Texte!$A$25,F1486,0)","v":0},{"$f":"IF('Anhang Grundstücksverzeichnis'!G1486=Texte!$A$26,F1486,0)","v":0},{"$f":"IF('Anhang Grundstücksverzeichnis'!G1486=Texte!$A$27,F1486,0)","v":0},{"$f":"IF('Anhang Grundstücksverzeichnis'!G1486=Texte!$A$28,F1486,0)","v":0}]
[1477,{"$f":"IF(C1487<>\"\",IF(ISNA(VLOOKUP(C1487,Katastralgemeinden!$A$2:$B$3041,2,FALSE)),\"Ungültige KG-Nummer!\",VLOOKUP(C1487,Katastralgemeinden!A$2:$B$3041,2,\"falsch\")),\"\")","v":""},null,null,null,null,null,null,null,null,"",0,{"$f":"IF('Anhang Grundstücksverzeichnis'!G1487=Texte!$A$25,F1487,0)","v":0},{"$f":"IF('Anhang Grundstücksverzeichnis'!G1487=Texte!$A$26,F1487,0)","v":0},{"$f":"IF('Anhang Grundstücksverzeichnis'!G1487=Texte!$A$27,F1487,0)","v":0},{"$f":"IF('Anhang Grundstücksverzeichnis'!G1487=Texte!$A$28,F1487,0)","v":0}]
[1478,{"$f":"IF(C1488<>\"\",IF(ISNA(VLOOKUP(C1488,Katastralgemeinden!$A$2:$B$3041,2,FALSE)),\"Ungültige KG-Nummer!\",VLOOKUP(C1488,Katastralgemeinden!A$2:$B$3041,2,\"falsch\")),\"\")","v":""},null,null,null,null,null,null,null,null,"",0,{"$f":"IF('Anhang Grundstücksverzeichnis'!G1488=Texte!$A$25,F1488,0)","v":0},{"$f":"IF('Anhang Grundstücksverzeichnis'!G1488=Texte!$A$26,F1488,0)","v":0},{"$f":"IF('Anhang Grundstücksverzeichnis'!G1488=Texte!$A$27,F1488,0)","v":0},{"$f":"IF('Anhang Grundstücksverzeichnis'!G1488=Texte!$A$28,F1488,0)","v":0}]
[1479,{"$f":"IF(C1489<>\"\",IF(ISNA(VLOOKUP(C1489,Katastralgemeinden!$A$2:$B$3041,2,FALSE)),\"Ungültige KG-Nummer!\",VLOOKUP(C1489,Katastralgemeinden!A$2:$B$3041,2,\"falsch\")),\"\")","v":""},null,null,null,null,null,null,null,null,"",0,{"$f":"IF('Anhang Grundstücksverzeichnis'!G1489=Texte!$A$25,F1489,0)","v":0},{"$f":"IF('Anhang Grundstücksverzeichnis'!G1489=Texte!$A$26,F1489,0)","v":0},{"$f":"IF('Anhang Grundstücksverzeichnis'!G1489=Texte!$A$27,F1489,0)","v":0},{"$f":"IF('Anhang Grundstücksverzeichnis'!G1489=Texte!$A$28,F1489,0)","v":0}]
[1480,{"$f":"IF(C1490<>\"\",IF(ISNA(VLOOKUP(C1490,Katastralgemeinden!$A$2:$B$3041,2,FALSE)),\"Ungültige KG-Nummer!\",VLOOKUP(C1490,Katastralgemeinden!A$2:$B$3041,2,\"falsch\")),\"\")","v":""},null,null,null,null,null,null,null,null,"",0,{"$f":"IF('Anhang Grundstücksverzeichnis'!G1490=Texte!$A$25,F1490,0)","v":0},{"$f":"IF('Anhang Grundstücksverzeichnis'!G1490=Texte!$A$26,F1490,0)","v":0},{"$f":"IF('Anhang Grundstücksverzeichnis'!G1490=Texte!$A$27,F1490,0)","v":0},{"$f":"IF('Anhang Grundstücksverzeichnis'!G1490=Texte!$A$28,F1490,0)","v":0}]
[1481,{"$f":"IF(C1491<>\"\",IF(ISNA(VLOOKUP(C1491,Katastralgemeinden!$A$2:$B$3041,2,FALSE)),\"Ungültige KG-Nummer!\",VLOOKUP(C1491,Katastralgemeinden!A$2:$B$3041,2,\"falsch\")),\"\")","v":""},null,null,null,null,null,null,null,null,"",0,{"$f":"IF('Anhang Grundstücksverzeichnis'!G1491=Texte!$A$25,F1491,0)","v":0},{"$f":"IF('Anhang Grundstücksverzeichnis'!G1491=Texte!$A$26,F1491,0)","v":0},{"$f":"IF('Anhang Grundstücksverzeichnis'!G1491=Texte!$A$27,F1491,0)","v":0},{"$f":"IF('Anhang Grundstücksverzeichnis'!G1491=Texte!$A$28,F1491,0)","v":0}]
[1482,{"$f":"IF(C1492<>\"\",IF(ISNA(VLOOKUP(C1492,Katastralgemeinden!$A$2:$B$3041,2,FALSE)),\"Ungültige KG-Nummer!\",VLOOKUP(C1492,Katastralgemeinden!A$2:$B$3041,2,\"falsch\")),\"\")","v":""},null,null,null,null,null,null,null,null,"",0,{"$f":"IF('Anhang Grundstücksverzeichnis'!G1492=Texte!$A$25,F1492,0)","v":0},{"$f":"IF('Anhang Grundstücksverzeichnis'!G1492=Texte!$A$26,F1492,0)","v":0},{"$f":"IF('Anhang Grundstücksverzeichnis'!G1492=Texte!$A$27,F1492,0)","v":0},{"$f":"IF('Anhang Grundstücksverzeichnis'!G1492=Texte!$A$28,F1492,0)","v":0}]
[1483,{"$f":"IF(C1493<>\"\",IF(ISNA(VLOOKUP(C1493,Katastralgemeinden!$A$2:$B$3041,2,FALSE)),\"Ungültige KG-Nummer!\",VLOOKUP(C1493,Katastralgemeinden!A$2:$B$3041,2,\"falsch\")),\"\")","v":""},null,null,null,null,null,null,null,null,"",0,{"$f":"IF('Anhang Grundstücksverzeichnis'!G1493=Texte!$A$25,F1493,0)","v":0},{"$f":"IF('Anhang Grundstücksverzeichnis'!G1493=Texte!$A$26,F1493,0)","v":0},{"$f":"IF('Anhang Grundstücksverzeichnis'!G1493=Texte!$A$27,F1493,0)","v":0},{"$f":"IF('Anhang Grundstücksverzeichnis'!G1493=Texte!$A$28,F1493,0)","v":0}]
[1484,{"$f":"IF(C1494<>\"\",IF(ISNA(VLOOKUP(C1494,Katastralgemeinden!$A$2:$B$3041,2,FALSE)),\"Ungültige KG-Nummer!\",VLOOKUP(C1494,Katastralgemeinden!A$2:$B$3041,2,\"falsch\")),\"\")","v":""},null,null,null,null,null,null,null,null,"",0,{"$f":"IF('Anhang Grundstücksverzeichnis'!G1494=Texte!$A$25,F1494,0)","v":0},{"$f":"IF('Anhang Grundstücksverzeichnis'!G1494=Texte!$A$26,F1494,0)","v":0},{"$f":"IF('Anhang Grundstücksverzeichnis'!G1494=Texte!$A$27,F1494,0)","v":0},{"$f":"IF('Anhang Grundstücksverzeichnis'!G1494=Texte!$A$28,F1494,0)","v":0}]
[1485,{"$f":"IF(C1495<>\"\",IF(ISNA(VLOOKUP(C1495,Katastralgemeinden!$A$2:$B$3041,2,FALSE)),\"Ungültige KG-Nummer!\",VLOOKUP(C1495,Katastralgemeinden!A$2:$B$3041,2,\"falsch\")),\"\")","v":""},null,null,null,null,null,null,null,null,"",0,{"$f":"IF('Anhang Grundstücksverzeichnis'!G1495=Texte!$A$25,F1495,0)","v":0},{"$f":"IF('Anhang Grundstücksverzeichnis'!G1495=Texte!$A$26,F1495,0)","v":0},{"$f":"IF('Anhang Grundstücksverzeichnis'!G1495=Texte!$A$27,F1495,0)","v":0},{"$f":"IF('Anhang Grundstücksverzeichnis'!G1495=Texte!$A$28,F1495,0)","v":0}]
[1486,{"$f":"IF(C1496<>\"\",IF(ISNA(VLOOKUP(C1496,Katastralgemeinden!$A$2:$B$3041,2,FALSE)),\"Ungültige KG-Nummer!\",VLOOKUP(C1496,Katastralgemeinden!A$2:$B$3041,2,\"falsch\")),\"\")","v":""},null,null,null,null,null,null,null,null,"",0,{"$f":"IF('Anhang Grundstücksverzeichnis'!G1496=Texte!$A$25,F1496,0)","v":0},{"$f":"IF('Anhang Grundstücksverzeichnis'!G1496=Texte!$A$26,F1496,0)","v":0},{"$f":"IF('Anhang Grundstücksverzeichnis'!G1496=Texte!$A$27,F1496,0)","v":0},{"$f":"IF('Anhang Grundstücksverzeichnis'!G1496=Texte!$A$28,F1496,0)","v":0}]
[1487,{"$f":"IF(C1497<>\"\",IF(ISNA(VLOOKUP(C1497,Katastralgemeinden!$A$2:$B$3041,2,FALSE)),\"Ungültige KG-Nummer!\",VLOOKUP(C1497,Katastralgemeinden!A$2:$B$3041,2,\"falsch\")),\"\")","v":""},null,null,null,null,null,null,null,null,"",0,{"$f":"IF('Anhang Grundstücksverzeichnis'!G1497=Texte!$A$25,F1497,0)","v":0},{"$f":"IF('Anhang Grundstücksverzeichnis'!G1497=Texte!$A$26,F1497,0)","v":0},{"$f":"IF('Anhang Grundstücksverzeichnis'!G1497=Texte!$A$27,F1497,0)","v":0},{"$f":"IF('Anhang Grundstücksverzeichnis'!G1497=Texte!$A$28,F1497,0)","v":0}]
[1488,{"$f":"IF(C1498<>\"\",IF(ISNA(VLOOKUP(C1498,Katastralgemeinden!$A$2:$B$3041,2,FALSE)),\"Ungültige KG-Nummer!\",VLOOKUP(C1498,Katastralgemeinden!A$2:$B$3041,2,\"falsch\")),\"\")","v":""},null,null,null,null,null,null,null,null,"",0,{"$f":"IF('Anhang Grundstücksverzeichnis'!G1498=Texte!$A$25,F1498,0)","v":0},{"$f":"IF('Anhang Grundstücksverzeichnis'!G1498=Texte!$A$26,F1498,0)","v":0},{"$f":"IF('Anhang Grundstücksverzeichnis'!G1498=Texte!$A$27,F1498,0)","v":0},{"$f":"IF('Anhang Grundstücksverzeichnis'!G1498=Texte!$A$28,F1498,0)","v":0}]
[1489,{"$f":"IF(C1499<>\"\",IF(ISNA(VLOOKUP(C1499,Katastralgemeinden!$A$2:$B$3041,2,FALSE)),\"Ungültige KG-Nummer!\",VLOOKUP(C1499,Katastralgemeinden!A$2:$B$3041,2,\"falsch\")),\"\")","v":""},null,null,null,null,null,null,null,null,"",0,{"$f":"IF('Anhang Grundstücksverzeichnis'!G1499=Texte!$A$25,F1499,0)","v":0},{"$f":"IF('Anhang Grundstücksverzeichnis'!G1499=Texte!$A$26,F1499,0)","v":0},{"$f":"IF('Anhang Grundstücksverzeichnis'!G1499=Texte!$A$27,F1499,0)","v":0},{"$f":"IF('Anhang Grundstücksverzeichnis'!G1499=Texte!$A$28,F1499,0)","v":0}]
[1490,{"$f":"IF(C1500<>\"\",IF(ISNA(VLOOKUP(C1500,Katastralgemeinden!$A$2:$B$3041,2,FALSE)),\"Ungültige KG-Nummer!\",VLOOKUP(C1500,Katastralgemeinden!A$2:$B$3041,2,\"falsch\")),\"\")","v":""},null,null,null,null,null,null,null,null,"",0,{"$f":"IF('Anhang Grundstücksverzeichnis'!G1500=Texte!$A$25,F1500,0)","v":0},{"$f":"IF('Anhang Grundstücksverzeichnis'!G1500=Texte!$A$26,F1500,0)","v":0},{"$f":"IF('Anhang Grundstücksverzeichnis'!G1500=Texte!$A$27,F1500,0)","v":0},{"$f":"IF('Anhang Grundstücksverzeichnis'!G1500=Texte!$A$28,F1500,0)","v":0}]
[1491,{"$f":"IF(C1501<>\"\",IF(ISNA(VLOOKUP(C1501,Katastralgemeinden!$A$2:$B$3041,2,FALSE)),\"Ungültige KG-Nummer!\",VLOOKUP(C1501,Katastralgemeinden!A$2:$B$3041,2,\"falsch\")),\"\")","v":""},null,null,null,null,null,null,null,null,"",0,{"$f":"IF('Anhang Grundstücksverzeichnis'!G1501=Texte!$A$25,F1501,0)","v":0},{"$f":"IF('Anhang Grundstücksverzeichnis'!G1501=Texte!$A$26,F1501,0)","v":0},{"$f":"IF('Anhang Grundstücksverzeichnis'!G1501=Texte!$A$27,F1501,0)","v":0},{"$f":"IF('Anhang Grundstücksverzeichnis'!G1501=Texte!$A$28,F1501,0)","v":0}]
[1492,{"$f":"IF(C1502<>\"\",IF(ISNA(VLOOKUP(C1502,Katastralgemeinden!$A$2:$B$3041,2,FALSE)),\"Ungültige KG-Nummer!\",VLOOKUP(C1502,Katastralgemeinden!A$2:$B$3041,2,\"falsch\")),\"\")","v":""},null,null,null,null,null,null,null,null,"",0,{"$f":"IF('Anhang Grundstücksverzeichnis'!G1502=Texte!$A$25,F1502,0)","v":0},{"$f":"IF('Anhang Grundstücksverzeichnis'!G1502=Texte!$A$26,F1502,0)","v":0},{"$f":"IF('Anhang Grundstücksverzeichnis'!G1502=Texte!$A$27,F1502,0)","v":0},{"$f":"IF('Anhang Grundstücksverzeichnis'!G1502=Texte!$A$28,F1502,0)","v":0}]
[1493,{"$f":"IF(C1503<>\"\",IF(ISNA(VLOOKUP(C1503,Katastralgemeinden!$A$2:$B$3041,2,FALSE)),\"Ungültige KG-Nummer!\",VLOOKUP(C1503,Katastralgemeinden!A$2:$B$3041,2,\"falsch\")),\"\")","v":""},null,null,null,null,null,null,null,null,"",0,{"$f":"IF('Anhang Grundstücksverzeichnis'!G1503=Texte!$A$25,F1503,0)","v":0},{"$f":"IF('Anhang Grundstücksverzeichnis'!G1503=Texte!$A$26,F1503,0)","v":0},{"$f":"IF('Anhang Grundstücksverzeichnis'!G1503=Texte!$A$27,F1503,0)","v":0},{"$f":"IF('Anhang Grundstücksverzeichnis'!G1503=Texte!$A$28,F1503,0)","v":0}]
[1494,{"$f":"IF(C1504<>\"\",IF(ISNA(VLOOKUP(C1504,Katastralgemeinden!$A$2:$B$3041,2,FALSE)),\"Ungültige KG-Nummer!\",VLOOKUP(C1504,Katastralgemeinden!A$2:$B$3041,2,\"falsch\")),\"\")","v":""},null,null,null,null,null,null,null,null,"",0,{"$f":"IF('Anhang Grundstücksverzeichnis'!G1504=Texte!$A$25,F1504,0)","v":0},{"$f":"IF('Anhang Grundstücksverzeichnis'!G1504=Texte!$A$26,F1504,0)","v":0},{"$f":"IF('Anhang Grundstücksverzeichnis'!G1504=Texte!$A$27,F1504,0)","v":0},{"$f":"IF('Anhang Grundstücksverzeichnis'!G1504=Texte!$A$28,F1504,0)","v":0}]
[1495,{"$f":"IF(C1505<>\"\",IF(ISNA(VLOOKUP(C1505,Katastralgemeinden!$A$2:$B$3041,2,FALSE)),\"Ungültige KG-Nummer!\",VLOOKUP(C1505,Katastralgemeinden!A$2:$B$3041,2,\"falsch\")),\"\")","v":""},null,null,null,null,null,null,null,null,"",0,{"$f":"IF('Anhang Grundstücksverzeichnis'!G1505=Texte!$A$25,F1505,0)","v":0},{"$f":"IF('Anhang Grundstücksverzeichnis'!G1505=Texte!$A$26,F1505,0)","v":0},{"$f":"IF('Anhang Grundstücksverzeichnis'!G1505=Texte!$A$27,F1505,0)","v":0},{"$f":"IF('Anhang Grundstücksverzeichnis'!G1505=Texte!$A$28,F1505,0)","v":0}]
[1496,{"$f":"IF(C1506<>\"\",IF(ISNA(VLOOKUP(C1506,Katastralgemeinden!$A$2:$B$3041,2,FALSE)),\"Ungültige KG-Nummer!\",VLOOKUP(C1506,Katastralgemeinden!A$2:$B$3041,2,\"falsch\")),\"\")","v":""},null,null,null,null,null,null,null,null,"",0,{"$f":"IF('Anhang Grundstücksverzeichnis'!G1506=Texte!$A$25,F1506,0)","v":0},{"$f":"IF('Anhang Grundstücksverzeichnis'!G1506=Texte!$A$26,F1506,0)","v":0},{"$f":"IF('Anhang Grundstücksverzeichnis'!G1506=Texte!$A$27,F1506,0)","v":0},{"$f":"IF('Anhang Grundstücksverzeichnis'!G1506=Texte!$A$28,F1506,0)","v":0}]
[1497,{"$f":"IF(C1507<>\"\",IF(ISNA(VLOOKUP(C1507,Katastralgemeinden!$A$2:$B$3041,2,FALSE)),\"Ungültige KG-Nummer!\",VLOOKUP(C1507,Katastralgemeinden!A$2:$B$3041,2,\"falsch\")),\"\")","v":""},null,null,null,null,null,null,null,null,"",0,{"$f":"IF('Anhang Grundstücksverzeichnis'!G1507=Texte!$A$25,F1507,0)","v":0},{"$f":"IF('Anhang Grundstücksverzeichnis'!G1507=Texte!$A$26,F1507,0)","v":0},{"$f":"IF('Anhang Grundstücksverzeichnis'!G1507=Texte!$A$27,F1507,0)","v":0},{"$f":"IF('Anhang Grundstücksverzeichnis'!G1507=Texte!$A$28,F1507,0)","v":0}]
[1498,{"$f":"IF(C1508<>\"\",IF(ISNA(VLOOKUP(C1508,Katastralgemeinden!$A$2:$B$3041,2,FALSE)),\"Ungültige KG-Nummer!\",VLOOKUP(C1508,Katastralgemeinden!A$2:$B$3041,2,\"falsch\")),\"\")","v":""},null,null,null,null,null,null,null,null,"",0,{"$f":"IF('Anhang Grundstücksverzeichnis'!G1508=Texte!$A$25,F1508,0)","v":0},{"$f":"IF('Anhang Grundstücksverzeichnis'!G1508=Texte!$A$26,F1508,0)","v":0},{"$f":"IF('Anhang Grundstücksverzeichnis'!G1508=Texte!$A$27,F1508,0)","v":0},{"$f":"IF('Anhang Grundstücksverzeichnis'!G1508=Texte!$A$28,F1508,0)","v":0}]
[1499,{"$f":"IF(C1509<>\"\",IF(ISNA(VLOOKUP(C1509,Katastralgemeinden!$A$2:$B$3041,2,FALSE)),\"Ungültige KG-Nummer!\",VLOOKUP(C1509,Katastralgemeinden!A$2:$B$3041,2,\"falsch\")),\"\")","v":""},null,null,null,null,null,null,null,null,"",0,{"$f":"IF('Anhang Grundstücksverzeichnis'!G1509=Texte!$A$25,F1509,0)","v":0},{"$f":"IF('Anhang Grundstücksverzeichnis'!G1509=Texte!$A$26,F1509,0)","v":0},{"$f":"IF('Anhang Grundstücksverzeichnis'!G1509=Texte!$A$27,F1509,0)","v":0},{"$f":"IF('Anhang Grundstücksverzeichnis'!G1509=Texte!$A$28,F1509,0)","v":0}]
[1500,{"$f":"IF(C1510<>\"\",IF(ISNA(VLOOKUP(C1510,Katastralgemeinden!$A$2:$B$3041,2,FALSE)),\"Ungültige KG-Nummer!\",VLOOKUP(C1510,Katastralgemeinden!A$2:$B$3041,2,\"falsch\")),\"\")","v":""},null,null,null,null,null,null,null,null,"",0,{"$f":"IF('Anhang Grundstücksverzeichnis'!G1510=Texte!$A$25,F1510,0)","v":0},{"$f":"IF('Anhang Grundstücksverzeichnis'!G1510=Texte!$A$26,F1510,0)","v":0},{"$f":"IF('Anhang Grundstücksverzeichnis'!G1510=Texte!$A$27,F1510,0)","v":0},{"$f":"IF('Anhang Grundstücksverzeichnis'!G1510=Texte!$A$28,F1510,0)","v":0}]
[1501,{"$f":"IF(C1511<>\"\",IF(ISNA(VLOOKUP(C1511,Katastralgemeinden!$A$2:$B$3041,2,FALSE)),\"Ungültige KG-Nummer!\",VLOOKUP(C1511,Katastralgemeinden!A$2:$B$3041,2,\"falsch\")),\"\")","v":""},null,null,null,null,null,null,null,null,"",0,{"$f":"IF('Anhang Grundstücksverzeichnis'!G1511=Texte!$A$25,F1511,0)","v":0},{"$f":"IF('Anhang Grundstücksverzeichnis'!G1511=Texte!$A$26,F1511,0)","v":0},{"$f":"IF('Anhang Grundstücksverzeichnis'!G1511=Texte!$A$27,F1511,0)","v":0},{"$f":"IF('Anhang Grundstücksverzeichnis'!G1511=Texte!$A$28,F1511,0)","v":0}]
[1502,{"$f":"IF(C1512<>\"\",IF(ISNA(VLOOKUP(C1512,Katastralgemeinden!$A$2:$B$3041,2,FALSE)),\"Ungültige KG-Nummer!\",VLOOKUP(C1512,Katastralgemeinden!A$2:$B$3041,2,\"falsch\")),\"\")","v":""},null,null,null,null,null,null,null,null,"",0,{"$f":"IF('Anhang Grundstücksverzeichnis'!G1512=Texte!$A$25,F1512,0)","v":0},{"$f":"IF('Anhang Grundstücksverzeichnis'!G1512=Texte!$A$26,F1512,0)","v":0},{"$f":"IF('Anhang Grundstücksverzeichnis'!G1512=Texte!$A$27,F1512,0)","v":0},{"$f":"IF('Anhang Grundstücksverzeichnis'!G1512=Texte!$A$28,F1512,0)","v":0}]
[1503,{"$f":"IF(C1513<>\"\",IF(ISNA(VLOOKUP(C1513,Katastralgemeinden!$A$2:$B$3041,2,FALSE)),\"Ungültige KG-Nummer!\",VLOOKUP(C1513,Katastralgemeinden!A$2:$B$3041,2,\"falsch\")),\"\")","v":""},null,null,null,null,null,null,null,null,"",0,{"$f":"IF('Anhang Grundstücksverzeichnis'!G1513=Texte!$A$25,F1513,0)","v":0},{"$f":"IF('Anhang Grundstücksverzeichnis'!G1513=Texte!$A$26,F1513,0)","v":0},{"$f":"IF('Anhang Grundstücksverzeichnis'!G1513=Texte!$A$27,F1513,0)","v":0},{"$f":"IF('Anhang Grundstücksverzeichnis'!G1513=Texte!$A$28,F1513,0)","v":0}]
[1504,{"$f":"IF(C1514<>\"\",IF(ISNA(VLOOKUP(C1514,Katastralgemeinden!$A$2:$B$3041,2,FALSE)),\"Ungültige KG-Nummer!\",VLOOKUP(C1514,Katastralgemeinden!A$2:$B$3041,2,\"falsch\")),\"\")","v":""},null,null,null,null,null,null,null,null,"",0,{"$f":"IF('Anhang Grundstücksverzeichnis'!G1514=Texte!$A$25,F1514,0)","v":0},{"$f":"IF('Anhang Grundstücksverzeichnis'!G1514=Texte!$A$26,F1514,0)","v":0},{"$f":"IF('Anhang Grundstücksverzeichnis'!G1514=Texte!$A$27,F1514,0)","v":0},{"$f":"IF('Anhang Grundstücksverzeichnis'!G1514=Texte!$A$28,F1514,0)","v":0}]
[1505,{"$f":"IF(C1515<>\"\",IF(ISNA(VLOOKUP(C1515,Katastralgemeinden!$A$2:$B$3041,2,FALSE)),\"Ungültige KG-Nummer!\",VLOOKUP(C1515,Katastralgemeinden!A$2:$B$3041,2,\"falsch\")),\"\")","v":""},null,null,null,null,null,null,null,null,"",0,{"$f":"IF('Anhang Grundstücksverzeichnis'!G1515=Texte!$A$25,F1515,0)","v":0},{"$f":"IF('Anhang Grundstücksverzeichnis'!G1515=Texte!$A$26,F1515,0)","v":0},{"$f":"IF('Anhang Grundstücksverzeichnis'!G1515=Texte!$A$27,F1515,0)","v":0},{"$f":"IF('Anhang Grundstücksverzeichnis'!G1515=Texte!$A$28,F1515,0)","v":0}]
[1506,{"$f":"IF(C1516<>\"\",IF(ISNA(VLOOKUP(C1516,Katastralgemeinden!$A$2:$B$3041,2,FALSE)),\"Ungültige KG-Nummer!\",VLOOKUP(C1516,Katastralgemeinden!A$2:$B$3041,2,\"falsch\")),\"\")","v":""},null,null,null,null,null,null,null,null,"",0,{"$f":"IF('Anhang Grundstücksverzeichnis'!G1516=Texte!$A$25,F1516,0)","v":0},{"$f":"IF('Anhang Grundstücksverzeichnis'!G1516=Texte!$A$26,F1516,0)","v":0},{"$f":"IF('Anhang Grundstücksverzeichnis'!G1516=Texte!$A$27,F1516,0)","v":0},{"$f":"IF('Anhang Grundstücksverzeichnis'!G1516=Texte!$A$28,F1516,0)","v":0}]
[1507,{"$f":"IF(C1517<>\"\",IF(ISNA(VLOOKUP(C1517,Katastralgemeinden!$A$2:$B$3041,2,FALSE)),\"Ungültige KG-Nummer!\",VLOOKUP(C1517,Katastralgemeinden!A$2:$B$3041,2,\"falsch\")),\"\")","v":""},null,null,null,null,null,null,null,null,"",0,{"$f":"IF('Anhang Grundstücksverzeichnis'!G1517=Texte!$A$25,F1517,0)","v":0},{"$f":"IF('Anhang Grundstücksverzeichnis'!G1517=Texte!$A$26,F1517,0)","v":0},{"$f":"IF('Anhang Grundstücksverzeichnis'!G1517=Texte!$A$27,F1517,0)","v":0},{"$f":"IF('Anhang Grundstücksverzeichnis'!G1517=Texte!$A$28,F1517,0)","v":0}]
[1508,{"$f":"IF(C1518<>\"\",IF(ISNA(VLOOKUP(C1518,Katastralgemeinden!$A$2:$B$3041,2,FALSE)),\"Ungültige KG-Nummer!\",VLOOKUP(C1518,Katastralgemeinden!A$2:$B$3041,2,\"falsch\")),\"\")","v":""},null,null,null,null,null,null,null,null,"",0,{"$f":"IF('Anhang Grundstücksverzeichnis'!G1518=Texte!$A$25,F1518,0)","v":0},{"$f":"IF('Anhang Grundstücksverzeichnis'!G1518=Texte!$A$26,F1518,0)","v":0},{"$f":"IF('Anhang Grundstücksverzeichnis'!G1518=Texte!$A$27,F1518,0)","v":0},{"$f":"IF('Anhang Grundstücksverzeichnis'!G1518=Texte!$A$28,F1518,0)","v":0}]
[1509,{"$f":"IF(C1519<>\"\",IF(ISNA(VLOOKUP(C1519,Katastralgemeinden!$A$2:$B$3041,2,FALSE)),\"Ungültige KG-Nummer!\",VLOOKUP(C1519,Katastralgemeinden!A$2:$B$3041,2,\"falsch\")),\"\")","v":""},null,null,null,null,null,null,null,null,"",0,{"$f":"IF('Anhang Grundstücksverzeichnis'!G1519=Texte!$A$25,F1519,0)","v":0},{"$f":"IF('Anhang Grundstücksverzeichnis'!G1519=Texte!$A$26,F1519,0)","v":0},{"$f":"IF('Anhang Grundstücksverzeichnis'!G1519=Texte!$A$27,F1519,0)","v":0},{"$f":"IF('Anhang Grundstücksverzeichnis'!G1519=Texte!$A$28,F1519,0)","v":0}]
[1510,{"$f":"IF(C1520<>\"\",IF(ISNA(VLOOKUP(C1520,Katastralgemeinden!$A$2:$B$3041,2,FALSE)),\"Ungültige KG-Nummer!\",VLOOKUP(C1520,Katastralgemeinden!A$2:$B$3041,2,\"falsch\")),\"\")","v":""},null,null,null,null,null,null,null,null,"",0,{"$f":"IF('Anhang Grundstücksverzeichnis'!G1520=Texte!$A$25,F1520,0)","v":0},{"$f":"IF('Anhang Grundstücksverzeichnis'!G1520=Texte!$A$26,F1520,0)","v":0},{"$f":"IF('Anhang Grundstücksverzeichnis'!G1520=Texte!$A$27,F1520,0)","v":0},{"$f":"IF('Anhang Grundstücksverzeichnis'!G1520=Texte!$A$28,F1520,0)","v":0}]
[1511,{"$f":"IF(C1521<>\"\",IF(ISNA(VLOOKUP(C1521,Katastralgemeinden!$A$2:$B$3041,2,FALSE)),\"Ungültige KG-Nummer!\",VLOOKUP(C1521,Katastralgemeinden!A$2:$B$3041,2,\"falsch\")),\"\")","v":""},null,null,null,null,null,null,null,null,"",0,{"$f":"IF('Anhang Grundstücksverzeichnis'!G1521=Texte!$A$25,F1521,0)","v":0},{"$f":"IF('Anhang Grundstücksverzeichnis'!G1521=Texte!$A$26,F1521,0)","v":0},{"$f":"IF('Anhang Grundstücksverzeichnis'!G1521=Texte!$A$27,F1521,0)","v":0},{"$f":"IF('Anhang Grundstücksverzeichnis'!G1521=Texte!$A$28,F1521,0)","v":0}]
[1512,{"$f":"IF(C1522<>\"\",IF(ISNA(VLOOKUP(C1522,Katastralgemeinden!$A$2:$B$3041,2,FALSE)),\"Ungültige KG-Nummer!\",VLOOKUP(C1522,Katastralgemeinden!A$2:$B$3041,2,\"falsch\")),\"\")","v":""},null,null,null,null,null,null,null,null,"",0,{"$f":"IF('Anhang Grundstücksverzeichnis'!G1522=Texte!$A$25,F1522,0)","v":0},{"$f":"IF('Anhang Grundstücksverzeichnis'!G1522=Texte!$A$26,F1522,0)","v":0},{"$f":"IF('Anhang Grundstücksverzeichnis'!G1522=Texte!$A$27,F1522,0)","v":0},{"$f":"IF('Anhang Grundstücksverzeichnis'!G1522=Texte!$A$28,F1522,0)","v":0}]
[1513,{"$f":"IF(C1523<>\"\",IF(ISNA(VLOOKUP(C1523,Katastralgemeinden!$A$2:$B$3041,2,FALSE)),\"Ungültige KG-Nummer!\",VLOOKUP(C1523,Katastralgemeinden!A$2:$B$3041,2,\"falsch\")),\"\")","v":""},null,null,null,null,null,null,null,null,"",0,{"$f":"IF('Anhang Grundstücksverzeichnis'!G1523=Texte!$A$25,F1523,0)","v":0},{"$f":"IF('Anhang Grundstücksverzeichnis'!G1523=Texte!$A$26,F1523,0)","v":0},{"$f":"IF('Anhang Grundstücksverzeichnis'!G1523=Texte!$A$27,F1523,0)","v":0},{"$f":"IF('Anhang Grundstücksverzeichnis'!G1523=Texte!$A$28,F1523,0)","v":0}]
[1514,{"$f":"IF(C1524<>\"\",IF(ISNA(VLOOKUP(C1524,Katastralgemeinden!$A$2:$B$3041,2,FALSE)),\"Ungültige KG-Nummer!\",VLOOKUP(C1524,Katastralgemeinden!A$2:$B$3041,2,\"falsch\")),\"\")","v":""},null,null,null,null,null,null,null,null,"",0,{"$f":"IF('Anhang Grundstücksverzeichnis'!G1524=Texte!$A$25,F1524,0)","v":0},{"$f":"IF('Anhang Grundstücksverzeichnis'!G1524=Texte!$A$26,F1524,0)","v":0},{"$f":"IF('Anhang Grundstücksverzeichnis'!G1524=Texte!$A$27,F1524,0)","v":0},{"$f":"IF('Anhang Grundstücksverzeichnis'!G1524=Texte!$A$28,F1524,0)","v":0}]
[1515,{"$f":"IF(C1525<>\"\",IF(ISNA(VLOOKUP(C1525,Katastralgemeinden!$A$2:$B$3041,2,FALSE)),\"Ungültige KG-Nummer!\",VLOOKUP(C1525,Katastralgemeinden!A$2:$B$3041,2,\"falsch\")),\"\")","v":""},null,null,null,null,null,null,null,null,"",0,{"$f":"IF('Anhang Grundstücksverzeichnis'!G1525=Texte!$A$25,F1525,0)","v":0},{"$f":"IF('Anhang Grundstücksverzeichnis'!G1525=Texte!$A$26,F1525,0)","v":0},{"$f":"IF('Anhang Grundstücksverzeichnis'!G1525=Texte!$A$27,F1525,0)","v":0},{"$f":"IF('Anhang Grundstücksverzeichnis'!G1525=Texte!$A$28,F1525,0)","v":0}]
[1516,{"$f":"IF(C1526<>\"\",IF(ISNA(VLOOKUP(C1526,Katastralgemeinden!$A$2:$B$3041,2,FALSE)),\"Ungültige KG-Nummer!\",VLOOKUP(C1526,Katastralgemeinden!A$2:$B$3041,2,\"falsch\")),\"\")","v":""},null,null,null,null,null,null,null,null,"",0,{"$f":"IF('Anhang Grundstücksverzeichnis'!G1526=Texte!$A$25,F1526,0)","v":0},{"$f":"IF('Anhang Grundstücksverzeichnis'!G1526=Texte!$A$26,F1526,0)","v":0},{"$f":"IF('Anhang Grundstücksverzeichnis'!G1526=Texte!$A$27,F1526,0)","v":0},{"$f":"IF('Anhang Grundstücksverzeichnis'!G1526=Texte!$A$28,F1526,0)","v":0}]
[1517,{"$f":"IF(C1527<>\"\",IF(ISNA(VLOOKUP(C1527,Katastralgemeinden!$A$2:$B$3041,2,FALSE)),\"Ungültige KG-Nummer!\",VLOOKUP(C1527,Katastralgemeinden!A$2:$B$3041,2,\"falsch\")),\"\")","v":""},null,null,null,null,null,null,null,null,"",0,{"$f":"IF('Anhang Grundstücksverzeichnis'!G1527=Texte!$A$25,F1527,0)","v":0},{"$f":"IF('Anhang Grundstücksverzeichnis'!G1527=Texte!$A$26,F1527,0)","v":0},{"$f":"IF('Anhang Grundstücksverzeichnis'!G1527=Texte!$A$27,F1527,0)","v":0},{"$f":"IF('Anhang Grundstücksverzeichnis'!G1527=Texte!$A$28,F1527,0)","v":0}]
[1518,{"$f":"IF(C1528<>\"\",IF(ISNA(VLOOKUP(C1528,Katastralgemeinden!$A$2:$B$3041,2,FALSE)),\"Ungültige KG-Nummer!\",VLOOKUP(C1528,Katastralgemeinden!A$2:$B$3041,2,\"falsch\")),\"\")","v":""},null,null,null,null,null,null,null,null,"",0,{"$f":"IF('Anhang Grundstücksverzeichnis'!G1528=Texte!$A$25,F1528,0)","v":0},{"$f":"IF('Anhang Grundstücksverzeichnis'!G1528=Texte!$A$26,F1528,0)","v":0},{"$f":"IF('Anhang Grundstücksverzeichnis'!G1528=Texte!$A$27,F1528,0)","v":0},{"$f":"IF('Anhang Grundstücksverzeichnis'!G1528=Texte!$A$28,F1528,0)","v":0}]
[1519,{"$f":"IF(C1529<>\"\",IF(ISNA(VLOOKUP(C1529,Katastralgemeinden!$A$2:$B$3041,2,FALSE)),\"Ungültige KG-Nummer!\",VLOOKUP(C1529,Katastralgemeinden!A$2:$B$3041,2,\"falsch\")),\"\")","v":""},null,null,null,null,null,null,null,null,"",0,{"$f":"IF('Anhang Grundstücksverzeichnis'!G1529=Texte!$A$25,F1529,0)","v":0},{"$f":"IF('Anhang Grundstücksverzeichnis'!G1529=Texte!$A$26,F1529,0)","v":0},{"$f":"IF('Anhang Grundstücksverzeichnis'!G1529=Texte!$A$27,F1529,0)","v":0},{"$f":"IF('Anhang Grundstücksverzeichnis'!G1529=Texte!$A$28,F1529,0)","v":0}]
[1520,{"$f":"IF(C1530<>\"\",IF(ISNA(VLOOKUP(C1530,Katastralgemeinden!$A$2:$B$3041,2,FALSE)),\"Ungültige KG-Nummer!\",VLOOKUP(C1530,Katastralgemeinden!A$2:$B$3041,2,\"falsch\")),\"\")","v":""},null,null,null,null,null,null,null,null,"",0,{"$f":"IF('Anhang Grundstücksverzeichnis'!G1530=Texte!$A$25,F1530,0)","v":0},{"$f":"IF('Anhang Grundstücksverzeichnis'!G1530=Texte!$A$26,F1530,0)","v":0},{"$f":"IF('Anhang Grundstücksverzeichnis'!G1530=Texte!$A$27,F1530,0)","v":0},{"$f":"IF('Anhang Grundstücksverzeichnis'!G1530=Texte!$A$28,F1530,0)","v":0}]
[1521,{"$f":"IF(C1531<>\"\",IF(ISNA(VLOOKUP(C1531,Katastralgemeinden!$A$2:$B$3041,2,FALSE)),\"Ungültige KG-Nummer!\",VLOOKUP(C1531,Katastralgemeinden!A$2:$B$3041,2,\"falsch\")),\"\")","v":""},null,null,null,null,null,null,null,null,"",0,{"$f":"IF('Anhang Grundstücksverzeichnis'!G1531=Texte!$A$25,F1531,0)","v":0},{"$f":"IF('Anhang Grundstücksverzeichnis'!G1531=Texte!$A$26,F1531,0)","v":0},{"$f":"IF('Anhang Grundstücksverzeichnis'!G1531=Texte!$A$27,F1531,0)","v":0},{"$f":"IF('Anhang Grundstücksverzeichnis'!G1531=Texte!$A$28,F1531,0)","v":0}]
[1522,{"$f":"IF(C1532<>\"\",IF(ISNA(VLOOKUP(C1532,Katastralgemeinden!$A$2:$B$3041,2,FALSE)),\"Ungültige KG-Nummer!\",VLOOKUP(C1532,Katastralgemeinden!A$2:$B$3041,2,\"falsch\")),\"\")","v":""},null,null,null,null,null,null,null,null,"",0,{"$f":"IF('Anhang Grundstücksverzeichnis'!G1532=Texte!$A$25,F1532,0)","v":0},{"$f":"IF('Anhang Grundstücksverzeichnis'!G1532=Texte!$A$26,F1532,0)","v":0},{"$f":"IF('Anhang Grundstücksverzeichnis'!G1532=Texte!$A$27,F1532,0)","v":0},{"$f":"IF('Anhang Grundstücksverzeichnis'!G1532=Texte!$A$28,F1532,0)","v":0}]
[1523,{"$f":"IF(C1533<>\"\",IF(ISNA(VLOOKUP(C1533,Katastralgemeinden!$A$2:$B$3041,2,FALSE)),\"Ungültige KG-Nummer!\",VLOOKUP(C1533,Katastralgemeinden!A$2:$B$3041,2,\"falsch\")),\"\")","v":""},null,null,null,null,null,null,null,null,"",0,{"$f":"IF('Anhang Grundstücksverzeichnis'!G1533=Texte!$A$25,F1533,0)","v":0},{"$f":"IF('Anhang Grundstücksverzeichnis'!G1533=Texte!$A$26,F1533,0)","v":0},{"$f":"IF('Anhang Grundstücksverzeichnis'!G1533=Texte!$A$27,F1533,0)","v":0},{"$f":"IF('Anhang Grundstücksverzeichnis'!G1533=Texte!$A$28,F1533,0)","v":0}]
[1524,{"$f":"IF(C1534<>\"\",IF(ISNA(VLOOKUP(C1534,Katastralgemeinden!$A$2:$B$3041,2,FALSE)),\"Ungültige KG-Nummer!\",VLOOKUP(C1534,Katastralgemeinden!A$2:$B$3041,2,\"falsch\")),\"\")","v":""},null,null,null,null,null,null,null,null,"",0,{"$f":"IF('Anhang Grundstücksverzeichnis'!G1534=Texte!$A$25,F1534,0)","v":0},{"$f":"IF('Anhang Grundstücksverzeichnis'!G1534=Texte!$A$26,F1534,0)","v":0},{"$f":"IF('Anhang Grundstücksverzeichnis'!G1534=Texte!$A$27,F1534,0)","v":0},{"$f":"IF('Anhang Grundstücksverzeichnis'!G1534=Texte!$A$28,F1534,0)","v":0}]
[1525,{"$f":"IF(C1535<>\"\",IF(ISNA(VLOOKUP(C1535,Katastralgemeinden!$A$2:$B$3041,2,FALSE)),\"Ungültige KG-Nummer!\",VLOOKUP(C1535,Katastralgemeinden!A$2:$B$3041,2,\"falsch\")),\"\")","v":""},null,null,null,null,null,null,null,null,"",0,{"$f":"IF('Anhang Grundstücksverzeichnis'!G1535=Texte!$A$25,F1535,0)","v":0},{"$f":"IF('Anhang Grundstücksverzeichnis'!G1535=Texte!$A$26,F1535,0)","v":0},{"$f":"IF('Anhang Grundstücksverzeichnis'!G1535=Texte!$A$27,F1535,0)","v":0},{"$f":"IF('Anhang Grundstücksverzeichnis'!G1535=Texte!$A$28,F1535,0)","v":0}]
[1526,{"$f":"IF(C1536<>\"\",IF(ISNA(VLOOKUP(C1536,Katastralgemeinden!$A$2:$B$3041,2,FALSE)),\"Ungültige KG-Nummer!\",VLOOKUP(C1536,Katastralgemeinden!A$2:$B$3041,2,\"falsch\")),\"\")","v":""},null,null,null,null,null,null,null,null,"",0,{"$f":"IF('Anhang Grundstücksverzeichnis'!G1536=Texte!$A$25,F1536,0)","v":0},{"$f":"IF('Anhang Grundstücksverzeichnis'!G1536=Texte!$A$26,F1536,0)","v":0},{"$f":"IF('Anhang Grundstücksverzeichnis'!G1536=Texte!$A$27,F1536,0)","v":0},{"$f":"IF('Anhang Grundstücksverzeichnis'!G1536=Texte!$A$28,F1536,0)","v":0}]
[1527,{"$f":"IF(C1537<>\"\",IF(ISNA(VLOOKUP(C1537,Katastralgemeinden!$A$2:$B$3041,2,FALSE)),\"Ungültige KG-Nummer!\",VLOOKUP(C1537,Katastralgemeinden!A$2:$B$3041,2,\"falsch\")),\"\")","v":""},null,null,null,null,null,null,null,null,"",0,{"$f":"IF('Anhang Grundstücksverzeichnis'!G1537=Texte!$A$25,F1537,0)","v":0},{"$f":"IF('Anhang Grundstücksverzeichnis'!G1537=Texte!$A$26,F1537,0)","v":0},{"$f":"IF('Anhang Grundstücksverzeichnis'!G1537=Texte!$A$27,F1537,0)","v":0},{"$f":"IF('Anhang Grundstücksverzeichnis'!G1537=Texte!$A$28,F1537,0)","v":0}]
[1528,{"$f":"IF(C1538<>\"\",IF(ISNA(VLOOKUP(C1538,Katastralgemeinden!$A$2:$B$3041,2,FALSE)),\"Ungültige KG-Nummer!\",VLOOKUP(C1538,Katastralgemeinden!A$2:$B$3041,2,\"falsch\")),\"\")","v":""},null,null,null,null,null,null,null,null,"",0,{"$f":"IF('Anhang Grundstücksverzeichnis'!G1538=Texte!$A$25,F1538,0)","v":0},{"$f":"IF('Anhang Grundstücksverzeichnis'!G1538=Texte!$A$26,F1538,0)","v":0},{"$f":"IF('Anhang Grundstücksverzeichnis'!G1538=Texte!$A$27,F1538,0)","v":0},{"$f":"IF('Anhang Grundstücksverzeichnis'!G1538=Texte!$A$28,F1538,0)","v":0}]
[1529,{"$f":"IF(C1539<>\"\",IF(ISNA(VLOOKUP(C1539,Katastralgemeinden!$A$2:$B$3041,2,FALSE)),\"Ungültige KG-Nummer!\",VLOOKUP(C1539,Katastralgemeinden!A$2:$B$3041,2,\"falsch\")),\"\")","v":""},null,null,null,null,null,null,null,null,"",0,{"$f":"IF('Anhang Grundstücksverzeichnis'!G1539=Texte!$A$25,F1539,0)","v":0},{"$f":"IF('Anhang Grundstücksverzeichnis'!G1539=Texte!$A$26,F1539,0)","v":0},{"$f":"IF('Anhang Grundstücksverzeichnis'!G1539=Texte!$A$27,F1539,0)","v":0},{"$f":"IF('Anhang Grundstücksverzeichnis'!G1539=Texte!$A$28,F1539,0)","v":0}]
[1530,{"$f":"IF(C1540<>\"\",IF(ISNA(VLOOKUP(C1540,Katastralgemeinden!$A$2:$B$3041,2,FALSE)),\"Ungültige KG-Nummer!\",VLOOKUP(C1540,Katastralgemeinden!A$2:$B$3041,2,\"falsch\")),\"\")","v":""},null,null,null,null,null,null,null,null,"",0,{"$f":"IF('Anhang Grundstücksverzeichnis'!G1540=Texte!$A$25,F1540,0)","v":0},{"$f":"IF('Anhang Grundstücksverzeichnis'!G1540=Texte!$A$26,F1540,0)","v":0},{"$f":"IF('Anhang Grundstücksverzeichnis'!G1540=Texte!$A$27,F1540,0)","v":0},{"$f":"IF('Anhang Grundstücksverzeichnis'!G1540=Texte!$A$28,F1540,0)","v":0}]
[1531,{"$f":"IF(C1541<>\"\",IF(ISNA(VLOOKUP(C1541,Katastralgemeinden!$A$2:$B$3041,2,FALSE)),\"Ungültige KG-Nummer!\",VLOOKUP(C1541,Katastralgemeinden!A$2:$B$3041,2,\"falsch\")),\"\")","v":""},null,null,null,null,null,null,null,null,"",0,{"$f":"IF('Anhang Grundstücksverzeichnis'!G1541=Texte!$A$25,F1541,0)","v":0},{"$f":"IF('Anhang Grundstücksverzeichnis'!G1541=Texte!$A$26,F1541,0)","v":0},{"$f":"IF('Anhang Grundstücksverzeichnis'!G1541=Texte!$A$27,F1541,0)","v":0},{"$f":"IF('Anhang Grundstücksverzeichnis'!G1541=Texte!$A$28,F1541,0)","v":0}]
[1532,{"$f":"IF(C1542<>\"\",IF(ISNA(VLOOKUP(C1542,Katastralgemeinden!$A$2:$B$3041,2,FALSE)),\"Ungültige KG-Nummer!\",VLOOKUP(C1542,Katastralgemeinden!A$2:$B$3041,2,\"falsch\")),\"\")","v":""},null,null,null,null,null,null,null,null,"",0,{"$f":"IF('Anhang Grundstücksverzeichnis'!G1542=Texte!$A$25,F1542,0)","v":0},{"$f":"IF('Anhang Grundstücksverzeichnis'!G1542=Texte!$A$26,F1542,0)","v":0},{"$f":"IF('Anhang Grundstücksverzeichnis'!G1542=Texte!$A$27,F1542,0)","v":0},{"$f":"IF('Anhang Grundstücksverzeichnis'!G1542=Texte!$A$28,F1542,0)","v":0}]
[1533,{"$f":"IF(C1543<>\"\",IF(ISNA(VLOOKUP(C1543,Katastralgemeinden!$A$2:$B$3041,2,FALSE)),\"Ungültige KG-Nummer!\",VLOOKUP(C1543,Katastralgemeinden!A$2:$B$3041,2,\"falsch\")),\"\")","v":""},null,null,null,null,null,null,null,null,"",0,{"$f":"IF('Anhang Grundstücksverzeichnis'!G1543=Texte!$A$25,F1543,0)","v":0},{"$f":"IF('Anhang Grundstücksverzeichnis'!G1543=Texte!$A$26,F1543,0)","v":0},{"$f":"IF('Anhang Grundstücksverzeichnis'!G1543=Texte!$A$27,F1543,0)","v":0},{"$f":"IF('Anhang Grundstücksverzeichnis'!G1543=Texte!$A$28,F1543,0)","v":0}]
[1534,{"$f":"IF(C1544<>\"\",IF(ISNA(VLOOKUP(C1544,Katastralgemeinden!$A$2:$B$3041,2,FALSE)),\"Ungültige KG-Nummer!\",VLOOKUP(C1544,Katastralgemeinden!A$2:$B$3041,2,\"falsch\")),\"\")","v":""},null,null,null,null,null,null,null,null,"",0,{"$f":"IF('Anhang Grundstücksverzeichnis'!G1544=Texte!$A$25,F1544,0)","v":0},{"$f":"IF('Anhang Grundstücksverzeichnis'!G1544=Texte!$A$26,F1544,0)","v":0},{"$f":"IF('Anhang Grundstücksverzeichnis'!G1544=Texte!$A$27,F1544,0)","v":0},{"$f":"IF('Anhang Grundstücksverzeichnis'!G1544=Texte!$A$28,F1544,0)","v":0}]
[1535,{"$f":"IF(C1545<>\"\",IF(ISNA(VLOOKUP(C1545,Katastralgemeinden!$A$2:$B$3041,2,FALSE)),\"Ungültige KG-Nummer!\",VLOOKUP(C1545,Katastralgemeinden!A$2:$B$3041,2,\"falsch\")),\"\")","v":""},null,null,null,null,null,null,null,null,"",0,{"$f":"IF('Anhang Grundstücksverzeichnis'!G1545=Texte!$A$25,F1545,0)","v":0},{"$f":"IF('Anhang Grundstücksverzeichnis'!G1545=Texte!$A$26,F1545,0)","v":0},{"$f":"IF('Anhang Grundstücksverzeichnis'!G1545=Texte!$A$27,F1545,0)","v":0},{"$f":"IF('Anhang Grundstücksverzeichnis'!G1545=Texte!$A$28,F1545,0)","v":0}]
[1536,{"$f":"IF(C1546<>\"\",IF(ISNA(VLOOKUP(C1546,Katastralgemeinden!$A$2:$B$3041,2,FALSE)),\"Ungültige KG-Nummer!\",VLOOKUP(C1546,Katastralgemeinden!A$2:$B$3041,2,\"falsch\")),\"\")","v":""},null,null,null,null,null,null,null,null,"",0,{"$f":"IF('Anhang Grundstücksverzeichnis'!G1546=Texte!$A$25,F1546,0)","v":0},{"$f":"IF('Anhang Grundstücksverzeichnis'!G1546=Texte!$A$26,F1546,0)","v":0},{"$f":"IF('Anhang Grundstücksverzeichnis'!G1546=Texte!$A$27,F1546,0)","v":0},{"$f":"IF('Anhang Grundstücksverzeichnis'!G1546=Texte!$A$28,F1546,0)","v":0}]
[1537,{"$f":"IF(C1547<>\"\",IF(ISNA(VLOOKUP(C1547,Katastralgemeinden!$A$2:$B$3041,2,FALSE)),\"Ungültige KG-Nummer!\",VLOOKUP(C1547,Katastralgemeinden!A$2:$B$3041,2,\"falsch\")),\"\")","v":""},null,null,null,null,null,null,null,null,"",0,{"$f":"IF('Anhang Grundstücksverzeichnis'!G1547=Texte!$A$25,F1547,0)","v":0},{"$f":"IF('Anhang Grundstücksverzeichnis'!G1547=Texte!$A$26,F1547,0)","v":0},{"$f":"IF('Anhang Grundstücksverzeichnis'!G1547=Texte!$A$27,F1547,0)","v":0},{"$f":"IF('Anhang Grundstücksverzeichnis'!G1547=Texte!$A$28,F1547,0)","v":0}]
[1538,{"$f":"IF(C1548<>\"\",IF(ISNA(VLOOKUP(C1548,Katastralgemeinden!$A$2:$B$3041,2,FALSE)),\"Ungültige KG-Nummer!\",VLOOKUP(C1548,Katastralgemeinden!A$2:$B$3041,2,\"falsch\")),\"\")","v":""},null,null,null,null,null,null,null,null,{"$f":"IF(G1548<>\"\",IF(G1548=\"Eigengrundfläche\",0,IF(G1548=\"Vorpachtfläche\",1,IF(G1548=\"Abrundung +\",3,IF(G1548=\"Abrundung -\",4,5)))),\"\")","v":""},{"$f":"IF(OR(LOWER(H1548)=\"x\",LOWER(H1548)=\"j\"),1,0)","v":0},{"$f":"IF('Anhang Grundstücksverzeichnis'!G1548=Texte!$A$25,F1548,0)","v":0},{"$f":"IF('Anhang Grundstücksverzeichnis'!G1548=Texte!$A$26,F1548,0)","v":0},{"$f":"IF('Anhang Grundstücksverzeichnis'!G1548=Texte!$A$27,F1548,0)","v":0},{"$f":"IF('Anhang Grundstücksverzeichnis'!G1548=Texte!$A$28,F1548,0)","v":0}]
[1539,{"$f":"IF(C1549<>\"\",IF(ISNA(VLOOKUP(C1549,Katastralgemeinden!$A$2:$B$3041,2,FALSE)),\"Ungültige KG-Nummer!\",VLOOKUP(C1549,Katastralgemeinden!A$2:$B$3041,2,\"falsch\")),\"\")","v":""},null,null,null,null,null,null,null,null,"",0,{"$f":"IF('Anhang Grundstücksverzeichnis'!G1549=Texte!$A$25,F1549,0)","v":0},{"$f":"IF('Anhang Grundstücksverzeichnis'!G1549=Texte!$A$26,F1549,0)","v":0},{"$f":"IF('Anhang Grundstücksverzeichnis'!G1549=Texte!$A$27,F1549,0)","v":0},{"$f":"IF('Anhang Grundstücksverzeichnis'!G1549=Texte!$A$28,F1549,0)","v":0}]
[1540,{"$f":"IF(C1550<>\"\",IF(ISNA(VLOOKUP(C1550,Katastralgemeinden!$A$2:$B$3041,2,FALSE)),\"Ungültige KG-Nummer!\",VLOOKUP(C1550,Katastralgemeinden!A$2:$B$3041,2,\"falsch\")),\"\")","v":""},null,null,null,null,null,null,null,null,"",0,{"$f":"IF('Anhang Grundstücksverzeichnis'!G1550=Texte!$A$25,F1550,0)","v":0},{"$f":"IF('Anhang Grundstücksverzeichnis'!G1550=Texte!$A$26,F1550,0)","v":0},{"$f":"IF('Anhang Grundstücksverzeichnis'!G1550=Texte!$A$27,F1550,0)","v":0},{"$f":"IF('Anhang Grundstücksverzeichnis'!G1550=Texte!$A$28,F1550,0)","v":0}]
[1541,{"$f":"IF(C1551<>\"\",IF(ISNA(VLOOKUP(C1551,Katastralgemeinden!$A$2:$B$3041,2,FALSE)),\"Ungültige KG-Nummer!\",VLOOKUP(C1551,Katastralgemeinden!A$2:$B$3041,2,\"falsch\")),\"\")","v":""},null,null,null,null,null,null,null,null,"",0,{"$f":"IF('Anhang Grundstücksverzeichnis'!G1551=Texte!$A$25,F1551,0)","v":0},{"$f":"IF('Anhang Grundstücksverzeichnis'!G1551=Texte!$A$26,F1551,0)","v":0},{"$f":"IF('Anhang Grundstücksverzeichnis'!G1551=Texte!$A$27,F1551,0)","v":0},{"$f":"IF('Anhang Grundstücksverzeichnis'!G1551=Texte!$A$28,F1551,0)","v":0}]
[1542,{"$f":"IF(C1552<>\"\",IF(ISNA(VLOOKUP(C1552,Katastralgemeinden!$A$2:$B$3041,2,FALSE)),\"Ungültige KG-Nummer!\",VLOOKUP(C1552,Katastralgemeinden!A$2:$B$3041,2,\"falsch\")),\"\")","v":""},null,null,null,null,null,null,null,null,"",0,{"$f":"IF('Anhang Grundstücksverzeichnis'!G1552=Texte!$A$25,F1552,0)","v":0},{"$f":"IF('Anhang Grundstücksverzeichnis'!G1552=Texte!$A$26,F1552,0)","v":0},{"$f":"IF('Anhang Grundstücksverzeichnis'!G1552=Texte!$A$27,F1552,0)","v":0},{"$f":"IF('Anhang Grundstücksverzeichnis'!G1552=Texte!$A$28,F1552,0)","v":0}]
[1543,{"$f":"IF(C1553<>\"\",IF(ISNA(VLOOKUP(C1553,Katastralgemeinden!$A$2:$B$3041,2,FALSE)),\"Ungültige KG-Nummer!\",VLOOKUP(C1553,Katastralgemeinden!A$2:$B$3041,2,\"falsch\")),\"\")","v":""},null,null,null,null,null,null,null,null,"",0,{"$f":"IF('Anhang Grundstücksverzeichnis'!G1553=Texte!$A$25,F1553,0)","v":0},{"$f":"IF('Anhang Grundstücksverzeichnis'!G1553=Texte!$A$26,F1553,0)","v":0},{"$f":"IF('Anhang Grundstücksverzeichnis'!G1553=Texte!$A$27,F1553,0)","v":0},{"$f":"IF('Anhang Grundstücksverzeichnis'!G1553=Texte!$A$28,F1553,0)","v":0}]
[1544,{"$f":"IF(C1554<>\"\",IF(ISNA(VLOOKUP(C1554,Katastralgemeinden!$A$2:$B$3041,2,FALSE)),\"Ungültige KG-Nummer!\",VLOOKUP(C1554,Katastralgemeinden!A$2:$B$3041,2,\"falsch\")),\"\")","v":""},null,null,null,null,null,null,null,null,"",0,{"$f":"IF('Anhang Grundstücksverzeichnis'!G1554=Texte!$A$25,F1554,0)","v":0},{"$f":"IF('Anhang Grundstücksverzeichnis'!G1554=Texte!$A$26,F1554,0)","v":0},{"$f":"IF('Anhang Grundstücksverzeichnis'!G1554=Texte!$A$27,F1554,0)","v":0},{"$f":"IF('Anhang Grundstücksverzeichnis'!G1554=Texte!$A$28,F1554,0)","v":0}]
[1545,{"$f":"IF(C1555<>\"\",IF(ISNA(VLOOKUP(C1555,Katastralgemeinden!$A$2:$B$3041,2,FALSE)),\"Ungültige KG-Nummer!\",VLOOKUP(C1555,Katastralgemeinden!A$2:$B$3041,2,\"falsch\")),\"\")","v":""},null,null,null,null,null,null,null,null,"",0,{"$f":"IF('Anhang Grundstücksverzeichnis'!G1555=Texte!$A$25,F1555,0)","v":0},{"$f":"IF('Anhang Grundstücksverzeichnis'!G1555=Texte!$A$26,F1555,0)","v":0},{"$f":"IF('Anhang Grundstücksverzeichnis'!G1555=Texte!$A$27,F1555,0)","v":0},{"$f":"IF('Anhang Grundstücksverzeichnis'!G1555=Texte!$A$28,F1555,0)","v":0}]
[1546,{"$f":"IF(C1556<>\"\",IF(ISNA(VLOOKUP(C1556,Katastralgemeinden!$A$2:$B$3041,2,FALSE)),\"Ungültige KG-Nummer!\",VLOOKUP(C1556,Katastralgemeinden!A$2:$B$3041,2,\"falsch\")),\"\")","v":""},null,null,null,null,null,null,null,null,"",0,{"$f":"IF('Anhang Grundstücksverzeichnis'!G1556=Texte!$A$25,F1556,0)","v":0},{"$f":"IF('Anhang Grundstücksverzeichnis'!G1556=Texte!$A$26,F1556,0)","v":0},{"$f":"IF('Anhang Grundstücksverzeichnis'!G1556=Texte!$A$27,F1556,0)","v":0},{"$f":"IF('Anhang Grundstücksverzeichnis'!G1556=Texte!$A$28,F1556,0)","v":0}]
[1547,{"$f":"IF(C1557<>\"\",IF(ISNA(VLOOKUP(C1557,Katastralgemeinden!$A$2:$B$3041,2,FALSE)),\"Ungültige KG-Nummer!\",VLOOKUP(C1557,Katastralgemeinden!A$2:$B$3041,2,\"falsch\")),\"\")","v":""},null,null,null,null,null,null,null,null,"",0,{"$f":"IF('Anhang Grundstücksverzeichnis'!G1557=Texte!$A$25,F1557,0)","v":0},{"$f":"IF('Anhang Grundstücksverzeichnis'!G1557=Texte!$A$26,F1557,0)","v":0},{"$f":"IF('Anhang Grundstücksverzeichnis'!G1557=Texte!$A$27,F1557,0)","v":0},{"$f":"IF('Anhang Grundstücksverzeichnis'!G1557=Texte!$A$28,F1557,0)","v":0}]
[1548,{"$f":"IF(C1558<>\"\",IF(ISNA(VLOOKUP(C1558,Katastralgemeinden!$A$2:$B$3041,2,FALSE)),\"Ungültige KG-Nummer!\",VLOOKUP(C1558,Katastralgemeinden!A$2:$B$3041,2,\"falsch\")),\"\")","v":""},null,null,null,null,null,null,null,null,"",0,{"$f":"IF('Anhang Grundstücksverzeichnis'!G1558=Texte!$A$25,F1558,0)","v":0},{"$f":"IF('Anhang Grundstücksverzeichnis'!G1558=Texte!$A$26,F1558,0)","v":0},{"$f":"IF('Anhang Grundstücksverzeichnis'!G1558=Texte!$A$27,F1558,0)","v":0},{"$f":"IF('Anhang Grundstücksverzeichnis'!G1558=Texte!$A$28,F1558,0)","v":0}]
[1549,{"$f":"IF(C1559<>\"\",IF(ISNA(VLOOKUP(C1559,Katastralgemeinden!$A$2:$B$3041,2,FALSE)),\"Ungültige KG-Nummer!\",VLOOKUP(C1559,Katastralgemeinden!A$2:$B$3041,2,\"falsch\")),\"\")","v":""},null,null,null,null,null,null,null,null,"",0,{"$f":"IF('Anhang Grundstücksverzeichnis'!G1559=Texte!$A$25,F1559,0)","v":0},{"$f":"IF('Anhang Grundstücksverzeichnis'!G1559=Texte!$A$26,F1559,0)","v":0},{"$f":"IF('Anhang Grundstücksverzeichnis'!G1559=Texte!$A$27,F1559,0)","v":0},{"$f":"IF('Anhang Grundstücksverzeichnis'!G1559=Texte!$A$28,F1559,0)","v":0}]
[1550,{"$f":"IF(C1560<>\"\",IF(ISNA(VLOOKUP(C1560,Katastralgemeinden!$A$2:$B$3041,2,FALSE)),\"Ungültige KG-Nummer!\",VLOOKUP(C1560,Katastralgemeinden!A$2:$B$3041,2,\"falsch\")),\"\")","v":""},null,null,null,null,null,null,null,null,"",0,{"$f":"IF('Anhang Grundstücksverzeichnis'!G1560=Texte!$A$25,F1560,0)","v":0},{"$f":"IF('Anhang Grundstücksverzeichnis'!G1560=Texte!$A$26,F1560,0)","v":0},{"$f":"IF('Anhang Grundstücksverzeichnis'!G1560=Texte!$A$27,F1560,0)","v":0},{"$f":"IF('Anhang Grundstücksverzeichnis'!G1560=Texte!$A$28,F1560,0)","v":0}]
[1551,{"$f":"IF(C1561<>\"\",IF(ISNA(VLOOKUP(C1561,Katastralgemeinden!$A$2:$B$3041,2,FALSE)),\"Ungültige KG-Nummer!\",VLOOKUP(C1561,Katastralgemeinden!A$2:$B$3041,2,\"falsch\")),\"\")","v":""},null,null,null,null,null,null,null,null,"",0,{"$f":"IF('Anhang Grundstücksverzeichnis'!G1561=Texte!$A$25,F1561,0)","v":0},{"$f":"IF('Anhang Grundstücksverzeichnis'!G1561=Texte!$A$26,F1561,0)","v":0},{"$f":"IF('Anhang Grundstücksverzeichnis'!G1561=Texte!$A$27,F1561,0)","v":0},{"$f":"IF('Anhang Grundstücksverzeichnis'!G1561=Texte!$A$28,F1561,0)","v":0}]
[1552,{"$f":"IF(C1562<>\"\",IF(ISNA(VLOOKUP(C1562,Katastralgemeinden!$A$2:$B$3041,2,FALSE)),\"Ungültige KG-Nummer!\",VLOOKUP(C1562,Katastralgemeinden!A$2:$B$3041,2,\"falsch\")),\"\")","v":""},null,null,null,null,null,null,null,null,"",0,{"$f":"IF('Anhang Grundstücksverzeichnis'!G1562=Texte!$A$25,F1562,0)","v":0},{"$f":"IF('Anhang Grundstücksverzeichnis'!G1562=Texte!$A$26,F1562,0)","v":0},{"$f":"IF('Anhang Grundstücksverzeichnis'!G1562=Texte!$A$27,F1562,0)","v":0},{"$f":"IF('Anhang Grundstücksverzeichnis'!G1562=Texte!$A$28,F1562,0)","v":0}]
[1553,{"$f":"IF(C1563<>\"\",IF(ISNA(VLOOKUP(C1563,Katastralgemeinden!$A$2:$B$3041,2,FALSE)),\"Ungültige KG-Nummer!\",VLOOKUP(C1563,Katastralgemeinden!A$2:$B$3041,2,\"falsch\")),\"\")","v":""},null,null,null,null,null,null,null,null,"",0,{"$f":"IF('Anhang Grundstücksverzeichnis'!G1563=Texte!$A$25,F1563,0)","v":0},{"$f":"IF('Anhang Grundstücksverzeichnis'!G1563=Texte!$A$26,F1563,0)","v":0},{"$f":"IF('Anhang Grundstücksverzeichnis'!G1563=Texte!$A$27,F1563,0)","v":0},{"$f":"IF('Anhang Grundstücksverzeichnis'!G1563=Texte!$A$28,F1563,0)","v":0}]
[1554,{"$f":"IF(C1564<>\"\",IF(ISNA(VLOOKUP(C1564,Katastralgemeinden!$A$2:$B$3041,2,FALSE)),\"Ungültige KG-Nummer!\",VLOOKUP(C1564,Katastralgemeinden!A$2:$B$3041,2,\"falsch\")),\"\")","v":""},null,null,null,null,null,null,null,null,"",0,{"$f":"IF('Anhang Grundstücksverzeichnis'!G1564=Texte!$A$25,F1564,0)","v":0},{"$f":"IF('Anhang Grundstücksverzeichnis'!G1564=Texte!$A$26,F1564,0)","v":0},{"$f":"IF('Anhang Grundstücksverzeichnis'!G1564=Texte!$A$27,F1564,0)","v":0},{"$f":"IF('Anhang Grundstücksverzeichnis'!G1564=Texte!$A$28,F1564,0)","v":0}]
[1555,{"$f":"IF(C1565<>\"\",IF(ISNA(VLOOKUP(C1565,Katastralgemeinden!$A$2:$B$3041,2,FALSE)),\"Ungültige KG-Nummer!\",VLOOKUP(C1565,Katastralgemeinden!A$2:$B$3041,2,\"falsch\")),\"\")","v":""},null,null,null,null,null,null,null,null,"",0,{"$f":"IF('Anhang Grundstücksverzeichnis'!G1565=Texte!$A$25,F1565,0)","v":0},{"$f":"IF('Anhang Grundstücksverzeichnis'!G1565=Texte!$A$26,F1565,0)","v":0},{"$f":"IF('Anhang Grundstücksverzeichnis'!G1565=Texte!$A$27,F1565,0)","v":0},{"$f":"IF('Anhang Grundstücksverzeichnis'!G1565=Texte!$A$28,F1565,0)","v":0}]
[1556,{"$f":"IF(C1566<>\"\",IF(ISNA(VLOOKUP(C1566,Katastralgemeinden!$A$2:$B$3041,2,FALSE)),\"Ungültige KG-Nummer!\",VLOOKUP(C1566,Katastralgemeinden!A$2:$B$3041,2,\"falsch\")),\"\")","v":""},null,null,null,null,null,null,null,null,"",0,{"$f":"IF('Anhang Grundstücksverzeichnis'!G1566=Texte!$A$25,F1566,0)","v":0},{"$f":"IF('Anhang Grundstücksverzeichnis'!G1566=Texte!$A$26,F1566,0)","v":0},{"$f":"IF('Anhang Grundstücksverzeichnis'!G1566=Texte!$A$27,F1566,0)","v":0},{"$f":"IF('Anhang Grundstücksverzeichnis'!G1566=Texte!$A$28,F1566,0)","v":0}]
[1557,{"$f":"IF(C1567<>\"\",IF(ISNA(VLOOKUP(C1567,Katastralgemeinden!$A$2:$B$3041,2,FALSE)),\"Ungültige KG-Nummer!\",VLOOKUP(C1567,Katastralgemeinden!A$2:$B$3041,2,\"falsch\")),\"\")","v":""},null,null,null,null,null,null,null,null,"",0,{"$f":"IF('Anhang Grundstücksverzeichnis'!G1567=Texte!$A$25,F1567,0)","v":0},{"$f":"IF('Anhang Grundstücksverzeichnis'!G1567=Texte!$A$26,F1567,0)","v":0},{"$f":"IF('Anhang Grundstücksverzeichnis'!G1567=Texte!$A$27,F1567,0)","v":0},{"$f":"IF('Anhang Grundstücksverzeichnis'!G1567=Texte!$A$28,F1567,0)","v":0}]
[1558,{"$f":"IF(C1568<>\"\",IF(ISNA(VLOOKUP(C1568,Katastralgemeinden!$A$2:$B$3041,2,FALSE)),\"Ungültige KG-Nummer!\",VLOOKUP(C1568,Katastralgemeinden!A$2:$B$3041,2,\"falsch\")),\"\")","v":""},null,null,null,null,null,null,null,null,"",0,{"$f":"IF('Anhang Grundstücksverzeichnis'!G1568=Texte!$A$25,F1568,0)","v":0},{"$f":"IF('Anhang Grundstücksverzeichnis'!G1568=Texte!$A$26,F1568,0)","v":0},{"$f":"IF('Anhang Grundstücksverzeichnis'!G1568=Texte!$A$27,F1568,0)","v":0},{"$f":"IF('Anhang Grundstücksverzeichnis'!G1568=Texte!$A$28,F1568,0)","v":0}]
[1559,{"$f":"IF(C1569<>\"\",IF(ISNA(VLOOKUP(C1569,Katastralgemeinden!$A$2:$B$3041,2,FALSE)),\"Ungültige KG-Nummer!\",VLOOKUP(C1569,Katastralgemeinden!A$2:$B$3041,2,\"falsch\")),\"\")","v":""},null,null,null,null,null,null,null,null,"",0,{"$f":"IF('Anhang Grundstücksverzeichnis'!G1569=Texte!$A$25,F1569,0)","v":0},{"$f":"IF('Anhang Grundstücksverzeichnis'!G1569=Texte!$A$26,F1569,0)","v":0},{"$f":"IF('Anhang Grundstücksverzeichnis'!G1569=Texte!$A$27,F1569,0)","v":0},{"$f":"IF('Anhang Grundstücksverzeichnis'!G1569=Texte!$A$28,F1569,0)","v":0}]
[1560,{"$f":"IF(C1570<>\"\",IF(ISNA(VLOOKUP(C1570,Katastralgemeinden!$A$2:$B$3041,2,FALSE)),\"Ungültige KG-Nummer!\",VLOOKUP(C1570,Katastralgemeinden!A$2:$B$3041,2,\"falsch\")),\"\")","v":""},null,null,null,null,null,null,null,null,"",0,{"$f":"IF('Anhang Grundstücksverzeichnis'!G1570=Texte!$A$25,F1570,0)","v":0},{"$f":"IF('Anhang Grundstücksverzeichnis'!G1570=Texte!$A$26,F1570,0)","v":0},{"$f":"IF('Anhang Grundstücksverzeichnis'!G1570=Texte!$A$27,F1570,0)","v":0},{"$f":"IF('Anhang Grundstücksverzeichnis'!G1570=Texte!$A$28,F1570,0)","v":0}]
[1561,{"$f":"IF(C1571<>\"\",IF(ISNA(VLOOKUP(C1571,Katastralgemeinden!$A$2:$B$3041,2,FALSE)),\"Ungültige KG-Nummer!\",VLOOKUP(C1571,Katastralgemeinden!A$2:$B$3041,2,\"falsch\")),\"\")","v":""},null,null,null,null,null,null,null,null,"",0,{"$f":"IF('Anhang Grundstücksverzeichnis'!G1571=Texte!$A$25,F1571,0)","v":0},{"$f":"IF('Anhang Grundstücksverzeichnis'!G1571=Texte!$A$26,F1571,0)","v":0},{"$f":"IF('Anhang Grundstücksverzeichnis'!G1571=Texte!$A$27,F1571,0)","v":0},{"$f":"IF('Anhang Grundstücksverzeichnis'!G1571=Texte!$A$28,F1571,0)","v":0}]
[1562,{"$f":"IF(C1572<>\"\",IF(ISNA(VLOOKUP(C1572,Katastralgemeinden!$A$2:$B$3041,2,FALSE)),\"Ungültige KG-Nummer!\",VLOOKUP(C1572,Katastralgemeinden!A$2:$B$3041,2,\"falsch\")),\"\")","v":""},null,null,null,null,null,null,null,null,"",0,{"$f":"IF('Anhang Grundstücksverzeichnis'!G1572=Texte!$A$25,F1572,0)","v":0},{"$f":"IF('Anhang Grundstücksverzeichnis'!G1572=Texte!$A$26,F1572,0)","v":0},{"$f":"IF('Anhang Grundstücksverzeichnis'!G1572=Texte!$A$27,F1572,0)","v":0},{"$f":"IF('Anhang Grundstücksverzeichnis'!G1572=Texte!$A$28,F1572,0)","v":0}]
[1563,{"$f":"IF(C1573<>\"\",IF(ISNA(VLOOKUP(C1573,Katastralgemeinden!$A$2:$B$3041,2,FALSE)),\"Ungültige KG-Nummer!\",VLOOKUP(C1573,Katastralgemeinden!A$2:$B$3041,2,\"falsch\")),\"\")","v":""},null,null,null,null,null,null,null,null,"",0,{"$f":"IF('Anhang Grundstücksverzeichnis'!G1573=Texte!$A$25,F1573,0)","v":0},{"$f":"IF('Anhang Grundstücksverzeichnis'!G1573=Texte!$A$26,F1573,0)","v":0},{"$f":"IF('Anhang Grundstücksverzeichnis'!G1573=Texte!$A$27,F1573,0)","v":0},{"$f":"IF('Anhang Grundstücksverzeichnis'!G1573=Texte!$A$28,F1573,0)","v":0}]
[1564,{"$f":"IF(C1574<>\"\",IF(ISNA(VLOOKUP(C1574,Katastralgemeinden!$A$2:$B$3041,2,FALSE)),\"Ungültige KG-Nummer!\",VLOOKUP(C1574,Katastralgemeinden!A$2:$B$3041,2,\"falsch\")),\"\")","v":""},null,null,null,null,null,null,null,null,"",0,{"$f":"IF('Anhang Grundstücksverzeichnis'!G1574=Texte!$A$25,F1574,0)","v":0},{"$f":"IF('Anhang Grundstücksverzeichnis'!G1574=Texte!$A$26,F1574,0)","v":0},{"$f":"IF('Anhang Grundstücksverzeichnis'!G1574=Texte!$A$27,F1574,0)","v":0},{"$f":"IF('Anhang Grundstücksverzeichnis'!G1574=Texte!$A$28,F1574,0)","v":0}]
[1565,{"$f":"IF(C1575<>\"\",IF(ISNA(VLOOKUP(C1575,Katastralgemeinden!$A$2:$B$3041,2,FALSE)),\"Ungültige KG-Nummer!\",VLOOKUP(C1575,Katastralgemeinden!A$2:$B$3041,2,\"falsch\")),\"\")","v":""},null,null,null,null,null,null,null,null,"",0,{"$f":"IF('Anhang Grundstücksverzeichnis'!G1575=Texte!$A$25,F1575,0)","v":0},{"$f":"IF('Anhang Grundstücksverzeichnis'!G1575=Texte!$A$26,F1575,0)","v":0},{"$f":"IF('Anhang Grundstücksverzeichnis'!G1575=Texte!$A$27,F1575,0)","v":0},{"$f":"IF('Anhang Grundstücksverzeichnis'!G1575=Texte!$A$28,F1575,0)","v":0}]
[1566,{"$f":"IF(C1576<>\"\",IF(ISNA(VLOOKUP(C1576,Katastralgemeinden!$A$2:$B$3041,2,FALSE)),\"Ungültige KG-Nummer!\",VLOOKUP(C1576,Katastralgemeinden!A$2:$B$3041,2,\"falsch\")),\"\")","v":""},null,null,null,null,null,null,null,null,"",0,{"$f":"IF('Anhang Grundstücksverzeichnis'!G1576=Texte!$A$25,F1576,0)","v":0},{"$f":"IF('Anhang Grundstücksverzeichnis'!G1576=Texte!$A$26,F1576,0)","v":0},{"$f":"IF('Anhang Grundstücksverzeichnis'!G1576=Texte!$A$27,F1576,0)","v":0},{"$f":"IF('Anhang Grundstücksverzeichnis'!G1576=Texte!$A$28,F1576,0)","v":0}]
[1567,{"$f":"IF(C1577<>\"\",IF(ISNA(VLOOKUP(C1577,Katastralgemeinden!$A$2:$B$3041,2,FALSE)),\"Ungültige KG-Nummer!\",VLOOKUP(C1577,Katastralgemeinden!A$2:$B$3041,2,\"falsch\")),\"\")","v":""},null,null,null,null,null,null,null,null,"",0,{"$f":"IF('Anhang Grundstücksverzeichnis'!G1577=Texte!$A$25,F1577,0)","v":0},{"$f":"IF('Anhang Grundstücksverzeichnis'!G1577=Texte!$A$26,F1577,0)","v":0},{"$f":"IF('Anhang Grundstücksverzeichnis'!G1577=Texte!$A$27,F1577,0)","v":0},{"$f":"IF('Anhang Grundstücksverzeichnis'!G1577=Texte!$A$28,F1577,0)","v":0}]
[1568,{"$f":"IF(C1578<>\"\",IF(ISNA(VLOOKUP(C1578,Katastralgemeinden!$A$2:$B$3041,2,FALSE)),\"Ungültige KG-Nummer!\",VLOOKUP(C1578,Katastralgemeinden!A$2:$B$3041,2,\"falsch\")),\"\")","v":""},null,null,null,null,null,null,null,null,"",0,{"$f":"IF('Anhang Grundstücksverzeichnis'!G1578=Texte!$A$25,F1578,0)","v":0},{"$f":"IF('Anhang Grundstücksverzeichnis'!G1578=Texte!$A$26,F1578,0)","v":0},{"$f":"IF('Anhang Grundstücksverzeichnis'!G1578=Texte!$A$27,F1578,0)","v":0},{"$f":"IF('Anhang Grundstücksverzeichnis'!G1578=Texte!$A$28,F1578,0)","v":0}]
[1569,{"$f":"IF(C1579<>\"\",IF(ISNA(VLOOKUP(C1579,Katastralgemeinden!$A$2:$B$3041,2,FALSE)),\"Ungültige KG-Nummer!\",VLOOKUP(C1579,Katastralgemeinden!A$2:$B$3041,2,\"falsch\")),\"\")","v":""},null,null,null,null,null,null,null,null,"",0,{"$f":"IF('Anhang Grundstücksverzeichnis'!G1579=Texte!$A$25,F1579,0)","v":0},{"$f":"IF('Anhang Grundstücksverzeichnis'!G1579=Texte!$A$26,F1579,0)","v":0},{"$f":"IF('Anhang Grundstücksverzeichnis'!G1579=Texte!$A$27,F1579,0)","v":0},{"$f":"IF('Anhang Grundstücksverzeichnis'!G1579=Texte!$A$28,F1579,0)","v":0}]
[1570,{"$f":"IF(C1580<>\"\",IF(ISNA(VLOOKUP(C1580,Katastralgemeinden!$A$2:$B$3041,2,FALSE)),\"Ungültige KG-Nummer!\",VLOOKUP(C1580,Katastralgemeinden!A$2:$B$3041,2,\"falsch\")),\"\")","v":""},null,null,null,null,null,null,null,null,"",0,{"$f":"IF('Anhang Grundstücksverzeichnis'!G1580=Texte!$A$25,F1580,0)","v":0},{"$f":"IF('Anhang Grundstücksverzeichnis'!G1580=Texte!$A$26,F1580,0)","v":0},{"$f":"IF('Anhang Grundstücksverzeichnis'!G1580=Texte!$A$27,F1580,0)","v":0},{"$f":"IF('Anhang Grundstücksverzeichnis'!G1580=Texte!$A$28,F1580,0)","v":0}]
[1571,{"$f":"IF(C1581<>\"\",IF(ISNA(VLOOKUP(C1581,Katastralgemeinden!$A$2:$B$3041,2,FALSE)),\"Ungültige KG-Nummer!\",VLOOKUP(C1581,Katastralgemeinden!A$2:$B$3041,2,\"falsch\")),\"\")","v":""},null,null,null,null,null,null,null,null,"",0,{"$f":"IF('Anhang Grundstücksverzeichnis'!G1581=Texte!$A$25,F1581,0)","v":0},{"$f":"IF('Anhang Grundstücksverzeichnis'!G1581=Texte!$A$26,F1581,0)","v":0},{"$f":"IF('Anhang Grundstücksverzeichnis'!G1581=Texte!$A$27,F1581,0)","v":0},{"$f":"IF('Anhang Grundstücksverzeichnis'!G1581=Texte!$A$28,F1581,0)","v":0}]
[1572,{"$f":"IF(C1582<>\"\",IF(ISNA(VLOOKUP(C1582,Katastralgemeinden!$A$2:$B$3041,2,FALSE)),\"Ungültige KG-Nummer!\",VLOOKUP(C1582,Katastralgemeinden!A$2:$B$3041,2,\"falsch\")),\"\")","v":""},null,null,null,null,null,null,null,null,"",0,{"$f":"IF('Anhang Grundstücksverzeichnis'!G1582=Texte!$A$25,F1582,0)","v":0},{"$f":"IF('Anhang Grundstücksverzeichnis'!G1582=Texte!$A$26,F1582,0)","v":0},{"$f":"IF('Anhang Grundstücksverzeichnis'!G1582=Texte!$A$27,F1582,0)","v":0},{"$f":"IF('Anhang Grundstücksverzeichnis'!G1582=Texte!$A$28,F1582,0)","v":0}]
[1573,{"$f":"IF(C1583<>\"\",IF(ISNA(VLOOKUP(C1583,Katastralgemeinden!$A$2:$B$3041,2,FALSE)),\"Ungültige KG-Nummer!\",VLOOKUP(C1583,Katastralgemeinden!A$2:$B$3041,2,\"falsch\")),\"\")","v":""},null,null,null,null,null,null,null,null,"",0,{"$f":"IF('Anhang Grundstücksverzeichnis'!G1583=Texte!$A$25,F1583,0)","v":0},{"$f":"IF('Anhang Grundstücksverzeichnis'!G1583=Texte!$A$26,F1583,0)","v":0},{"$f":"IF('Anhang Grundstücksverzeichnis'!G1583=Texte!$A$27,F1583,0)","v":0},{"$f":"IF('Anhang Grundstücksverzeichnis'!G1583=Texte!$A$28,F1583,0)","v":0}]
[1574,{"$f":"IF(C1584<>\"\",IF(ISNA(VLOOKUP(C1584,Katastralgemeinden!$A$2:$B$3041,2,FALSE)),\"Ungültige KG-Nummer!\",VLOOKUP(C1584,Katastralgemeinden!A$2:$B$3041,2,\"falsch\")),\"\")","v":""},null,null,null,null,null,null,null,null,"",0,{"$f":"IF('Anhang Grundstücksverzeichnis'!G1584=Texte!$A$25,F1584,0)","v":0},{"$f":"IF('Anhang Grundstücksverzeichnis'!G1584=Texte!$A$26,F1584,0)","v":0},{"$f":"IF('Anhang Grundstücksverzeichnis'!G1584=Texte!$A$27,F1584,0)","v":0},{"$f":"IF('Anhang Grundstücksverzeichnis'!G1584=Texte!$A$28,F1584,0)","v":0}]
[1575,{"$f":"IF(C1585<>\"\",IF(ISNA(VLOOKUP(C1585,Katastralgemeinden!$A$2:$B$3041,2,FALSE)),\"Ungültige KG-Nummer!\",VLOOKUP(C1585,Katastralgemeinden!A$2:$B$3041,2,\"falsch\")),\"\")","v":""},null,null,null,null,null,null,null,null,"",0,{"$f":"IF('Anhang Grundstücksverzeichnis'!G1585=Texte!$A$25,F1585,0)","v":0},{"$f":"IF('Anhang Grundstücksverzeichnis'!G1585=Texte!$A$26,F1585,0)","v":0},{"$f":"IF('Anhang Grundstücksverzeichnis'!G1585=Texte!$A$27,F1585,0)","v":0},{"$f":"IF('Anhang Grundstücksverzeichnis'!G1585=Texte!$A$28,F1585,0)","v":0}]
[1576,{"$f":"IF(C1586<>\"\",IF(ISNA(VLOOKUP(C1586,Katastralgemeinden!$A$2:$B$3041,2,FALSE)),\"Ungültige KG-Nummer!\",VLOOKUP(C1586,Katastralgemeinden!A$2:$B$3041,2,\"falsch\")),\"\")","v":""},null,null,null,null,null,null,null,null,"",0,{"$f":"IF('Anhang Grundstücksverzeichnis'!G1586=Texte!$A$25,F1586,0)","v":0},{"$f":"IF('Anhang Grundstücksverzeichnis'!G1586=Texte!$A$26,F1586,0)","v":0},{"$f":"IF('Anhang Grundstücksverzeichnis'!G1586=Texte!$A$27,F1586,0)","v":0},{"$f":"IF('Anhang Grundstücksverzeichnis'!G1586=Texte!$A$28,F1586,0)","v":0}]
[1577,{"$f":"IF(C1587<>\"\",IF(ISNA(VLOOKUP(C1587,Katastralgemeinden!$A$2:$B$3041,2,FALSE)),\"Ungültige KG-Nummer!\",VLOOKUP(C1587,Katastralgemeinden!A$2:$B$3041,2,\"falsch\")),\"\")","v":""},null,null,null,null,null,null,null,null,"",0,{"$f":"IF('Anhang Grundstücksverzeichnis'!G1587=Texte!$A$25,F1587,0)","v":0},{"$f":"IF('Anhang Grundstücksverzeichnis'!G1587=Texte!$A$26,F1587,0)","v":0},{"$f":"IF('Anhang Grundstücksverzeichnis'!G1587=Texte!$A$27,F1587,0)","v":0},{"$f":"IF('Anhang Grundstücksverzeichnis'!G1587=Texte!$A$28,F1587,0)","v":0}]
[1578,{"$f":"IF(C1588<>\"\",IF(ISNA(VLOOKUP(C1588,Katastralgemeinden!$A$2:$B$3041,2,FALSE)),\"Ungültige KG-Nummer!\",VLOOKUP(C1588,Katastralgemeinden!A$2:$B$3041,2,\"falsch\")),\"\")","v":""},null,null,null,null,null,null,null,null,"",0,{"$f":"IF('Anhang Grundstücksverzeichnis'!G1588=Texte!$A$25,F1588,0)","v":0},{"$f":"IF('Anhang Grundstücksverzeichnis'!G1588=Texte!$A$26,F1588,0)","v":0},{"$f":"IF('Anhang Grundstücksverzeichnis'!G1588=Texte!$A$27,F1588,0)","v":0},{"$f":"IF('Anhang Grundstücksverzeichnis'!G1588=Texte!$A$28,F1588,0)","v":0}]
[1579,{"$f":"IF(C1589<>\"\",IF(ISNA(VLOOKUP(C1589,Katastralgemeinden!$A$2:$B$3041,2,FALSE)),\"Ungültige KG-Nummer!\",VLOOKUP(C1589,Katastralgemeinden!A$2:$B$3041,2,\"falsch\")),\"\")","v":""},null,null,null,null,null,null,null,null,"",0,{"$f":"IF('Anhang Grundstücksverzeichnis'!G1589=Texte!$A$25,F1589,0)","v":0},{"$f":"IF('Anhang Grundstücksverzeichnis'!G1589=Texte!$A$26,F1589,0)","v":0},{"$f":"IF('Anhang Grundstücksverzeichnis'!G1589=Texte!$A$27,F1589,0)","v":0},{"$f":"IF('Anhang Grundstücksverzeichnis'!G1589=Texte!$A$28,F1589,0)","v":0}]
[1580,{"$f":"IF(C1590<>\"\",IF(ISNA(VLOOKUP(C1590,Katastralgemeinden!$A$2:$B$3041,2,FALSE)),\"Ungültige KG-Nummer!\",VLOOKUP(C1590,Katastralgemeinden!A$2:$B$3041,2,\"falsch\")),\"\")","v":""},null,null,null,null,null,null,null,null,"",0,{"$f":"IF('Anhang Grundstücksverzeichnis'!G1590=Texte!$A$25,F1590,0)","v":0},{"$f":"IF('Anhang Grundstücksverzeichnis'!G1590=Texte!$A$26,F1590,0)","v":0},{"$f":"IF('Anhang Grundstücksverzeichnis'!G1590=Texte!$A$27,F1590,0)","v":0},{"$f":"IF('Anhang Grundstücksverzeichnis'!G1590=Texte!$A$28,F1590,0)","v":0}]
[1581,{"$f":"IF(C1591<>\"\",IF(ISNA(VLOOKUP(C1591,Katastralgemeinden!$A$2:$B$3041,2,FALSE)),\"Ungültige KG-Nummer!\",VLOOKUP(C1591,Katastralgemeinden!A$2:$B$3041,2,\"falsch\")),\"\")","v":""},null,null,null,null,null,null,null,null,"",0,{"$f":"IF('Anhang Grundstücksverzeichnis'!G1591=Texte!$A$25,F1591,0)","v":0},{"$f":"IF('Anhang Grundstücksverzeichnis'!G1591=Texte!$A$26,F1591,0)","v":0},{"$f":"IF('Anhang Grundstücksverzeichnis'!G1591=Texte!$A$27,F1591,0)","v":0},{"$f":"IF('Anhang Grundstücksverzeichnis'!G1591=Texte!$A$28,F1591,0)","v":0}]
[1582,{"$f":"IF(C1592<>\"\",IF(ISNA(VLOOKUP(C1592,Katastralgemeinden!$A$2:$B$3041,2,FALSE)),\"Ungültige KG-Nummer!\",VLOOKUP(C1592,Katastralgemeinden!A$2:$B$3041,2,\"falsch\")),\"\")","v":""},null,null,null,null,null,null,null,null,"",0,{"$f":"IF('Anhang Grundstücksverzeichnis'!G1592=Texte!$A$25,F1592,0)","v":0},{"$f":"IF('Anhang Grundstücksverzeichnis'!G1592=Texte!$A$26,F1592,0)","v":0},{"$f":"IF('Anhang Grundstücksverzeichnis'!G1592=Texte!$A$27,F1592,0)","v":0},{"$f":"IF('Anhang Grundstücksverzeichnis'!G1592=Texte!$A$28,F1592,0)","v":0}]
[1583,{"$f":"IF(C1593<>\"\",IF(ISNA(VLOOKUP(C1593,Katastralgemeinden!$A$2:$B$3041,2,FALSE)),\"Ungültige KG-Nummer!\",VLOOKUP(C1593,Katastralgemeinden!A$2:$B$3041,2,\"falsch\")),\"\")","v":""},null,null,null,null,null,null,null,null,"",0,{"$f":"IF('Anhang Grundstücksverzeichnis'!G1593=Texte!$A$25,F1593,0)","v":0},{"$f":"IF('Anhang Grundstücksverzeichnis'!G1593=Texte!$A$26,F1593,0)","v":0},{"$f":"IF('Anhang Grundstücksverzeichnis'!G1593=Texte!$A$27,F1593,0)","v":0},{"$f":"IF('Anhang Grundstücksverzeichnis'!G1593=Texte!$A$28,F1593,0)","v":0}]
[1584,{"$f":"IF(C1594<>\"\",IF(ISNA(VLOOKUP(C1594,Katastralgemeinden!$A$2:$B$3041,2,FALSE)),\"Ungültige KG-Nummer!\",VLOOKUP(C1594,Katastralgemeinden!A$2:$B$3041,2,\"falsch\")),\"\")","v":""},null,null,null,null,null,null,null,null,"",0,{"$f":"IF('Anhang Grundstücksverzeichnis'!G1594=Texte!$A$25,F1594,0)","v":0},{"$f":"IF('Anhang Grundstücksverzeichnis'!G1594=Texte!$A$26,F1594,0)","v":0},{"$f":"IF('Anhang Grundstücksverzeichnis'!G1594=Texte!$A$27,F1594,0)","v":0},{"$f":"IF('Anhang Grundstücksverzeichnis'!G1594=Texte!$A$28,F1594,0)","v":0}]
[1585,{"$f":"IF(C1595<>\"\",IF(ISNA(VLOOKUP(C1595,Katastralgemeinden!$A$2:$B$3041,2,FALSE)),\"Ungültige KG-Nummer!\",VLOOKUP(C1595,Katastralgemeinden!A$2:$B$3041,2,\"falsch\")),\"\")","v":""},null,null,null,null,null,null,null,null,"",0,{"$f":"IF('Anhang Grundstücksverzeichnis'!G1595=Texte!$A$25,F1595,0)","v":0},{"$f":"IF('Anhang Grundstücksverzeichnis'!G1595=Texte!$A$26,F1595,0)","v":0},{"$f":"IF('Anhang Grundstücksverzeichnis'!G1595=Texte!$A$27,F1595,0)","v":0},{"$f":"IF('Anhang Grundstücksverzeichnis'!G1595=Texte!$A$28,F1595,0)","v":0}]
[1586,{"$f":"IF(C1596<>\"\",IF(ISNA(VLOOKUP(C1596,Katastralgemeinden!$A$2:$B$3041,2,FALSE)),\"Ungültige KG-Nummer!\",VLOOKUP(C1596,Katastralgemeinden!A$2:$B$3041,2,\"falsch\")),\"\")","v":""},null,null,null,null,null,null,null,null,"",0,{"$f":"IF('Anhang Grundstücksverzeichnis'!G1596=Texte!$A$25,F1596,0)","v":0},{"$f":"IF('Anhang Grundstücksverzeichnis'!G1596=Texte!$A$26,F1596,0)","v":0},{"$f":"IF('Anhang Grundstücksverzeichnis'!G1596=Texte!$A$27,F1596,0)","v":0},{"$f":"IF('Anhang Grundstücksverzeichnis'!G1596=Texte!$A$28,F1596,0)","v":0}]
[1587,{"$f":"IF(C1597<>\"\",IF(ISNA(VLOOKUP(C1597,Katastralgemeinden!$A$2:$B$3041,2,FALSE)),\"Ungültige KG-Nummer!\",VLOOKUP(C1597,Katastralgemeinden!A$2:$B$3041,2,\"falsch\")),\"\")","v":""},null,null,null,null,null,null,null,null,"",0,{"$f":"IF('Anhang Grundstücksverzeichnis'!G1597=Texte!$A$25,F1597,0)","v":0},{"$f":"IF('Anhang Grundstücksverzeichnis'!G1597=Texte!$A$26,F1597,0)","v":0},{"$f":"IF('Anhang Grundstücksverzeichnis'!G1597=Texte!$A$27,F1597,0)","v":0},{"$f":"IF('Anhang Grundstücksverzeichnis'!G1597=Texte!$A$28,F1597,0)","v":0}]
[1588,{"$f":"IF(C1598<>\"\",IF(ISNA(VLOOKUP(C1598,Katastralgemeinden!$A$2:$B$3041,2,FALSE)),\"Ungültige KG-Nummer!\",VLOOKUP(C1598,Katastralgemeinden!A$2:$B$3041,2,\"falsch\")),\"\")","v":""},null,null,null,null,null,null,null,null,"",0,{"$f":"IF('Anhang Grundstücksverzeichnis'!G1598=Texte!$A$25,F1598,0)","v":0},{"$f":"IF('Anhang Grundstücksverzeichnis'!G1598=Texte!$A$26,F1598,0)","v":0},{"$f":"IF('Anhang Grundstücksverzeichnis'!G1598=Texte!$A$27,F1598,0)","v":0},{"$f":"IF('Anhang Grundstücksverzeichnis'!G1598=Texte!$A$28,F1598,0)","v":0}]
[1589,{"$f":"IF(C1599<>\"\",IF(ISNA(VLOOKUP(C1599,Katastralgemeinden!$A$2:$B$3041,2,FALSE)),\"Ungültige KG-Nummer!\",VLOOKUP(C1599,Katastralgemeinden!A$2:$B$3041,2,\"falsch\")),\"\")","v":""},null,null,null,null,null,null,null,null,"",0,{"$f":"IF('Anhang Grundstücksverzeichnis'!G1599=Texte!$A$25,F1599,0)","v":0},{"$f":"IF('Anhang Grundstücksverzeichnis'!G1599=Texte!$A$26,F1599,0)","v":0},{"$f":"IF('Anhang Grundstücksverzeichnis'!G1599=Texte!$A$27,F1599,0)","v":0},{"$f":"IF('Anhang Grundstücksverzeichnis'!G1599=Texte!$A$28,F1599,0)","v":0}]
[1590,{"$f":"IF(C1600<>\"\",IF(ISNA(VLOOKUP(C1600,Katastralgemeinden!$A$2:$B$3041,2,FALSE)),\"Ungültige KG-Nummer!\",VLOOKUP(C1600,Katastralgemeinden!A$2:$B$3041,2,\"falsch\")),\"\")","v":""},null,null,null,null,null,null,null,null,"",0,{"$f":"IF('Anhang Grundstücksverzeichnis'!G1600=Texte!$A$25,F1600,0)","v":0},{"$f":"IF('Anhang Grundstücksverzeichnis'!G1600=Texte!$A$26,F1600,0)","v":0},{"$f":"IF('Anhang Grundstücksverzeichnis'!G1600=Texte!$A$27,F1600,0)","v":0},{"$f":"IF('Anhang Grundstücksverzeichnis'!G1600=Texte!$A$28,F1600,0)","v":0}]
[1591,{"$f":"IF(C1601<>\"\",IF(ISNA(VLOOKUP(C1601,Katastralgemeinden!$A$2:$B$3041,2,FALSE)),\"Ungültige KG-Nummer!\",VLOOKUP(C1601,Katastralgemeinden!A$2:$B$3041,2,\"falsch\")),\"\")","v":""},null,null,null,null,null,null,null,null,"",0,{"$f":"IF('Anhang Grundstücksverzeichnis'!G1601=Texte!$A$25,F1601,0)","v":0},{"$f":"IF('Anhang Grundstücksverzeichnis'!G1601=Texte!$A$26,F1601,0)","v":0},{"$f":"IF('Anhang Grundstücksverzeichnis'!G1601=Texte!$A$27,F1601,0)","v":0},{"$f":"IF('Anhang Grundstücksverzeichnis'!G1601=Texte!$A$28,F1601,0)","v":0}]
[1592,{"$f":"IF(C1602<>\"\",IF(ISNA(VLOOKUP(C1602,Katastralgemeinden!$A$2:$B$3041,2,FALSE)),\"Ungültige KG-Nummer!\",VLOOKUP(C1602,Katastralgemeinden!A$2:$B$3041,2,\"falsch\")),\"\")","v":""},null,null,null,null,null,null,null,null,"",0,{"$f":"IF('Anhang Grundstücksverzeichnis'!G1602=Texte!$A$25,F1602,0)","v":0},{"$f":"IF('Anhang Grundstücksverzeichnis'!G1602=Texte!$A$26,F1602,0)","v":0},{"$f":"IF('Anhang Grundstücksverzeichnis'!G1602=Texte!$A$27,F1602,0)","v":0},{"$f":"IF('Anhang Grundstücksverzeichnis'!G1602=Texte!$A$28,F1602,0)","v":0}]
[1593,{"$f":"IF(C1603<>\"\",IF(ISNA(VLOOKUP(C1603,Katastralgemeinden!$A$2:$B$3041,2,FALSE)),\"Ungültige KG-Nummer!\",VLOOKUP(C1603,Katastralgemeinden!A$2:$B$3041,2,\"falsch\")),\"\")","v":""},null,null,null,null,null,null,null,null,"",0,{"$f":"IF('Anhang Grundstücksverzeichnis'!G1603=Texte!$A$25,F1603,0)","v":0},{"$f":"IF('Anhang Grundstücksverzeichnis'!G1603=Texte!$A$26,F1603,0)","v":0},{"$f":"IF('Anhang Grundstücksverzeichnis'!G1603=Texte!$A$27,F1603,0)","v":0},{"$f":"IF('Anhang Grundstücksverzeichnis'!G1603=Texte!$A$28,F1603,0)","v":0}]
[1594,{"$f":"IF(C1604<>\"\",IF(ISNA(VLOOKUP(C1604,Katastralgemeinden!$A$2:$B$3041,2,FALSE)),\"Ungültige KG-Nummer!\",VLOOKUP(C1604,Katastralgemeinden!A$2:$B$3041,2,\"falsch\")),\"\")","v":""},null,null,null,null,null,null,null,null,"",0,{"$f":"IF('Anhang Grundstücksverzeichnis'!G1604=Texte!$A$25,F1604,0)","v":0},{"$f":"IF('Anhang Grundstücksverzeichnis'!G1604=Texte!$A$26,F1604,0)","v":0},{"$f":"IF('Anhang Grundstücksverzeichnis'!G1604=Texte!$A$27,F1604,0)","v":0},{"$f":"IF('Anhang Grundstücksverzeichnis'!G1604=Texte!$A$28,F1604,0)","v":0}]
[1595,{"$f":"IF(C1605<>\"\",IF(ISNA(VLOOKUP(C1605,Katastralgemeinden!$A$2:$B$3041,2,FALSE)),\"Ungültige KG-Nummer!\",VLOOKUP(C1605,Katastralgemeinden!A$2:$B$3041,2,\"falsch\")),\"\")","v":""},null,null,null,null,null,null,null,null,"",0,{"$f":"IF('Anhang Grundstücksverzeichnis'!G1605=Texte!$A$25,F1605,0)","v":0},{"$f":"IF('Anhang Grundstücksverzeichnis'!G1605=Texte!$A$26,F1605,0)","v":0},{"$f":"IF('Anhang Grundstücksverzeichnis'!G1605=Texte!$A$27,F1605,0)","v":0},{"$f":"IF('Anhang Grundstücksverzeichnis'!G1605=Texte!$A$28,F1605,0)","v":0}]
[1596,{"$f":"IF(C1606<>\"\",IF(ISNA(VLOOKUP(C1606,Katastralgemeinden!$A$2:$B$3041,2,FALSE)),\"Ungültige KG-Nummer!\",VLOOKUP(C1606,Katastralgemeinden!A$2:$B$3041,2,\"falsch\")),\"\")","v":""},null,null,null,null,null,null,null,null,"",0,{"$f":"IF('Anhang Grundstücksverzeichnis'!G1606=Texte!$A$25,F1606,0)","v":0},{"$f":"IF('Anhang Grundstücksverzeichnis'!G1606=Texte!$A$26,F1606,0)","v":0},{"$f":"IF('Anhang Grundstücksverzeichnis'!G1606=Texte!$A$27,F1606,0)","v":0},{"$f":"IF('Anhang Grundstücksverzeichnis'!G1606=Texte!$A$28,F1606,0)","v":0}]
[1597,{"$f":"IF(C1607<>\"\",IF(ISNA(VLOOKUP(C1607,Katastralgemeinden!$A$2:$B$3041,2,FALSE)),\"Ungültige KG-Nummer!\",VLOOKUP(C1607,Katastralgemeinden!A$2:$B$3041,2,\"falsch\")),\"\")","v":""},null,null,null,null,null,null,null,null,"",0,{"$f":"IF('Anhang Grundstücksverzeichnis'!G1607=Texte!$A$25,F1607,0)","v":0},{"$f":"IF('Anhang Grundstücksverzeichnis'!G1607=Texte!$A$26,F1607,0)","v":0},{"$f":"IF('Anhang Grundstücksverzeichnis'!G1607=Texte!$A$27,F1607,0)","v":0},{"$f":"IF('Anhang Grundstücksverzeichnis'!G1607=Texte!$A$28,F1607,0)","v":0}]
[1598,{"$f":"IF(C1608<>\"\",IF(ISNA(VLOOKUP(C1608,Katastralgemeinden!$A$2:$B$3041,2,FALSE)),\"Ungültige KG-Nummer!\",VLOOKUP(C1608,Katastralgemeinden!A$2:$B$3041,2,\"falsch\")),\"\")","v":""},null,null,null,null,null,null,null,null,"",0,{"$f":"IF('Anhang Grundstücksverzeichnis'!G1608=Texte!$A$25,F1608,0)","v":0},{"$f":"IF('Anhang Grundstücksverzeichnis'!G1608=Texte!$A$26,F1608,0)","v":0},{"$f":"IF('Anhang Grundstücksverzeichnis'!G1608=Texte!$A$27,F1608,0)","v":0},{"$f":"IF('Anhang Grundstücksverzeichnis'!G1608=Texte!$A$28,F1608,0)","v":0}]
[1599,{"$f":"IF(C1609<>\"\",IF(ISNA(VLOOKUP(C1609,Katastralgemeinden!$A$2:$B$3041,2,FALSE)),\"Ungültige KG-Nummer!\",VLOOKUP(C1609,Katastralgemeinden!A$2:$B$3041,2,\"falsch\")),\"\")","v":""},null,null,null,null,null,null,null,null,"",0,{"$f":"IF('Anhang Grundstücksverzeichnis'!G1609=Texte!$A$25,F1609,0)","v":0},{"$f":"IF('Anhang Grundstücksverzeichnis'!G1609=Texte!$A$26,F1609,0)","v":0},{"$f":"IF('Anhang Grundstücksverzeichnis'!G1609=Texte!$A$27,F1609,0)","v":0},{"$f":"IF('Anhang Grundstücksverzeichnis'!G1609=Texte!$A$28,F1609,0)","v":0}]
[1600,{"$f":"IF(C1610<>\"\",IF(ISNA(VLOOKUP(C1610,Katastralgemeinden!$A$2:$B$3041,2,FALSE)),\"Ungültige KG-Nummer!\",VLOOKUP(C1610,Katastralgemeinden!A$2:$B$3041,2,\"falsch\")),\"\")","v":""},null,null,null,null,null,null,null,null,"",0,{"$f":"IF('Anhang Grundstücksverzeichnis'!G1610=Texte!$A$25,F1610,0)","v":0},{"$f":"IF('Anhang Grundstücksverzeichnis'!G1610=Texte!$A$26,F1610,0)","v":0},{"$f":"IF('Anhang Grundstücksverzeichnis'!G1610=Texte!$A$27,F1610,0)","v":0},{"$f":"IF('Anhang Grundstücksverzeichnis'!G1610=Texte!$A$28,F1610,0)","v":0}]
[1601,{"$f":"IF(C1611<>\"\",IF(ISNA(VLOOKUP(C1611,Katastralgemeinden!$A$2:$B$3041,2,FALSE)),\"Ungültige KG-Nummer!\",VLOOKUP(C1611,Katastralgemeinden!A$2:$B$3041,2,\"falsch\")),\"\")","v":""},null,null,null,null,null,null,null,null,"",0,{"$f":"IF('Anhang Grundstücksverzeichnis'!G1611=Texte!$A$25,F1611,0)","v":0},{"$f":"IF('Anhang Grundstücksverzeichnis'!G1611=Texte!$A$26,F1611,0)","v":0},{"$f":"IF('Anhang Grundstücksverzeichnis'!G1611=Texte!$A$27,F1611,0)","v":0},{"$f":"IF('Anhang Grundstücksverzeichnis'!G1611=Texte!$A$28,F1611,0)","v":0}]
[1602,{"$f":"IF(C1612<>\"\",IF(ISNA(VLOOKUP(C1612,Katastralgemeinden!$A$2:$B$3041,2,FALSE)),\"Ungültige KG-Nummer!\",VLOOKUP(C1612,Katastralgemeinden!A$2:$B$3041,2,\"falsch\")),\"\")","v":""},null,null,null,null,null,null,null,null,{"$f":"IF(G1612<>\"\",IF(G1612=\"Eigengrundfläche\",0,IF(G1612=\"Vorpachtfläche\",1,IF(G1612=\"Abrundung +\",3,IF(G1612=\"Abrundung -\",4,5)))),\"\")","v":""},{"$f":"IF(OR(LOWER(H1612)=\"x\",LOWER(H1612)=\"j\"),1,0)","v":0},{"$f":"IF('Anhang Grundstücksverzeichnis'!G1612=Texte!$A$25,F1612,0)","v":0},{"$f":"IF('Anhang Grundstücksverzeichnis'!G1612=Texte!$A$26,F1612,0)","v":0},{"$f":"IF('Anhang Grundstücksverzeichnis'!G1612=Texte!$A$27,F1612,0)","v":0},{"$f":"IF('Anhang Grundstücksverzeichnis'!G1612=Texte!$A$28,F1612,0)","v":0}]
[1603,{"$f":"IF(C1613<>\"\",IF(ISNA(VLOOKUP(C1613,Katastralgemeinden!$A$2:$B$3041,2,FALSE)),\"Ungültige KG-Nummer!\",VLOOKUP(C1613,Katastralgemeinden!A$2:$B$3041,2,\"falsch\")),\"\")","v":""},null,null,null,null,null,null,null,null,"",0,{"$f":"IF('Anhang Grundstücksverzeichnis'!G1613=Texte!$A$25,F1613,0)","v":0},{"$f":"IF('Anhang Grundstücksverzeichnis'!G1613=Texte!$A$26,F1613,0)","v":0},{"$f":"IF('Anhang Grundstücksverzeichnis'!G1613=Texte!$A$27,F1613,0)","v":0},{"$f":"IF('Anhang Grundstücksverzeichnis'!G1613=Texte!$A$28,F1613,0)","v":0}]
[1604,{"$f":"IF(C1614<>\"\",IF(ISNA(VLOOKUP(C1614,Katastralgemeinden!$A$2:$B$3041,2,FALSE)),\"Ungültige KG-Nummer!\",VLOOKUP(C1614,Katastralgemeinden!A$2:$B$3041,2,\"falsch\")),\"\")","v":""},null,null,null,null,null,null,null,null,"",0,{"$f":"IF('Anhang Grundstücksverzeichnis'!G1614=Texte!$A$25,F1614,0)","v":0},{"$f":"IF('Anhang Grundstücksverzeichnis'!G1614=Texte!$A$26,F1614,0)","v":0},{"$f":"IF('Anhang Grundstücksverzeichnis'!G1614=Texte!$A$27,F1614,0)","v":0},{"$f":"IF('Anhang Grundstücksverzeichnis'!G1614=Texte!$A$28,F1614,0)","v":0}]
[1605,{"$f":"IF(C1615<>\"\",IF(ISNA(VLOOKUP(C1615,Katastralgemeinden!$A$2:$B$3041,2,FALSE)),\"Ungültige KG-Nummer!\",VLOOKUP(C1615,Katastralgemeinden!A$2:$B$3041,2,\"falsch\")),\"\")","v":""},null,null,null,null,null,null,null,null,"",0,{"$f":"IF('Anhang Grundstücksverzeichnis'!G1615=Texte!$A$25,F1615,0)","v":0},{"$f":"IF('Anhang Grundstücksverzeichnis'!G1615=Texte!$A$26,F1615,0)","v":0},{"$f":"IF('Anhang Grundstücksverzeichnis'!G1615=Texte!$A$27,F1615,0)","v":0},{"$f":"IF('Anhang Grundstücksverzeichnis'!G1615=Texte!$A$28,F1615,0)","v":0}]
[1606,{"$f":"IF(C1616<>\"\",IF(ISNA(VLOOKUP(C1616,Katastralgemeinden!$A$2:$B$3041,2,FALSE)),\"Ungültige KG-Nummer!\",VLOOKUP(C1616,Katastralgemeinden!A$2:$B$3041,2,\"falsch\")),\"\")","v":""},null,null,null,null,null,null,null,null,"",0,{"$f":"IF('Anhang Grundstücksverzeichnis'!G1616=Texte!$A$25,F1616,0)","v":0},{"$f":"IF('Anhang Grundstücksverzeichnis'!G1616=Texte!$A$26,F1616,0)","v":0},{"$f":"IF('Anhang Grundstücksverzeichnis'!G1616=Texte!$A$27,F1616,0)","v":0},{"$f":"IF('Anhang Grundstücksverzeichnis'!G1616=Texte!$A$28,F1616,0)","v":0}]
[1607,{"$f":"IF(C1617<>\"\",IF(ISNA(VLOOKUP(C1617,Katastralgemeinden!$A$2:$B$3041,2,FALSE)),\"Ungültige KG-Nummer!\",VLOOKUP(C1617,Katastralgemeinden!A$2:$B$3041,2,\"falsch\")),\"\")","v":""},null,null,null,null,null,null,null,null,"",0,{"$f":"IF('Anhang Grundstücksverzeichnis'!G1617=Texte!$A$25,F1617,0)","v":0},{"$f":"IF('Anhang Grundstücksverzeichnis'!G1617=Texte!$A$26,F1617,0)","v":0},{"$f":"IF('Anhang Grundstücksverzeichnis'!G1617=Texte!$A$27,F1617,0)","v":0},{"$f":"IF('Anhang Grundstücksverzeichnis'!G1617=Texte!$A$28,F1617,0)","v":0}]
[1608,{"$f":"IF(C1618<>\"\",IF(ISNA(VLOOKUP(C1618,Katastralgemeinden!$A$2:$B$3041,2,FALSE)),\"Ungültige KG-Nummer!\",VLOOKUP(C1618,Katastralgemeinden!A$2:$B$3041,2,\"falsch\")),\"\")","v":""},null,null,null,null,null,null,null,null,"",0,{"$f":"IF('Anhang Grundstücksverzeichnis'!G1618=Texte!$A$25,F1618,0)","v":0},{"$f":"IF('Anhang Grundstücksverzeichnis'!G1618=Texte!$A$26,F1618,0)","v":0},{"$f":"IF('Anhang Grundstücksverzeichnis'!G1618=Texte!$A$27,F1618,0)","v":0},{"$f":"IF('Anhang Grundstücksverzeichnis'!G1618=Texte!$A$28,F1618,0)","v":0}]
[1609,{"$f":"IF(C1619<>\"\",IF(ISNA(VLOOKUP(C1619,Katastralgemeinden!$A$2:$B$3041,2,FALSE)),\"Ungültige KG-Nummer!\",VLOOKUP(C1619,Katastralgemeinden!A$2:$B$3041,2,\"falsch\")),\"\")","v":""},null,null,null,null,null,null,null,null,"",0,{"$f":"IF('Anhang Grundstücksverzeichnis'!G1619=Texte!$A$25,F1619,0)","v":0},{"$f":"IF('Anhang Grundstücksverzeichnis'!G1619=Texte!$A$26,F1619,0)","v":0},{"$f":"IF('Anhang Grundstücksverzeichnis'!G1619=Texte!$A$27,F1619,0)","v":0},{"$f":"IF('Anhang Grundstücksverzeichnis'!G1619=Texte!$A$28,F1619,0)","v":0}]
[1610,{"$f":"IF(C1620<>\"\",IF(ISNA(VLOOKUP(C1620,Katastralgemeinden!$A$2:$B$3041,2,FALSE)),\"Ungültige KG-Nummer!\",VLOOKUP(C1620,Katastralgemeinden!A$2:$B$3041,2,\"falsch\")),\"\")","v":""},null,null,null,null,null,null,null,null,"",0,{"$f":"IF('Anhang Grundstücksverzeichnis'!G1620=Texte!$A$25,F1620,0)","v":0},{"$f":"IF('Anhang Grundstücksverzeichnis'!G1620=Texte!$A$26,F1620,0)","v":0},{"$f":"IF('Anhang Grundstücksverzeichnis'!G1620=Texte!$A$27,F1620,0)","v":0},{"$f":"IF('Anhang Grundstücksverzeichnis'!G1620=Texte!$A$28,F1620,0)","v":0}]
[1611,{"$f":"IF(C1621<>\"\",IF(ISNA(VLOOKUP(C1621,Katastralgemeinden!$A$2:$B$3041,2,FALSE)),\"Ungültige KG-Nummer!\",VLOOKUP(C1621,Katastralgemeinden!A$2:$B$3041,2,\"falsch\")),\"\")","v":""},null,null,null,null,null,null,null,null,"",0,{"$f":"IF('Anhang Grundstücksverzeichnis'!G1621=Texte!$A$25,F1621,0)","v":0},{"$f":"IF('Anhang Grundstücksverzeichnis'!G1621=Texte!$A$26,F1621,0)","v":0},{"$f":"IF('Anhang Grundstücksverzeichnis'!G1621=Texte!$A$27,F1621,0)","v":0},{"$f":"IF('Anhang Grundstücksverzeichnis'!G1621=Texte!$A$28,F1621,0)","v":0}]
[1612,{"$f":"IF(C1622<>\"\",IF(ISNA(VLOOKUP(C1622,Katastralgemeinden!$A$2:$B$3041,2,FALSE)),\"Ungültige KG-Nummer!\",VLOOKUP(C1622,Katastralgemeinden!A$2:$B$3041,2,\"falsch\")),\"\")","v":""},null,null,null,null,null,null,null,null,"",0,{"$f":"IF('Anhang Grundstücksverzeichnis'!G1622=Texte!$A$25,F1622,0)","v":0},{"$f":"IF('Anhang Grundstücksverzeichnis'!G1622=Texte!$A$26,F1622,0)","v":0},{"$f":"IF('Anhang Grundstücksverzeichnis'!G1622=Texte!$A$27,F1622,0)","v":0},{"$f":"IF('Anhang Grundstücksverzeichnis'!G1622=Texte!$A$28,F1622,0)","v":0}]
[1613,{"$f":"IF(C1623<>\"\",IF(ISNA(VLOOKUP(C1623,Katastralgemeinden!$A$2:$B$3041,2,FALSE)),\"Ungültige KG-Nummer!\",VLOOKUP(C1623,Katastralgemeinden!A$2:$B$3041,2,\"falsch\")),\"\")","v":""},null,null,null,null,null,null,null,null,"",0,{"$f":"IF('Anhang Grundstücksverzeichnis'!G1623=Texte!$A$25,F1623,0)","v":0},{"$f":"IF('Anhang Grundstücksverzeichnis'!G1623=Texte!$A$26,F1623,0)","v":0},{"$f":"IF('Anhang Grundstücksverzeichnis'!G1623=Texte!$A$27,F1623,0)","v":0},{"$f":"IF('Anhang Grundstücksverzeichnis'!G1623=Texte!$A$28,F1623,0)","v":0}]
[1614,{"$f":"IF(C1624<>\"\",IF(ISNA(VLOOKUP(C1624,Katastralgemeinden!$A$2:$B$3041,2,FALSE)),\"Ungültige KG-Nummer!\",VLOOKUP(C1624,Katastralgemeinden!A$2:$B$3041,2,\"falsch\")),\"\")","v":""},null,null,null,null,null,null,null,null,"",0,{"$f":"IF('Anhang Grundstücksverzeichnis'!G1624=Texte!$A$25,F1624,0)","v":0},{"$f":"IF('Anhang Grundstücksverzeichnis'!G1624=Texte!$A$26,F1624,0)","v":0},{"$f":"IF('Anhang Grundstücksverzeichnis'!G1624=Texte!$A$27,F1624,0)","v":0},{"$f":"IF('Anhang Grundstücksverzeichnis'!G1624=Texte!$A$28,F1624,0)","v":0}]
[1615,{"$f":"IF(C1625<>\"\",IF(ISNA(VLOOKUP(C1625,Katastralgemeinden!$A$2:$B$3041,2,FALSE)),\"Ungültige KG-Nummer!\",VLOOKUP(C1625,Katastralgemeinden!A$2:$B$3041,2,\"falsch\")),\"\")","v":""},null,null,null,null,null,null,null,null,"",0,{"$f":"IF('Anhang Grundstücksverzeichnis'!G1625=Texte!$A$25,F1625,0)","v":0},{"$f":"IF('Anhang Grundstücksverzeichnis'!G1625=Texte!$A$26,F1625,0)","v":0},{"$f":"IF('Anhang Grundstücksverzeichnis'!G1625=Texte!$A$27,F1625,0)","v":0},{"$f":"IF('Anhang Grundstücksverzeichnis'!G1625=Texte!$A$28,F1625,0)","v":0}]
[1616,{"$f":"IF(C1626<>\"\",IF(ISNA(VLOOKUP(C1626,Katastralgemeinden!$A$2:$B$3041,2,FALSE)),\"Ungültige KG-Nummer!\",VLOOKUP(C1626,Katastralgemeinden!A$2:$B$3041,2,\"falsch\")),\"\")","v":""},null,null,null,null,null,null,null,null,"",0,{"$f":"IF('Anhang Grundstücksverzeichnis'!G1626=Texte!$A$25,F1626,0)","v":0},{"$f":"IF('Anhang Grundstücksverzeichnis'!G1626=Texte!$A$26,F1626,0)","v":0},{"$f":"IF('Anhang Grundstücksverzeichnis'!G1626=Texte!$A$27,F1626,0)","v":0},{"$f":"IF('Anhang Grundstücksverzeichnis'!G1626=Texte!$A$28,F1626,0)","v":0}]
[1617,{"$f":"IF(C1627<>\"\",IF(ISNA(VLOOKUP(C1627,Katastralgemeinden!$A$2:$B$3041,2,FALSE)),\"Ungültige KG-Nummer!\",VLOOKUP(C1627,Katastralgemeinden!A$2:$B$3041,2,\"falsch\")),\"\")","v":""},null,null,null,null,null,null,null,null,"",0,{"$f":"IF('Anhang Grundstücksverzeichnis'!G1627=Texte!$A$25,F1627,0)","v":0},{"$f":"IF('Anhang Grundstücksverzeichnis'!G1627=Texte!$A$26,F1627,0)","v":0},{"$f":"IF('Anhang Grundstücksverzeichnis'!G1627=Texte!$A$27,F1627,0)","v":0},{"$f":"IF('Anhang Grundstücksverzeichnis'!G1627=Texte!$A$28,F1627,0)","v":0}]
[1618,{"$f":"IF(C1628<>\"\",IF(ISNA(VLOOKUP(C1628,Katastralgemeinden!$A$2:$B$3041,2,FALSE)),\"Ungültige KG-Nummer!\",VLOOKUP(C1628,Katastralgemeinden!A$2:$B$3041,2,\"falsch\")),\"\")","v":""},null,null,null,null,null,null,null,null,"",0,{"$f":"IF('Anhang Grundstücksverzeichnis'!G1628=Texte!$A$25,F1628,0)","v":0},{"$f":"IF('Anhang Grundstücksverzeichnis'!G1628=Texte!$A$26,F1628,0)","v":0},{"$f":"IF('Anhang Grundstücksverzeichnis'!G1628=Texte!$A$27,F1628,0)","v":0},{"$f":"IF('Anhang Grundstücksverzeichnis'!G1628=Texte!$A$28,F1628,0)","v":0}]
[1619,{"$f":"IF(C1629<>\"\",IF(ISNA(VLOOKUP(C1629,Katastralgemeinden!$A$2:$B$3041,2,FALSE)),\"Ungültige KG-Nummer!\",VLOOKUP(C1629,Katastralgemeinden!A$2:$B$3041,2,\"falsch\")),\"\")","v":""},null,null,null,null,null,null,null,null,"",0,{"$f":"IF('Anhang Grundstücksverzeichnis'!G1629=Texte!$A$25,F1629,0)","v":0},{"$f":"IF('Anhang Grundstücksverzeichnis'!G1629=Texte!$A$26,F1629,0)","v":0},{"$f":"IF('Anhang Grundstücksverzeichnis'!G1629=Texte!$A$27,F1629,0)","v":0},{"$f":"IF('Anhang Grundstücksverzeichnis'!G1629=Texte!$A$28,F1629,0)","v":0}]
[1620,{"$f":"IF(C1630<>\"\",IF(ISNA(VLOOKUP(C1630,Katastralgemeinden!$A$2:$B$3041,2,FALSE)),\"Ungültige KG-Nummer!\",VLOOKUP(C1630,Katastralgemeinden!A$2:$B$3041,2,\"falsch\")),\"\")","v":""},null,null,null,null,null,null,null,null,"",0,{"$f":"IF('Anhang Grundstücksverzeichnis'!G1630=Texte!$A$25,F1630,0)","v":0},{"$f":"IF('Anhang Grundstücksverzeichnis'!G1630=Texte!$A$26,F1630,0)","v":0},{"$f":"IF('Anhang Grundstücksverzeichnis'!G1630=Texte!$A$27,F1630,0)","v":0},{"$f":"IF('Anhang Grundstücksverzeichnis'!G1630=Texte!$A$28,F1630,0)","v":0}]
[1621,{"$f":"IF(C1631<>\"\",IF(ISNA(VLOOKUP(C1631,Katastralgemeinden!$A$2:$B$3041,2,FALSE)),\"Ungültige KG-Nummer!\",VLOOKUP(C1631,Katastralgemeinden!A$2:$B$3041,2,\"falsch\")),\"\")","v":""},null,null,null,null,null,null,null,null,"",0,{"$f":"IF('Anhang Grundstücksverzeichnis'!G1631=Texte!$A$25,F1631,0)","v":0},{"$f":"IF('Anhang Grundstücksverzeichnis'!G1631=Texte!$A$26,F1631,0)","v":0},{"$f":"IF('Anhang Grundstücksverzeichnis'!G1631=Texte!$A$27,F1631,0)","v":0},{"$f":"IF('Anhang Grundstücksverzeichnis'!G1631=Texte!$A$28,F1631,0)","v":0}]
[1622,{"$f":"IF(C1632<>\"\",IF(ISNA(VLOOKUP(C1632,Katastralgemeinden!$A$2:$B$3041,2,FALSE)),\"Ungültige KG-Nummer!\",VLOOKUP(C1632,Katastralgemeinden!A$2:$B$3041,2,\"falsch\")),\"\")","v":""},null,null,null,null,null,null,null,null,"",0,{"$f":"IF('Anhang Grundstücksverzeichnis'!G1632=Texte!$A$25,F1632,0)","v":0},{"$f":"IF('Anhang Grundstücksverzeichnis'!G1632=Texte!$A$26,F1632,0)","v":0},{"$f":"IF('Anhang Grundstücksverzeichnis'!G1632=Texte!$A$27,F1632,0)","v":0},{"$f":"IF('Anhang Grundstücksverzeichnis'!G1632=Texte!$A$28,F1632,0)","v":0}]
[1623,{"$f":"IF(C1633<>\"\",IF(ISNA(VLOOKUP(C1633,Katastralgemeinden!$A$2:$B$3041,2,FALSE)),\"Ungültige KG-Nummer!\",VLOOKUP(C1633,Katastralgemeinden!A$2:$B$3041,2,\"falsch\")),\"\")","v":""},null,null,null,null,null,null,null,null,"",0,{"$f":"IF('Anhang Grundstücksverzeichnis'!G1633=Texte!$A$25,F1633,0)","v":0},{"$f":"IF('Anhang Grundstücksverzeichnis'!G1633=Texte!$A$26,F1633,0)","v":0},{"$f":"IF('Anhang Grundstücksverzeichnis'!G1633=Texte!$A$27,F1633,0)","v":0},{"$f":"IF('Anhang Grundstücksverzeichnis'!G1633=Texte!$A$28,F1633,0)","v":0}]
[1624,{"$f":"IF(C1634<>\"\",IF(ISNA(VLOOKUP(C1634,Katastralgemeinden!$A$2:$B$3041,2,FALSE)),\"Ungültige KG-Nummer!\",VLOOKUP(C1634,Katastralgemeinden!A$2:$B$3041,2,\"falsch\")),\"\")","v":""},null,null,null,null,null,null,null,null,"",0,{"$f":"IF('Anhang Grundstücksverzeichnis'!G1634=Texte!$A$25,F1634,0)","v":0},{"$f":"IF('Anhang Grundstücksverzeichnis'!G1634=Texte!$A$26,F1634,0)","v":0},{"$f":"IF('Anhang Grundstücksverzeichnis'!G1634=Texte!$A$27,F1634,0)","v":0},{"$f":"IF('Anhang Grundstücksverzeichnis'!G1634=Texte!$A$28,F1634,0)","v":0}]
[1625,{"$f":"IF(C1635<>\"\",IF(ISNA(VLOOKUP(C1635,Katastralgemeinden!$A$2:$B$3041,2,FALSE)),\"Ungültige KG-Nummer!\",VLOOKUP(C1635,Katastralgemeinden!A$2:$B$3041,2,\"falsch\")),\"\")","v":""},null,null,null,null,null,null,null,null,"",0,{"$f":"IF('Anhang Grundstücksverzeichnis'!G1635=Texte!$A$25,F1635,0)","v":0},{"$f":"IF('Anhang Grundstücksverzeichnis'!G1635=Texte!$A$26,F1635,0)","v":0},{"$f":"IF('Anhang Grundstücksverzeichnis'!G1635=Texte!$A$27,F1635,0)","v":0},{"$f":"IF('Anhang Grundstücksverzeichnis'!G1635=Texte!$A$28,F1635,0)","v":0}]
[1626,{"$f":"IF(C1636<>\"\",IF(ISNA(VLOOKUP(C1636,Katastralgemeinden!$A$2:$B$3041,2,FALSE)),\"Ungültige KG-Nummer!\",VLOOKUP(C1636,Katastralgemeinden!A$2:$B$3041,2,\"falsch\")),\"\")","v":""},null,null,null,null,null,null,null,null,"",0,{"$f":"IF('Anhang Grundstücksverzeichnis'!G1636=Texte!$A$25,F1636,0)","v":0},{"$f":"IF('Anhang Grundstücksverzeichnis'!G1636=Texte!$A$26,F1636,0)","v":0},{"$f":"IF('Anhang Grundstücksverzeichnis'!G1636=Texte!$A$27,F1636,0)","v":0},{"$f":"IF('Anhang Grundstücksverzeichnis'!G1636=Texte!$A$28,F1636,0)","v":0}]
[1627,{"$f":"IF(C1637<>\"\",IF(ISNA(VLOOKUP(C1637,Katastralgemeinden!$A$2:$B$3041,2,FALSE)),\"Ungültige KG-Nummer!\",VLOOKUP(C1637,Katastralgemeinden!A$2:$B$3041,2,\"falsch\")),\"\")","v":""},null,null,null,null,null,null,null,null,"",0,{"$f":"IF('Anhang Grundstücksverzeichnis'!G1637=Texte!$A$25,F1637,0)","v":0},{"$f":"IF('Anhang Grundstücksverzeichnis'!G1637=Texte!$A$26,F1637,0)","v":0},{"$f":"IF('Anhang Grundstücksverzeichnis'!G1637=Texte!$A$27,F1637,0)","v":0},{"$f":"IF('Anhang Grundstücksverzeichnis'!G1637=Texte!$A$28,F1637,0)","v":0}]
[1628,{"$f":"IF(C1638<>\"\",IF(ISNA(VLOOKUP(C1638,Katastralgemeinden!$A$2:$B$3041,2,FALSE)),\"Ungültige KG-Nummer!\",VLOOKUP(C1638,Katastralgemeinden!A$2:$B$3041,2,\"falsch\")),\"\")","v":""},null,null,null,null,null,null,null,null,"",0,{"$f":"IF('Anhang Grundstücksverzeichnis'!G1638=Texte!$A$25,F1638,0)","v":0},{"$f":"IF('Anhang Grundstücksverzeichnis'!G1638=Texte!$A$26,F1638,0)","v":0},{"$f":"IF('Anhang Grundstücksverzeichnis'!G1638=Texte!$A$27,F1638,0)","v":0},{"$f":"IF('Anhang Grundstücksverzeichnis'!G1638=Texte!$A$28,F1638,0)","v":0}]
[1629,{"$f":"IF(C1639<>\"\",IF(ISNA(VLOOKUP(C1639,Katastralgemeinden!$A$2:$B$3041,2,FALSE)),\"Ungültige KG-Nummer!\",VLOOKUP(C1639,Katastralgemeinden!A$2:$B$3041,2,\"falsch\")),\"\")","v":""},null,null,null,null,null,null,null,null,"",0,{"$f":"IF('Anhang Grundstücksverzeichnis'!G1639=Texte!$A$25,F1639,0)","v":0},{"$f":"IF('Anhang Grundstücksverzeichnis'!G1639=Texte!$A$26,F1639,0)","v":0},{"$f":"IF('Anhang Grundstücksverzeichnis'!G1639=Texte!$A$27,F1639,0)","v":0},{"$f":"IF('Anhang Grundstücksverzeichnis'!G1639=Texte!$A$28,F1639,0)","v":0}]
[1630,{"$f":"IF(C1640<>\"\",IF(ISNA(VLOOKUP(C1640,Katastralgemeinden!$A$2:$B$3041,2,FALSE)),\"Ungültige KG-Nummer!\",VLOOKUP(C1640,Katastralgemeinden!A$2:$B$3041,2,\"falsch\")),\"\")","v":""},null,null,null,null,null,null,null,null,"",0,{"$f":"IF('Anhang Grundstücksverzeichnis'!G1640=Texte!$A$25,F1640,0)","v":0},{"$f":"IF('Anhang Grundstücksverzeichnis'!G1640=Texte!$A$26,F1640,0)","v":0},{"$f":"IF('Anhang Grundstücksverzeichnis'!G1640=Texte!$A$27,F1640,0)","v":0},{"$f":"IF('Anhang Grundstücksverzeichnis'!G1640=Texte!$A$28,F1640,0)","v":0}]
[1631,{"$f":"IF(C1641<>\"\",IF(ISNA(VLOOKUP(C1641,Katastralgemeinden!$A$2:$B$3041,2,FALSE)),\"Ungültige KG-Nummer!\",VLOOKUP(C1641,Katastralgemeinden!A$2:$B$3041,2,\"falsch\")),\"\")","v":""},null,null,null,null,null,null,null,null,"",0,{"$f":"IF('Anhang Grundstücksverzeichnis'!G1641=Texte!$A$25,F1641,0)","v":0},{"$f":"IF('Anhang Grundstücksverzeichnis'!G1641=Texte!$A$26,F1641,0)","v":0},{"$f":"IF('Anhang Grundstücksverzeichnis'!G1641=Texte!$A$27,F1641,0)","v":0},{"$f":"IF('Anhang Grundstücksverzeichnis'!G1641=Texte!$A$28,F1641,0)","v":0}]
[1632,{"$f":"IF(C1642<>\"\",IF(ISNA(VLOOKUP(C1642,Katastralgemeinden!$A$2:$B$3041,2,FALSE)),\"Ungültige KG-Nummer!\",VLOOKUP(C1642,Katastralgemeinden!A$2:$B$3041,2,\"falsch\")),\"\")","v":""},null,null,null,null,null,null,null,null,"",0,{"$f":"IF('Anhang Grundstücksverzeichnis'!G1642=Texte!$A$25,F1642,0)","v":0},{"$f":"IF('Anhang Grundstücksverzeichnis'!G1642=Texte!$A$26,F1642,0)","v":0},{"$f":"IF('Anhang Grundstücksverzeichnis'!G1642=Texte!$A$27,F1642,0)","v":0},{"$f":"IF('Anhang Grundstücksverzeichnis'!G1642=Texte!$A$28,F1642,0)","v":0}]
[1633,{"$f":"IF(C1643<>\"\",IF(ISNA(VLOOKUP(C1643,Katastralgemeinden!$A$2:$B$3041,2,FALSE)),\"Ungültige KG-Nummer!\",VLOOKUP(C1643,Katastralgemeinden!A$2:$B$3041,2,\"falsch\")),\"\")","v":""},null,null,null,null,null,null,null,null,"",0,{"$f":"IF('Anhang Grundstücksverzeichnis'!G1643=Texte!$A$25,F1643,0)","v":0},{"$f":"IF('Anhang Grundstücksverzeichnis'!G1643=Texte!$A$26,F1643,0)","v":0},{"$f":"IF('Anhang Grundstücksverzeichnis'!G1643=Texte!$A$27,F1643,0)","v":0},{"$f":"IF('Anhang Grundstücksverzeichnis'!G1643=Texte!$A$28,F1643,0)","v":0}]
[1634,{"$f":"IF(C1644<>\"\",IF(ISNA(VLOOKUP(C1644,Katastralgemeinden!$A$2:$B$3041,2,FALSE)),\"Ungültige KG-Nummer!\",VLOOKUP(C1644,Katastralgemeinden!A$2:$B$3041,2,\"falsch\")),\"\")","v":""},null,null,null,null,null,null,null,null,"",0,{"$f":"IF('Anhang Grundstücksverzeichnis'!G1644=Texte!$A$25,F1644,0)","v":0},{"$f":"IF('Anhang Grundstücksverzeichnis'!G1644=Texte!$A$26,F1644,0)","v":0},{"$f":"IF('Anhang Grundstücksverzeichnis'!G1644=Texte!$A$27,F1644,0)","v":0},{"$f":"IF('Anhang Grundstücksverzeichnis'!G1644=Texte!$A$28,F1644,0)","v":0}]
[1635,{"$f":"IF(C1645<>\"\",IF(ISNA(VLOOKUP(C1645,Katastralgemeinden!$A$2:$B$3041,2,FALSE)),\"Ungültige KG-Nummer!\",VLOOKUP(C1645,Katastralgemeinden!A$2:$B$3041,2,\"falsch\")),\"\")","v":""},null,null,null,null,null,null,null,null,"",0,{"$f":"IF('Anhang Grundstücksverzeichnis'!G1645=Texte!$A$25,F1645,0)","v":0},{"$f":"IF('Anhang Grundstücksverzeichnis'!G1645=Texte!$A$26,F1645,0)","v":0},{"$f":"IF('Anhang Grundstücksverzeichnis'!G1645=Texte!$A$27,F1645,0)","v":0},{"$f":"IF('Anhang Grundstücksverzeichnis'!G1645=Texte!$A$28,F1645,0)","v":0}]
[1636,{"$f":"IF(C1646<>\"\",IF(ISNA(VLOOKUP(C1646,Katastralgemeinden!$A$2:$B$3041,2,FALSE)),\"Ungültige KG-Nummer!\",VLOOKUP(C1646,Katastralgemeinden!A$2:$B$3041,2,\"falsch\")),\"\")","v":""},null,null,null,null,null,null,null,null,"",0,{"$f":"IF('Anhang Grundstücksverzeichnis'!G1646=Texte!$A$25,F1646,0)","v":0},{"$f":"IF('Anhang Grundstücksverzeichnis'!G1646=Texte!$A$26,F1646,0)","v":0},{"$f":"IF('Anhang Grundstücksverzeichnis'!G1646=Texte!$A$27,F1646,0)","v":0},{"$f":"IF('Anhang Grundstücksverzeichnis'!G1646=Texte!$A$28,F1646,0)","v":0}]
[1637,{"$f":"IF(C1647<>\"\",IF(ISNA(VLOOKUP(C1647,Katastralgemeinden!$A$2:$B$3041,2,FALSE)),\"Ungültige KG-Nummer!\",VLOOKUP(C1647,Katastralgemeinden!A$2:$B$3041,2,\"falsch\")),\"\")","v":""},null,null,null,null,null,null,null,null,"",0,{"$f":"IF('Anhang Grundstücksverzeichnis'!G1647=Texte!$A$25,F1647,0)","v":0},{"$f":"IF('Anhang Grundstücksverzeichnis'!G1647=Texte!$A$26,F1647,0)","v":0},{"$f":"IF('Anhang Grundstücksverzeichnis'!G1647=Texte!$A$27,F1647,0)","v":0},{"$f":"IF('Anhang Grundstücksverzeichnis'!G1647=Texte!$A$28,F1647,0)","v":0}]
[1638,{"$f":"IF(C1648<>\"\",IF(ISNA(VLOOKUP(C1648,Katastralgemeinden!$A$2:$B$3041,2,FALSE)),\"Ungültige KG-Nummer!\",VLOOKUP(C1648,Katastralgemeinden!A$2:$B$3041,2,\"falsch\")),\"\")","v":""},null,null,null,null,null,null,null,null,"",0,{"$f":"IF('Anhang Grundstücksverzeichnis'!G1648=Texte!$A$25,F1648,0)","v":0},{"$f":"IF('Anhang Grundstücksverzeichnis'!G1648=Texte!$A$26,F1648,0)","v":0},{"$f":"IF('Anhang Grundstücksverzeichnis'!G1648=Texte!$A$27,F1648,0)","v":0},{"$f":"IF('Anhang Grundstücksverzeichnis'!G1648=Texte!$A$28,F1648,0)","v":0}]
[1639,{"$f":"IF(C1649<>\"\",IF(ISNA(VLOOKUP(C1649,Katastralgemeinden!$A$2:$B$3041,2,FALSE)),\"Ungültige KG-Nummer!\",VLOOKUP(C1649,Katastralgemeinden!A$2:$B$3041,2,\"falsch\")),\"\")","v":""},null,null,null,null,null,null,null,null,"",0,{"$f":"IF('Anhang Grundstücksverzeichnis'!G1649=Texte!$A$25,F1649,0)","v":0},{"$f":"IF('Anhang Grundstücksverzeichnis'!G1649=Texte!$A$26,F1649,0)","v":0},{"$f":"IF('Anhang Grundstücksverzeichnis'!G1649=Texte!$A$27,F1649,0)","v":0},{"$f":"IF('Anhang Grundstücksverzeichnis'!G1649=Texte!$A$28,F1649,0)","v":0}]
[1640,{"$f":"IF(C1650<>\"\",IF(ISNA(VLOOKUP(C1650,Katastralgemeinden!$A$2:$B$3041,2,FALSE)),\"Ungültige KG-Nummer!\",VLOOKUP(C1650,Katastralgemeinden!A$2:$B$3041,2,\"falsch\")),\"\")","v":""},null,null,null,null,null,null,null,null,"",0,{"$f":"IF('Anhang Grundstücksverzeichnis'!G1650=Texte!$A$25,F1650,0)","v":0},{"$f":"IF('Anhang Grundstücksverzeichnis'!G1650=Texte!$A$26,F1650,0)","v":0},{"$f":"IF('Anhang Grundstücksverzeichnis'!G1650=Texte!$A$27,F1650,0)","v":0},{"$f":"IF('Anhang Grundstücksverzeichnis'!G1650=Texte!$A$28,F1650,0)","v":0}]
[1641,{"$f":"IF(C1651<>\"\",IF(ISNA(VLOOKUP(C1651,Katastralgemeinden!$A$2:$B$3041,2,FALSE)),\"Ungültige KG-Nummer!\",VLOOKUP(C1651,Katastralgemeinden!A$2:$B$3041,2,\"falsch\")),\"\")","v":""},null,null,null,null,null,null,null,null,"",0,{"$f":"IF('Anhang Grundstücksverzeichnis'!G1651=Texte!$A$25,F1651,0)","v":0},{"$f":"IF('Anhang Grundstücksverzeichnis'!G1651=Texte!$A$26,F1651,0)","v":0},{"$f":"IF('Anhang Grundstücksverzeichnis'!G1651=Texte!$A$27,F1651,0)","v":0},{"$f":"IF('Anhang Grundstücksverzeichnis'!G1651=Texte!$A$28,F1651,0)","v":0}]
[1642,{"$f":"IF(C1652<>\"\",IF(ISNA(VLOOKUP(C1652,Katastralgemeinden!$A$2:$B$3041,2,FALSE)),\"Ungültige KG-Nummer!\",VLOOKUP(C1652,Katastralgemeinden!A$2:$B$3041,2,\"falsch\")),\"\")","v":""},null,null,null,null,null,null,null,null,"",0,{"$f":"IF('Anhang Grundstücksverzeichnis'!G1652=Texte!$A$25,F1652,0)","v":0},{"$f":"IF('Anhang Grundstücksverzeichnis'!G1652=Texte!$A$26,F1652,0)","v":0},{"$f":"IF('Anhang Grundstücksverzeichnis'!G1652=Texte!$A$27,F1652,0)","v":0},{"$f":"IF('Anhang Grundstücksverzeichnis'!G1652=Texte!$A$28,F1652,0)","v":0}]
[1643,{"$f":"IF(C1653<>\"\",IF(ISNA(VLOOKUP(C1653,Katastralgemeinden!$A$2:$B$3041,2,FALSE)),\"Ungültige KG-Nummer!\",VLOOKUP(C1653,Katastralgemeinden!A$2:$B$3041,2,\"falsch\")),\"\")","v":""},null,null,null,null,null,null,null,null,"",0,{"$f":"IF('Anhang Grundstücksverzeichnis'!G1653=Texte!$A$25,F1653,0)","v":0},{"$f":"IF('Anhang Grundstücksverzeichnis'!G1653=Texte!$A$26,F1653,0)","v":0},{"$f":"IF('Anhang Grundstücksverzeichnis'!G1653=Texte!$A$27,F1653,0)","v":0},{"$f":"IF('Anhang Grundstücksverzeichnis'!G1653=Texte!$A$28,F1653,0)","v":0}]
[1644,{"$f":"IF(C1654<>\"\",IF(ISNA(VLOOKUP(C1654,Katastralgemeinden!$A$2:$B$3041,2,FALSE)),\"Ungültige KG-Nummer!\",VLOOKUP(C1654,Katastralgemeinden!A$2:$B$3041,2,\"falsch\")),\"\")","v":""},null,null,null,null,null,null,null,null,"",0,{"$f":"IF('Anhang Grundstücksverzeichnis'!G1654=Texte!$A$25,F1654,0)","v":0},{"$f":"IF('Anhang Grundstücksverzeichnis'!G1654=Texte!$A$26,F1654,0)","v":0},{"$f":"IF('Anhang Grundstücksverzeichnis'!G1654=Texte!$A$27,F1654,0)","v":0},{"$f":"IF('Anhang Grundstücksverzeichnis'!G1654=Texte!$A$28,F1654,0)","v":0}]
[1645,{"$f":"IF(C1655<>\"\",IF(ISNA(VLOOKUP(C1655,Katastralgemeinden!$A$2:$B$3041,2,FALSE)),\"Ungültige KG-Nummer!\",VLOOKUP(C1655,Katastralgemeinden!A$2:$B$3041,2,\"falsch\")),\"\")","v":""},null,null,null,null,null,null,null,null,"",0,{"$f":"IF('Anhang Grundstücksverzeichnis'!G1655=Texte!$A$25,F1655,0)","v":0},{"$f":"IF('Anhang Grundstücksverzeichnis'!G1655=Texte!$A$26,F1655,0)","v":0},{"$f":"IF('Anhang Grundstücksverzeichnis'!G1655=Texte!$A$27,F1655,0)","v":0},{"$f":"IF('Anhang Grundstücksverzeichnis'!G1655=Texte!$A$28,F1655,0)","v":0}]
[1646,{"$f":"IF(C1656<>\"\",IF(ISNA(VLOOKUP(C1656,Katastralgemeinden!$A$2:$B$3041,2,FALSE)),\"Ungültige KG-Nummer!\",VLOOKUP(C1656,Katastralgemeinden!A$2:$B$3041,2,\"falsch\")),\"\")","v":""},null,null,null,null,null,null,null,null,"",0,{"$f":"IF('Anhang Grundstücksverzeichnis'!G1656=Texte!$A$25,F1656,0)","v":0},{"$f":"IF('Anhang Grundstücksverzeichnis'!G1656=Texte!$A$26,F1656,0)","v":0},{"$f":"IF('Anhang Grundstücksverzeichnis'!G1656=Texte!$A$27,F1656,0)","v":0},{"$f":"IF('Anhang Grundstücksverzeichnis'!G1656=Texte!$A$28,F1656,0)","v":0}]
[1647,{"$f":"IF(C1657<>\"\",IF(ISNA(VLOOKUP(C1657,Katastralgemeinden!$A$2:$B$3041,2,FALSE)),\"Ungültige KG-Nummer!\",VLOOKUP(C1657,Katastralgemeinden!A$2:$B$3041,2,\"falsch\")),\"\")","v":""},null,null,null,null,null,null,null,null,"",0,{"$f":"IF('Anhang Grundstücksverzeichnis'!G1657=Texte!$A$25,F1657,0)","v":0},{"$f":"IF('Anhang Grundstücksverzeichnis'!G1657=Texte!$A$26,F1657,0)","v":0},{"$f":"IF('Anhang Grundstücksverzeichnis'!G1657=Texte!$A$27,F1657,0)","v":0},{"$f":"IF('Anhang Grundstücksverzeichnis'!G1657=Texte!$A$28,F1657,0)","v":0}]
[1648,{"$f":"IF(C1658<>\"\",IF(ISNA(VLOOKUP(C1658,Katastralgemeinden!$A$2:$B$3041,2,FALSE)),\"Ungültige KG-Nummer!\",VLOOKUP(C1658,Katastralgemeinden!A$2:$B$3041,2,\"falsch\")),\"\")","v":""},null,null,null,null,null,null,null,null,"",0,{"$f":"IF('Anhang Grundstücksverzeichnis'!G1658=Texte!$A$25,F1658,0)","v":0},{"$f":"IF('Anhang Grundstücksverzeichnis'!G1658=Texte!$A$26,F1658,0)","v":0},{"$f":"IF('Anhang Grundstücksverzeichnis'!G1658=Texte!$A$27,F1658,0)","v":0},{"$f":"IF('Anhang Grundstücksverzeichnis'!G1658=Texte!$A$28,F1658,0)","v":0}]
[1649,{"$f":"IF(C1659<>\"\",IF(ISNA(VLOOKUP(C1659,Katastralgemeinden!$A$2:$B$3041,2,FALSE)),\"Ungültige KG-Nummer!\",VLOOKUP(C1659,Katastralgemeinden!A$2:$B$3041,2,\"falsch\")),\"\")","v":""},null,null,null,null,null,null,null,null,"",0,{"$f":"IF('Anhang Grundstücksverzeichnis'!G1659=Texte!$A$25,F1659,0)","v":0},{"$f":"IF('Anhang Grundstücksverzeichnis'!G1659=Texte!$A$26,F1659,0)","v":0},{"$f":"IF('Anhang Grundstücksverzeichnis'!G1659=Texte!$A$27,F1659,0)","v":0},{"$f":"IF('Anhang Grundstücksverzeichnis'!G1659=Texte!$A$28,F1659,0)","v":0}]
[1650,{"$f":"IF(C1660<>\"\",IF(ISNA(VLOOKUP(C1660,Katastralgemeinden!$A$2:$B$3041,2,FALSE)),\"Ungültige KG-Nummer!\",VLOOKUP(C1660,Katastralgemeinden!A$2:$B$3041,2,\"falsch\")),\"\")","v":""},null,null,null,null,null,null,null,null,"",0,{"$f":"IF('Anhang Grundstücksverzeichnis'!G1660=Texte!$A$25,F1660,0)","v":0},{"$f":"IF('Anhang Grundstücksverzeichnis'!G1660=Texte!$A$26,F1660,0)","v":0},{"$f":"IF('Anhang Grundstücksverzeichnis'!G1660=Texte!$A$27,F1660,0)","v":0},{"$f":"IF('Anhang Grundstücksverzeichnis'!G1660=Texte!$A$28,F1660,0)","v":0}]
[1651,{"$f":"IF(C1661<>\"\",IF(ISNA(VLOOKUP(C1661,Katastralgemeinden!$A$2:$B$3041,2,FALSE)),\"Ungültige KG-Nummer!\",VLOOKUP(C1661,Katastralgemeinden!A$2:$B$3041,2,\"falsch\")),\"\")","v":""},null,null,null,null,null,null,null,null,"",0,{"$f":"IF('Anhang Grundstücksverzeichnis'!G1661=Texte!$A$25,F1661,0)","v":0},{"$f":"IF('Anhang Grundstücksverzeichnis'!G1661=Texte!$A$26,F1661,0)","v":0},{"$f":"IF('Anhang Grundstücksverzeichnis'!G1661=Texte!$A$27,F1661,0)","v":0},{"$f":"IF('Anhang Grundstücksverzeichnis'!G1661=Texte!$A$28,F1661,0)","v":0}]
[1652,{"$f":"IF(C1662<>\"\",IF(ISNA(VLOOKUP(C1662,Katastralgemeinden!$A$2:$B$3041,2,FALSE)),\"Ungültige KG-Nummer!\",VLOOKUP(C1662,Katastralgemeinden!A$2:$B$3041,2,\"falsch\")),\"\")","v":""},null,null,null,null,null,null,null,null,"",0,{"$f":"IF('Anhang Grundstücksverzeichnis'!G1662=Texte!$A$25,F1662,0)","v":0},{"$f":"IF('Anhang Grundstücksverzeichnis'!G1662=Texte!$A$26,F1662,0)","v":0},{"$f":"IF('Anhang Grundstücksverzeichnis'!G1662=Texte!$A$27,F1662,0)","v":0},{"$f":"IF('Anhang Grundstücksverzeichnis'!G1662=Texte!$A$28,F1662,0)","v":0}]
[1653,{"$f":"IF(C1663<>\"\",IF(ISNA(VLOOKUP(C1663,Katastralgemeinden!$A$2:$B$3041,2,FALSE)),\"Ungültige KG-Nummer!\",VLOOKUP(C1663,Katastralgemeinden!A$2:$B$3041,2,\"falsch\")),\"\")","v":""},null,null,null,null,null,null,null,null,"",0,{"$f":"IF('Anhang Grundstücksverzeichnis'!G1663=Texte!$A$25,F1663,0)","v":0},{"$f":"IF('Anhang Grundstücksverzeichnis'!G1663=Texte!$A$26,F1663,0)","v":0},{"$f":"IF('Anhang Grundstücksverzeichnis'!G1663=Texte!$A$27,F1663,0)","v":0},{"$f":"IF('Anhang Grundstücksverzeichnis'!G1663=Texte!$A$28,F1663,0)","v":0}]
[1654,{"$f":"IF(C1664<>\"\",IF(ISNA(VLOOKUP(C1664,Katastralgemeinden!$A$2:$B$3041,2,FALSE)),\"Ungültige KG-Nummer!\",VLOOKUP(C1664,Katastralgemeinden!A$2:$B$3041,2,\"falsch\")),\"\")","v":""},null,null,null,null,null,null,null,null,"",0,{"$f":"IF('Anhang Grundstücksverzeichnis'!G1664=Texte!$A$25,F1664,0)","v":0},{"$f":"IF('Anhang Grundstücksverzeichnis'!G1664=Texte!$A$26,F1664,0)","v":0},{"$f":"IF('Anhang Grundstücksverzeichnis'!G1664=Texte!$A$27,F1664,0)","v":0},{"$f":"IF('Anhang Grundstücksverzeichnis'!G1664=Texte!$A$28,F1664,0)","v":0}]
[1655,{"$f":"IF(C1665<>\"\",IF(ISNA(VLOOKUP(C1665,Katastralgemeinden!$A$2:$B$3041,2,FALSE)),\"Ungültige KG-Nummer!\",VLOOKUP(C1665,Katastralgemeinden!A$2:$B$3041,2,\"falsch\")),\"\")","v":""},null,null,null,null,null,null,null,null,"",0,{"$f":"IF('Anhang Grundstücksverzeichnis'!G1665=Texte!$A$25,F1665,0)","v":0},{"$f":"IF('Anhang Grundstücksverzeichnis'!G1665=Texte!$A$26,F1665,0)","v":0},{"$f":"IF('Anhang Grundstücksverzeichnis'!G1665=Texte!$A$27,F1665,0)","v":0},{"$f":"IF('Anhang Grundstücksverzeichnis'!G1665=Texte!$A$28,F1665,0)","v":0}]
[1656,{"$f":"IF(C1666<>\"\",IF(ISNA(VLOOKUP(C1666,Katastralgemeinden!$A$2:$B$3041,2,FALSE)),\"Ungültige KG-Nummer!\",VLOOKUP(C1666,Katastralgemeinden!A$2:$B$3041,2,\"falsch\")),\"\")","v":""},null,null,null,null,null,null,null,null,"",0,{"$f":"IF('Anhang Grundstücksverzeichnis'!G1666=Texte!$A$25,F1666,0)","v":0},{"$f":"IF('Anhang Grundstücksverzeichnis'!G1666=Texte!$A$26,F1666,0)","v":0},{"$f":"IF('Anhang Grundstücksverzeichnis'!G1666=Texte!$A$27,F1666,0)","v":0},{"$f":"IF('Anhang Grundstücksverzeichnis'!G1666=Texte!$A$28,F1666,0)","v":0}]
[1657,{"$f":"IF(C1667<>\"\",IF(ISNA(VLOOKUP(C1667,Katastralgemeinden!$A$2:$B$3041,2,FALSE)),\"Ungültige KG-Nummer!\",VLOOKUP(C1667,Katastralgemeinden!A$2:$B$3041,2,\"falsch\")),\"\")","v":""},null,null,null,null,null,null,null,null,"",0,{"$f":"IF('Anhang Grundstücksverzeichnis'!G1667=Texte!$A$25,F1667,0)","v":0},{"$f":"IF('Anhang Grundstücksverzeichnis'!G1667=Texte!$A$26,F1667,0)","v":0},{"$f":"IF('Anhang Grundstücksverzeichnis'!G1667=Texte!$A$27,F1667,0)","v":0},{"$f":"IF('Anhang Grundstücksverzeichnis'!G1667=Texte!$A$28,F1667,0)","v":0}]
[1658,{"$f":"IF(C1668<>\"\",IF(ISNA(VLOOKUP(C1668,Katastralgemeinden!$A$2:$B$3041,2,FALSE)),\"Ungültige KG-Nummer!\",VLOOKUP(C1668,Katastralgemeinden!A$2:$B$3041,2,\"falsch\")),\"\")","v":""},null,null,null,null,null,null,null,null,"",0,{"$f":"IF('Anhang Grundstücksverzeichnis'!G1668=Texte!$A$25,F1668,0)","v":0},{"$f":"IF('Anhang Grundstücksverzeichnis'!G1668=Texte!$A$26,F1668,0)","v":0},{"$f":"IF('Anhang Grundstücksverzeichnis'!G1668=Texte!$A$27,F1668,0)","v":0},{"$f":"IF('Anhang Grundstücksverzeichnis'!G1668=Texte!$A$28,F1668,0)","v":0}]
[1659,{"$f":"IF(C1669<>\"\",IF(ISNA(VLOOKUP(C1669,Katastralgemeinden!$A$2:$B$3041,2,FALSE)),\"Ungültige KG-Nummer!\",VLOOKUP(C1669,Katastralgemeinden!A$2:$B$3041,2,\"falsch\")),\"\")","v":""},null,null,null,null,null,null,null,null,"",0,{"$f":"IF('Anhang Grundstücksverzeichnis'!G1669=Texte!$A$25,F1669,0)","v":0},{"$f":"IF('Anhang Grundstücksverzeichnis'!G1669=Texte!$A$26,F1669,0)","v":0},{"$f":"IF('Anhang Grundstücksverzeichnis'!G1669=Texte!$A$27,F1669,0)","v":0},{"$f":"IF('Anhang Grundstücksverzeichnis'!G1669=Texte!$A$28,F1669,0)","v":0}]
[1660,{"$f":"IF(C1670<>\"\",IF(ISNA(VLOOKUP(C1670,Katastralgemeinden!$A$2:$B$3041,2,FALSE)),\"Ungültige KG-Nummer!\",VLOOKUP(C1670,Katastralgemeinden!A$2:$B$3041,2,\"falsch\")),\"\")","v":""},null,null,null,null,null,null,null,null,"",0,{"$f":"IF('Anhang Grundstücksverzeichnis'!G1670=Texte!$A$25,F1670,0)","v":0},{"$f":"IF('Anhang Grundstücksverzeichnis'!G1670=Texte!$A$26,F1670,0)","v":0},{"$f":"IF('Anhang Grundstücksverzeichnis'!G1670=Texte!$A$27,F1670,0)","v":0},{"$f":"IF('Anhang Grundstücksverzeichnis'!G1670=Texte!$A$28,F1670,0)","v":0}]
[1661,{"$f":"IF(C1671<>\"\",IF(ISNA(VLOOKUP(C1671,Katastralgemeinden!$A$2:$B$3041,2,FALSE)),\"Ungültige KG-Nummer!\",VLOOKUP(C1671,Katastralgemeinden!A$2:$B$3041,2,\"falsch\")),\"\")","v":""},null,null,null,null,null,null,null,null,"",0,{"$f":"IF('Anhang Grundstücksverzeichnis'!G1671=Texte!$A$25,F1671,0)","v":0},{"$f":"IF('Anhang Grundstücksverzeichnis'!G1671=Texte!$A$26,F1671,0)","v":0},{"$f":"IF('Anhang Grundstücksverzeichnis'!G1671=Texte!$A$27,F1671,0)","v":0},{"$f":"IF('Anhang Grundstücksverzeichnis'!G1671=Texte!$A$28,F1671,0)","v":0}]
[1662,{"$f":"IF(C1672<>\"\",IF(ISNA(VLOOKUP(C1672,Katastralgemeinden!$A$2:$B$3041,2,FALSE)),\"Ungültige KG-Nummer!\",VLOOKUP(C1672,Katastralgemeinden!A$2:$B$3041,2,\"falsch\")),\"\")","v":""},null,null,null,null,null,null,null,null,"",0,{"$f":"IF('Anhang Grundstücksverzeichnis'!G1672=Texte!$A$25,F1672,0)","v":0},{"$f":"IF('Anhang Grundstücksverzeichnis'!G1672=Texte!$A$26,F1672,0)","v":0},{"$f":"IF('Anhang Grundstücksverzeichnis'!G1672=Texte!$A$27,F1672,0)","v":0},{"$f":"IF('Anhang Grundstücksverzeichnis'!G1672=Texte!$A$28,F1672,0)","v":0}]
[1663,{"$f":"IF(C1673<>\"\",IF(ISNA(VLOOKUP(C1673,Katastralgemeinden!$A$2:$B$3041,2,FALSE)),\"Ungültige KG-Nummer!\",VLOOKUP(C1673,Katastralgemeinden!A$2:$B$3041,2,\"falsch\")),\"\")","v":""},null,null,null,null,null,null,null,null,"",0,{"$f":"IF('Anhang Grundstücksverzeichnis'!G1673=Texte!$A$25,F1673,0)","v":0},{"$f":"IF('Anhang Grundstücksverzeichnis'!G1673=Texte!$A$26,F1673,0)","v":0},{"$f":"IF('Anhang Grundstücksverzeichnis'!G1673=Texte!$A$27,F1673,0)","v":0},{"$f":"IF('Anhang Grundstücksverzeichnis'!G1673=Texte!$A$28,F1673,0)","v":0}]
[1664,{"$f":"IF(C1674<>\"\",IF(ISNA(VLOOKUP(C1674,Katastralgemeinden!$A$2:$B$3041,2,FALSE)),\"Ungültige KG-Nummer!\",VLOOKUP(C1674,Katastralgemeinden!A$2:$B$3041,2,\"falsch\")),\"\")","v":""},null,null,null,null,null,null,null,null,"",0,{"$f":"IF('Anhang Grundstücksverzeichnis'!G1674=Texte!$A$25,F1674,0)","v":0},{"$f":"IF('Anhang Grundstücksverzeichnis'!G1674=Texte!$A$26,F1674,0)","v":0},{"$f":"IF('Anhang Grundstücksverzeichnis'!G1674=Texte!$A$27,F1674,0)","v":0},{"$f":"IF('Anhang Grundstücksverzeichnis'!G1674=Texte!$A$28,F1674,0)","v":0}]
[1665,{"$f":"IF(C1675<>\"\",IF(ISNA(VLOOKUP(C1675,Katastralgemeinden!$A$2:$B$3041,2,FALSE)),\"Ungültige KG-Nummer!\",VLOOKUP(C1675,Katastralgemeinden!A$2:$B$3041,2,\"falsch\")),\"\")","v":""},null,null,null,null,null,null,null,null,"",0,{"$f":"IF('Anhang Grundstücksverzeichnis'!G1675=Texte!$A$25,F1675,0)","v":0},{"$f":"IF('Anhang Grundstücksverzeichnis'!G1675=Texte!$A$26,F1675,0)","v":0},{"$f":"IF('Anhang Grundstücksverzeichnis'!G1675=Texte!$A$27,F1675,0)","v":0},{"$f":"IF('Anhang Grundstücksverzeichnis'!G1675=Texte!$A$28,F1675,0)","v":0}]
[1666,{"$f":"IF(C1676<>\"\",IF(ISNA(VLOOKUP(C1676,Katastralgemeinden!$A$2:$B$3041,2,FALSE)),\"Ungültige KG-Nummer!\",VLOOKUP(C1676,Katastralgemeinden!A$2:$B$3041,2,\"falsch\")),\"\")","v":""},null,null,null,null,null,null,null,null,{"$f":"IF(G1676<>\"\",IF(G1676=\"Eigengrundfläche\",0,IF(G1676=\"Vorpachtfläche\",1,IF(G1676=\"Abrundung +\",3,IF(G1676=\"Abrundung -\",4,5)))),\"\")","v":""},{"$f":"IF(OR(LOWER(H1676)=\"x\",LOWER(H1676)=\"j\"),1,0)","v":0},{"$f":"IF('Anhang Grundstücksverzeichnis'!G1676=Texte!$A$25,F1676,0)","v":0},{"$f":"IF('Anhang Grundstücksverzeichnis'!G1676=Texte!$A$26,F1676,0)","v":0},{"$f":"IF('Anhang Grundstücksverzeichnis'!G1676=Texte!$A$27,F1676,0)","v":0},{"$f":"IF('Anhang Grundstücksverzeichnis'!G1676=Texte!$A$28,F1676,0)","v":0}]
[1667,{"$f":"IF(C1677<>\"\",IF(ISNA(VLOOKUP(C1677,Katastralgemeinden!$A$2:$B$3041,2,FALSE)),\"Ungültige KG-Nummer!\",VLOOKUP(C1677,Katastralgemeinden!A$2:$B$3041,2,\"falsch\")),\"\")","v":""},null,null,null,null,null,null,null,null,"",0,{"$f":"IF('Anhang Grundstücksverzeichnis'!G1677=Texte!$A$25,F1677,0)","v":0},{"$f":"IF('Anhang Grundstücksverzeichnis'!G1677=Texte!$A$26,F1677,0)","v":0},{"$f":"IF('Anhang Grundstücksverzeichnis'!G1677=Texte!$A$27,F1677,0)","v":0},{"$f":"IF('Anhang Grundstücksverzeichnis'!G1677=Texte!$A$28,F1677,0)","v":0}]
[1668,{"$f":"IF(C1678<>\"\",IF(ISNA(VLOOKUP(C1678,Katastralgemeinden!$A$2:$B$3041,2,FALSE)),\"Ungültige KG-Nummer!\",VLOOKUP(C1678,Katastralgemeinden!A$2:$B$3041,2,\"falsch\")),\"\")","v":""},null,null,null,null,null,null,null,null,"",0,{"$f":"IF('Anhang Grundstücksverzeichnis'!G1678=Texte!$A$25,F1678,0)","v":0},{"$f":"IF('Anhang Grundstücksverzeichnis'!G1678=Texte!$A$26,F1678,0)","v":0},{"$f":"IF('Anhang Grundstücksverzeichnis'!G1678=Texte!$A$27,F1678,0)","v":0},{"$f":"IF('Anhang Grundstücksverzeichnis'!G1678=Texte!$A$28,F1678,0)","v":0}]
[1669,{"$f":"IF(C1679<>\"\",IF(ISNA(VLOOKUP(C1679,Katastralgemeinden!$A$2:$B$3041,2,FALSE)),\"Ungültige KG-Nummer!\",VLOOKUP(C1679,Katastralgemeinden!A$2:$B$3041,2,\"falsch\")),\"\")","v":""},null,null,null,null,null,null,null,null,"",0,{"$f":"IF('Anhang Grundstücksverzeichnis'!G1679=Texte!$A$25,F1679,0)","v":0},{"$f":"IF('Anhang Grundstücksverzeichnis'!G1679=Texte!$A$26,F1679,0)","v":0},{"$f":"IF('Anhang Grundstücksverzeichnis'!G1679=Texte!$A$27,F1679,0)","v":0},{"$f":"IF('Anhang Grundstücksverzeichnis'!G1679=Texte!$A$28,F1679,0)","v":0}]
[1670,{"$f":"IF(C1680<>\"\",IF(ISNA(VLOOKUP(C1680,Katastralgemeinden!$A$2:$B$3041,2,FALSE)),\"Ungültige KG-Nummer!\",VLOOKUP(C1680,Katastralgemeinden!A$2:$B$3041,2,\"falsch\")),\"\")","v":""},null,null,null,null,null,null,null,null,"",0,{"$f":"IF('Anhang Grundstücksverzeichnis'!G1680=Texte!$A$25,F1680,0)","v":0},{"$f":"IF('Anhang Grundstücksverzeichnis'!G1680=Texte!$A$26,F1680,0)","v":0},{"$f":"IF('Anhang Grundstücksverzeichnis'!G1680=Texte!$A$27,F1680,0)","v":0},{"$f":"IF('Anhang Grundstücksverzeichnis'!G1680=Texte!$A$28,F1680,0)","v":0}]
[1671,{"$f":"IF(C1681<>\"\",IF(ISNA(VLOOKUP(C1681,Katastralgemeinden!$A$2:$B$3041,2,FALSE)),\"Ungültige KG-Nummer!\",VLOOKUP(C1681,Katastralgemeinden!A$2:$B$3041,2,\"falsch\")),\"\")","v":""},null,null,null,null,null,null,null,null,"",0,{"$f":"IF('Anhang Grundstücksverzeichnis'!G1681=Texte!$A$25,F1681,0)","v":0},{"$f":"IF('Anhang Grundstücksverzeichnis'!G1681=Texte!$A$26,F1681,0)","v":0},{"$f":"IF('Anhang Grundstücksverzeichnis'!G1681=Texte!$A$27,F1681,0)","v":0},{"$f":"IF('Anhang Grundstücksverzeichnis'!G1681=Texte!$A$28,F1681,0)","v":0}]
[1672,{"$f":"IF(C1682<>\"\",IF(ISNA(VLOOKUP(C1682,Katastralgemeinden!$A$2:$B$3041,2,FALSE)),\"Ungültige KG-Nummer!\",VLOOKUP(C1682,Katastralgemeinden!A$2:$B$3041,2,\"falsch\")),\"\")","v":""},null,null,null,null,null,null,null,null,"",0,{"$f":"IF('Anhang Grundstücksverzeichnis'!G1682=Texte!$A$25,F1682,0)","v":0},{"$f":"IF('Anhang Grundstücksverzeichnis'!G1682=Texte!$A$26,F1682,0)","v":0},{"$f":"IF('Anhang Grundstücksverzeichnis'!G1682=Texte!$A$27,F1682,0)","v":0},{"$f":"IF('Anhang Grundstücksverzeichnis'!G1682=Texte!$A$28,F1682,0)","v":0}]
[1673,{"$f":"IF(C1683<>\"\",IF(ISNA(VLOOKUP(C1683,Katastralgemeinden!$A$2:$B$3041,2,FALSE)),\"Ungültige KG-Nummer!\",VLOOKUP(C1683,Katastralgemeinden!A$2:$B$3041,2,\"falsch\")),\"\")","v":""},null,null,null,null,null,null,null,null,"",0,{"$f":"IF('Anhang Grundstücksverzeichnis'!G1683=Texte!$A$25,F1683,0)","v":0},{"$f":"IF('Anhang Grundstücksverzeichnis'!G1683=Texte!$A$26,F1683,0)","v":0},{"$f":"IF('Anhang Grundstücksverzeichnis'!G1683=Texte!$A$27,F1683,0)","v":0},{"$f":"IF('Anhang Grundstücksverzeichnis'!G1683=Texte!$A$28,F1683,0)","v":0}]
[1674,{"$f":"IF(C1684<>\"\",IF(ISNA(VLOOKUP(C1684,Katastralgemeinden!$A$2:$B$3041,2,FALSE)),\"Ungültige KG-Nummer!\",VLOOKUP(C1684,Katastralgemeinden!A$2:$B$3041,2,\"falsch\")),\"\")","v":""},null,null,null,null,null,null,null,null,"",0,{"$f":"IF('Anhang Grundstücksverzeichnis'!G1684=Texte!$A$25,F1684,0)","v":0},{"$f":"IF('Anhang Grundstücksverzeichnis'!G1684=Texte!$A$26,F1684,0)","v":0},{"$f":"IF('Anhang Grundstücksverzeichnis'!G1684=Texte!$A$27,F1684,0)","v":0},{"$f":"IF('Anhang Grundstücksverzeichnis'!G1684=Texte!$A$28,F1684,0)","v":0}]
[1675,{"$f":"IF(C1685<>\"\",IF(ISNA(VLOOKUP(C1685,Katastralgemeinden!$A$2:$B$3041,2,FALSE)),\"Ungültige KG-Nummer!\",VLOOKUP(C1685,Katastralgemeinden!A$2:$B$3041,2,\"falsch\")),\"\")","v":""},null,null,null,null,null,null,null,null,"",0,{"$f":"IF('Anhang Grundstücksverzeichnis'!G1685=Texte!$A$25,F1685,0)","v":0},{"$f":"IF('Anhang Grundstücksverzeichnis'!G1685=Texte!$A$26,F1685,0)","v":0},{"$f":"IF('Anhang Grundstücksverzeichnis'!G1685=Texte!$A$27,F1685,0)","v":0},{"$f":"IF('Anhang Grundstücksverzeichnis'!G1685=Texte!$A$28,F1685,0)","v":0}]
[1676,{"$f":"IF(C1686<>\"\",IF(ISNA(VLOOKUP(C1686,Katastralgemeinden!$A$2:$B$3041,2,FALSE)),\"Ungültige KG-Nummer!\",VLOOKUP(C1686,Katastralgemeinden!A$2:$B$3041,2,\"falsch\")),\"\")","v":""},null,null,null,null,null,null,null,null,"",0,{"$f":"IF('Anhang Grundstücksverzeichnis'!G1686=Texte!$A$25,F1686,0)","v":0},{"$f":"IF('Anhang Grundstücksverzeichnis'!G1686=Texte!$A$26,F1686,0)","v":0},{"$f":"IF('Anhang Grundstücksverzeichnis'!G1686=Texte!$A$27,F1686,0)","v":0},{"$f":"IF('Anhang Grundstücksverzeichnis'!G1686=Texte!$A$28,F1686,0)","v":0}]
[1677,{"$f":"IF(C1687<>\"\",IF(ISNA(VLOOKUP(C1687,Katastralgemeinden!$A$2:$B$3041,2,FALSE)),\"Ungültige KG-Nummer!\",VLOOKUP(C1687,Katastralgemeinden!A$2:$B$3041,2,\"falsch\")),\"\")","v":""},null,null,null,null,null,null,null,null,"",0,{"$f":"IF('Anhang Grundstücksverzeichnis'!G1687=Texte!$A$25,F1687,0)","v":0},{"$f":"IF('Anhang Grundstücksverzeichnis'!G1687=Texte!$A$26,F1687,0)","v":0},{"$f":"IF('Anhang Grundstücksverzeichnis'!G1687=Texte!$A$27,F1687,0)","v":0},{"$f":"IF('Anhang Grundstücksverzeichnis'!G1687=Texte!$A$28,F1687,0)","v":0}]
[1678,{"$f":"IF(C1688<>\"\",IF(ISNA(VLOOKUP(C1688,Katastralgemeinden!$A$2:$B$3041,2,FALSE)),\"Ungültige KG-Nummer!\",VLOOKUP(C1688,Katastralgemeinden!A$2:$B$3041,2,\"falsch\")),\"\")","v":""},null,null,null,null,null,null,null,null,"",0,{"$f":"IF('Anhang Grundstücksverzeichnis'!G1688=Texte!$A$25,F1688,0)","v":0},{"$f":"IF('Anhang Grundstücksverzeichnis'!G1688=Texte!$A$26,F1688,0)","v":0},{"$f":"IF('Anhang Grundstücksverzeichnis'!G1688=Texte!$A$27,F1688,0)","v":0},{"$f":"IF('Anhang Grundstücksverzeichnis'!G1688=Texte!$A$28,F1688,0)","v":0}]
[1679,{"$f":"IF(C1689<>\"\",IF(ISNA(VLOOKUP(C1689,Katastralgemeinden!$A$2:$B$3041,2,FALSE)),\"Ungültige KG-Nummer!\",VLOOKUP(C1689,Katastralgemeinden!A$2:$B$3041,2,\"falsch\")),\"\")","v":""},null,null,null,null,null,null,null,null,"",0,{"$f":"IF('Anhang Grundstücksverzeichnis'!G1689=Texte!$A$25,F1689,0)","v":0},{"$f":"IF('Anhang Grundstücksverzeichnis'!G1689=Texte!$A$26,F1689,0)","v":0},{"$f":"IF('Anhang Grundstücksverzeichnis'!G1689=Texte!$A$27,F1689,0)","v":0},{"$f":"IF('Anhang Grundstücksverzeichnis'!G1689=Texte!$A$28,F1689,0)","v":0}]
[1680,{"$f":"IF(C1690<>\"\",IF(ISNA(VLOOKUP(C1690,Katastralgemeinden!$A$2:$B$3041,2,FALSE)),\"Ungültige KG-Nummer!\",VLOOKUP(C1690,Katastralgemeinden!A$2:$B$3041,2,\"falsch\")),\"\")","v":""},null,null,null,null,null,null,null,null,"",0,{"$f":"IF('Anhang Grundstücksverzeichnis'!G1690=Texte!$A$25,F1690,0)","v":0},{"$f":"IF('Anhang Grundstücksverzeichnis'!G1690=Texte!$A$26,F1690,0)","v":0},{"$f":"IF('Anhang Grundstücksverzeichnis'!G1690=Texte!$A$27,F1690,0)","v":0},{"$f":"IF('Anhang Grundstücksverzeichnis'!G1690=Texte!$A$28,F1690,0)","v":0}]
[1681,{"$f":"IF(C1691<>\"\",IF(ISNA(VLOOKUP(C1691,Katastralgemeinden!$A$2:$B$3041,2,FALSE)),\"Ungültige KG-Nummer!\",VLOOKUP(C1691,Katastralgemeinden!A$2:$B$3041,2,\"falsch\")),\"\")","v":""},null,null,null,null,null,null,null,null,"",0,{"$f":"IF('Anhang Grundstücksverzeichnis'!G1691=Texte!$A$25,F1691,0)","v":0},{"$f":"IF('Anhang Grundstücksverzeichnis'!G1691=Texte!$A$26,F1691,0)","v":0},{"$f":"IF('Anhang Grundstücksverzeichnis'!G1691=Texte!$A$27,F1691,0)","v":0},{"$f":"IF('Anhang Grundstücksverzeichnis'!G1691=Texte!$A$28,F1691,0)","v":0}]
[1682,{"$f":"IF(C1692<>\"\",IF(ISNA(VLOOKUP(C1692,Katastralgemeinden!$A$2:$B$3041,2,FALSE)),\"Ungültige KG-Nummer!\",VLOOKUP(C1692,Katastralgemeinden!A$2:$B$3041,2,\"falsch\")),\"\")","v":""},null,null,null,null,null,null,null,null,"",0,{"$f":"IF('Anhang Grundstücksverzeichnis'!G1692=Texte!$A$25,F1692,0)","v":0},{"$f":"IF('Anhang Grundstücksverzeichnis'!G1692=Texte!$A$26,F1692,0)","v":0},{"$f":"IF('Anhang Grundstücksverzeichnis'!G1692=Texte!$A$27,F1692,0)","v":0},{"$f":"IF('Anhang Grundstücksverzeichnis'!G1692=Texte!$A$28,F1692,0)","v":0}]
[1683,{"$f":"IF(C1693<>\"\",IF(ISNA(VLOOKUP(C1693,Katastralgemeinden!$A$2:$B$3041,2,FALSE)),\"Ungültige KG-Nummer!\",VLOOKUP(C1693,Katastralgemeinden!A$2:$B$3041,2,\"falsch\")),\"\")","v":""},null,null,null,null,null,null,null,null,"",0,{"$f":"IF('Anhang Grundstücksverzeichnis'!G1693=Texte!$A$25,F1693,0)","v":0},{"$f":"IF('Anhang Grundstücksverzeichnis'!G1693=Texte!$A$26,F1693,0)","v":0},{"$f":"IF('Anhang Grundstücksverzeichnis'!G1693=Texte!$A$27,F1693,0)","v":0},{"$f":"IF('Anhang Grundstücksverzeichnis'!G1693=Texte!$A$28,F1693,0)","v":0}]
[1684,{"$f":"IF(C1694<>\"\",IF(ISNA(VLOOKUP(C1694,Katastralgemeinden!$A$2:$B$3041,2,FALSE)),\"Ungültige KG-Nummer!\",VLOOKUP(C1694,Katastralgemeinden!A$2:$B$3041,2,\"falsch\")),\"\")","v":""},null,null,null,null,null,null,null,null,"",0,{"$f":"IF('Anhang Grundstücksverzeichnis'!G1694=Texte!$A$25,F1694,0)","v":0},{"$f":"IF('Anhang Grundstücksverzeichnis'!G1694=Texte!$A$26,F1694,0)","v":0},{"$f":"IF('Anhang Grundstücksverzeichnis'!G1694=Texte!$A$27,F1694,0)","v":0},{"$f":"IF('Anhang Grundstücksverzeichnis'!G1694=Texte!$A$28,F1694,0)","v":0}]
[1685,{"$f":"IF(C1695<>\"\",IF(ISNA(VLOOKUP(C1695,Katastralgemeinden!$A$2:$B$3041,2,FALSE)),\"Ungültige KG-Nummer!\",VLOOKUP(C1695,Katastralgemeinden!A$2:$B$3041,2,\"falsch\")),\"\")","v":""},null,null,null,null,null,null,null,null,"",0,{"$f":"IF('Anhang Grundstücksverzeichnis'!G1695=Texte!$A$25,F1695,0)","v":0},{"$f":"IF('Anhang Grundstücksverzeichnis'!G1695=Texte!$A$26,F1695,0)","v":0},{"$f":"IF('Anhang Grundstücksverzeichnis'!G1695=Texte!$A$27,F1695,0)","v":0},{"$f":"IF('Anhang Grundstücksverzeichnis'!G1695=Texte!$A$28,F1695,0)","v":0}]
[1686,{"$f":"IF(C1696<>\"\",IF(ISNA(VLOOKUP(C1696,Katastralgemeinden!$A$2:$B$3041,2,FALSE)),\"Ungültige KG-Nummer!\",VLOOKUP(C1696,Katastralgemeinden!A$2:$B$3041,2,\"falsch\")),\"\")","v":""},null,null,null,null,null,null,null,null,"",0,{"$f":"IF('Anhang Grundstücksverzeichnis'!G1696=Texte!$A$25,F1696,0)","v":0},{"$f":"IF('Anhang Grundstücksverzeichnis'!G1696=Texte!$A$26,F1696,0)","v":0},{"$f":"IF('Anhang Grundstücksverzeichnis'!G1696=Texte!$A$27,F1696,0)","v":0},{"$f":"IF('Anhang Grundstücksverzeichnis'!G1696=Texte!$A$28,F1696,0)","v":0}]
[1687,{"$f":"IF(C1697<>\"\",IF(ISNA(VLOOKUP(C1697,Katastralgemeinden!$A$2:$B$3041,2,FALSE)),\"Ungültige KG-Nummer!\",VLOOKUP(C1697,Katastralgemeinden!A$2:$B$3041,2,\"falsch\")),\"\")","v":""},null,null,null,null,null,null,null,null,"",0,{"$f":"IF('Anhang Grundstücksverzeichnis'!G1697=Texte!$A$25,F1697,0)","v":0},{"$f":"IF('Anhang Grundstücksverzeichnis'!G1697=Texte!$A$26,F1697,0)","v":0},{"$f":"IF('Anhang Grundstücksverzeichnis'!G1697=Texte!$A$27,F1697,0)","v":0},{"$f":"IF('Anhang Grundstücksverzeichnis'!G1697=Texte!$A$28,F1697,0)","v":0}]
[1688,{"$f":"IF(C1698<>\"\",IF(ISNA(VLOOKUP(C1698,Katastralgemeinden!$A$2:$B$3041,2,FALSE)),\"Ungültige KG-Nummer!\",VLOOKUP(C1698,Katastralgemeinden!A$2:$B$3041,2,\"falsch\")),\"\")","v":""},null,null,null,null,null,null,null,null,"",0,{"$f":"IF('Anhang Grundstücksverzeichnis'!G1698=Texte!$A$25,F1698,0)","v":0},{"$f":"IF('Anhang Grundstücksverzeichnis'!G1698=Texte!$A$26,F1698,0)","v":0},{"$f":"IF('Anhang Grundstücksverzeichnis'!G1698=Texte!$A$27,F1698,0)","v":0},{"$f":"IF('Anhang Grundstücksverzeichnis'!G1698=Texte!$A$28,F1698,0)","v":0}]
[1689,{"$f":"IF(C1699<>\"\",IF(ISNA(VLOOKUP(C1699,Katastralgemeinden!$A$2:$B$3041,2,FALSE)),\"Ungültige KG-Nummer!\",VLOOKUP(C1699,Katastralgemeinden!A$2:$B$3041,2,\"falsch\")),\"\")","v":""},null,null,null,null,null,null,null,null,"",0,{"$f":"IF('Anhang Grundstücksverzeichnis'!G1699=Texte!$A$25,F1699,0)","v":0},{"$f":"IF('Anhang Grundstücksverzeichnis'!G1699=Texte!$A$26,F1699,0)","v":0},{"$f":"IF('Anhang Grundstücksverzeichnis'!G1699=Texte!$A$27,F1699,0)","v":0},{"$f":"IF('Anhang Grundstücksverzeichnis'!G1699=Texte!$A$28,F1699,0)","v":0}]
[1690,{"$f":"IF(C1700<>\"\",IF(ISNA(VLOOKUP(C1700,Katastralgemeinden!$A$2:$B$3041,2,FALSE)),\"Ungültige KG-Nummer!\",VLOOKUP(C1700,Katastralgemeinden!A$2:$B$3041,2,\"falsch\")),\"\")","v":""},null,null,null,null,null,null,null,null,"",0,{"$f":"IF('Anhang Grundstücksverzeichnis'!G1700=Texte!$A$25,F1700,0)","v":0},{"$f":"IF('Anhang Grundstücksverzeichnis'!G1700=Texte!$A$26,F1700,0)","v":0},{"$f":"IF('Anhang Grundstücksverzeichnis'!G1700=Texte!$A$27,F1700,0)","v":0},{"$f":"IF('Anhang Grundstücksverzeichnis'!G1700=Texte!$A$28,F1700,0)","v":0}]
[1691,{"$f":"IF(C1701<>\"\",IF(ISNA(VLOOKUP(C1701,Katastralgemeinden!$A$2:$B$3041,2,FALSE)),\"Ungültige KG-Nummer!\",VLOOKUP(C1701,Katastralgemeinden!A$2:$B$3041,2,\"falsch\")),\"\")","v":""},null,null,null,null,null,null,null,null,"",0,{"$f":"IF('Anhang Grundstücksverzeichnis'!G1701=Texte!$A$25,F1701,0)","v":0},{"$f":"IF('Anhang Grundstücksverzeichnis'!G1701=Texte!$A$26,F1701,0)","v":0},{"$f":"IF('Anhang Grundstücksverzeichnis'!G1701=Texte!$A$27,F1701,0)","v":0},{"$f":"IF('Anhang Grundstücksverzeichnis'!G1701=Texte!$A$28,F1701,0)","v":0}]
[1692,{"$f":"IF(C1702<>\"\",IF(ISNA(VLOOKUP(C1702,Katastralgemeinden!$A$2:$B$3041,2,FALSE)),\"Ungültige KG-Nummer!\",VLOOKUP(C1702,Katastralgemeinden!A$2:$B$3041,2,\"falsch\")),\"\")","v":""},null,null,null,null,null,null,null,null,"",0,{"$f":"IF('Anhang Grundstücksverzeichnis'!G1702=Texte!$A$25,F1702,0)","v":0},{"$f":"IF('Anhang Grundstücksverzeichnis'!G1702=Texte!$A$26,F1702,0)","v":0},{"$f":"IF('Anhang Grundstücksverzeichnis'!G1702=Texte!$A$27,F1702,0)","v":0},{"$f":"IF('Anhang Grundstücksverzeichnis'!G1702=Texte!$A$28,F1702,0)","v":0}]
[1693,{"$f":"IF(C1703<>\"\",IF(ISNA(VLOOKUP(C1703,Katastralgemeinden!$A$2:$B$3041,2,FALSE)),\"Ungültige KG-Nummer!\",VLOOKUP(C1703,Katastralgemeinden!A$2:$B$3041,2,\"falsch\")),\"\")","v":""},null,null,null,null,null,null,null,null,"",0,{"$f":"IF('Anhang Grundstücksverzeichnis'!G1703=Texte!$A$25,F1703,0)","v":0},{"$f":"IF('Anhang Grundstücksverzeichnis'!G1703=Texte!$A$26,F1703,0)","v":0},{"$f":"IF('Anhang Grundstücksverzeichnis'!G1703=Texte!$A$27,F1703,0)","v":0},{"$f":"IF('Anhang Grundstücksverzeichnis'!G1703=Texte!$A$28,F1703,0)","v":0}]
[1694,{"$f":"IF(C1704<>\"\",IF(ISNA(VLOOKUP(C1704,Katastralgemeinden!$A$2:$B$3041,2,FALSE)),\"Ungültige KG-Nummer!\",VLOOKUP(C1704,Katastralgemeinden!A$2:$B$3041,2,\"falsch\")),\"\")","v":""},null,null,null,null,null,null,null,null,"",0,{"$f":"IF('Anhang Grundstücksverzeichnis'!G1704=Texte!$A$25,F1704,0)","v":0},{"$f":"IF('Anhang Grundstücksverzeichnis'!G1704=Texte!$A$26,F1704,0)","v":0},{"$f":"IF('Anhang Grundstücksverzeichnis'!G1704=Texte!$A$27,F1704,0)","v":0},{"$f":"IF('Anhang Grundstücksverzeichnis'!G1704=Texte!$A$28,F1704,0)","v":0}]
[1695,{"$f":"IF(C1705<>\"\",IF(ISNA(VLOOKUP(C1705,Katastralgemeinden!$A$2:$B$3041,2,FALSE)),\"Ungültige KG-Nummer!\",VLOOKUP(C1705,Katastralgemeinden!A$2:$B$3041,2,\"falsch\")),\"\")","v":""},null,null,null,null,null,null,null,null,"",0,{"$f":"IF('Anhang Grundstücksverzeichnis'!G1705=Texte!$A$25,F1705,0)","v":0},{"$f":"IF('Anhang Grundstücksverzeichnis'!G1705=Texte!$A$26,F1705,0)","v":0},{"$f":"IF('Anhang Grundstücksverzeichnis'!G1705=Texte!$A$27,F1705,0)","v":0},{"$f":"IF('Anhang Grundstücksverzeichnis'!G1705=Texte!$A$28,F1705,0)","v":0}]
[1696,{"$f":"IF(C1706<>\"\",IF(ISNA(VLOOKUP(C1706,Katastralgemeinden!$A$2:$B$3041,2,FALSE)),\"Ungültige KG-Nummer!\",VLOOKUP(C1706,Katastralgemeinden!A$2:$B$3041,2,\"falsch\")),\"\")","v":""},null,null,null,null,null,null,null,null,"",0,{"$f":"IF('Anhang Grundstücksverzeichnis'!G1706=Texte!$A$25,F1706,0)","v":0},{"$f":"IF('Anhang Grundstücksverzeichnis'!G1706=Texte!$A$26,F1706,0)","v":0},{"$f":"IF('Anhang Grundstücksverzeichnis'!G1706=Texte!$A$27,F1706,0)","v":0},{"$f":"IF('Anhang Grundstücksverzeichnis'!G1706=Texte!$A$28,F1706,0)","v":0}]
[1697,{"$f":"IF(C1707<>\"\",IF(ISNA(VLOOKUP(C1707,Katastralgemeinden!$A$2:$B$3041,2,FALSE)),\"Ungültige KG-Nummer!\",VLOOKUP(C1707,Katastralgemeinden!A$2:$B$3041,2,\"falsch\")),\"\")","v":""},null,null,null,null,null,null,null,null,"",0,{"$f":"IF('Anhang Grundstücksverzeichnis'!G1707=Texte!$A$25,F1707,0)","v":0},{"$f":"IF('Anhang Grundstücksverzeichnis'!G1707=Texte!$A$26,F1707,0)","v":0},{"$f":"IF('Anhang Grundstücksverzeichnis'!G1707=Texte!$A$27,F1707,0)","v":0},{"$f":"IF('Anhang Grundstücksverzeichnis'!G1707=Texte!$A$28,F1707,0)","v":0}]
[1698,{"$f":"IF(C1708<>\"\",IF(ISNA(VLOOKUP(C1708,Katastralgemeinden!$A$2:$B$3041,2,FALSE)),\"Ungültige KG-Nummer!\",VLOOKUP(C1708,Katastralgemeinden!A$2:$B$3041,2,\"falsch\")),\"\")","v":""},null,null,null,null,null,null,null,null,"",0,{"$f":"IF('Anhang Grundstücksverzeichnis'!G1708=Texte!$A$25,F1708,0)","v":0},{"$f":"IF('Anhang Grundstücksverzeichnis'!G1708=Texte!$A$26,F1708,0)","v":0},{"$f":"IF('Anhang Grundstücksverzeichnis'!G1708=Texte!$A$27,F1708,0)","v":0},{"$f":"IF('Anhang Grundstücksverzeichnis'!G1708=Texte!$A$28,F1708,0)","v":0}]
[1699,{"$f":"IF(C1709<>\"\",IF(ISNA(VLOOKUP(C1709,Katastralgemeinden!$A$2:$B$3041,2,FALSE)),\"Ungültige KG-Nummer!\",VLOOKUP(C1709,Katastralgemeinden!A$2:$B$3041,2,\"falsch\")),\"\")","v":""},null,null,null,null,null,null,null,null,"",0,{"$f":"IF('Anhang Grundstücksverzeichnis'!G1709=Texte!$A$25,F1709,0)","v":0},{"$f":"IF('Anhang Grundstücksverzeichnis'!G1709=Texte!$A$26,F1709,0)","v":0},{"$f":"IF('Anhang Grundstücksverzeichnis'!G1709=Texte!$A$27,F1709,0)","v":0},{"$f":"IF('Anhang Grundstücksverzeichnis'!G1709=Texte!$A$28,F1709,0)","v":0}]
[1700,{"$f":"IF(C1710<>\"\",IF(ISNA(VLOOKUP(C1710,Katastralgemeinden!$A$2:$B$3041,2,FALSE)),\"Ungültige KG-Nummer!\",VLOOKUP(C1710,Katastralgemeinden!A$2:$B$3041,2,\"falsch\")),\"\")","v":""},null,null,null,null,null,null,null,null,"",0,{"$f":"IF('Anhang Grundstücksverzeichnis'!G1710=Texte!$A$25,F1710,0)","v":0},{"$f":"IF('Anhang Grundstücksverzeichnis'!G1710=Texte!$A$26,F1710,0)","v":0},{"$f":"IF('Anhang Grundstücksverzeichnis'!G1710=Texte!$A$27,F1710,0)","v":0},{"$f":"IF('Anhang Grundstücksverzeichnis'!G1710=Texte!$A$28,F1710,0)","v":0}]
[1701,{"$f":"IF(C1711<>\"\",IF(ISNA(VLOOKUP(C1711,Katastralgemeinden!$A$2:$B$3041,2,FALSE)),\"Ungültige KG-Nummer!\",VLOOKUP(C1711,Katastralgemeinden!A$2:$B$3041,2,\"falsch\")),\"\")","v":""},null,null,null,null,null,null,null,null,"",0,{"$f":"IF('Anhang Grundstücksverzeichnis'!G1711=Texte!$A$25,F1711,0)","v":0},{"$f":"IF('Anhang Grundstücksverzeichnis'!G1711=Texte!$A$26,F1711,0)","v":0},{"$f":"IF('Anhang Grundstücksverzeichnis'!G1711=Texte!$A$27,F1711,0)","v":0},{"$f":"IF('Anhang Grundstücksverzeichnis'!G1711=Texte!$A$28,F1711,0)","v":0}]
[1702,{"$f":"IF(C1712<>\"\",IF(ISNA(VLOOKUP(C1712,Katastralgemeinden!$A$2:$B$3041,2,FALSE)),\"Ungültige KG-Nummer!\",VLOOKUP(C1712,Katastralgemeinden!A$2:$B$3041,2,\"falsch\")),\"\")","v":""},null,null,null,null,null,null,null,null,"",0,{"$f":"IF('Anhang Grundstücksverzeichnis'!G1712=Texte!$A$25,F1712,0)","v":0},{"$f":"IF('Anhang Grundstücksverzeichnis'!G1712=Texte!$A$26,F1712,0)","v":0},{"$f":"IF('Anhang Grundstücksverzeichnis'!G1712=Texte!$A$27,F1712,0)","v":0},{"$f":"IF('Anhang Grundstücksverzeichnis'!G1712=Texte!$A$28,F1712,0)","v":0}]
[1703,{"$f":"IF(C1713<>\"\",IF(ISNA(VLOOKUP(C1713,Katastralgemeinden!$A$2:$B$3041,2,FALSE)),\"Ungültige KG-Nummer!\",VLOOKUP(C1713,Katastralgemeinden!A$2:$B$3041,2,\"falsch\")),\"\")","v":""},null,null,null,null,null,null,null,null,"",0,{"$f":"IF('Anhang Grundstücksverzeichnis'!G1713=Texte!$A$25,F1713,0)","v":0},{"$f":"IF('Anhang Grundstücksverzeichnis'!G1713=Texte!$A$26,F1713,0)","v":0},{"$f":"IF('Anhang Grundstücksverzeichnis'!G1713=Texte!$A$27,F1713,0)","v":0},{"$f":"IF('Anhang Grundstücksverzeichnis'!G1713=Texte!$A$28,F1713,0)","v":0}]
[1704,{"$f":"IF(C1714<>\"\",IF(ISNA(VLOOKUP(C1714,Katastralgemeinden!$A$2:$B$3041,2,FALSE)),\"Ungültige KG-Nummer!\",VLOOKUP(C1714,Katastralgemeinden!A$2:$B$3041,2,\"falsch\")),\"\")","v":""},null,null,null,null,null,null,null,null,"",0,{"$f":"IF('Anhang Grundstücksverzeichnis'!G1714=Texte!$A$25,F1714,0)","v":0},{"$f":"IF('Anhang Grundstücksverzeichnis'!G1714=Texte!$A$26,F1714,0)","v":0},{"$f":"IF('Anhang Grundstücksverzeichnis'!G1714=Texte!$A$27,F1714,0)","v":0},{"$f":"IF('Anhang Grundstücksverzeichnis'!G1714=Texte!$A$28,F1714,0)","v":0}]
[1705,{"$f":"IF(C1715<>\"\",IF(ISNA(VLOOKUP(C1715,Katastralgemeinden!$A$2:$B$3041,2,FALSE)),\"Ungültige KG-Nummer!\",VLOOKUP(C1715,Katastralgemeinden!A$2:$B$3041,2,\"falsch\")),\"\")","v":""},null,null,null,null,null,null,null,null,"",0,{"$f":"IF('Anhang Grundstücksverzeichnis'!G1715=Texte!$A$25,F1715,0)","v":0},{"$f":"IF('Anhang Grundstücksverzeichnis'!G1715=Texte!$A$26,F1715,0)","v":0},{"$f":"IF('Anhang Grundstücksverzeichnis'!G1715=Texte!$A$27,F1715,0)","v":0},{"$f":"IF('Anhang Grundstücksverzeichnis'!G1715=Texte!$A$28,F1715,0)","v":0}]
[1706,{"$f":"IF(C1716<>\"\",IF(ISNA(VLOOKUP(C1716,Katastralgemeinden!$A$2:$B$3041,2,FALSE)),\"Ungültige KG-Nummer!\",VLOOKUP(C1716,Katastralgemeinden!A$2:$B$3041,2,\"falsch\")),\"\")","v":""},null,null,null,null,null,null,null,null,"",0,{"$f":"IF('Anhang Grundstücksverzeichnis'!G1716=Texte!$A$25,F1716,0)","v":0},{"$f":"IF('Anhang Grundstücksverzeichnis'!G1716=Texte!$A$26,F1716,0)","v":0},{"$f":"IF('Anhang Grundstücksverzeichnis'!G1716=Texte!$A$27,F1716,0)","v":0},{"$f":"IF('Anhang Grundstücksverzeichnis'!G1716=Texte!$A$28,F1716,0)","v":0}]
[1707,{"$f":"IF(C1717<>\"\",IF(ISNA(VLOOKUP(C1717,Katastralgemeinden!$A$2:$B$3041,2,FALSE)),\"Ungültige KG-Nummer!\",VLOOKUP(C1717,Katastralgemeinden!A$2:$B$3041,2,\"falsch\")),\"\")","v":""},null,null,null,null,null,null,null,null,"",0,{"$f":"IF('Anhang Grundstücksverzeichnis'!G1717=Texte!$A$25,F1717,0)","v":0},{"$f":"IF('Anhang Grundstücksverzeichnis'!G1717=Texte!$A$26,F1717,0)","v":0},{"$f":"IF('Anhang Grundstücksverzeichnis'!G1717=Texte!$A$27,F1717,0)","v":0},{"$f":"IF('Anhang Grundstücksverzeichnis'!G1717=Texte!$A$28,F1717,0)","v":0}]
[1708,{"$f":"IF(C1718<>\"\",IF(ISNA(VLOOKUP(C1718,Katastralgemeinden!$A$2:$B$3041,2,FALSE)),\"Ungültige KG-Nummer!\",VLOOKUP(C1718,Katastralgemeinden!A$2:$B$3041,2,\"falsch\")),\"\")","v":""},null,null,null,null,null,null,null,null,"",0,{"$f":"IF('Anhang Grundstücksverzeichnis'!G1718=Texte!$A$25,F1718,0)","v":0},{"$f":"IF('Anhang Grundstücksverzeichnis'!G1718=Texte!$A$26,F1718,0)","v":0},{"$f":"IF('Anhang Grundstücksverzeichnis'!G1718=Texte!$A$27,F1718,0)","v":0},{"$f":"IF('Anhang Grundstücksverzeichnis'!G1718=Texte!$A$28,F1718,0)","v":0}]
[1709,{"$f":"IF(C1719<>\"\",IF(ISNA(VLOOKUP(C1719,Katastralgemeinden!$A$2:$B$3041,2,FALSE)),\"Ungültige KG-Nummer!\",VLOOKUP(C1719,Katastralgemeinden!A$2:$B$3041,2,\"falsch\")),\"\")","v":""},null,null,null,null,null,null,null,null,"",0,{"$f":"IF('Anhang Grundstücksverzeichnis'!G1719=Texte!$A$25,F1719,0)","v":0},{"$f":"IF('Anhang Grundstücksverzeichnis'!G1719=Texte!$A$26,F1719,0)","v":0},{"$f":"IF('Anhang Grundstücksverzeichnis'!G1719=Texte!$A$27,F1719,0)","v":0},{"$f":"IF('Anhang Grundstücksverzeichnis'!G1719=Texte!$A$28,F1719,0)","v":0}]
[1710,{"$f":"IF(C1720<>\"\",IF(ISNA(VLOOKUP(C1720,Katastralgemeinden!$A$2:$B$3041,2,FALSE)),\"Ungültige KG-Nummer!\",VLOOKUP(C1720,Katastralgemeinden!A$2:$B$3041,2,\"falsch\")),\"\")","v":""},null,null,null,null,null,null,null,null,"",0,{"$f":"IF('Anhang Grundstücksverzeichnis'!G1720=Texte!$A$25,F1720,0)","v":0},{"$f":"IF('Anhang Grundstücksverzeichnis'!G1720=Texte!$A$26,F1720,0)","v":0},{"$f":"IF('Anhang Grundstücksverzeichnis'!G1720=Texte!$A$27,F1720,0)","v":0},{"$f":"IF('Anhang Grundstücksverzeichnis'!G1720=Texte!$A$28,F1720,0)","v":0}]
[1711,{"$f":"IF(C1721<>\"\",IF(ISNA(VLOOKUP(C1721,Katastralgemeinden!$A$2:$B$3041,2,FALSE)),\"Ungültige KG-Nummer!\",VLOOKUP(C1721,Katastralgemeinden!A$2:$B$3041,2,\"falsch\")),\"\")","v":""},null,null,null,null,null,null,null,null,"",0,{"$f":"IF('Anhang Grundstücksverzeichnis'!G1721=Texte!$A$25,F1721,0)","v":0},{"$f":"IF('Anhang Grundstücksverzeichnis'!G1721=Texte!$A$26,F1721,0)","v":0},{"$f":"IF('Anhang Grundstücksverzeichnis'!G1721=Texte!$A$27,F1721,0)","v":0},{"$f":"IF('Anhang Grundstücksverzeichnis'!G1721=Texte!$A$28,F1721,0)","v":0}]
[1712,{"$f":"IF(C1722<>\"\",IF(ISNA(VLOOKUP(C1722,Katastralgemeinden!$A$2:$B$3041,2,FALSE)),\"Ungültige KG-Nummer!\",VLOOKUP(C1722,Katastralgemeinden!A$2:$B$3041,2,\"falsch\")),\"\")","v":""},null,null,null,null,null,null,null,null,"",0,{"$f":"IF('Anhang Grundstücksverzeichnis'!G1722=Texte!$A$25,F1722,0)","v":0},{"$f":"IF('Anhang Grundstücksverzeichnis'!G1722=Texte!$A$26,F1722,0)","v":0},{"$f":"IF('Anhang Grundstücksverzeichnis'!G1722=Texte!$A$27,F1722,0)","v":0},{"$f":"IF('Anhang Grundstücksverzeichnis'!G1722=Texte!$A$28,F1722,0)","v":0}]
[1713,{"$f":"IF(C1723<>\"\",IF(ISNA(VLOOKUP(C1723,Katastralgemeinden!$A$2:$B$3041,2,FALSE)),\"Ungültige KG-Nummer!\",VLOOKUP(C1723,Katastralgemeinden!A$2:$B$3041,2,\"falsch\")),\"\")","v":""},null,null,null,null,null,null,null,null,"",0,{"$f":"IF('Anhang Grundstücksverzeichnis'!G1723=Texte!$A$25,F1723,0)","v":0},{"$f":"IF('Anhang Grundstücksverzeichnis'!G1723=Texte!$A$26,F1723,0)","v":0},{"$f":"IF('Anhang Grundstücksverzeichnis'!G1723=Texte!$A$27,F1723,0)","v":0},{"$f":"IF('Anhang Grundstücksverzeichnis'!G1723=Texte!$A$28,F1723,0)","v":0}]
[1714,{"$f":"IF(C1724<>\"\",IF(ISNA(VLOOKUP(C1724,Katastralgemeinden!$A$2:$B$3041,2,FALSE)),\"Ungültige KG-Nummer!\",VLOOKUP(C1724,Katastralgemeinden!A$2:$B$3041,2,\"falsch\")),\"\")","v":""},null,null,null,null,null,null,null,null,"",0,{"$f":"IF('Anhang Grundstücksverzeichnis'!G1724=Texte!$A$25,F1724,0)","v":0},{"$f":"IF('Anhang Grundstücksverzeichnis'!G1724=Texte!$A$26,F1724,0)","v":0},{"$f":"IF('Anhang Grundstücksverzeichnis'!G1724=Texte!$A$27,F1724,0)","v":0},{"$f":"IF('Anhang Grundstücksverzeichnis'!G1724=Texte!$A$28,F1724,0)","v":0}]
[1715,{"$f":"IF(C1725<>\"\",IF(ISNA(VLOOKUP(C1725,Katastralgemeinden!$A$2:$B$3041,2,FALSE)),\"Ungültige KG-Nummer!\",VLOOKUP(C1725,Katastralgemeinden!A$2:$B$3041,2,\"falsch\")),\"\")","v":""},null,null,null,null,null,null,null,null,"",0,{"$f":"IF('Anhang Grundstücksverzeichnis'!G1725=Texte!$A$25,F1725,0)","v":0},{"$f":"IF('Anhang Grundstücksverzeichnis'!G1725=Texte!$A$26,F1725,0)","v":0},{"$f":"IF('Anhang Grundstücksverzeichnis'!G1725=Texte!$A$27,F1725,0)","v":0},{"$f":"IF('Anhang Grundstücksverzeichnis'!G1725=Texte!$A$28,F1725,0)","v":0}]
[1716,{"$f":"IF(C1726<>\"\",IF(ISNA(VLOOKUP(C1726,Katastralgemeinden!$A$2:$B$3041,2,FALSE)),\"Ungültige KG-Nummer!\",VLOOKUP(C1726,Katastralgemeinden!A$2:$B$3041,2,\"falsch\")),\"\")","v":""},null,null,null,null,null,null,null,null,"",0,{"$f":"IF('Anhang Grundstücksverzeichnis'!G1726=Texte!$A$25,F1726,0)","v":0},{"$f":"IF('Anhang Grundstücksverzeichnis'!G1726=Texte!$A$26,F1726,0)","v":0},{"$f":"IF('Anhang Grundstücksverzeichnis'!G1726=Texte!$A$27,F1726,0)","v":0},{"$f":"IF('Anhang Grundstücksverzeichnis'!G1726=Texte!$A$28,F1726,0)","v":0}]
[1717,{"$f":"IF(C1727<>\"\",IF(ISNA(VLOOKUP(C1727,Katastralgemeinden!$A$2:$B$3041,2,FALSE)),\"Ungültige KG-Nummer!\",VLOOKUP(C1727,Katastralgemeinden!A$2:$B$3041,2,\"falsch\")),\"\")","v":""},null,null,null,null,null,null,null,null,"",0,{"$f":"IF('Anhang Grundstücksverzeichnis'!G1727=Texte!$A$25,F1727,0)","v":0},{"$f":"IF('Anhang Grundstücksverzeichnis'!G1727=Texte!$A$26,F1727,0)","v":0},{"$f":"IF('Anhang Grundstücksverzeichnis'!G1727=Texte!$A$27,F1727,0)","v":0},{"$f":"IF('Anhang Grundstücksverzeichnis'!G1727=Texte!$A$28,F1727,0)","v":0}]
[1718,{"$f":"IF(C1728<>\"\",IF(ISNA(VLOOKUP(C1728,Katastralgemeinden!$A$2:$B$3041,2,FALSE)),\"Ungültige KG-Nummer!\",VLOOKUP(C1728,Katastralgemeinden!A$2:$B$3041,2,\"falsch\")),\"\")","v":""},null,null,null,null,null,null,null,null,"",0,{"$f":"IF('Anhang Grundstücksverzeichnis'!G1728=Texte!$A$25,F1728,0)","v":0},{"$f":"IF('Anhang Grundstücksverzeichnis'!G1728=Texte!$A$26,F1728,0)","v":0},{"$f":"IF('Anhang Grundstücksverzeichnis'!G1728=Texte!$A$27,F1728,0)","v":0},{"$f":"IF('Anhang Grundstücksverzeichnis'!G1728=Texte!$A$28,F1728,0)","v":0}]
[1719,{"$f":"IF(C1729<>\"\",IF(ISNA(VLOOKUP(C1729,Katastralgemeinden!$A$2:$B$3041,2,FALSE)),\"Ungültige KG-Nummer!\",VLOOKUP(C1729,Katastralgemeinden!A$2:$B$3041,2,\"falsch\")),\"\")","v":""},null,null,null,null,null,null,null,null,"",0,{"$f":"IF('Anhang Grundstücksverzeichnis'!G1729=Texte!$A$25,F1729,0)","v":0},{"$f":"IF('Anhang Grundstücksverzeichnis'!G1729=Texte!$A$26,F1729,0)","v":0},{"$f":"IF('Anhang Grundstücksverzeichnis'!G1729=Texte!$A$27,F1729,0)","v":0},{"$f":"IF('Anhang Grundstücksverzeichnis'!G1729=Texte!$A$28,F1729,0)","v":0}]
[1720,{"$f":"IF(C1730<>\"\",IF(ISNA(VLOOKUP(C1730,Katastralgemeinden!$A$2:$B$3041,2,FALSE)),\"Ungültige KG-Nummer!\",VLOOKUP(C1730,Katastralgemeinden!A$2:$B$3041,2,\"falsch\")),\"\")","v":""},null,null,null,null,null,null,null,null,"",0,{"$f":"IF('Anhang Grundstücksverzeichnis'!G1730=Texte!$A$25,F1730,0)","v":0},{"$f":"IF('Anhang Grundstücksverzeichnis'!G1730=Texte!$A$26,F1730,0)","v":0},{"$f":"IF('Anhang Grundstücksverzeichnis'!G1730=Texte!$A$27,F1730,0)","v":0},{"$f":"IF('Anhang Grundstücksverzeichnis'!G1730=Texte!$A$28,F1730,0)","v":0}]
[1721,{"$f":"IF(C1731<>\"\",IF(ISNA(VLOOKUP(C1731,Katastralgemeinden!$A$2:$B$3041,2,FALSE)),\"Ungültige KG-Nummer!\",VLOOKUP(C1731,Katastralgemeinden!A$2:$B$3041,2,\"falsch\")),\"\")","v":""},null,null,null,null,null,null,null,null,"",0,{"$f":"IF('Anhang Grundstücksverzeichnis'!G1731=Texte!$A$25,F1731,0)","v":0},{"$f":"IF('Anhang Grundstücksverzeichnis'!G1731=Texte!$A$26,F1731,0)","v":0},{"$f":"IF('Anhang Grundstücksverzeichnis'!G1731=Texte!$A$27,F1731,0)","v":0},{"$f":"IF('Anhang Grundstücksverzeichnis'!G1731=Texte!$A$28,F1731,0)","v":0}]
[1722,{"$f":"IF(C1732<>\"\",IF(ISNA(VLOOKUP(C1732,Katastralgemeinden!$A$2:$B$3041,2,FALSE)),\"Ungültige KG-Nummer!\",VLOOKUP(C1732,Katastralgemeinden!A$2:$B$3041,2,\"falsch\")),\"\")","v":""},null,null,null,null,null,null,null,null,"",0,{"$f":"IF('Anhang Grundstücksverzeichnis'!G1732=Texte!$A$25,F1732,0)","v":0},{"$f":"IF('Anhang Grundstücksverzeichnis'!G1732=Texte!$A$26,F1732,0)","v":0},{"$f":"IF('Anhang Grundstücksverzeichnis'!G1732=Texte!$A$27,F1732,0)","v":0},{"$f":"IF('Anhang Grundstücksverzeichnis'!G1732=Texte!$A$28,F1732,0)","v":0}]
[1723,{"$f":"IF(C1733<>\"\",IF(ISNA(VLOOKUP(C1733,Katastralgemeinden!$A$2:$B$3041,2,FALSE)),\"Ungültige KG-Nummer!\",VLOOKUP(C1733,Katastralgemeinden!A$2:$B$3041,2,\"falsch\")),\"\")","v":""},null,null,null,null,null,null,null,null,"",0,{"$f":"IF('Anhang Grundstücksverzeichnis'!G1733=Texte!$A$25,F1733,0)","v":0},{"$f":"IF('Anhang Grundstücksverzeichnis'!G1733=Texte!$A$26,F1733,0)","v":0},{"$f":"IF('Anhang Grundstücksverzeichnis'!G1733=Texte!$A$27,F1733,0)","v":0},{"$f":"IF('Anhang Grundstücksverzeichnis'!G1733=Texte!$A$28,F1733,0)","v":0}]
[1724,{"$f":"IF(C1734<>\"\",IF(ISNA(VLOOKUP(C1734,Katastralgemeinden!$A$2:$B$3041,2,FALSE)),\"Ungültige KG-Nummer!\",VLOOKUP(C1734,Katastralgemeinden!A$2:$B$3041,2,\"falsch\")),\"\")","v":""},null,null,null,null,null,null,null,null,"",0,{"$f":"IF('Anhang Grundstücksverzeichnis'!G1734=Texte!$A$25,F1734,0)","v":0},{"$f":"IF('Anhang Grundstücksverzeichnis'!G1734=Texte!$A$26,F1734,0)","v":0},{"$f":"IF('Anhang Grundstücksverzeichnis'!G1734=Texte!$A$27,F1734,0)","v":0},{"$f":"IF('Anhang Grundstücksverzeichnis'!G1734=Texte!$A$28,F1734,0)","v":0}]
[1725,{"$f":"IF(C1735<>\"\",IF(ISNA(VLOOKUP(C1735,Katastralgemeinden!$A$2:$B$3041,2,FALSE)),\"Ungültige KG-Nummer!\",VLOOKUP(C1735,Katastralgemeinden!A$2:$B$3041,2,\"falsch\")),\"\")","v":""},null,null,null,null,null,null,null,null,"",0,{"$f":"IF('Anhang Grundstücksverzeichnis'!G1735=Texte!$A$25,F1735,0)","v":0},{"$f":"IF('Anhang Grundstücksverzeichnis'!G1735=Texte!$A$26,F1735,0)","v":0},{"$f":"IF('Anhang Grundstücksverzeichnis'!G1735=Texte!$A$27,F1735,0)","v":0},{"$f":"IF('Anhang Grundstücksverzeichnis'!G1735=Texte!$A$28,F1735,0)","v":0}]
[1726,{"$f":"IF(C1736<>\"\",IF(ISNA(VLOOKUP(C1736,Katastralgemeinden!$A$2:$B$3041,2,FALSE)),\"Ungültige KG-Nummer!\",VLOOKUP(C1736,Katastralgemeinden!A$2:$B$3041,2,\"falsch\")),\"\")","v":""},null,null,null,null,null,null,null,null,"",0,{"$f":"IF('Anhang Grundstücksverzeichnis'!G1736=Texte!$A$25,F1736,0)","v":0},{"$f":"IF('Anhang Grundstücksverzeichnis'!G1736=Texte!$A$26,F1736,0)","v":0},{"$f":"IF('Anhang Grundstücksverzeichnis'!G1736=Texte!$A$27,F1736,0)","v":0},{"$f":"IF('Anhang Grundstücksverzeichnis'!G1736=Texte!$A$28,F1736,0)","v":0}]
[1727,{"$f":"IF(C1737<>\"\",IF(ISNA(VLOOKUP(C1737,Katastralgemeinden!$A$2:$B$3041,2,FALSE)),\"Ungültige KG-Nummer!\",VLOOKUP(C1737,Katastralgemeinden!A$2:$B$3041,2,\"falsch\")),\"\")","v":""},null,null,null,null,null,null,null,null,"",0,{"$f":"IF('Anhang Grundstücksverzeichnis'!G1737=Texte!$A$25,F1737,0)","v":0},{"$f":"IF('Anhang Grundstücksverzeichnis'!G1737=Texte!$A$26,F1737,0)","v":0},{"$f":"IF('Anhang Grundstücksverzeichnis'!G1737=Texte!$A$27,F1737,0)","v":0},{"$f":"IF('Anhang Grundstücksverzeichnis'!G1737=Texte!$A$28,F1737,0)","v":0}]
[1728,{"$f":"IF(C1738<>\"\",IF(ISNA(VLOOKUP(C1738,Katastralgemeinden!$A$2:$B$3041,2,FALSE)),\"Ungültige KG-Nummer!\",VLOOKUP(C1738,Katastralgemeinden!A$2:$B$3041,2,\"falsch\")),\"\")","v":""},null,null,null,null,null,null,null,null,"",0,{"$f":"IF('Anhang Grundstücksverzeichnis'!G1738=Texte!$A$25,F1738,0)","v":0},{"$f":"IF('Anhang Grundstücksverzeichnis'!G1738=Texte!$A$26,F1738,0)","v":0},{"$f":"IF('Anhang Grundstücksverzeichnis'!G1738=Texte!$A$27,F1738,0)","v":0},{"$f":"IF('Anhang Grundstücksverzeichnis'!G1738=Texte!$A$28,F1738,0)","v":0}]
[1729,{"$f":"IF(C1739<>\"\",IF(ISNA(VLOOKUP(C1739,Katastralgemeinden!$A$2:$B$3041,2,FALSE)),\"Ungültige KG-Nummer!\",VLOOKUP(C1739,Katastralgemeinden!A$2:$B$3041,2,\"falsch\")),\"\")","v":""},null,null,null,null,null,null,null,null,"",0,{"$f":"IF('Anhang Grundstücksverzeichnis'!G1739=Texte!$A$25,F1739,0)","v":0},{"$f":"IF('Anhang Grundstücksverzeichnis'!G1739=Texte!$A$26,F1739,0)","v":0},{"$f":"IF('Anhang Grundstücksverzeichnis'!G1739=Texte!$A$27,F1739,0)","v":0},{"$f":"IF('Anhang Grundstücksverzeichnis'!G1739=Texte!$A$28,F1739,0)","v":0}]
[1730,{"$f":"IF(C1740<>\"\",IF(ISNA(VLOOKUP(C1740,Katastralgemeinden!$A$2:$B$3041,2,FALSE)),\"Ungültige KG-Nummer!\",VLOOKUP(C1740,Katastralgemeinden!A$2:$B$3041,2,\"falsch\")),\"\")","v":""},null,null,null,null,null,null,null,null,{"$f":"IF(G1740<>\"\",IF(G1740=\"Eigengrundfläche\",0,IF(G1740=\"Vorpachtfläche\",1,IF(G1740=\"Abrundung +\",3,IF(G1740=\"Abrundung -\",4,5)))),\"\")","v":""},{"$f":"IF(OR(LOWER(H1740)=\"x\",LOWER(H1740)=\"j\"),1,0)","v":0},{"$f":"IF('Anhang Grundstücksverzeichnis'!G1740=Texte!$A$25,F1740,0)","v":0},{"$f":"IF('Anhang Grundstücksverzeichnis'!G1740=Texte!$A$26,F1740,0)","v":0},{"$f":"IF('Anhang Grundstücksverzeichnis'!G1740=Texte!$A$27,F1740,0)","v":0},{"$f":"IF('Anhang Grundstücksverzeichnis'!G1740=Texte!$A$28,F1740,0)","v":0}]
[1731,{"$f":"IF(C1741<>\"\",IF(ISNA(VLOOKUP(C1741,Katastralgemeinden!$A$2:$B$3041,2,FALSE)),\"Ungültige KG-Nummer!\",VLOOKUP(C1741,Katastralgemeinden!A$2:$B$3041,2,\"falsch\")),\"\")","v":""},null,null,null,null,null,null,null,null,"",0,{"$f":"IF('Anhang Grundstücksverzeichnis'!G1741=Texte!$A$25,F1741,0)","v":0},{"$f":"IF('Anhang Grundstücksverzeichnis'!G1741=Texte!$A$26,F1741,0)","v":0},{"$f":"IF('Anhang Grundstücksverzeichnis'!G1741=Texte!$A$27,F1741,0)","v":0},{"$f":"IF('Anhang Grundstücksverzeichnis'!G1741=Texte!$A$28,F1741,0)","v":0}]
[1732,{"$f":"IF(C1742<>\"\",IF(ISNA(VLOOKUP(C1742,Katastralgemeinden!$A$2:$B$3041,2,FALSE)),\"Ungültige KG-Nummer!\",VLOOKUP(C1742,Katastralgemeinden!A$2:$B$3041,2,\"falsch\")),\"\")","v":""},null,null,null,null,null,null,null,null,"",0,{"$f":"IF('Anhang Grundstücksverzeichnis'!G1742=Texte!$A$25,F1742,0)","v":0},{"$f":"IF('Anhang Grundstücksverzeichnis'!G1742=Texte!$A$26,F1742,0)","v":0},{"$f":"IF('Anhang Grundstücksverzeichnis'!G1742=Texte!$A$27,F1742,0)","v":0},{"$f":"IF('Anhang Grundstücksverzeichnis'!G1742=Texte!$A$28,F1742,0)","v":0}]
[1733,{"$f":"IF(C1743<>\"\",IF(ISNA(VLOOKUP(C1743,Katastralgemeinden!$A$2:$B$3041,2,FALSE)),\"Ungültige KG-Nummer!\",VLOOKUP(C1743,Katastralgemeinden!A$2:$B$3041,2,\"falsch\")),\"\")","v":""},null,null,null,null,null,null,null,null,"",0,{"$f":"IF('Anhang Grundstücksverzeichnis'!G1743=Texte!$A$25,F1743,0)","v":0},{"$f":"IF('Anhang Grundstücksverzeichnis'!G1743=Texte!$A$26,F1743,0)","v":0},{"$f":"IF('Anhang Grundstücksverzeichnis'!G1743=Texte!$A$27,F1743,0)","v":0},{"$f":"IF('Anhang Grundstücksverzeichnis'!G1743=Texte!$A$28,F1743,0)","v":0}]
[1734,{"$f":"IF(C1744<>\"\",IF(ISNA(VLOOKUP(C1744,Katastralgemeinden!$A$2:$B$3041,2,FALSE)),\"Ungültige KG-Nummer!\",VLOOKUP(C1744,Katastralgemeinden!A$2:$B$3041,2,\"falsch\")),\"\")","v":""},null,null,null,null,null,null,null,null,"",0,{"$f":"IF('Anhang Grundstücksverzeichnis'!G1744=Texte!$A$25,F1744,0)","v":0},{"$f":"IF('Anhang Grundstücksverzeichnis'!G1744=Texte!$A$26,F1744,0)","v":0},{"$f":"IF('Anhang Grundstücksverzeichnis'!G1744=Texte!$A$27,F1744,0)","v":0},{"$f":"IF('Anhang Grundstücksverzeichnis'!G1744=Texte!$A$28,F1744,0)","v":0}]
[1735,{"$f":"IF(C1745<>\"\",IF(ISNA(VLOOKUP(C1745,Katastralgemeinden!$A$2:$B$3041,2,FALSE)),\"Ungültige KG-Nummer!\",VLOOKUP(C1745,Katastralgemeinden!A$2:$B$3041,2,\"falsch\")),\"\")","v":""},null,null,null,null,null,null,null,null,"",0,{"$f":"IF('Anhang Grundstücksverzeichnis'!G1745=Texte!$A$25,F1745,0)","v":0},{"$f":"IF('Anhang Grundstücksverzeichnis'!G1745=Texte!$A$26,F1745,0)","v":0},{"$f":"IF('Anhang Grundstücksverzeichnis'!G1745=Texte!$A$27,F1745,0)","v":0},{"$f":"IF('Anhang Grundstücksverzeichnis'!G1745=Texte!$A$28,F1745,0)","v":0}]
[1736,{"$f":"IF(C1746<>\"\",IF(ISNA(VLOOKUP(C1746,Katastralgemeinden!$A$2:$B$3041,2,FALSE)),\"Ungültige KG-Nummer!\",VLOOKUP(C1746,Katastralgemeinden!A$2:$B$3041,2,\"falsch\")),\"\")","v":""},null,null,null,null,null,null,null,null,"",0,{"$f":"IF('Anhang Grundstücksverzeichnis'!G1746=Texte!$A$25,F1746,0)","v":0},{"$f":"IF('Anhang Grundstücksverzeichnis'!G1746=Texte!$A$26,F1746,0)","v":0},{"$f":"IF('Anhang Grundstücksverzeichnis'!G1746=Texte!$A$27,F1746,0)","v":0},{"$f":"IF('Anhang Grundstücksverzeichnis'!G1746=Texte!$A$28,F1746,0)","v":0}]
[1737,{"$f":"IF(C1747<>\"\",IF(ISNA(VLOOKUP(C1747,Katastralgemeinden!$A$2:$B$3041,2,FALSE)),\"Ungültige KG-Nummer!\",VLOOKUP(C1747,Katastralgemeinden!A$2:$B$3041,2,\"falsch\")),\"\")","v":""},null,null,null,null,null,null,null,null,"",0,{"$f":"IF('Anhang Grundstücksverzeichnis'!G1747=Texte!$A$25,F1747,0)","v":0},{"$f":"IF('Anhang Grundstücksverzeichnis'!G1747=Texte!$A$26,F1747,0)","v":0},{"$f":"IF('Anhang Grundstücksverzeichnis'!G1747=Texte!$A$27,F1747,0)","v":0},{"$f":"IF('Anhang Grundstücksverzeichnis'!G1747=Texte!$A$28,F1747,0)","v":0}]
[1738,{"$f":"IF(C1748<>\"\",IF(ISNA(VLOOKUP(C1748,Katastralgemeinden!$A$2:$B$3041,2,FALSE)),\"Ungültige KG-Nummer!\",VLOOKUP(C1748,Katastralgemeinden!A$2:$B$3041,2,\"falsch\")),\"\")","v":""},null,null,null,null,null,null,null,null,"",0,{"$f":"IF('Anhang Grundstücksverzeichnis'!G1748=Texte!$A$25,F1748,0)","v":0},{"$f":"IF('Anhang Grundstücksverzeichnis'!G1748=Texte!$A$26,F1748,0)","v":0},{"$f":"IF('Anhang Grundstücksverzeichnis'!G1748=Texte!$A$27,F1748,0)","v":0},{"$f":"IF('Anhang Grundstücksverzeichnis'!G1748=Texte!$A$28,F1748,0)","v":0}]
[1739,{"$f":"IF(C1749<>\"\",IF(ISNA(VLOOKUP(C1749,Katastralgemeinden!$A$2:$B$3041,2,FALSE)),\"Ungültige KG-Nummer!\",VLOOKUP(C1749,Katastralgemeinden!A$2:$B$3041,2,\"falsch\")),\"\")","v":""},null,null,null,null,null,null,null,null,"",0,{"$f":"IF('Anhang Grundstücksverzeichnis'!G1749=Texte!$A$25,F1749,0)","v":0},{"$f":"IF('Anhang Grundstücksverzeichnis'!G1749=Texte!$A$26,F1749,0)","v":0},{"$f":"IF('Anhang Grundstücksverzeichnis'!G1749=Texte!$A$27,F1749,0)","v":0},{"$f":"IF('Anhang Grundstücksverzeichnis'!G1749=Texte!$A$28,F1749,0)","v":0}]
[1740,{"$f":"IF(C1750<>\"\",IF(ISNA(VLOOKUP(C1750,Katastralgemeinden!$A$2:$B$3041,2,FALSE)),\"Ungültige KG-Nummer!\",VLOOKUP(C1750,Katastralgemeinden!A$2:$B$3041,2,\"falsch\")),\"\")","v":""},null,null,null,null,null,null,null,null,"",0,{"$f":"IF('Anhang Grundstücksverzeichnis'!G1750=Texte!$A$25,F1750,0)","v":0},{"$f":"IF('Anhang Grundstücksverzeichnis'!G1750=Texte!$A$26,F1750,0)","v":0},{"$f":"IF('Anhang Grundstücksverzeichnis'!G1750=Texte!$A$27,F1750,0)","v":0},{"$f":"IF('Anhang Grundstücksverzeichnis'!G1750=Texte!$A$28,F1750,0)","v":0}]
[1741,{"$f":"IF(C1751<>\"\",IF(ISNA(VLOOKUP(C1751,Katastralgemeinden!$A$2:$B$3041,2,FALSE)),\"Ungültige KG-Nummer!\",VLOOKUP(C1751,Katastralgemeinden!A$2:$B$3041,2,\"falsch\")),\"\")","v":""},null,null,null,null,null,null,null,null,"",0,{"$f":"IF('Anhang Grundstücksverzeichnis'!G1751=Texte!$A$25,F1751,0)","v":0},{"$f":"IF('Anhang Grundstücksverzeichnis'!G1751=Texte!$A$26,F1751,0)","v":0},{"$f":"IF('Anhang Grundstücksverzeichnis'!G1751=Texte!$A$27,F1751,0)","v":0},{"$f":"IF('Anhang Grundstücksverzeichnis'!G1751=Texte!$A$28,F1751,0)","v":0}]
[1742,{"$f":"IF(C1752<>\"\",IF(ISNA(VLOOKUP(C1752,Katastralgemeinden!$A$2:$B$3041,2,FALSE)),\"Ungültige KG-Nummer!\",VLOOKUP(C1752,Katastralgemeinden!A$2:$B$3041,2,\"falsch\")),\"\")","v":""},null,null,null,null,null,null,null,null,"",0,{"$f":"IF('Anhang Grundstücksverzeichnis'!G1752=Texte!$A$25,F1752,0)","v":0},{"$f":"IF('Anhang Grundstücksverzeichnis'!G1752=Texte!$A$26,F1752,0)","v":0},{"$f":"IF('Anhang Grundstücksverzeichnis'!G1752=Texte!$A$27,F1752,0)","v":0},{"$f":"IF('Anhang Grundstücksverzeichnis'!G1752=Texte!$A$28,F1752,0)","v":0}]
[1743,{"$f":"IF(C1753<>\"\",IF(ISNA(VLOOKUP(C1753,Katastralgemeinden!$A$2:$B$3041,2,FALSE)),\"Ungültige KG-Nummer!\",VLOOKUP(C1753,Katastralgemeinden!A$2:$B$3041,2,\"falsch\")),\"\")","v":""},null,null,null,null,null,null,null,null,"",0,{"$f":"IF('Anhang Grundstücksverzeichnis'!G1753=Texte!$A$25,F1753,0)","v":0},{"$f":"IF('Anhang Grundstücksverzeichnis'!G1753=Texte!$A$26,F1753,0)","v":0},{"$f":"IF('Anhang Grundstücksverzeichnis'!G1753=Texte!$A$27,F1753,0)","v":0},{"$f":"IF('Anhang Grundstücksverzeichnis'!G1753=Texte!$A$28,F1753,0)","v":0}]
[1744,{"$f":"IF(C1754<>\"\",IF(ISNA(VLOOKUP(C1754,Katastralgemeinden!$A$2:$B$3041,2,FALSE)),\"Ungültige KG-Nummer!\",VLOOKUP(C1754,Katastralgemeinden!A$2:$B$3041,2,\"falsch\")),\"\")","v":""},null,null,null,null,null,null,null,null,"",0,{"$f":"IF('Anhang Grundstücksverzeichnis'!G1754=Texte!$A$25,F1754,0)","v":0},{"$f":"IF('Anhang Grundstücksverzeichnis'!G1754=Texte!$A$26,F1754,0)","v":0},{"$f":"IF('Anhang Grundstücksverzeichnis'!G1754=Texte!$A$27,F1754,0)","v":0},{"$f":"IF('Anhang Grundstücksverzeichnis'!G1754=Texte!$A$28,F1754,0)","v":0}]
[1745,{"$f":"IF(C1755<>\"\",IF(ISNA(VLOOKUP(C1755,Katastralgemeinden!$A$2:$B$3041,2,FALSE)),\"Ungültige KG-Nummer!\",VLOOKUP(C1755,Katastralgemeinden!A$2:$B$3041,2,\"falsch\")),\"\")","v":""},null,null,null,null,null,null,null,null,"",0,{"$f":"IF('Anhang Grundstücksverzeichnis'!G1755=Texte!$A$25,F1755,0)","v":0},{"$f":"IF('Anhang Grundstücksverzeichnis'!G1755=Texte!$A$26,F1755,0)","v":0},{"$f":"IF('Anhang Grundstücksverzeichnis'!G1755=Texte!$A$27,F1755,0)","v":0},{"$f":"IF('Anhang Grundstücksverzeichnis'!G1755=Texte!$A$28,F1755,0)","v":0}]
[1746,{"$f":"IF(C1756<>\"\",IF(ISNA(VLOOKUP(C1756,Katastralgemeinden!$A$2:$B$3041,2,FALSE)),\"Ungültige KG-Nummer!\",VLOOKUP(C1756,Katastralgemeinden!A$2:$B$3041,2,\"falsch\")),\"\")","v":""},null,null,null,null,null,null,null,null,"",0,{"$f":"IF('Anhang Grundstücksverzeichnis'!G1756=Texte!$A$25,F1756,0)","v":0},{"$f":"IF('Anhang Grundstücksverzeichnis'!G1756=Texte!$A$26,F1756,0)","v":0},{"$f":"IF('Anhang Grundstücksverzeichnis'!G1756=Texte!$A$27,F1756,0)","v":0},{"$f":"IF('Anhang Grundstücksverzeichnis'!G1756=Texte!$A$28,F1756,0)","v":0}]
[1747,{"$f":"IF(C1757<>\"\",IF(ISNA(VLOOKUP(C1757,Katastralgemeinden!$A$2:$B$3041,2,FALSE)),\"Ungültige KG-Nummer!\",VLOOKUP(C1757,Katastralgemeinden!A$2:$B$3041,2,\"falsch\")),\"\")","v":""},null,null,null,null,null,null,null,null,"",0,{"$f":"IF('Anhang Grundstücksverzeichnis'!G1757=Texte!$A$25,F1757,0)","v":0},{"$f":"IF('Anhang Grundstücksverzeichnis'!G1757=Texte!$A$26,F1757,0)","v":0},{"$f":"IF('Anhang Grundstücksverzeichnis'!G1757=Texte!$A$27,F1757,0)","v":0},{"$f":"IF('Anhang Grundstücksverzeichnis'!G1757=Texte!$A$28,F1757,0)","v":0}]
[1748,{"$f":"IF(C1758<>\"\",IF(ISNA(VLOOKUP(C1758,Katastralgemeinden!$A$2:$B$3041,2,FALSE)),\"Ungültige KG-Nummer!\",VLOOKUP(C1758,Katastralgemeinden!A$2:$B$3041,2,\"falsch\")),\"\")","v":""},null,null,null,null,null,null,null,null,"",0,{"$f":"IF('Anhang Grundstücksverzeichnis'!G1758=Texte!$A$25,F1758,0)","v":0},{"$f":"IF('Anhang Grundstücksverzeichnis'!G1758=Texte!$A$26,F1758,0)","v":0},{"$f":"IF('Anhang Grundstücksverzeichnis'!G1758=Texte!$A$27,F1758,0)","v":0},{"$f":"IF('Anhang Grundstücksverzeichnis'!G1758=Texte!$A$28,F1758,0)","v":0}]
[1749,{"$f":"IF(C1759<>\"\",IF(ISNA(VLOOKUP(C1759,Katastralgemeinden!$A$2:$B$3041,2,FALSE)),\"Ungültige KG-Nummer!\",VLOOKUP(C1759,Katastralgemeinden!A$2:$B$3041,2,\"falsch\")),\"\")","v":""},null,null,null,null,null,null,null,null,"",0,{"$f":"IF('Anhang Grundstücksverzeichnis'!G1759=Texte!$A$25,F1759,0)","v":0},{"$f":"IF('Anhang Grundstücksverzeichnis'!G1759=Texte!$A$26,F1759,0)","v":0},{"$f":"IF('Anhang Grundstücksverzeichnis'!G1759=Texte!$A$27,F1759,0)","v":0},{"$f":"IF('Anhang Grundstücksverzeichnis'!G1759=Texte!$A$28,F1759,0)","v":0}]
[1750,{"$f":"IF(C1760<>\"\",IF(ISNA(VLOOKUP(C1760,Katastralgemeinden!$A$2:$B$3041,2,FALSE)),\"Ungültige KG-Nummer!\",VLOOKUP(C1760,Katastralgemeinden!A$2:$B$3041,2,\"falsch\")),\"\")","v":""},null,null,null,null,null,null,null,null,"",0,{"$f":"IF('Anhang Grundstücksverzeichnis'!G1760=Texte!$A$25,F1760,0)","v":0},{"$f":"IF('Anhang Grundstücksverzeichnis'!G1760=Texte!$A$26,F1760,0)","v":0},{"$f":"IF('Anhang Grundstücksverzeichnis'!G1760=Texte!$A$27,F1760,0)","v":0},{"$f":"IF('Anhang Grundstücksverzeichnis'!G1760=Texte!$A$28,F1760,0)","v":0}]
[1751,{"$f":"IF(C1761<>\"\",IF(ISNA(VLOOKUP(C1761,Katastralgemeinden!$A$2:$B$3041,2,FALSE)),\"Ungültige KG-Nummer!\",VLOOKUP(C1761,Katastralgemeinden!A$2:$B$3041,2,\"falsch\")),\"\")","v":""},null,null,null,null,null,null,null,null,"",0,{"$f":"IF('Anhang Grundstücksverzeichnis'!G1761=Texte!$A$25,F1761,0)","v":0},{"$f":"IF('Anhang Grundstücksverzeichnis'!G1761=Texte!$A$26,F1761,0)","v":0},{"$f":"IF('Anhang Grundstücksverzeichnis'!G1761=Texte!$A$27,F1761,0)","v":0},{"$f":"IF('Anhang Grundstücksverzeichnis'!G1761=Texte!$A$28,F1761,0)","v":0}]
[1752,{"$f":"IF(C1762<>\"\",IF(ISNA(VLOOKUP(C1762,Katastralgemeinden!$A$2:$B$3041,2,FALSE)),\"Ungültige KG-Nummer!\",VLOOKUP(C1762,Katastralgemeinden!A$2:$B$3041,2,\"falsch\")),\"\")","v":""},null,null,null,null,null,null,null,null,"",0,{"$f":"IF('Anhang Grundstücksverzeichnis'!G1762=Texte!$A$25,F1762,0)","v":0},{"$f":"IF('Anhang Grundstücksverzeichnis'!G1762=Texte!$A$26,F1762,0)","v":0},{"$f":"IF('Anhang Grundstücksverzeichnis'!G1762=Texte!$A$27,F1762,0)","v":0},{"$f":"IF('Anhang Grundstücksverzeichnis'!G1762=Texte!$A$28,F1762,0)","v":0}]
[1753,{"$f":"IF(C1763<>\"\",IF(ISNA(VLOOKUP(C1763,Katastralgemeinden!$A$2:$B$3041,2,FALSE)),\"Ungültige KG-Nummer!\",VLOOKUP(C1763,Katastralgemeinden!A$2:$B$3041,2,\"falsch\")),\"\")","v":""},null,null,null,null,null,null,null,null,"",0,{"$f":"IF('Anhang Grundstücksverzeichnis'!G1763=Texte!$A$25,F1763,0)","v":0},{"$f":"IF('Anhang Grundstücksverzeichnis'!G1763=Texte!$A$26,F1763,0)","v":0},{"$f":"IF('Anhang Grundstücksverzeichnis'!G1763=Texte!$A$27,F1763,0)","v":0},{"$f":"IF('Anhang Grundstücksverzeichnis'!G1763=Texte!$A$28,F1763,0)","v":0}]
[1754,{"$f":"IF(C1764<>\"\",IF(ISNA(VLOOKUP(C1764,Katastralgemeinden!$A$2:$B$3041,2,FALSE)),\"Ungültige KG-Nummer!\",VLOOKUP(C1764,Katastralgemeinden!A$2:$B$3041,2,\"falsch\")),\"\")","v":""},null,null,null,null,null,null,null,null,"",0,{"$f":"IF('Anhang Grundstücksverzeichnis'!G1764=Texte!$A$25,F1764,0)","v":0},{"$f":"IF('Anhang Grundstücksverzeichnis'!G1764=Texte!$A$26,F1764,0)","v":0},{"$f":"IF('Anhang Grundstücksverzeichnis'!G1764=Texte!$A$27,F1764,0)","v":0},{"$f":"IF('Anhang Grundstücksverzeichnis'!G1764=Texte!$A$28,F1764,0)","v":0}]
[1755,{"$f":"IF(C1765<>\"\",IF(ISNA(VLOOKUP(C1765,Katastralgemeinden!$A$2:$B$3041,2,FALSE)),\"Ungültige KG-Nummer!\",VLOOKUP(C1765,Katastralgemeinden!A$2:$B$3041,2,\"falsch\")),\"\")","v":""},null,null,null,null,null,null,null,null,"",0,{"$f":"IF('Anhang Grundstücksverzeichnis'!G1765=Texte!$A$25,F1765,0)","v":0},{"$f":"IF('Anhang Grundstücksverzeichnis'!G1765=Texte!$A$26,F1765,0)","v":0},{"$f":"IF('Anhang Grundstücksverzeichnis'!G1765=Texte!$A$27,F1765,0)","v":0},{"$f":"IF('Anhang Grundstücksverzeichnis'!G1765=Texte!$A$28,F1765,0)","v":0}]
[1756,{"$f":"IF(C1766<>\"\",IF(ISNA(VLOOKUP(C1766,Katastralgemeinden!$A$2:$B$3041,2,FALSE)),\"Ungültige KG-Nummer!\",VLOOKUP(C1766,Katastralgemeinden!A$2:$B$3041,2,\"falsch\")),\"\")","v":""},null,null,null,null,null,null,null,null,"",0,{"$f":"IF('Anhang Grundstücksverzeichnis'!G1766=Texte!$A$25,F1766,0)","v":0},{"$f":"IF('Anhang Grundstücksverzeichnis'!G1766=Texte!$A$26,F1766,0)","v":0},{"$f":"IF('Anhang Grundstücksverzeichnis'!G1766=Texte!$A$27,F1766,0)","v":0},{"$f":"IF('Anhang Grundstücksverzeichnis'!G1766=Texte!$A$28,F1766,0)","v":0}]
[1757,{"$f":"IF(C1767<>\"\",IF(ISNA(VLOOKUP(C1767,Katastralgemeinden!$A$2:$B$3041,2,FALSE)),\"Ungültige KG-Nummer!\",VLOOKUP(C1767,Katastralgemeinden!A$2:$B$3041,2,\"falsch\")),\"\")","v":""},null,null,null,null,null,null,null,null,"",0,{"$f":"IF('Anhang Grundstücksverzeichnis'!G1767=Texte!$A$25,F1767,0)","v":0},{"$f":"IF('Anhang Grundstücksverzeichnis'!G1767=Texte!$A$26,F1767,0)","v":0},{"$f":"IF('Anhang Grundstücksverzeichnis'!G1767=Texte!$A$27,F1767,0)","v":0},{"$f":"IF('Anhang Grundstücksverzeichnis'!G1767=Texte!$A$28,F1767,0)","v":0}]
[1758,{"$f":"IF(C1768<>\"\",IF(ISNA(VLOOKUP(C1768,Katastralgemeinden!$A$2:$B$3041,2,FALSE)),\"Ungültige KG-Nummer!\",VLOOKUP(C1768,Katastralgemeinden!A$2:$B$3041,2,\"falsch\")),\"\")","v":""},null,null,null,null,null,null,null,null,"",0,{"$f":"IF('Anhang Grundstücksverzeichnis'!G1768=Texte!$A$25,F1768,0)","v":0},{"$f":"IF('Anhang Grundstücksverzeichnis'!G1768=Texte!$A$26,F1768,0)","v":0},{"$f":"IF('Anhang Grundstücksverzeichnis'!G1768=Texte!$A$27,F1768,0)","v":0},{"$f":"IF('Anhang Grundstücksverzeichnis'!G1768=Texte!$A$28,F1768,0)","v":0}]
[1759,{"$f":"IF(C1769<>\"\",IF(ISNA(VLOOKUP(C1769,Katastralgemeinden!$A$2:$B$3041,2,FALSE)),\"Ungültige KG-Nummer!\",VLOOKUP(C1769,Katastralgemeinden!A$2:$B$3041,2,\"falsch\")),\"\")","v":""},null,null,null,null,null,null,null,null,"",0,{"$f":"IF('Anhang Grundstücksverzeichnis'!G1769=Texte!$A$25,F1769,0)","v":0},{"$f":"IF('Anhang Grundstücksverzeichnis'!G1769=Texte!$A$26,F1769,0)","v":0},{"$f":"IF('Anhang Grundstücksverzeichnis'!G1769=Texte!$A$27,F1769,0)","v":0},{"$f":"IF('Anhang Grundstücksverzeichnis'!G1769=Texte!$A$28,F1769,0)","v":0}]
[1760,{"$f":"IF(C1770<>\"\",IF(ISNA(VLOOKUP(C1770,Katastralgemeinden!$A$2:$B$3041,2,FALSE)),\"Ungültige KG-Nummer!\",VLOOKUP(C1770,Katastralgemeinden!A$2:$B$3041,2,\"falsch\")),\"\")","v":""},null,null,null,null,null,null,null,null,"",0,{"$f":"IF('Anhang Grundstücksverzeichnis'!G1770=Texte!$A$25,F1770,0)","v":0},{"$f":"IF('Anhang Grundstücksverzeichnis'!G1770=Texte!$A$26,F1770,0)","v":0},{"$f":"IF('Anhang Grundstücksverzeichnis'!G1770=Texte!$A$27,F1770,0)","v":0},{"$f":"IF('Anhang Grundstücksverzeichnis'!G1770=Texte!$A$28,F1770,0)","v":0}]
[1761,{"$f":"IF(C1771<>\"\",IF(ISNA(VLOOKUP(C1771,Katastralgemeinden!$A$2:$B$3041,2,FALSE)),\"Ungültige KG-Nummer!\",VLOOKUP(C1771,Katastralgemeinden!A$2:$B$3041,2,\"falsch\")),\"\")","v":""},null,null,null,null,null,null,null,null,"",0,{"$f":"IF('Anhang Grundstücksverzeichnis'!G1771=Texte!$A$25,F1771,0)","v":0},{"$f":"IF('Anhang Grundstücksverzeichnis'!G1771=Texte!$A$26,F1771,0)","v":0},{"$f":"IF('Anhang Grundstücksverzeichnis'!G1771=Texte!$A$27,F1771,0)","v":0},{"$f":"IF('Anhang Grundstücksverzeichnis'!G1771=Texte!$A$28,F1771,0)","v":0}]
[1762,{"$f":"IF(C1772<>\"\",IF(ISNA(VLOOKUP(C1772,Katastralgemeinden!$A$2:$B$3041,2,FALSE)),\"Ungültige KG-Nummer!\",VLOOKUP(C1772,Katastralgemeinden!A$2:$B$3041,2,\"falsch\")),\"\")","v":""},null,null,null,null,null,null,null,null,"",0,{"$f":"IF('Anhang Grundstücksverzeichnis'!G1772=Texte!$A$25,F1772,0)","v":0},{"$f":"IF('Anhang Grundstücksverzeichnis'!G1772=Texte!$A$26,F1772,0)","v":0},{"$f":"IF('Anhang Grundstücksverzeichnis'!G1772=Texte!$A$27,F1772,0)","v":0},{"$f":"IF('Anhang Grundstücksverzeichnis'!G1772=Texte!$A$28,F1772,0)","v":0}]
[1763,{"$f":"IF(C1773<>\"\",IF(ISNA(VLOOKUP(C1773,Katastralgemeinden!$A$2:$B$3041,2,FALSE)),\"Ungültige KG-Nummer!\",VLOOKUP(C1773,Katastralgemeinden!A$2:$B$3041,2,\"falsch\")),\"\")","v":""},null,null,null,null,null,null,null,null,"",0,{"$f":"IF('Anhang Grundstücksverzeichnis'!G1773=Texte!$A$25,F1773,0)","v":0},{"$f":"IF('Anhang Grundstücksverzeichnis'!G1773=Texte!$A$26,F1773,0)","v":0},{"$f":"IF('Anhang Grundstücksverzeichnis'!G1773=Texte!$A$27,F1773,0)","v":0},{"$f":"IF('Anhang Grundstücksverzeichnis'!G1773=Texte!$A$28,F1773,0)","v":0}]
[1764,{"$f":"IF(C1774<>\"\",IF(ISNA(VLOOKUP(C1774,Katastralgemeinden!$A$2:$B$3041,2,FALSE)),\"Ungültige KG-Nummer!\",VLOOKUP(C1774,Katastralgemeinden!A$2:$B$3041,2,\"falsch\")),\"\")","v":""},null,null,null,null,null,null,null,null,"",0,{"$f":"IF('Anhang Grundstücksverzeichnis'!G1774=Texte!$A$25,F1774,0)","v":0},{"$f":"IF('Anhang Grundstücksverzeichnis'!G1774=Texte!$A$26,F1774,0)","v":0},{"$f":"IF('Anhang Grundstücksverzeichnis'!G1774=Texte!$A$27,F1774,0)","v":0},{"$f":"IF('Anhang Grundstücksverzeichnis'!G1774=Texte!$A$28,F1774,0)","v":0}]
[1765,{"$f":"IF(C1775<>\"\",IF(ISNA(VLOOKUP(C1775,Katastralgemeinden!$A$2:$B$3041,2,FALSE)),\"Ungültige KG-Nummer!\",VLOOKUP(C1775,Katastralgemeinden!A$2:$B$3041,2,\"falsch\")),\"\")","v":""},null,null,null,null,null,null,null,null,"",0,{"$f":"IF('Anhang Grundstücksverzeichnis'!G1775=Texte!$A$25,F1775,0)","v":0},{"$f":"IF('Anhang Grundstücksverzeichnis'!G1775=Texte!$A$26,F1775,0)","v":0},{"$f":"IF('Anhang Grundstücksverzeichnis'!G1775=Texte!$A$27,F1775,0)","v":0},{"$f":"IF('Anhang Grundstücksverzeichnis'!G1775=Texte!$A$28,F1775,0)","v":0}]
[1766,{"$f":"IF(C1776<>\"\",IF(ISNA(VLOOKUP(C1776,Katastralgemeinden!$A$2:$B$3041,2,FALSE)),\"Ungültige KG-Nummer!\",VLOOKUP(C1776,Katastralgemeinden!A$2:$B$3041,2,\"falsch\")),\"\")","v":""},null,null,null,null,null,null,null,null,"",0,{"$f":"IF('Anhang Grundstücksverzeichnis'!G1776=Texte!$A$25,F1776,0)","v":0},{"$f":"IF('Anhang Grundstücksverzeichnis'!G1776=Texte!$A$26,F1776,0)","v":0},{"$f":"IF('Anhang Grundstücksverzeichnis'!G1776=Texte!$A$27,F1776,0)","v":0},{"$f":"IF('Anhang Grundstücksverzeichnis'!G1776=Texte!$A$28,F1776,0)","v":0}]
[1767,{"$f":"IF(C1777<>\"\",IF(ISNA(VLOOKUP(C1777,Katastralgemeinden!$A$2:$B$3041,2,FALSE)),\"Ungültige KG-Nummer!\",VLOOKUP(C1777,Katastralgemeinden!A$2:$B$3041,2,\"falsch\")),\"\")","v":""},null,null,null,null,null,null,null,null,"",0,{"$f":"IF('Anhang Grundstücksverzeichnis'!G1777=Texte!$A$25,F1777,0)","v":0},{"$f":"IF('Anhang Grundstücksverzeichnis'!G1777=Texte!$A$26,F1777,0)","v":0},{"$f":"IF('Anhang Grundstücksverzeichnis'!G1777=Texte!$A$27,F1777,0)","v":0},{"$f":"IF('Anhang Grundstücksverzeichnis'!G1777=Texte!$A$28,F1777,0)","v":0}]
[1768,{"$f":"IF(C1778<>\"\",IF(ISNA(VLOOKUP(C1778,Katastralgemeinden!$A$2:$B$3041,2,FALSE)),\"Ungültige KG-Nummer!\",VLOOKUP(C1778,Katastralgemeinden!A$2:$B$3041,2,\"falsch\")),\"\")","v":""},null,null,null,null,null,null,null,null,"",0,{"$f":"IF('Anhang Grundstücksverzeichnis'!G1778=Texte!$A$25,F1778,0)","v":0},{"$f":"IF('Anhang Grundstücksverzeichnis'!G1778=Texte!$A$26,F1778,0)","v":0},{"$f":"IF('Anhang Grundstücksverzeichnis'!G1778=Texte!$A$27,F1778,0)","v":0},{"$f":"IF('Anhang Grundstücksverzeichnis'!G1778=Texte!$A$28,F1778,0)","v":0}]
[1769,{"$f":"IF(C1779<>\"\",IF(ISNA(VLOOKUP(C1779,Katastralgemeinden!$A$2:$B$3041,2,FALSE)),\"Ungültige KG-Nummer!\",VLOOKUP(C1779,Katastralgemeinden!A$2:$B$3041,2,\"falsch\")),\"\")","v":""},null,null,null,null,null,null,null,null,"",0,{"$f":"IF('Anhang Grundstücksverzeichnis'!G1779=Texte!$A$25,F1779,0)","v":0},{"$f":"IF('Anhang Grundstücksverzeichnis'!G1779=Texte!$A$26,F1779,0)","v":0},{"$f":"IF('Anhang Grundstücksverzeichnis'!G1779=Texte!$A$27,F1779,0)","v":0},{"$f":"IF('Anhang Grundstücksverzeichnis'!G1779=Texte!$A$28,F1779,0)","v":0}]
[1770,{"$f":"IF(C1780<>\"\",IF(ISNA(VLOOKUP(C1780,Katastralgemeinden!$A$2:$B$3041,2,FALSE)),\"Ungültige KG-Nummer!\",VLOOKUP(C1780,Katastralgemeinden!A$2:$B$3041,2,\"falsch\")),\"\")","v":""},null,null,null,null,null,null,null,null,"",0,{"$f":"IF('Anhang Grundstücksverzeichnis'!G1780=Texte!$A$25,F1780,0)","v":0},{"$f":"IF('Anhang Grundstücksverzeichnis'!G1780=Texte!$A$26,F1780,0)","v":0},{"$f":"IF('Anhang Grundstücksverzeichnis'!G1780=Texte!$A$27,F1780,0)","v":0},{"$f":"IF('Anhang Grundstücksverzeichnis'!G1780=Texte!$A$28,F1780,0)","v":0}]
[1771,{"$f":"IF(C1781<>\"\",IF(ISNA(VLOOKUP(C1781,Katastralgemeinden!$A$2:$B$3041,2,FALSE)),\"Ungültige KG-Nummer!\",VLOOKUP(C1781,Katastralgemeinden!A$2:$B$3041,2,\"falsch\")),\"\")","v":""},null,null,null,null,null,null,null,null,"",0,{"$f":"IF('Anhang Grundstücksverzeichnis'!G1781=Texte!$A$25,F1781,0)","v":0},{"$f":"IF('Anhang Grundstücksverzeichnis'!G1781=Texte!$A$26,F1781,0)","v":0},{"$f":"IF('Anhang Grundstücksverzeichnis'!G1781=Texte!$A$27,F1781,0)","v":0},{"$f":"IF('Anhang Grundstücksverzeichnis'!G1781=Texte!$A$28,F1781,0)","v":0}]
[1772,{"$f":"IF(C1782<>\"\",IF(ISNA(VLOOKUP(C1782,Katastralgemeinden!$A$2:$B$3041,2,FALSE)),\"Ungültige KG-Nummer!\",VLOOKUP(C1782,Katastralgemeinden!A$2:$B$3041,2,\"falsch\")),\"\")","v":""},null,null,null,null,null,null,null,null,"",0,{"$f":"IF('Anhang Grundstücksverzeichnis'!G1782=Texte!$A$25,F1782,0)","v":0},{"$f":"IF('Anhang Grundstücksverzeichnis'!G1782=Texte!$A$26,F1782,0)","v":0},{"$f":"IF('Anhang Grundstücksverzeichnis'!G1782=Texte!$A$27,F1782,0)","v":0},{"$f":"IF('Anhang Grundstücksverzeichnis'!G1782=Texte!$A$28,F1782,0)","v":0}]
[1773,{"$f":"IF(C1783<>\"\",IF(ISNA(VLOOKUP(C1783,Katastralgemeinden!$A$2:$B$3041,2,FALSE)),\"Ungültige KG-Nummer!\",VLOOKUP(C1783,Katastralgemeinden!A$2:$B$3041,2,\"falsch\")),\"\")","v":""},null,null,null,null,null,null,null,null,"",0,{"$f":"IF('Anhang Grundstücksverzeichnis'!G1783=Texte!$A$25,F1783,0)","v":0},{"$f":"IF('Anhang Grundstücksverzeichnis'!G1783=Texte!$A$26,F1783,0)","v":0},{"$f":"IF('Anhang Grundstücksverzeichnis'!G1783=Texte!$A$27,F1783,0)","v":0},{"$f":"IF('Anhang Grundstücksverzeichnis'!G1783=Texte!$A$28,F1783,0)","v":0}]
[1774,{"$f":"IF(C1784<>\"\",IF(ISNA(VLOOKUP(C1784,Katastralgemeinden!$A$2:$B$3041,2,FALSE)),\"Ungültige KG-Nummer!\",VLOOKUP(C1784,Katastralgemeinden!A$2:$B$3041,2,\"falsch\")),\"\")","v":""},null,null,null,null,null,null,null,null,"",0,{"$f":"IF('Anhang Grundstücksverzeichnis'!G1784=Texte!$A$25,F1784,0)","v":0},{"$f":"IF('Anhang Grundstücksverzeichnis'!G1784=Texte!$A$26,F1784,0)","v":0},{"$f":"IF('Anhang Grundstücksverzeichnis'!G1784=Texte!$A$27,F1784,0)","v":0},{"$f":"IF('Anhang Grundstücksverzeichnis'!G1784=Texte!$A$28,F1784,0)","v":0}]
[1775,{"$f":"IF(C1785<>\"\",IF(ISNA(VLOOKUP(C1785,Katastralgemeinden!$A$2:$B$3041,2,FALSE)),\"Ungültige KG-Nummer!\",VLOOKUP(C1785,Katastralgemeinden!A$2:$B$3041,2,\"falsch\")),\"\")","v":""},null,null,null,null,null,null,null,null,"",0,{"$f":"IF('Anhang Grundstücksverzeichnis'!G1785=Texte!$A$25,F1785,0)","v":0},{"$f":"IF('Anhang Grundstücksverzeichnis'!G1785=Texte!$A$26,F1785,0)","v":0},{"$f":"IF('Anhang Grundstücksverzeichnis'!G1785=Texte!$A$27,F1785,0)","v":0},{"$f":"IF('Anhang Grundstücksverzeichnis'!G1785=Texte!$A$28,F1785,0)","v":0}]
[1776,{"$f":"IF(C1786<>\"\",IF(ISNA(VLOOKUP(C1786,Katastralgemeinden!$A$2:$B$3041,2,FALSE)),\"Ungültige KG-Nummer!\",VLOOKUP(C1786,Katastralgemeinden!A$2:$B$3041,2,\"falsch\")),\"\")","v":""},null,null,null,null,null,null,null,null,"",0,{"$f":"IF('Anhang Grundstücksverzeichnis'!G1786=Texte!$A$25,F1786,0)","v":0},{"$f":"IF('Anhang Grundstücksverzeichnis'!G1786=Texte!$A$26,F1786,0)","v":0},{"$f":"IF('Anhang Grundstücksverzeichnis'!G1786=Texte!$A$27,F1786,0)","v":0},{"$f":"IF('Anhang Grundstücksverzeichnis'!G1786=Texte!$A$28,F1786,0)","v":0}]
[1777,{"$f":"IF(C1787<>\"\",IF(ISNA(VLOOKUP(C1787,Katastralgemeinden!$A$2:$B$3041,2,FALSE)),\"Ungültige KG-Nummer!\",VLOOKUP(C1787,Katastralgemeinden!A$2:$B$3041,2,\"falsch\")),\"\")","v":""},null,null,null,null,null,null,null,null,"",0,{"$f":"IF('Anhang Grundstücksverzeichnis'!G1787=Texte!$A$25,F1787,0)","v":0},{"$f":"IF('Anhang Grundstücksverzeichnis'!G1787=Texte!$A$26,F1787,0)","v":0},{"$f":"IF('Anhang Grundstücksverzeichnis'!G1787=Texte!$A$27,F1787,0)","v":0},{"$f":"IF('Anhang Grundstücksverzeichnis'!G1787=Texte!$A$28,F1787,0)","v":0}]
[1778,{"$f":"IF(C1788<>\"\",IF(ISNA(VLOOKUP(C1788,Katastralgemeinden!$A$2:$B$3041,2,FALSE)),\"Ungültige KG-Nummer!\",VLOOKUP(C1788,Katastralgemeinden!A$2:$B$3041,2,\"falsch\")),\"\")","v":""},null,null,null,null,null,null,null,null,"",0,{"$f":"IF('Anhang Grundstücksverzeichnis'!G1788=Texte!$A$25,F1788,0)","v":0},{"$f":"IF('Anhang Grundstücksverzeichnis'!G1788=Texte!$A$26,F1788,0)","v":0},{"$f":"IF('Anhang Grundstücksverzeichnis'!G1788=Texte!$A$27,F1788,0)","v":0},{"$f":"IF('Anhang Grundstücksverzeichnis'!G1788=Texte!$A$28,F1788,0)","v":0}]
[1779,{"$f":"IF(C1789<>\"\",IF(ISNA(VLOOKUP(C1789,Katastralgemeinden!$A$2:$B$3041,2,FALSE)),\"Ungültige KG-Nummer!\",VLOOKUP(C1789,Katastralgemeinden!A$2:$B$3041,2,\"falsch\")),\"\")","v":""},null,null,null,null,null,null,null,null,"",0,{"$f":"IF('Anhang Grundstücksverzeichnis'!G1789=Texte!$A$25,F1789,0)","v":0},{"$f":"IF('Anhang Grundstücksverzeichnis'!G1789=Texte!$A$26,F1789,0)","v":0},{"$f":"IF('Anhang Grundstücksverzeichnis'!G1789=Texte!$A$27,F1789,0)","v":0},{"$f":"IF('Anhang Grundstücksverzeichnis'!G1789=Texte!$A$28,F1789,0)","v":0}]
[1780,{"$f":"IF(C1790<>\"\",IF(ISNA(VLOOKUP(C1790,Katastralgemeinden!$A$2:$B$3041,2,FALSE)),\"Ungültige KG-Nummer!\",VLOOKUP(C1790,Katastralgemeinden!A$2:$B$3041,2,\"falsch\")),\"\")","v":""},null,null,null,null,null,null,null,null,"",0,{"$f":"IF('Anhang Grundstücksverzeichnis'!G1790=Texte!$A$25,F1790,0)","v":0},{"$f":"IF('Anhang Grundstücksverzeichnis'!G1790=Texte!$A$26,F1790,0)","v":0},{"$f":"IF('Anhang Grundstücksverzeichnis'!G1790=Texte!$A$27,F1790,0)","v":0},{"$f":"IF('Anhang Grundstücksverzeichnis'!G1790=Texte!$A$28,F1790,0)","v":0}]
[1781,{"$f":"IF(C1791<>\"\",IF(ISNA(VLOOKUP(C1791,Katastralgemeinden!$A$2:$B$3041,2,FALSE)),\"Ungültige KG-Nummer!\",VLOOKUP(C1791,Katastralgemeinden!A$2:$B$3041,2,\"falsch\")),\"\")","v":""},null,null,null,null,null,null,null,null,"",0,{"$f":"IF('Anhang Grundstücksverzeichnis'!G1791=Texte!$A$25,F1791,0)","v":0},{"$f":"IF('Anhang Grundstücksverzeichnis'!G1791=Texte!$A$26,F1791,0)","v":0},{"$f":"IF('Anhang Grundstücksverzeichnis'!G1791=Texte!$A$27,F1791,0)","v":0},{"$f":"IF('Anhang Grundstücksverzeichnis'!G1791=Texte!$A$28,F1791,0)","v":0}]
[1782,{"$f":"IF(C1792<>\"\",IF(ISNA(VLOOKUP(C1792,Katastralgemeinden!$A$2:$B$3041,2,FALSE)),\"Ungültige KG-Nummer!\",VLOOKUP(C1792,Katastralgemeinden!A$2:$B$3041,2,\"falsch\")),\"\")","v":""},null,null,null,null,null,null,null,null,"",0,{"$f":"IF('Anhang Grundstücksverzeichnis'!G1792=Texte!$A$25,F1792,0)","v":0},{"$f":"IF('Anhang Grundstücksverzeichnis'!G1792=Texte!$A$26,F1792,0)","v":0},{"$f":"IF('Anhang Grundstücksverzeichnis'!G1792=Texte!$A$27,F1792,0)","v":0},{"$f":"IF('Anhang Grundstücksverzeichnis'!G1792=Texte!$A$28,F1792,0)","v":0}]
[1783,{"$f":"IF(C1793<>\"\",IF(ISNA(VLOOKUP(C1793,Katastralgemeinden!$A$2:$B$3041,2,FALSE)),\"Ungültige KG-Nummer!\",VLOOKUP(C1793,Katastralgemeinden!A$2:$B$3041,2,\"falsch\")),\"\")","v":""},null,null,null,null,null,null,null,null,"",0,{"$f":"IF('Anhang Grundstücksverzeichnis'!G1793=Texte!$A$25,F1793,0)","v":0},{"$f":"IF('Anhang Grundstücksverzeichnis'!G1793=Texte!$A$26,F1793,0)","v":0},{"$f":"IF('Anhang Grundstücksverzeichnis'!G1793=Texte!$A$27,F1793,0)","v":0},{"$f":"IF('Anhang Grundstücksverzeichnis'!G1793=Texte!$A$28,F1793,0)","v":0}]
[1784,{"$f":"IF(C1794<>\"\",IF(ISNA(VLOOKUP(C1794,Katastralgemeinden!$A$2:$B$3041,2,FALSE)),\"Ungültige KG-Nummer!\",VLOOKUP(C1794,Katastralgemeinden!A$2:$B$3041,2,\"falsch\")),\"\")","v":""},null,null,null,null,null,null,null,null,"",0,{"$f":"IF('Anhang Grundstücksverzeichnis'!G1794=Texte!$A$25,F1794,0)","v":0},{"$f":"IF('Anhang Grundstücksverzeichnis'!G1794=Texte!$A$26,F1794,0)","v":0},{"$f":"IF('Anhang Grundstücksverzeichnis'!G1794=Texte!$A$27,F1794,0)","v":0},{"$f":"IF('Anhang Grundstücksverzeichnis'!G1794=Texte!$A$28,F1794,0)","v":0}]
[1785,{"$f":"IF(C1795<>\"\",IF(ISNA(VLOOKUP(C1795,Katastralgemeinden!$A$2:$B$3041,2,FALSE)),\"Ungültige KG-Nummer!\",VLOOKUP(C1795,Katastralgemeinden!A$2:$B$3041,2,\"falsch\")),\"\")","v":""},null,null,null,null,null,null,null,null,"",0,{"$f":"IF('Anhang Grundstücksverzeichnis'!G1795=Texte!$A$25,F1795,0)","v":0},{"$f":"IF('Anhang Grundstücksverzeichnis'!G1795=Texte!$A$26,F1795,0)","v":0},{"$f":"IF('Anhang Grundstücksverzeichnis'!G1795=Texte!$A$27,F1795,0)","v":0},{"$f":"IF('Anhang Grundstücksverzeichnis'!G1795=Texte!$A$28,F1795,0)","v":0}]
[1786,{"$f":"IF(C1796<>\"\",IF(ISNA(VLOOKUP(C1796,Katastralgemeinden!$A$2:$B$3041,2,FALSE)),\"Ungültige KG-Nummer!\",VLOOKUP(C1796,Katastralgemeinden!A$2:$B$3041,2,\"falsch\")),\"\")","v":""},null,null,null,null,null,null,null,null,"",0,{"$f":"IF('Anhang Grundstücksverzeichnis'!G1796=Texte!$A$25,F1796,0)","v":0},{"$f":"IF('Anhang Grundstücksverzeichnis'!G1796=Texte!$A$26,F1796,0)","v":0},{"$f":"IF('Anhang Grundstücksverzeichnis'!G1796=Texte!$A$27,F1796,0)","v":0},{"$f":"IF('Anhang Grundstücksverzeichnis'!G1796=Texte!$A$28,F1796,0)","v":0}]
[1787,{"$f":"IF(C1797<>\"\",IF(ISNA(VLOOKUP(C1797,Katastralgemeinden!$A$2:$B$3041,2,FALSE)),\"Ungültige KG-Nummer!\",VLOOKUP(C1797,Katastralgemeinden!A$2:$B$3041,2,\"falsch\")),\"\")","v":""},null,null,null,null,null,null,null,null,"",0,{"$f":"IF('Anhang Grundstücksverzeichnis'!G1797=Texte!$A$25,F1797,0)","v":0},{"$f":"IF('Anhang Grundstücksverzeichnis'!G1797=Texte!$A$26,F1797,0)","v":0},{"$f":"IF('Anhang Grundstücksverzeichnis'!G1797=Texte!$A$27,F1797,0)","v":0},{"$f":"IF('Anhang Grundstücksverzeichnis'!G1797=Texte!$A$28,F1797,0)","v":0}]
[1788,{"$f":"IF(C1798<>\"\",IF(ISNA(VLOOKUP(C1798,Katastralgemeinden!$A$2:$B$3041,2,FALSE)),\"Ungültige KG-Nummer!\",VLOOKUP(C1798,Katastralgemeinden!A$2:$B$3041,2,\"falsch\")),\"\")","v":""},null,null,null,null,null,null,null,null,"",0,{"$f":"IF('Anhang Grundstücksverzeichnis'!G1798=Texte!$A$25,F1798,0)","v":0},{"$f":"IF('Anhang Grundstücksverzeichnis'!G1798=Texte!$A$26,F1798,0)","v":0},{"$f":"IF('Anhang Grundstücksverzeichnis'!G1798=Texte!$A$27,F1798,0)","v":0},{"$f":"IF('Anhang Grundstücksverzeichnis'!G1798=Texte!$A$28,F1798,0)","v":0}]
[1789,{"$f":"IF(C1799<>\"\",IF(ISNA(VLOOKUP(C1799,Katastralgemeinden!$A$2:$B$3041,2,FALSE)),\"Ungültige KG-Nummer!\",VLOOKUP(C1799,Katastralgemeinden!A$2:$B$3041,2,\"falsch\")),\"\")","v":""},null,null,null,null,null,null,null,null,"",0,{"$f":"IF('Anhang Grundstücksverzeichnis'!G1799=Texte!$A$25,F1799,0)","v":0},{"$f":"IF('Anhang Grundstücksverzeichnis'!G1799=Texte!$A$26,F1799,0)","v":0},{"$f":"IF('Anhang Grundstücksverzeichnis'!G1799=Texte!$A$27,F1799,0)","v":0},{"$f":"IF('Anhang Grundstücksverzeichnis'!G1799=Texte!$A$28,F1799,0)","v":0}]
[1790,{"$f":"IF(C1800<>\"\",IF(ISNA(VLOOKUP(C1800,Katastralgemeinden!$A$2:$B$3041,2,FALSE)),\"Ungültige KG-Nummer!\",VLOOKUP(C1800,Katastralgemeinden!A$2:$B$3041,2,\"falsch\")),\"\")","v":""},null,null,null,null,null,null,null,null,"",0,{"$f":"IF('Anhang Grundstücksverzeichnis'!G1800=Texte!$A$25,F1800,0)","v":0},{"$f":"IF('Anhang Grundstücksverzeichnis'!G1800=Texte!$A$26,F1800,0)","v":0},{"$f":"IF('Anhang Grundstücksverzeichnis'!G1800=Texte!$A$27,F1800,0)","v":0},{"$f":"IF('Anhang Grundstücksverzeichnis'!G1800=Texte!$A$28,F1800,0)","v":0}]
[1791,{"$f":"IF(C1801<>\"\",IF(ISNA(VLOOKUP(C1801,Katastralgemeinden!$A$2:$B$3041,2,FALSE)),\"Ungültige KG-Nummer!\",VLOOKUP(C1801,Katastralgemeinden!A$2:$B$3041,2,\"falsch\")),\"\")","v":""},null,null,null,null,null,null,null,null,"",0,{"$f":"IF('Anhang Grundstücksverzeichnis'!G1801=Texte!$A$25,F1801,0)","v":0},{"$f":"IF('Anhang Grundstücksverzeichnis'!G1801=Texte!$A$26,F1801,0)","v":0},{"$f":"IF('Anhang Grundstücksverzeichnis'!G1801=Texte!$A$27,F1801,0)","v":0},{"$f":"IF('Anhang Grundstücksverzeichnis'!G1801=Texte!$A$28,F1801,0)","v":0}]
[1792,{"$f":"IF(C1802<>\"\",IF(ISNA(VLOOKUP(C1802,Katastralgemeinden!$A$2:$B$3041,2,FALSE)),\"Ungültige KG-Nummer!\",VLOOKUP(C1802,Katastralgemeinden!A$2:$B$3041,2,\"falsch\")),\"\")","v":""},null,null,null,null,null,null,null,null,"",0,{"$f":"IF('Anhang Grundstücksverzeichnis'!G1802=Texte!$A$25,F1802,0)","v":0},{"$f":"IF('Anhang Grundstücksverzeichnis'!G1802=Texte!$A$26,F1802,0)","v":0},{"$f":"IF('Anhang Grundstücksverzeichnis'!G1802=Texte!$A$27,F1802,0)","v":0},{"$f":"IF('Anhang Grundstücksverzeichnis'!G1802=Texte!$A$28,F1802,0)","v":0}]
[1793,{"$f":"IF(C1803<>\"\",IF(ISNA(VLOOKUP(C1803,Katastralgemeinden!$A$2:$B$3041,2,FALSE)),\"Ungültige KG-Nummer!\",VLOOKUP(C1803,Katastralgemeinden!A$2:$B$3041,2,\"falsch\")),\"\")","v":""},null,null,null,null,null,null,null,null,"",0,{"$f":"IF('Anhang Grundstücksverzeichnis'!G1803=Texte!$A$25,F1803,0)","v":0},{"$f":"IF('Anhang Grundstücksverzeichnis'!G1803=Texte!$A$26,F1803,0)","v":0},{"$f":"IF('Anhang Grundstücksverzeichnis'!G1803=Texte!$A$27,F1803,0)","v":0},{"$f":"IF('Anhang Grundstücksverzeichnis'!G1803=Texte!$A$28,F1803,0)","v":0}]
[1794,{"$f":"IF(C1804<>\"\",IF(ISNA(VLOOKUP(C1804,Katastralgemeinden!$A$2:$B$3041,2,FALSE)),\"Ungültige KG-Nummer!\",VLOOKUP(C1804,Katastralgemeinden!A$2:$B$3041,2,\"falsch\")),\"\")","v":""},null,null,null,null,null,null,null,null,{"$f":"IF(G1804<>\"\",IF(G1804=\"Eigengrundfläche\",0,IF(G1804=\"Vorpachtfläche\",1,IF(G1804=\"Abrundung +\",3,IF(G1804=\"Abrundung -\",4,5)))),\"\")","v":""},{"$f":"IF(OR(LOWER(H1804)=\"x\",LOWER(H1804)=\"j\"),1,0)","v":0},{"$f":"IF('Anhang Grundstücksverzeichnis'!G1804=Texte!$A$25,F1804,0)","v":0},{"$f":"IF('Anhang Grundstücksverzeichnis'!G1804=Texte!$A$26,F1804,0)","v":0},{"$f":"IF('Anhang Grundstücksverzeichnis'!G1804=Texte!$A$27,F1804,0)","v":0},{"$f":"IF('Anhang Grundstücksverzeichnis'!G1804=Texte!$A$28,F1804,0)","v":0}]
[1795,{"$f":"IF(C1805<>\"\",IF(ISNA(VLOOKUP(C1805,Katastralgemeinden!$A$2:$B$3041,2,FALSE)),\"Ungültige KG-Nummer!\",VLOOKUP(C1805,Katastralgemeinden!A$2:$B$3041,2,\"falsch\")),\"\")","v":""},null,null,null,null,null,null,null,null,"",0,{"$f":"IF('Anhang Grundstücksverzeichnis'!G1805=Texte!$A$25,F1805,0)","v":0},{"$f":"IF('Anhang Grundstücksverzeichnis'!G1805=Texte!$A$26,F1805,0)","v":0},{"$f":"IF('Anhang Grundstücksverzeichnis'!G1805=Texte!$A$27,F1805,0)","v":0},{"$f":"IF('Anhang Grundstücksverzeichnis'!G1805=Texte!$A$28,F1805,0)","v":0}]
[1796,{"$f":"IF(C1806<>\"\",IF(ISNA(VLOOKUP(C1806,Katastralgemeinden!$A$2:$B$3041,2,FALSE)),\"Ungültige KG-Nummer!\",VLOOKUP(C1806,Katastralgemeinden!A$2:$B$3041,2,\"falsch\")),\"\")","v":""},null,null,null,null,null,null,null,null,"",0,{"$f":"IF('Anhang Grundstücksverzeichnis'!G1806=Texte!$A$25,F1806,0)","v":0},{"$f":"IF('Anhang Grundstücksverzeichnis'!G1806=Texte!$A$26,F1806,0)","v":0},{"$f":"IF('Anhang Grundstücksverzeichnis'!G1806=Texte!$A$27,F1806,0)","v":0},{"$f":"IF('Anhang Grundstücksverzeichnis'!G1806=Texte!$A$28,F1806,0)","v":0}]
[1797,{"$f":"IF(C1807<>\"\",IF(ISNA(VLOOKUP(C1807,Katastralgemeinden!$A$2:$B$3041,2,FALSE)),\"Ungültige KG-Nummer!\",VLOOKUP(C1807,Katastralgemeinden!A$2:$B$3041,2,\"falsch\")),\"\")","v":""},null,null,null,null,null,null,null,null,"",0,{"$f":"IF('Anhang Grundstücksverzeichnis'!G1807=Texte!$A$25,F1807,0)","v":0},{"$f":"IF('Anhang Grundstücksverzeichnis'!G1807=Texte!$A$26,F1807,0)","v":0},{"$f":"IF('Anhang Grundstücksverzeichnis'!G1807=Texte!$A$27,F1807,0)","v":0},{"$f":"IF('Anhang Grundstücksverzeichnis'!G1807=Texte!$A$28,F1807,0)","v":0}]
[1798,{"$f":"IF(C1808<>\"\",IF(ISNA(VLOOKUP(C1808,Katastralgemeinden!$A$2:$B$3041,2,FALSE)),\"Ungültige KG-Nummer!\",VLOOKUP(C1808,Katastralgemeinden!A$2:$B$3041,2,\"falsch\")),\"\")","v":""},null,null,null,null,null,null,null,null,"",0,{"$f":"IF('Anhang Grundstücksverzeichnis'!G1808=Texte!$A$25,F1808,0)","v":0},{"$f":"IF('Anhang Grundstücksverzeichnis'!G1808=Texte!$A$26,F1808,0)","v":0},{"$f":"IF('Anhang Grundstücksverzeichnis'!G1808=Texte!$A$27,F1808,0)","v":0},{"$f":"IF('Anhang Grundstücksverzeichnis'!G1808=Texte!$A$28,F1808,0)","v":0}]
[1799,{"$f":"IF(C1809<>\"\",IF(ISNA(VLOOKUP(C1809,Katastralgemeinden!$A$2:$B$3041,2,FALSE)),\"Ungültige KG-Nummer!\",VLOOKUP(C1809,Katastralgemeinden!A$2:$B$3041,2,\"falsch\")),\"\")","v":""},null,null,null,null,null,null,null,null,"",0,{"$f":"IF('Anhang Grundstücksverzeichnis'!G1809=Texte!$A$25,F1809,0)","v":0},{"$f":"IF('Anhang Grundstücksverzeichnis'!G1809=Texte!$A$26,F1809,0)","v":0},{"$f":"IF('Anhang Grundstücksverzeichnis'!G1809=Texte!$A$27,F1809,0)","v":0},{"$f":"IF('Anhang Grundstücksverzeichnis'!G1809=Texte!$A$28,F1809,0)","v":0}]
[1800,{"$f":"IF(C1810<>\"\",IF(ISNA(VLOOKUP(C1810,Katastralgemeinden!$A$2:$B$3041,2,FALSE)),\"Ungültige KG-Nummer!\",VLOOKUP(C1810,Katastralgemeinden!A$2:$B$3041,2,\"falsch\")),\"\")","v":""},null,null,null,null,null,null,null,null,"",0,{"$f":"IF('Anhang Grundstücksverzeichnis'!G1810=Texte!$A$25,F1810,0)","v":0},{"$f":"IF('Anhang Grundstücksverzeichnis'!G1810=Texte!$A$26,F1810,0)","v":0},{"$f":"IF('Anhang Grundstücksverzeichnis'!G1810=Texte!$A$27,F1810,0)","v":0},{"$f":"IF('Anhang Grundstücksverzeichnis'!G1810=Texte!$A$28,F1810,0)","v":0}]
[1801,{"$f":"IF(C1811<>\"\",IF(ISNA(VLOOKUP(C1811,Katastralgemeinden!$A$2:$B$3041,2,FALSE)),\"Ungültige KG-Nummer!\",VLOOKUP(C1811,Katastralgemeinden!A$2:$B$3041,2,\"falsch\")),\"\")","v":""},null,null,null,null,null,null,null,null,"",0,{"$f":"IF('Anhang Grundstücksverzeichnis'!G1811=Texte!$A$25,F1811,0)","v":0},{"$f":"IF('Anhang Grundstücksverzeichnis'!G1811=Texte!$A$26,F1811,0)","v":0},{"$f":"IF('Anhang Grundstücksverzeichnis'!G1811=Texte!$A$27,F1811,0)","v":0},{"$f":"IF('Anhang Grundstücksverzeichnis'!G1811=Texte!$A$28,F1811,0)","v":0}]
[1802,{"$f":"IF(C1812<>\"\",IF(ISNA(VLOOKUP(C1812,Katastralgemeinden!$A$2:$B$3041,2,FALSE)),\"Ungültige KG-Nummer!\",VLOOKUP(C1812,Katastralgemeinden!A$2:$B$3041,2,\"falsch\")),\"\")","v":""},null,null,null,null,null,null,null,null,"",0,{"$f":"IF('Anhang Grundstücksverzeichnis'!G1812=Texte!$A$25,F1812,0)","v":0},{"$f":"IF('Anhang Grundstücksverzeichnis'!G1812=Texte!$A$26,F1812,0)","v":0},{"$f":"IF('Anhang Grundstücksverzeichnis'!G1812=Texte!$A$27,F1812,0)","v":0},{"$f":"IF('Anhang Grundstücksverzeichnis'!G1812=Texte!$A$28,F1812,0)","v":0}]
[1803,{"$f":"IF(C1813<>\"\",IF(ISNA(VLOOKUP(C1813,Katastralgemeinden!$A$2:$B$3041,2,FALSE)),\"Ungültige KG-Nummer!\",VLOOKUP(C1813,Katastralgemeinden!A$2:$B$3041,2,\"falsch\")),\"\")","v":""},null,null,null,null,null,null,null,null,"",0,{"$f":"IF('Anhang Grundstücksverzeichnis'!G1813=Texte!$A$25,F1813,0)","v":0},{"$f":"IF('Anhang Grundstücksverzeichnis'!G1813=Texte!$A$26,F1813,0)","v":0},{"$f":"IF('Anhang Grundstücksverzeichnis'!G1813=Texte!$A$27,F1813,0)","v":0},{"$f":"IF('Anhang Grundstücksverzeichnis'!G1813=Texte!$A$28,F1813,0)","v":0}]
[1804,{"$f":"IF(C1814<>\"\",IF(ISNA(VLOOKUP(C1814,Katastralgemeinden!$A$2:$B$3041,2,FALSE)),\"Ungültige KG-Nummer!\",VLOOKUP(C1814,Katastralgemeinden!A$2:$B$3041,2,\"falsch\")),\"\")","v":""},null,null,null,null,null,null,null,null,"",0,{"$f":"IF('Anhang Grundstücksverzeichnis'!G1814=Texte!$A$25,F1814,0)","v":0},{"$f":"IF('Anhang Grundstücksverzeichnis'!G1814=Texte!$A$26,F1814,0)","v":0},{"$f":"IF('Anhang Grundstücksverzeichnis'!G1814=Texte!$A$27,F1814,0)","v":0},{"$f":"IF('Anhang Grundstücksverzeichnis'!G1814=Texte!$A$28,F1814,0)","v":0}]
[1805,{"$f":"IF(C1815<>\"\",IF(ISNA(VLOOKUP(C1815,Katastralgemeinden!$A$2:$B$3041,2,FALSE)),\"Ungültige KG-Nummer!\",VLOOKUP(C1815,Katastralgemeinden!A$2:$B$3041,2,\"falsch\")),\"\")","v":""},null,null,null,null,null,null,null,null,"",0,{"$f":"IF('Anhang Grundstücksverzeichnis'!G1815=Texte!$A$25,F1815,0)","v":0},{"$f":"IF('Anhang Grundstücksverzeichnis'!G1815=Texte!$A$26,F1815,0)","v":0},{"$f":"IF('Anhang Grundstücksverzeichnis'!G1815=Texte!$A$27,F1815,0)","v":0},{"$f":"IF('Anhang Grundstücksverzeichnis'!G1815=Texte!$A$28,F1815,0)","v":0}]
[1806,{"$f":"IF(C1816<>\"\",IF(ISNA(VLOOKUP(C1816,Katastralgemeinden!$A$2:$B$3041,2,FALSE)),\"Ungültige KG-Nummer!\",VLOOKUP(C1816,Katastralgemeinden!A$2:$B$3041,2,\"falsch\")),\"\")","v":""},null,null,null,null,null,null,null,null,"",0,{"$f":"IF('Anhang Grundstücksverzeichnis'!G1816=Texte!$A$25,F1816,0)","v":0},{"$f":"IF('Anhang Grundstücksverzeichnis'!G1816=Texte!$A$26,F1816,0)","v":0},{"$f":"IF('Anhang Grundstücksverzeichnis'!G1816=Texte!$A$27,F1816,0)","v":0},{"$f":"IF('Anhang Grundstücksverzeichnis'!G1816=Texte!$A$28,F1816,0)","v":0}]
[1807,{"$f":"IF(C1817<>\"\",IF(ISNA(VLOOKUP(C1817,Katastralgemeinden!$A$2:$B$3041,2,FALSE)),\"Ungültige KG-Nummer!\",VLOOKUP(C1817,Katastralgemeinden!A$2:$B$3041,2,\"falsch\")),\"\")","v":""},null,null,null,null,null,null,null,null,"",0,{"$f":"IF('Anhang Grundstücksverzeichnis'!G1817=Texte!$A$25,F1817,0)","v":0},{"$f":"IF('Anhang Grundstücksverzeichnis'!G1817=Texte!$A$26,F1817,0)","v":0},{"$f":"IF('Anhang Grundstücksverzeichnis'!G1817=Texte!$A$27,F1817,0)","v":0},{"$f":"IF('Anhang Grundstücksverzeichnis'!G1817=Texte!$A$28,F1817,0)","v":0}]
[1808,{"$f":"IF(C1818<>\"\",IF(ISNA(VLOOKUP(C1818,Katastralgemeinden!$A$2:$B$3041,2,FALSE)),\"Ungültige KG-Nummer!\",VLOOKUP(C1818,Katastralgemeinden!A$2:$B$3041,2,\"falsch\")),\"\")","v":""},null,null,null,null,null,null,null,null,"",0,{"$f":"IF('Anhang Grundstücksverzeichnis'!G1818=Texte!$A$25,F1818,0)","v":0},{"$f":"IF('Anhang Grundstücksverzeichnis'!G1818=Texte!$A$26,F1818,0)","v":0},{"$f":"IF('Anhang Grundstücksverzeichnis'!G1818=Texte!$A$27,F1818,0)","v":0},{"$f":"IF('Anhang Grundstücksverzeichnis'!G1818=Texte!$A$28,F1818,0)","v":0}]
[1809,{"$f":"IF(C1819<>\"\",IF(ISNA(VLOOKUP(C1819,Katastralgemeinden!$A$2:$B$3041,2,FALSE)),\"Ungültige KG-Nummer!\",VLOOKUP(C1819,Katastralgemeinden!A$2:$B$3041,2,\"falsch\")),\"\")","v":""},null,null,null,null,null,null,null,null,"",0,{"$f":"IF('Anhang Grundstücksverzeichnis'!G1819=Texte!$A$25,F1819,0)","v":0},{"$f":"IF('Anhang Grundstücksverzeichnis'!G1819=Texte!$A$26,F1819,0)","v":0},{"$f":"IF('Anhang Grundstücksverzeichnis'!G1819=Texte!$A$27,F1819,0)","v":0},{"$f":"IF('Anhang Grundstücksverzeichnis'!G1819=Texte!$A$28,F1819,0)","v":0}]
[1810,{"$f":"IF(C1820<>\"\",IF(ISNA(VLOOKUP(C1820,Katastralgemeinden!$A$2:$B$3041,2,FALSE)),\"Ungültige KG-Nummer!\",VLOOKUP(C1820,Katastralgemeinden!A$2:$B$3041,2,\"falsch\")),\"\")","v":""},null,null,null,null,null,null,null,null,"",0,{"$f":"IF('Anhang Grundstücksverzeichnis'!G1820=Texte!$A$25,F1820,0)","v":0},{"$f":"IF('Anhang Grundstücksverzeichnis'!G1820=Texte!$A$26,F1820,0)","v":0},{"$f":"IF('Anhang Grundstücksverzeichnis'!G1820=Texte!$A$27,F1820,0)","v":0},{"$f":"IF('Anhang Grundstücksverzeichnis'!G1820=Texte!$A$28,F1820,0)","v":0}]
[1811,{"$f":"IF(C1821<>\"\",IF(ISNA(VLOOKUP(C1821,Katastralgemeinden!$A$2:$B$3041,2,FALSE)),\"Ungültige KG-Nummer!\",VLOOKUP(C1821,Katastralgemeinden!A$2:$B$3041,2,\"falsch\")),\"\")","v":""},null,null,null,null,null,null,null,null,"",0,{"$f":"IF('Anhang Grundstücksverzeichnis'!G1821=Texte!$A$25,F1821,0)","v":0},{"$f":"IF('Anhang Grundstücksverzeichnis'!G1821=Texte!$A$26,F1821,0)","v":0},{"$f":"IF('Anhang Grundstücksverzeichnis'!G1821=Texte!$A$27,F1821,0)","v":0},{"$f":"IF('Anhang Grundstücksverzeichnis'!G1821=Texte!$A$28,F1821,0)","v":0}]
[1812,{"$f":"IF(C1822<>\"\",IF(ISNA(VLOOKUP(C1822,Katastralgemeinden!$A$2:$B$3041,2,FALSE)),\"Ungültige KG-Nummer!\",VLOOKUP(C1822,Katastralgemeinden!A$2:$B$3041,2,\"falsch\")),\"\")","v":""},null,null,null,null,null,null,null,null,"",0,{"$f":"IF('Anhang Grundstücksverzeichnis'!G1822=Texte!$A$25,F1822,0)","v":0},{"$f":"IF('Anhang Grundstücksverzeichnis'!G1822=Texte!$A$26,F1822,0)","v":0},{"$f":"IF('Anhang Grundstücksverzeichnis'!G1822=Texte!$A$27,F1822,0)","v":0},{"$f":"IF('Anhang Grundstücksverzeichnis'!G1822=Texte!$A$28,F1822,0)","v":0}]
[1813,{"$f":"IF(C1823<>\"\",IF(ISNA(VLOOKUP(C1823,Katastralgemeinden!$A$2:$B$3041,2,FALSE)),\"Ungültige KG-Nummer!\",VLOOKUP(C1823,Katastralgemeinden!A$2:$B$3041,2,\"falsch\")),\"\")","v":""},null,null,null,null,null,null,null,null,"",0,{"$f":"IF('Anhang Grundstücksverzeichnis'!G1823=Texte!$A$25,F1823,0)","v":0},{"$f":"IF('Anhang Grundstücksverzeichnis'!G1823=Texte!$A$26,F1823,0)","v":0},{"$f":"IF('Anhang Grundstücksverzeichnis'!G1823=Texte!$A$27,F1823,0)","v":0},{"$f":"IF('Anhang Grundstücksverzeichnis'!G1823=Texte!$A$28,F1823,0)","v":0}]
[1814,{"$f":"IF(C1824<>\"\",IF(ISNA(VLOOKUP(C1824,Katastralgemeinden!$A$2:$B$3041,2,FALSE)),\"Ungültige KG-Nummer!\",VLOOKUP(C1824,Katastralgemeinden!A$2:$B$3041,2,\"falsch\")),\"\")","v":""},null,null,null,null,null,null,null,null,"",0,{"$f":"IF('Anhang Grundstücksverzeichnis'!G1824=Texte!$A$25,F1824,0)","v":0},{"$f":"IF('Anhang Grundstücksverzeichnis'!G1824=Texte!$A$26,F1824,0)","v":0},{"$f":"IF('Anhang Grundstücksverzeichnis'!G1824=Texte!$A$27,F1824,0)","v":0},{"$f":"IF('Anhang Grundstücksverzeichnis'!G1824=Texte!$A$28,F1824,0)","v":0}]
[1815,{"$f":"IF(C1825<>\"\",IF(ISNA(VLOOKUP(C1825,Katastralgemeinden!$A$2:$B$3041,2,FALSE)),\"Ungültige KG-Nummer!\",VLOOKUP(C1825,Katastralgemeinden!A$2:$B$3041,2,\"falsch\")),\"\")","v":""},null,null,null,null,null,null,null,null,"",0,{"$f":"IF('Anhang Grundstücksverzeichnis'!G1825=Texte!$A$25,F1825,0)","v":0},{"$f":"IF('Anhang Grundstücksverzeichnis'!G1825=Texte!$A$26,F1825,0)","v":0},{"$f":"IF('Anhang Grundstücksverzeichnis'!G1825=Texte!$A$27,F1825,0)","v":0},{"$f":"IF('Anhang Grundstücksverzeichnis'!G1825=Texte!$A$28,F1825,0)","v":0}]
[1816,{"$f":"IF(C1826<>\"\",IF(ISNA(VLOOKUP(C1826,Katastralgemeinden!$A$2:$B$3041,2,FALSE)),\"Ungültige KG-Nummer!\",VLOOKUP(C1826,Katastralgemeinden!A$2:$B$3041,2,\"falsch\")),\"\")","v":""},null,null,null,null,null,null,null,null,"",0,{"$f":"IF('Anhang Grundstücksverzeichnis'!G1826=Texte!$A$25,F1826,0)","v":0},{"$f":"IF('Anhang Grundstücksverzeichnis'!G1826=Texte!$A$26,F1826,0)","v":0},{"$f":"IF('Anhang Grundstücksverzeichnis'!G1826=Texte!$A$27,F1826,0)","v":0},{"$f":"IF('Anhang Grundstücksverzeichnis'!G1826=Texte!$A$28,F1826,0)","v":0}]
[1817,{"$f":"IF(C1827<>\"\",IF(ISNA(VLOOKUP(C1827,Katastralgemeinden!$A$2:$B$3041,2,FALSE)),\"Ungültige KG-Nummer!\",VLOOKUP(C1827,Katastralgemeinden!A$2:$B$3041,2,\"falsch\")),\"\")","v":""},null,null,null,null,null,null,null,null,"",0,{"$f":"IF('Anhang Grundstücksverzeichnis'!G1827=Texte!$A$25,F1827,0)","v":0},{"$f":"IF('Anhang Grundstücksverzeichnis'!G1827=Texte!$A$26,F1827,0)","v":0},{"$f":"IF('Anhang Grundstücksverzeichnis'!G1827=Texte!$A$27,F1827,0)","v":0},{"$f":"IF('Anhang Grundstücksverzeichnis'!G1827=Texte!$A$28,F1827,0)","v":0}]
[1818,{"$f":"IF(C1828<>\"\",IF(ISNA(VLOOKUP(C1828,Katastralgemeinden!$A$2:$B$3041,2,FALSE)),\"Ungültige KG-Nummer!\",VLOOKUP(C1828,Katastralgemeinden!A$2:$B$3041,2,\"falsch\")),\"\")","v":""},null,null,null,null,null,null,null,null,"",0,{"$f":"IF('Anhang Grundstücksverzeichnis'!G1828=Texte!$A$25,F1828,0)","v":0},{"$f":"IF('Anhang Grundstücksverzeichnis'!G1828=Texte!$A$26,F1828,0)","v":0},{"$f":"IF('Anhang Grundstücksverzeichnis'!G1828=Texte!$A$27,F1828,0)","v":0},{"$f":"IF('Anhang Grundstücksverzeichnis'!G1828=Texte!$A$28,F1828,0)","v":0}]
[1819,{"$f":"IF(C1829<>\"\",IF(ISNA(VLOOKUP(C1829,Katastralgemeinden!$A$2:$B$3041,2,FALSE)),\"Ungültige KG-Nummer!\",VLOOKUP(C1829,Katastralgemeinden!A$2:$B$3041,2,\"falsch\")),\"\")","v":""},null,null,null,null,null,null,null,null,"",0,{"$f":"IF('Anhang Grundstücksverzeichnis'!G1829=Texte!$A$25,F1829,0)","v":0},{"$f":"IF('Anhang Grundstücksverzeichnis'!G1829=Texte!$A$26,F1829,0)","v":0},{"$f":"IF('Anhang Grundstücksverzeichnis'!G1829=Texte!$A$27,F1829,0)","v":0},{"$f":"IF('Anhang Grundstücksverzeichnis'!G1829=Texte!$A$28,F1829,0)","v":0}]
[1820,{"$f":"IF(C1830<>\"\",IF(ISNA(VLOOKUP(C1830,Katastralgemeinden!$A$2:$B$3041,2,FALSE)),\"Ungültige KG-Nummer!\",VLOOKUP(C1830,Katastralgemeinden!A$2:$B$3041,2,\"falsch\")),\"\")","v":""},null,null,null,null,null,null,null,null,"",0,{"$f":"IF('Anhang Grundstücksverzeichnis'!G1830=Texte!$A$25,F1830,0)","v":0},{"$f":"IF('Anhang Grundstücksverzeichnis'!G1830=Texte!$A$26,F1830,0)","v":0},{"$f":"IF('Anhang Grundstücksverzeichnis'!G1830=Texte!$A$27,F1830,0)","v":0},{"$f":"IF('Anhang Grundstücksverzeichnis'!G1830=Texte!$A$28,F1830,0)","v":0}]
[1821,{"$f":"IF(C1831<>\"\",IF(ISNA(VLOOKUP(C1831,Katastralgemeinden!$A$2:$B$3041,2,FALSE)),\"Ungültige KG-Nummer!\",VLOOKUP(C1831,Katastralgemeinden!A$2:$B$3041,2,\"falsch\")),\"\")","v":""},null,null,null,null,null,null,null,null,"",0,{"$f":"IF('Anhang Grundstücksverzeichnis'!G1831=Texte!$A$25,F1831,0)","v":0},{"$f":"IF('Anhang Grundstücksverzeichnis'!G1831=Texte!$A$26,F1831,0)","v":0},{"$f":"IF('Anhang Grundstücksverzeichnis'!G1831=Texte!$A$27,F1831,0)","v":0},{"$f":"IF('Anhang Grundstücksverzeichnis'!G1831=Texte!$A$28,F1831,0)","v":0}]
[1822,{"$f":"IF(C1832<>\"\",IF(ISNA(VLOOKUP(C1832,Katastralgemeinden!$A$2:$B$3041,2,FALSE)),\"Ungültige KG-Nummer!\",VLOOKUP(C1832,Katastralgemeinden!A$2:$B$3041,2,\"falsch\")),\"\")","v":""},null,null,null,null,null,null,null,null,"",0,{"$f":"IF('Anhang Grundstücksverzeichnis'!G1832=Texte!$A$25,F1832,0)","v":0},{"$f":"IF('Anhang Grundstücksverzeichnis'!G1832=Texte!$A$26,F1832,0)","v":0},{"$f":"IF('Anhang Grundstücksverzeichnis'!G1832=Texte!$A$27,F1832,0)","v":0},{"$f":"IF('Anhang Grundstücksverzeichnis'!G1832=Texte!$A$28,F1832,0)","v":0}]
[1823,{"$f":"IF(C1833<>\"\",IF(ISNA(VLOOKUP(C1833,Katastralgemeinden!$A$2:$B$3041,2,FALSE)),\"Ungültige KG-Nummer!\",VLOOKUP(C1833,Katastralgemeinden!A$2:$B$3041,2,\"falsch\")),\"\")","v":""},null,null,null,null,null,null,null,null,"",0,{"$f":"IF('Anhang Grundstücksverzeichnis'!G1833=Texte!$A$25,F1833,0)","v":0},{"$f":"IF('Anhang Grundstücksverzeichnis'!G1833=Texte!$A$26,F1833,0)","v":0},{"$f":"IF('Anhang Grundstücksverzeichnis'!G1833=Texte!$A$27,F1833,0)","v":0},{"$f":"IF('Anhang Grundstücksverzeichnis'!G1833=Texte!$A$28,F1833,0)","v":0}]
[1824,{"$f":"IF(C1834<>\"\",IF(ISNA(VLOOKUP(C1834,Katastralgemeinden!$A$2:$B$3041,2,FALSE)),\"Ungültige KG-Nummer!\",VLOOKUP(C1834,Katastralgemeinden!A$2:$B$3041,2,\"falsch\")),\"\")","v":""},null,null,null,null,null,null,null,null,"",0,{"$f":"IF('Anhang Grundstücksverzeichnis'!G1834=Texte!$A$25,F1834,0)","v":0},{"$f":"IF('Anhang Grundstücksverzeichnis'!G1834=Texte!$A$26,F1834,0)","v":0},{"$f":"IF('Anhang Grundstücksverzeichnis'!G1834=Texte!$A$27,F1834,0)","v":0},{"$f":"IF('Anhang Grundstücksverzeichnis'!G1834=Texte!$A$28,F1834,0)","v":0}]
[1825,{"$f":"IF(C1835<>\"\",IF(ISNA(VLOOKUP(C1835,Katastralgemeinden!$A$2:$B$3041,2,FALSE)),\"Ungültige KG-Nummer!\",VLOOKUP(C1835,Katastralgemeinden!A$2:$B$3041,2,\"falsch\")),\"\")","v":""},null,null,null,null,null,null,null,null,"",0,{"$f":"IF('Anhang Grundstücksverzeichnis'!G1835=Texte!$A$25,F1835,0)","v":0},{"$f":"IF('Anhang Grundstücksverzeichnis'!G1835=Texte!$A$26,F1835,0)","v":0},{"$f":"IF('Anhang Grundstücksverzeichnis'!G1835=Texte!$A$27,F1835,0)","v":0},{"$f":"IF('Anhang Grundstücksverzeichnis'!G1835=Texte!$A$28,F1835,0)","v":0}]
[1826,{"$f":"IF(C1836<>\"\",IF(ISNA(VLOOKUP(C1836,Katastralgemeinden!$A$2:$B$3041,2,FALSE)),\"Ungültige KG-Nummer!\",VLOOKUP(C1836,Katastralgemeinden!A$2:$B$3041,2,\"falsch\")),\"\")","v":""},null,null,null,null,null,null,null,null,"",0,{"$f":"IF('Anhang Grundstücksverzeichnis'!G1836=Texte!$A$25,F1836,0)","v":0},{"$f":"IF('Anhang Grundstücksverzeichnis'!G1836=Texte!$A$26,F1836,0)","v":0},{"$f":"IF('Anhang Grundstücksverzeichnis'!G1836=Texte!$A$27,F1836,0)","v":0},{"$f":"IF('Anhang Grundstücksverzeichnis'!G1836=Texte!$A$28,F1836,0)","v":0}]
[1827,{"$f":"IF(C1837<>\"\",IF(ISNA(VLOOKUP(C1837,Katastralgemeinden!$A$2:$B$3041,2,FALSE)),\"Ungültige KG-Nummer!\",VLOOKUP(C1837,Katastralgemeinden!A$2:$B$3041,2,\"falsch\")),\"\")","v":""},null,null,null,null,null,null,null,null,"",0,{"$f":"IF('Anhang Grundstücksverzeichnis'!G1837=Texte!$A$25,F1837,0)","v":0},{"$f":"IF('Anhang Grundstücksverzeichnis'!G1837=Texte!$A$26,F1837,0)","v":0},{"$f":"IF('Anhang Grundstücksverzeichnis'!G1837=Texte!$A$27,F1837,0)","v":0},{"$f":"IF('Anhang Grundstücksverzeichnis'!G1837=Texte!$A$28,F1837,0)","v":0}]
[1828,{"$f":"IF(C1838<>\"\",IF(ISNA(VLOOKUP(C1838,Katastralgemeinden!$A$2:$B$3041,2,FALSE)),\"Ungültige KG-Nummer!\",VLOOKUP(C1838,Katastralgemeinden!A$2:$B$3041,2,\"falsch\")),\"\")","v":""},null,null,null,null,null,null,null,null,"",0,{"$f":"IF('Anhang Grundstücksverzeichnis'!G1838=Texte!$A$25,F1838,0)","v":0},{"$f":"IF('Anhang Grundstücksverzeichnis'!G1838=Texte!$A$26,F1838,0)","v":0},{"$f":"IF('Anhang Grundstücksverzeichnis'!G1838=Texte!$A$27,F1838,0)","v":0},{"$f":"IF('Anhang Grundstücksverzeichnis'!G1838=Texte!$A$28,F1838,0)","v":0}]
[1829,{"$f":"IF(C1839<>\"\",IF(ISNA(VLOOKUP(C1839,Katastralgemeinden!$A$2:$B$3041,2,FALSE)),\"Ungültige KG-Nummer!\",VLOOKUP(C1839,Katastralgemeinden!A$2:$B$3041,2,\"falsch\")),\"\")","v":""},null,null,null,null,null,null,null,null,"",0,{"$f":"IF('Anhang Grundstücksverzeichnis'!G1839=Texte!$A$25,F1839,0)","v":0},{"$f":"IF('Anhang Grundstücksverzeichnis'!G1839=Texte!$A$26,F1839,0)","v":0},{"$f":"IF('Anhang Grundstücksverzeichnis'!G1839=Texte!$A$27,F1839,0)","v":0},{"$f":"IF('Anhang Grundstücksverzeichnis'!G1839=Texte!$A$28,F1839,0)","v":0}]
[1830,{"$f":"IF(C1840<>\"\",IF(ISNA(VLOOKUP(C1840,Katastralgemeinden!$A$2:$B$3041,2,FALSE)),\"Ungültige KG-Nummer!\",VLOOKUP(C1840,Katastralgemeinden!A$2:$B$3041,2,\"falsch\")),\"\")","v":""},null,null,null,null,null,null,null,null,"",0,{"$f":"IF('Anhang Grundstücksverzeichnis'!G1840=Texte!$A$25,F1840,0)","v":0},{"$f":"IF('Anhang Grundstücksverzeichnis'!G1840=Texte!$A$26,F1840,0)","v":0},{"$f":"IF('Anhang Grundstücksverzeichnis'!G1840=Texte!$A$27,F1840,0)","v":0},{"$f":"IF('Anhang Grundstücksverzeichnis'!G1840=Texte!$A$28,F1840,0)","v":0}]
[1831,{"$f":"IF(C1841<>\"\",IF(ISNA(VLOOKUP(C1841,Katastralgemeinden!$A$2:$B$3041,2,FALSE)),\"Ungültige KG-Nummer!\",VLOOKUP(C1841,Katastralgemeinden!A$2:$B$3041,2,\"falsch\")),\"\")","v":""},null,null,null,null,null,null,null,null,"",0,{"$f":"IF('Anhang Grundstücksverzeichnis'!G1841=Texte!$A$25,F1841,0)","v":0},{"$f":"IF('Anhang Grundstücksverzeichnis'!G1841=Texte!$A$26,F1841,0)","v":0},{"$f":"IF('Anhang Grundstücksverzeichnis'!G1841=Texte!$A$27,F1841,0)","v":0},{"$f":"IF('Anhang Grundstücksverzeichnis'!G1841=Texte!$A$28,F1841,0)","v":0}]
[1832,{"$f":"IF(C1842<>\"\",IF(ISNA(VLOOKUP(C1842,Katastralgemeinden!$A$2:$B$3041,2,FALSE)),\"Ungültige KG-Nummer!\",VLOOKUP(C1842,Katastralgemeinden!A$2:$B$3041,2,\"falsch\")),\"\")","v":""},null,null,null,null,null,null,null,null,"",0,{"$f":"IF('Anhang Grundstücksverzeichnis'!G1842=Texte!$A$25,F1842,0)","v":0},{"$f":"IF('Anhang Grundstücksverzeichnis'!G1842=Texte!$A$26,F1842,0)","v":0},{"$f":"IF('Anhang Grundstücksverzeichnis'!G1842=Texte!$A$27,F1842,0)","v":0},{"$f":"IF('Anhang Grundstücksverzeichnis'!G1842=Texte!$A$28,F1842,0)","v":0}]
[1833,{"$f":"IF(C1843<>\"\",IF(ISNA(VLOOKUP(C1843,Katastralgemeinden!$A$2:$B$3041,2,FALSE)),\"Ungültige KG-Nummer!\",VLOOKUP(C1843,Katastralgemeinden!A$2:$B$3041,2,\"falsch\")),\"\")","v":""},null,null,null,null,null,null,null,null,"",0,{"$f":"IF('Anhang Grundstücksverzeichnis'!G1843=Texte!$A$25,F1843,0)","v":0},{"$f":"IF('Anhang Grundstücksverzeichnis'!G1843=Texte!$A$26,F1843,0)","v":0},{"$f":"IF('Anhang Grundstücksverzeichnis'!G1843=Texte!$A$27,F1843,0)","v":0},{"$f":"IF('Anhang Grundstücksverzeichnis'!G1843=Texte!$A$28,F1843,0)","v":0}]
[1834,{"$f":"IF(C1844<>\"\",IF(ISNA(VLOOKUP(C1844,Katastralgemeinden!$A$2:$B$3041,2,FALSE)),\"Ungültige KG-Nummer!\",VLOOKUP(C1844,Katastralgemeinden!A$2:$B$3041,2,\"falsch\")),\"\")","v":""},null,null,null,null,null,null,null,null,"",0,{"$f":"IF('Anhang Grundstücksverzeichnis'!G1844=Texte!$A$25,F1844,0)","v":0},{"$f":"IF('Anhang Grundstücksverzeichnis'!G1844=Texte!$A$26,F1844,0)","v":0},{"$f":"IF('Anhang Grundstücksverzeichnis'!G1844=Texte!$A$27,F1844,0)","v":0},{"$f":"IF('Anhang Grundstücksverzeichnis'!G1844=Texte!$A$28,F1844,0)","v":0}]
[1835,{"$f":"IF(C1845<>\"\",IF(ISNA(VLOOKUP(C1845,Katastralgemeinden!$A$2:$B$3041,2,FALSE)),\"Ungültige KG-Nummer!\",VLOOKUP(C1845,Katastralgemeinden!A$2:$B$3041,2,\"falsch\")),\"\")","v":""},null,null,null,null,null,null,null,null,"",0,{"$f":"IF('Anhang Grundstücksverzeichnis'!G1845=Texte!$A$25,F1845,0)","v":0},{"$f":"IF('Anhang Grundstücksverzeichnis'!G1845=Texte!$A$26,F1845,0)","v":0},{"$f":"IF('Anhang Grundstücksverzeichnis'!G1845=Texte!$A$27,F1845,0)","v":0},{"$f":"IF('Anhang Grundstücksverzeichnis'!G1845=Texte!$A$28,F1845,0)","v":0}]
[1836,{"$f":"IF(C1846<>\"\",IF(ISNA(VLOOKUP(C1846,Katastralgemeinden!$A$2:$B$3041,2,FALSE)),\"Ungültige KG-Nummer!\",VLOOKUP(C1846,Katastralgemeinden!A$2:$B$3041,2,\"falsch\")),\"\")","v":""},null,null,null,null,null,null,null,null,"",0,{"$f":"IF('Anhang Grundstücksverzeichnis'!G1846=Texte!$A$25,F1846,0)","v":0},{"$f":"IF('Anhang Grundstücksverzeichnis'!G1846=Texte!$A$26,F1846,0)","v":0},{"$f":"IF('Anhang Grundstücksverzeichnis'!G1846=Texte!$A$27,F1846,0)","v":0},{"$f":"IF('Anhang Grundstücksverzeichnis'!G1846=Texte!$A$28,F1846,0)","v":0}]
[1837,{"$f":"IF(C1847<>\"\",IF(ISNA(VLOOKUP(C1847,Katastralgemeinden!$A$2:$B$3041,2,FALSE)),\"Ungültige KG-Nummer!\",VLOOKUP(C1847,Katastralgemeinden!A$2:$B$3041,2,\"falsch\")),\"\")","v":""},null,null,null,null,null,null,null,null,"",0,{"$f":"IF('Anhang Grundstücksverzeichnis'!G1847=Texte!$A$25,F1847,0)","v":0},{"$f":"IF('Anhang Grundstücksverzeichnis'!G1847=Texte!$A$26,F1847,0)","v":0},{"$f":"IF('Anhang Grundstücksverzeichnis'!G1847=Texte!$A$27,F1847,0)","v":0},{"$f":"IF('Anhang Grundstücksverzeichnis'!G1847=Texte!$A$28,F1847,0)","v":0}]
[1838,{"$f":"IF(C1848<>\"\",IF(ISNA(VLOOKUP(C1848,Katastralgemeinden!$A$2:$B$3041,2,FALSE)),\"Ungültige KG-Nummer!\",VLOOKUP(C1848,Katastralgemeinden!A$2:$B$3041,2,\"falsch\")),\"\")","v":""},null,null,null,null,null,null,null,null,"",0,{"$f":"IF('Anhang Grundstücksverzeichnis'!G1848=Texte!$A$25,F1848,0)","v":0},{"$f":"IF('Anhang Grundstücksverzeichnis'!G1848=Texte!$A$26,F1848,0)","v":0},{"$f":"IF('Anhang Grundstücksverzeichnis'!G1848=Texte!$A$27,F1848,0)","v":0},{"$f":"IF('Anhang Grundstücksverzeichnis'!G1848=Texte!$A$28,F1848,0)","v":0}]
[1839,{"$f":"IF(C1849<>\"\",IF(ISNA(VLOOKUP(C1849,Katastralgemeinden!$A$2:$B$3041,2,FALSE)),\"Ungültige KG-Nummer!\",VLOOKUP(C1849,Katastralgemeinden!A$2:$B$3041,2,\"falsch\")),\"\")","v":""},null,null,null,null,null,null,null,null,"",0,{"$f":"IF('Anhang Grundstücksverzeichnis'!G1849=Texte!$A$25,F1849,0)","v":0},{"$f":"IF('Anhang Grundstücksverzeichnis'!G1849=Texte!$A$26,F1849,0)","v":0},{"$f":"IF('Anhang Grundstücksverzeichnis'!G1849=Texte!$A$27,F1849,0)","v":0},{"$f":"IF('Anhang Grundstücksverzeichnis'!G1849=Texte!$A$28,F1849,0)","v":0}]
[1840,{"$f":"IF(C1850<>\"\",IF(ISNA(VLOOKUP(C1850,Katastralgemeinden!$A$2:$B$3041,2,FALSE)),\"Ungültige KG-Nummer!\",VLOOKUP(C1850,Katastralgemeinden!A$2:$B$3041,2,\"falsch\")),\"\")","v":""},null,null,null,null,null,null,null,null,"",0,{"$f":"IF('Anhang Grundstücksverzeichnis'!G1850=Texte!$A$25,F1850,0)","v":0},{"$f":"IF('Anhang Grundstücksverzeichnis'!G1850=Texte!$A$26,F1850,0)","v":0},{"$f":"IF('Anhang Grundstücksverzeichnis'!G1850=Texte!$A$27,F1850,0)","v":0},{"$f":"IF('Anhang Grundstücksverzeichnis'!G1850=Texte!$A$28,F1850,0)","v":0}]
[1841,{"$f":"IF(C1851<>\"\",IF(ISNA(VLOOKUP(C1851,Katastralgemeinden!$A$2:$B$3041,2,FALSE)),\"Ungültige KG-Nummer!\",VLOOKUP(C1851,Katastralgemeinden!A$2:$B$3041,2,\"falsch\")),\"\")","v":""},null,null,null,null,null,null,null,null,"",0,{"$f":"IF('Anhang Grundstücksverzeichnis'!G1851=Texte!$A$25,F1851,0)","v":0},{"$f":"IF('Anhang Grundstücksverzeichnis'!G1851=Texte!$A$26,F1851,0)","v":0},{"$f":"IF('Anhang Grundstücksverzeichnis'!G1851=Texte!$A$27,F1851,0)","v":0},{"$f":"IF('Anhang Grundstücksverzeichnis'!G1851=Texte!$A$28,F1851,0)","v":0}]
[1842,{"$f":"IF(C1852<>\"\",IF(ISNA(VLOOKUP(C1852,Katastralgemeinden!$A$2:$B$3041,2,FALSE)),\"Ungültige KG-Nummer!\",VLOOKUP(C1852,Katastralgemeinden!A$2:$B$3041,2,\"falsch\")),\"\")","v":""},null,null,null,null,null,null,null,null,"",0,{"$f":"IF('Anhang Grundstücksverzeichnis'!G1852=Texte!$A$25,F1852,0)","v":0},{"$f":"IF('Anhang Grundstücksverzeichnis'!G1852=Texte!$A$26,F1852,0)","v":0},{"$f":"IF('Anhang Grundstücksverzeichnis'!G1852=Texte!$A$27,F1852,0)","v":0},{"$f":"IF('Anhang Grundstücksverzeichnis'!G1852=Texte!$A$28,F1852,0)","v":0}]
[1843,{"$f":"IF(C1853<>\"\",IF(ISNA(VLOOKUP(C1853,Katastralgemeinden!$A$2:$B$3041,2,FALSE)),\"Ungültige KG-Nummer!\",VLOOKUP(C1853,Katastralgemeinden!A$2:$B$3041,2,\"falsch\")),\"\")","v":""},null,null,null,null,null,null,null,null,"",0,{"$f":"IF('Anhang Grundstücksverzeichnis'!G1853=Texte!$A$25,F1853,0)","v":0},{"$f":"IF('Anhang Grundstücksverzeichnis'!G1853=Texte!$A$26,F1853,0)","v":0},{"$f":"IF('Anhang Grundstücksverzeichnis'!G1853=Texte!$A$27,F1853,0)","v":0},{"$f":"IF('Anhang Grundstücksverzeichnis'!G1853=Texte!$A$28,F1853,0)","v":0}]
[1844,{"$f":"IF(C1854<>\"\",IF(ISNA(VLOOKUP(C1854,Katastralgemeinden!$A$2:$B$3041,2,FALSE)),\"Ungültige KG-Nummer!\",VLOOKUP(C1854,Katastralgemeinden!A$2:$B$3041,2,\"falsch\")),\"\")","v":""},null,null,null,null,null,null,null,null,"",0,{"$f":"IF('Anhang Grundstücksverzeichnis'!G1854=Texte!$A$25,F1854,0)","v":0},{"$f":"IF('Anhang Grundstücksverzeichnis'!G1854=Texte!$A$26,F1854,0)","v":0},{"$f":"IF('Anhang Grundstücksverzeichnis'!G1854=Texte!$A$27,F1854,0)","v":0},{"$f":"IF('Anhang Grundstücksverzeichnis'!G1854=Texte!$A$28,F1854,0)","v":0}]
[1845,{"$f":"IF(C1855<>\"\",IF(ISNA(VLOOKUP(C1855,Katastralgemeinden!$A$2:$B$3041,2,FALSE)),\"Ungültige KG-Nummer!\",VLOOKUP(C1855,Katastralgemeinden!A$2:$B$3041,2,\"falsch\")),\"\")","v":""},null,null,null,null,null,null,null,null,"",0,{"$f":"IF('Anhang Grundstücksverzeichnis'!G1855=Texte!$A$25,F1855,0)","v":0},{"$f":"IF('Anhang Grundstücksverzeichnis'!G1855=Texte!$A$26,F1855,0)","v":0},{"$f":"IF('Anhang Grundstücksverzeichnis'!G1855=Texte!$A$27,F1855,0)","v":0},{"$f":"IF('Anhang Grundstücksverzeichnis'!G1855=Texte!$A$28,F1855,0)","v":0}]
[1846,{"$f":"IF(C1856<>\"\",IF(ISNA(VLOOKUP(C1856,Katastralgemeinden!$A$2:$B$3041,2,FALSE)),\"Ungültige KG-Nummer!\",VLOOKUP(C1856,Katastralgemeinden!A$2:$B$3041,2,\"falsch\")),\"\")","v":""},null,null,null,null,null,null,null,null,"",0,{"$f":"IF('Anhang Grundstücksverzeichnis'!G1856=Texte!$A$25,F1856,0)","v":0},{"$f":"IF('Anhang Grundstücksverzeichnis'!G1856=Texte!$A$26,F1856,0)","v":0},{"$f":"IF('Anhang Grundstücksverzeichnis'!G1856=Texte!$A$27,F1856,0)","v":0},{"$f":"IF('Anhang Grundstücksverzeichnis'!G1856=Texte!$A$28,F1856,0)","v":0}]
[1847,{"$f":"IF(C1857<>\"\",IF(ISNA(VLOOKUP(C1857,Katastralgemeinden!$A$2:$B$3041,2,FALSE)),\"Ungültige KG-Nummer!\",VLOOKUP(C1857,Katastralgemeinden!A$2:$B$3041,2,\"falsch\")),\"\")","v":""},null,null,null,null,null,null,null,null,"",0,{"$f":"IF('Anhang Grundstücksverzeichnis'!G1857=Texte!$A$25,F1857,0)","v":0},{"$f":"IF('Anhang Grundstücksverzeichnis'!G1857=Texte!$A$26,F1857,0)","v":0},{"$f":"IF('Anhang Grundstücksverzeichnis'!G1857=Texte!$A$27,F1857,0)","v":0},{"$f":"IF('Anhang Grundstücksverzeichnis'!G1857=Texte!$A$28,F1857,0)","v":0}]
[1848,{"$f":"IF(C1858<>\"\",IF(ISNA(VLOOKUP(C1858,Katastralgemeinden!$A$2:$B$3041,2,FALSE)),\"Ungültige KG-Nummer!\",VLOOKUP(C1858,Katastralgemeinden!A$2:$B$3041,2,\"falsch\")),\"\")","v":""},null,null,null,null,null,null,null,null,"",0,{"$f":"IF('Anhang Grundstücksverzeichnis'!G1858=Texte!$A$25,F1858,0)","v":0},{"$f":"IF('Anhang Grundstücksverzeichnis'!G1858=Texte!$A$26,F1858,0)","v":0},{"$f":"IF('Anhang Grundstücksverzeichnis'!G1858=Texte!$A$27,F1858,0)","v":0},{"$f":"IF('Anhang Grundstücksverzeichnis'!G1858=Texte!$A$28,F1858,0)","v":0}]
[1849,{"$f":"IF(C1859<>\"\",IF(ISNA(VLOOKUP(C1859,Katastralgemeinden!$A$2:$B$3041,2,FALSE)),\"Ungültige KG-Nummer!\",VLOOKUP(C1859,Katastralgemeinden!A$2:$B$3041,2,\"falsch\")),\"\")","v":""},null,null,null,null,null,null,null,null,"",0,{"$f":"IF('Anhang Grundstücksverzeichnis'!G1859=Texte!$A$25,F1859,0)","v":0},{"$f":"IF('Anhang Grundstücksverzeichnis'!G1859=Texte!$A$26,F1859,0)","v":0},{"$f":"IF('Anhang Grundstücksverzeichnis'!G1859=Texte!$A$27,F1859,0)","v":0},{"$f":"IF('Anhang Grundstücksverzeichnis'!G1859=Texte!$A$28,F1859,0)","v":0}]
[1850,{"$f":"IF(C1860<>\"\",IF(ISNA(VLOOKUP(C1860,Katastralgemeinden!$A$2:$B$3041,2,FALSE)),\"Ungültige KG-Nummer!\",VLOOKUP(C1860,Katastralgemeinden!A$2:$B$3041,2,\"falsch\")),\"\")","v":""},null,null,null,null,null,null,null,null,"",0,{"$f":"IF('Anhang Grundstücksverzeichnis'!G1860=Texte!$A$25,F1860,0)","v":0},{"$f":"IF('Anhang Grundstücksverzeichnis'!G1860=Texte!$A$26,F1860,0)","v":0},{"$f":"IF('Anhang Grundstücksverzeichnis'!G1860=Texte!$A$27,F1860,0)","v":0},{"$f":"IF('Anhang Grundstücksverzeichnis'!G1860=Texte!$A$28,F1860,0)","v":0}]
[1851,{"$f":"IF(C1861<>\"\",IF(ISNA(VLOOKUP(C1861,Katastralgemeinden!$A$2:$B$3041,2,FALSE)),\"Ungültige KG-Nummer!\",VLOOKUP(C1861,Katastralgemeinden!A$2:$B$3041,2,\"falsch\")),\"\")","v":""},null,null,null,null,null,null,null,null,"",0,{"$f":"IF('Anhang Grundstücksverzeichnis'!G1861=Texte!$A$25,F1861,0)","v":0},{"$f":"IF('Anhang Grundstücksverzeichnis'!G1861=Texte!$A$26,F1861,0)","v":0},{"$f":"IF('Anhang Grundstücksverzeichnis'!G1861=Texte!$A$27,F1861,0)","v":0},{"$f":"IF('Anhang Grundstücksverzeichnis'!G1861=Texte!$A$28,F1861,0)","v":0}]
[1852,{"$f":"IF(C1862<>\"\",IF(ISNA(VLOOKUP(C1862,Katastralgemeinden!$A$2:$B$3041,2,FALSE)),\"Ungültige KG-Nummer!\",VLOOKUP(C1862,Katastralgemeinden!A$2:$B$3041,2,\"falsch\")),\"\")","v":""},null,null,null,null,null,null,null,null,"",0,{"$f":"IF('Anhang Grundstücksverzeichnis'!G1862=Texte!$A$25,F1862,0)","v":0},{"$f":"IF('Anhang Grundstücksverzeichnis'!G1862=Texte!$A$26,F1862,0)","v":0},{"$f":"IF('Anhang Grundstücksverzeichnis'!G1862=Texte!$A$27,F1862,0)","v":0},{"$f":"IF('Anhang Grundstücksverzeichnis'!G1862=Texte!$A$28,F1862,0)","v":0}]
[1853,{"$f":"IF(C1863<>\"\",IF(ISNA(VLOOKUP(C1863,Katastralgemeinden!$A$2:$B$3041,2,FALSE)),\"Ungültige KG-Nummer!\",VLOOKUP(C1863,Katastralgemeinden!A$2:$B$3041,2,\"falsch\")),\"\")","v":""},null,null,null,null,null,null,null,null,"",0,{"$f":"IF('Anhang Grundstücksverzeichnis'!G1863=Texte!$A$25,F1863,0)","v":0},{"$f":"IF('Anhang Grundstücksverzeichnis'!G1863=Texte!$A$26,F1863,0)","v":0},{"$f":"IF('Anhang Grundstücksverzeichnis'!G1863=Texte!$A$27,F1863,0)","v":0},{"$f":"IF('Anhang Grundstücksverzeichnis'!G1863=Texte!$A$28,F1863,0)","v":0}]
[1854,{"$f":"IF(C1864<>\"\",IF(ISNA(VLOOKUP(C1864,Katastralgemeinden!$A$2:$B$3041,2,FALSE)),\"Ungültige KG-Nummer!\",VLOOKUP(C1864,Katastralgemeinden!A$2:$B$3041,2,\"falsch\")),\"\")","v":""},null,null,null,null,null,null,null,null,"",0,{"$f":"IF('Anhang Grundstücksverzeichnis'!G1864=Texte!$A$25,F1864,0)","v":0},{"$f":"IF('Anhang Grundstücksverzeichnis'!G1864=Texte!$A$26,F1864,0)","v":0},{"$f":"IF('Anhang Grundstücksverzeichnis'!G1864=Texte!$A$27,F1864,0)","v":0},{"$f":"IF('Anhang Grundstücksverzeichnis'!G1864=Texte!$A$28,F1864,0)","v":0}]
[1855,{"$f":"IF(C1865<>\"\",IF(ISNA(VLOOKUP(C1865,Katastralgemeinden!$A$2:$B$3041,2,FALSE)),\"Ungültige KG-Nummer!\",VLOOKUP(C1865,Katastralgemeinden!A$2:$B$3041,2,\"falsch\")),\"\")","v":""},null,null,null,null,null,null,null,null,"",0,{"$f":"IF('Anhang Grundstücksverzeichnis'!G1865=Texte!$A$25,F1865,0)","v":0},{"$f":"IF('Anhang Grundstücksverzeichnis'!G1865=Texte!$A$26,F1865,0)","v":0},{"$f":"IF('Anhang Grundstücksverzeichnis'!G1865=Texte!$A$27,F1865,0)","v":0},{"$f":"IF('Anhang Grundstücksverzeichnis'!G1865=Texte!$A$28,F1865,0)","v":0}]
[1856,{"$f":"IF(C1866<>\"\",IF(ISNA(VLOOKUP(C1866,Katastralgemeinden!$A$2:$B$3041,2,FALSE)),\"Ungültige KG-Nummer!\",VLOOKUP(C1866,Katastralgemeinden!A$2:$B$3041,2,\"falsch\")),\"\")","v":""},null,null,null,null,null,null,null,null,"",0,{"$f":"IF('Anhang Grundstücksverzeichnis'!G1866=Texte!$A$25,F1866,0)","v":0},{"$f":"IF('Anhang Grundstücksverzeichnis'!G1866=Texte!$A$26,F1866,0)","v":0},{"$f":"IF('Anhang Grundstücksverzeichnis'!G1866=Texte!$A$27,F1866,0)","v":0},{"$f":"IF('Anhang Grundstücksverzeichnis'!G1866=Texte!$A$28,F1866,0)","v":0}]
[1857,{"$f":"IF(C1867<>\"\",IF(ISNA(VLOOKUP(C1867,Katastralgemeinden!$A$2:$B$3041,2,FALSE)),\"Ungültige KG-Nummer!\",VLOOKUP(C1867,Katastralgemeinden!A$2:$B$3041,2,\"falsch\")),\"\")","v":""},null,null,null,null,null,null,null,null,"",0,{"$f":"IF('Anhang Grundstücksverzeichnis'!G1867=Texte!$A$25,F1867,0)","v":0},{"$f":"IF('Anhang Grundstücksverzeichnis'!G1867=Texte!$A$26,F1867,0)","v":0},{"$f":"IF('Anhang Grundstücksverzeichnis'!G1867=Texte!$A$27,F1867,0)","v":0},{"$f":"IF('Anhang Grundstücksverzeichnis'!G1867=Texte!$A$28,F1867,0)","v":0}]
[1858,{"$f":"IF(C1868<>\"\",IF(ISNA(VLOOKUP(C1868,Katastralgemeinden!$A$2:$B$3041,2,FALSE)),\"Ungültige KG-Nummer!\",VLOOKUP(C1868,Katastralgemeinden!A$2:$B$3041,2,\"falsch\")),\"\")","v":""},null,null,null,null,null,null,null,null,{"$f":"IF(G1868<>\"\",IF(G1868=\"Eigengrundfläche\",0,IF(G1868=\"Vorpachtfläche\",1,IF(G1868=\"Abrundung +\",3,IF(G1868=\"Abrundung -\",4,5)))),\"\")","v":""},{"$f":"IF(OR(LOWER(H1868)=\"x\",LOWER(H1868)=\"j\"),1,0)","v":0},{"$f":"IF('Anhang Grundstücksverzeichnis'!G1868=Texte!$A$25,F1868,0)","v":0},{"$f":"IF('Anhang Grundstücksverzeichnis'!G1868=Texte!$A$26,F1868,0)","v":0},{"$f":"IF('Anhang Grundstücksverzeichnis'!G1868=Texte!$A$27,F1868,0)","v":0},{"$f":"IF('Anhang Grundstücksverzeichnis'!G1868=Texte!$A$28,F1868,0)","v":0}]
[1859,{"$f":"IF(C1869<>\"\",IF(ISNA(VLOOKUP(C1869,Katastralgemeinden!$A$2:$B$3041,2,FALSE)),\"Ungültige KG-Nummer!\",VLOOKUP(C1869,Katastralgemeinden!A$2:$B$3041,2,\"falsch\")),\"\")","v":""},null,null,null,null,null,null,null,null,"",0,{"$f":"IF('Anhang Grundstücksverzeichnis'!G1869=Texte!$A$25,F1869,0)","v":0},{"$f":"IF('Anhang Grundstücksverzeichnis'!G1869=Texte!$A$26,F1869,0)","v":0},{"$f":"IF('Anhang Grundstücksverzeichnis'!G1869=Texte!$A$27,F1869,0)","v":0},{"$f":"IF('Anhang Grundstücksverzeichnis'!G1869=Texte!$A$28,F1869,0)","v":0}]
[1860,{"$f":"IF(C1870<>\"\",IF(ISNA(VLOOKUP(C1870,Katastralgemeinden!$A$2:$B$3041,2,FALSE)),\"Ungültige KG-Nummer!\",VLOOKUP(C1870,Katastralgemeinden!A$2:$B$3041,2,\"falsch\")),\"\")","v":""},null,null,null,null,null,null,null,null,"",0,{"$f":"IF('Anhang Grundstücksverzeichnis'!G1870=Texte!$A$25,F1870,0)","v":0},{"$f":"IF('Anhang Grundstücksverzeichnis'!G1870=Texte!$A$26,F1870,0)","v":0},{"$f":"IF('Anhang Grundstücksverzeichnis'!G1870=Texte!$A$27,F1870,0)","v":0},{"$f":"IF('Anhang Grundstücksverzeichnis'!G1870=Texte!$A$28,F1870,0)","v":0}]
[1861,{"$f":"IF(C1871<>\"\",IF(ISNA(VLOOKUP(C1871,Katastralgemeinden!$A$2:$B$3041,2,FALSE)),\"Ungültige KG-Nummer!\",VLOOKUP(C1871,Katastralgemeinden!A$2:$B$3041,2,\"falsch\")),\"\")","v":""},null,null,null,null,null,null,null,null,"",0,{"$f":"IF('Anhang Grundstücksverzeichnis'!G1871=Texte!$A$25,F1871,0)","v":0},{"$f":"IF('Anhang Grundstücksverzeichnis'!G1871=Texte!$A$26,F1871,0)","v":0},{"$f":"IF('Anhang Grundstücksverzeichnis'!G1871=Texte!$A$27,F1871,0)","v":0},{"$f":"IF('Anhang Grundstücksverzeichnis'!G1871=Texte!$A$28,F1871,0)","v":0}]
[1862,{"$f":"IF(C1872<>\"\",IF(ISNA(VLOOKUP(C1872,Katastralgemeinden!$A$2:$B$3041,2,FALSE)),\"Ungültige KG-Nummer!\",VLOOKUP(C1872,Katastralgemeinden!A$2:$B$3041,2,\"falsch\")),\"\")","v":""},null,null,null,null,null,null,null,null,"",0,{"$f":"IF('Anhang Grundstücksverzeichnis'!G1872=Texte!$A$25,F1872,0)","v":0},{"$f":"IF('Anhang Grundstücksverzeichnis'!G1872=Texte!$A$26,F1872,0)","v":0},{"$f":"IF('Anhang Grundstücksverzeichnis'!G1872=Texte!$A$27,F1872,0)","v":0},{"$f":"IF('Anhang Grundstücksverzeichnis'!G1872=Texte!$A$28,F1872,0)","v":0}]
[1863,{"$f":"IF(C1873<>\"\",IF(ISNA(VLOOKUP(C1873,Katastralgemeinden!$A$2:$B$3041,2,FALSE)),\"Ungültige KG-Nummer!\",VLOOKUP(C1873,Katastralgemeinden!A$2:$B$3041,2,\"falsch\")),\"\")","v":""},null,null,null,null,null,null,null,null,"",0,{"$f":"IF('Anhang Grundstücksverzeichnis'!G1873=Texte!$A$25,F1873,0)","v":0},{"$f":"IF('Anhang Grundstücksverzeichnis'!G1873=Texte!$A$26,F1873,0)","v":0},{"$f":"IF('Anhang Grundstücksverzeichnis'!G1873=Texte!$A$27,F1873,0)","v":0},{"$f":"IF('Anhang Grundstücksverzeichnis'!G1873=Texte!$A$28,F1873,0)","v":0}]
[1864,{"$f":"IF(C1874<>\"\",IF(ISNA(VLOOKUP(C1874,Katastralgemeinden!$A$2:$B$3041,2,FALSE)),\"Ungültige KG-Nummer!\",VLOOKUP(C1874,Katastralgemeinden!A$2:$B$3041,2,\"falsch\")),\"\")","v":""},null,null,null,null,null,null,null,null,"",0,{"$f":"IF('Anhang Grundstücksverzeichnis'!G1874=Texte!$A$25,F1874,0)","v":0},{"$f":"IF('Anhang Grundstücksverzeichnis'!G1874=Texte!$A$26,F1874,0)","v":0},{"$f":"IF('Anhang Grundstücksverzeichnis'!G1874=Texte!$A$27,F1874,0)","v":0},{"$f":"IF('Anhang Grundstücksverzeichnis'!G1874=Texte!$A$28,F1874,0)","v":0}]
[1865,{"$f":"IF(C1875<>\"\",IF(ISNA(VLOOKUP(C1875,Katastralgemeinden!$A$2:$B$3041,2,FALSE)),\"Ungültige KG-Nummer!\",VLOOKUP(C1875,Katastralgemeinden!A$2:$B$3041,2,\"falsch\")),\"\")","v":""},null,null,null,null,null,null,null,null,"",0,{"$f":"IF('Anhang Grundstücksverzeichnis'!G1875=Texte!$A$25,F1875,0)","v":0},{"$f":"IF('Anhang Grundstücksverzeichnis'!G1875=Texte!$A$26,F1875,0)","v":0},{"$f":"IF('Anhang Grundstücksverzeichnis'!G1875=Texte!$A$27,F1875,0)","v":0},{"$f":"IF('Anhang Grundstücksverzeichnis'!G1875=Texte!$A$28,F1875,0)","v":0}]
[1866,{"$f":"IF(C1876<>\"\",IF(ISNA(VLOOKUP(C1876,Katastralgemeinden!$A$2:$B$3041,2,FALSE)),\"Ungültige KG-Nummer!\",VLOOKUP(C1876,Katastralgemeinden!A$2:$B$3041,2,\"falsch\")),\"\")","v":""},null,null,null,null,null,null,null,null,"",0,{"$f":"IF('Anhang Grundstücksverzeichnis'!G1876=Texte!$A$25,F1876,0)","v":0},{"$f":"IF('Anhang Grundstücksverzeichnis'!G1876=Texte!$A$26,F1876,0)","v":0},{"$f":"IF('Anhang Grundstücksverzeichnis'!G1876=Texte!$A$27,F1876,0)","v":0},{"$f":"IF('Anhang Grundstücksverzeichnis'!G1876=Texte!$A$28,F1876,0)","v":0}]
[1867,{"$f":"IF(C1877<>\"\",IF(ISNA(VLOOKUP(C1877,Katastralgemeinden!$A$2:$B$3041,2,FALSE)),\"Ungültige KG-Nummer!\",VLOOKUP(C1877,Katastralgemeinden!A$2:$B$3041,2,\"falsch\")),\"\")","v":""},null,null,null,null,null,null,null,null,"",0,{"$f":"IF('Anhang Grundstücksverzeichnis'!G1877=Texte!$A$25,F1877,0)","v":0},{"$f":"IF('Anhang Grundstücksverzeichnis'!G1877=Texte!$A$26,F1877,0)","v":0},{"$f":"IF('Anhang Grundstücksverzeichnis'!G1877=Texte!$A$27,F1877,0)","v":0},{"$f":"IF('Anhang Grundstücksverzeichnis'!G1877=Texte!$A$28,F1877,0)","v":0}]
[1868,{"$f":"IF(C1878<>\"\",IF(ISNA(VLOOKUP(C1878,Katastralgemeinden!$A$2:$B$3041,2,FALSE)),\"Ungültige KG-Nummer!\",VLOOKUP(C1878,Katastralgemeinden!A$2:$B$3041,2,\"falsch\")),\"\")","v":""},null,null,null,null,null,null,null,null,"",0,{"$f":"IF('Anhang Grundstücksverzeichnis'!G1878=Texte!$A$25,F1878,0)","v":0},{"$f":"IF('Anhang Grundstücksverzeichnis'!G1878=Texte!$A$26,F1878,0)","v":0},{"$f":"IF('Anhang Grundstücksverzeichnis'!G1878=Texte!$A$27,F1878,0)","v":0},{"$f":"IF('Anhang Grundstücksverzeichnis'!G1878=Texte!$A$28,F1878,0)","v":0}]
[1869,{"$f":"IF(C1879<>\"\",IF(ISNA(VLOOKUP(C1879,Katastralgemeinden!$A$2:$B$3041,2,FALSE)),\"Ungültige KG-Nummer!\",VLOOKUP(C1879,Katastralgemeinden!A$2:$B$3041,2,\"falsch\")),\"\")","v":""},null,null,null,null,null,null,null,null,"",0,{"$f":"IF('Anhang Grundstücksverzeichnis'!G1879=Texte!$A$25,F1879,0)","v":0},{"$f":"IF('Anhang Grundstücksverzeichnis'!G1879=Texte!$A$26,F1879,0)","v":0},{"$f":"IF('Anhang Grundstücksverzeichnis'!G1879=Texte!$A$27,F1879,0)","v":0},{"$f":"IF('Anhang Grundstücksverzeichnis'!G1879=Texte!$A$28,F1879,0)","v":0}]
[1870,{"$f":"IF(C1880<>\"\",IF(ISNA(VLOOKUP(C1880,Katastralgemeinden!$A$2:$B$3041,2,FALSE)),\"Ungültige KG-Nummer!\",VLOOKUP(C1880,Katastralgemeinden!A$2:$B$3041,2,\"falsch\")),\"\")","v":""},null,null,null,null,null,null,null,null,"",0,{"$f":"IF('Anhang Grundstücksverzeichnis'!G1880=Texte!$A$25,F1880,0)","v":0},{"$f":"IF('Anhang Grundstücksverzeichnis'!G1880=Texte!$A$26,F1880,0)","v":0},{"$f":"IF('Anhang Grundstücksverzeichnis'!G1880=Texte!$A$27,F1880,0)","v":0},{"$f":"IF('Anhang Grundstücksverzeichnis'!G1880=Texte!$A$28,F1880,0)","v":0}]
[1871,{"$f":"IF(C1881<>\"\",IF(ISNA(VLOOKUP(C1881,Katastralgemeinden!$A$2:$B$3041,2,FALSE)),\"Ungültige KG-Nummer!\",VLOOKUP(C1881,Katastralgemeinden!A$2:$B$3041,2,\"falsch\")),\"\")","v":""},null,null,null,null,null,null,null,null,"",0,{"$f":"IF('Anhang Grundstücksverzeichnis'!G1881=Texte!$A$25,F1881,0)","v":0},{"$f":"IF('Anhang Grundstücksverzeichnis'!G1881=Texte!$A$26,F1881,0)","v":0},{"$f":"IF('Anhang Grundstücksverzeichnis'!G1881=Texte!$A$27,F1881,0)","v":0},{"$f":"IF('Anhang Grundstücksverzeichnis'!G1881=Texte!$A$28,F1881,0)","v":0}]
[1872,{"$f":"IF(C1882<>\"\",IF(ISNA(VLOOKUP(C1882,Katastralgemeinden!$A$2:$B$3041,2,FALSE)),\"Ungültige KG-Nummer!\",VLOOKUP(C1882,Katastralgemeinden!A$2:$B$3041,2,\"falsch\")),\"\")","v":""},null,null,null,null,null,null,null,null,"",0,{"$f":"IF('Anhang Grundstücksverzeichnis'!G1882=Texte!$A$25,F1882,0)","v":0},{"$f":"IF('Anhang Grundstücksverzeichnis'!G1882=Texte!$A$26,F1882,0)","v":0},{"$f":"IF('Anhang Grundstücksverzeichnis'!G1882=Texte!$A$27,F1882,0)","v":0},{"$f":"IF('Anhang Grundstücksverzeichnis'!G1882=Texte!$A$28,F1882,0)","v":0}]
[1873,{"$f":"IF(C1883<>\"\",IF(ISNA(VLOOKUP(C1883,Katastralgemeinden!$A$2:$B$3041,2,FALSE)),\"Ungültige KG-Nummer!\",VLOOKUP(C1883,Katastralgemeinden!A$2:$B$3041,2,\"falsch\")),\"\")","v":""},null,null,null,null,null,null,null,null,"",0,{"$f":"IF('Anhang Grundstücksverzeichnis'!G1883=Texte!$A$25,F1883,0)","v":0},{"$f":"IF('Anhang Grundstücksverzeichnis'!G1883=Texte!$A$26,F1883,0)","v":0},{"$f":"IF('Anhang Grundstücksverzeichnis'!G1883=Texte!$A$27,F1883,0)","v":0},{"$f":"IF('Anhang Grundstücksverzeichnis'!G1883=Texte!$A$28,F1883,0)","v":0}]
[1874,{"$f":"IF(C1884<>\"\",IF(ISNA(VLOOKUP(C1884,Katastralgemeinden!$A$2:$B$3041,2,FALSE)),\"Ungültige KG-Nummer!\",VLOOKUP(C1884,Katastralgemeinden!A$2:$B$3041,2,\"falsch\")),\"\")","v":""},null,null,null,null,null,null,null,null,"",0,{"$f":"IF('Anhang Grundstücksverzeichnis'!G1884=Texte!$A$25,F1884,0)","v":0},{"$f":"IF('Anhang Grundstücksverzeichnis'!G1884=Texte!$A$26,F1884,0)","v":0},{"$f":"IF('Anhang Grundstücksverzeichnis'!G1884=Texte!$A$27,F1884,0)","v":0},{"$f":"IF('Anhang Grundstücksverzeichnis'!G1884=Texte!$A$28,F1884,0)","v":0}]
[1875,{"$f":"IF(C1885<>\"\",IF(ISNA(VLOOKUP(C1885,Katastralgemeinden!$A$2:$B$3041,2,FALSE)),\"Ungültige KG-Nummer!\",VLOOKUP(C1885,Katastralgemeinden!A$2:$B$3041,2,\"falsch\")),\"\")","v":""},null,null,null,null,null,null,null,null,"",0,{"$f":"IF('Anhang Grundstücksverzeichnis'!G1885=Texte!$A$25,F1885,0)","v":0},{"$f":"IF('Anhang Grundstücksverzeichnis'!G1885=Texte!$A$26,F1885,0)","v":0},{"$f":"IF('Anhang Grundstücksverzeichnis'!G1885=Texte!$A$27,F1885,0)","v":0},{"$f":"IF('Anhang Grundstücksverzeichnis'!G1885=Texte!$A$28,F1885,0)","v":0}]
[1876,{"$f":"IF(C1886<>\"\",IF(ISNA(VLOOKUP(C1886,Katastralgemeinden!$A$2:$B$3041,2,FALSE)),\"Ungültige KG-Nummer!\",VLOOKUP(C1886,Katastralgemeinden!A$2:$B$3041,2,\"falsch\")),\"\")","v":""},null,null,null,null,null,null,null,null,"",0,{"$f":"IF('Anhang Grundstücksverzeichnis'!G1886=Texte!$A$25,F1886,0)","v":0},{"$f":"IF('Anhang Grundstücksverzeichnis'!G1886=Texte!$A$26,F1886,0)","v":0},{"$f":"IF('Anhang Grundstücksverzeichnis'!G1886=Texte!$A$27,F1886,0)","v":0},{"$f":"IF('Anhang Grundstücksverzeichnis'!G1886=Texte!$A$28,F1886,0)","v":0}]
[1877,{"$f":"IF(C1887<>\"\",IF(ISNA(VLOOKUP(C1887,Katastralgemeinden!$A$2:$B$3041,2,FALSE)),\"Ungültige KG-Nummer!\",VLOOKUP(C1887,Katastralgemeinden!A$2:$B$3041,2,\"falsch\")),\"\")","v":""},null,null,null,null,null,null,null,null,"",0,{"$f":"IF('Anhang Grundstücksverzeichnis'!G1887=Texte!$A$25,F1887,0)","v":0},{"$f":"IF('Anhang Grundstücksverzeichnis'!G1887=Texte!$A$26,F1887,0)","v":0},{"$f":"IF('Anhang Grundstücksverzeichnis'!G1887=Texte!$A$27,F1887,0)","v":0},{"$f":"IF('Anhang Grundstücksverzeichnis'!G1887=Texte!$A$28,F1887,0)","v":0}]
[1878,{"$f":"IF(C1888<>\"\",IF(ISNA(VLOOKUP(C1888,Katastralgemeinden!$A$2:$B$3041,2,FALSE)),\"Ungültige KG-Nummer!\",VLOOKUP(C1888,Katastralgemeinden!A$2:$B$3041,2,\"falsch\")),\"\")","v":""},null,null,null,null,null,null,null,null,"",0,{"$f":"IF('Anhang Grundstücksverzeichnis'!G1888=Texte!$A$25,F1888,0)","v":0},{"$f":"IF('Anhang Grundstücksverzeichnis'!G1888=Texte!$A$26,F1888,0)","v":0},{"$f":"IF('Anhang Grundstücksverzeichnis'!G1888=Texte!$A$27,F1888,0)","v":0},{"$f":"IF('Anhang Grundstücksverzeichnis'!G1888=Texte!$A$28,F1888,0)","v":0}]
[1879,{"$f":"IF(C1889<>\"\",IF(ISNA(VLOOKUP(C1889,Katastralgemeinden!$A$2:$B$3041,2,FALSE)),\"Ungültige KG-Nummer!\",VLOOKUP(C1889,Katastralgemeinden!A$2:$B$3041,2,\"falsch\")),\"\")","v":""},null,null,null,null,null,null,null,null,"",0,{"$f":"IF('Anhang Grundstücksverzeichnis'!G1889=Texte!$A$25,F1889,0)","v":0},{"$f":"IF('Anhang Grundstücksverzeichnis'!G1889=Texte!$A$26,F1889,0)","v":0},{"$f":"IF('Anhang Grundstücksverzeichnis'!G1889=Texte!$A$27,F1889,0)","v":0},{"$f":"IF('Anhang Grundstücksverzeichnis'!G1889=Texte!$A$28,F1889,0)","v":0}]
[1880,{"$f":"IF(C1890<>\"\",IF(ISNA(VLOOKUP(C1890,Katastralgemeinden!$A$2:$B$3041,2,FALSE)),\"Ungültige KG-Nummer!\",VLOOKUP(C1890,Katastralgemeinden!A$2:$B$3041,2,\"falsch\")),\"\")","v":""},null,null,null,null,null,null,null,null,"",0,{"$f":"IF('Anhang Grundstücksverzeichnis'!G1890=Texte!$A$25,F1890,0)","v":0},{"$f":"IF('Anhang Grundstücksverzeichnis'!G1890=Texte!$A$26,F1890,0)","v":0},{"$f":"IF('Anhang Grundstücksverzeichnis'!G1890=Texte!$A$27,F1890,0)","v":0},{"$f":"IF('Anhang Grundstücksverzeichnis'!G1890=Texte!$A$28,F1890,0)","v":0}]
[1881,{"$f":"IF(C1891<>\"\",IF(ISNA(VLOOKUP(C1891,Katastralgemeinden!$A$2:$B$3041,2,FALSE)),\"Ungültige KG-Nummer!\",VLOOKUP(C1891,Katastralgemeinden!A$2:$B$3041,2,\"falsch\")),\"\")","v":""},null,null,null,null,null,null,null,null,"",0,{"$f":"IF('Anhang Grundstücksverzeichnis'!G1891=Texte!$A$25,F1891,0)","v":0},{"$f":"IF('Anhang Grundstücksverzeichnis'!G1891=Texte!$A$26,F1891,0)","v":0},{"$f":"IF('Anhang Grundstücksverzeichnis'!G1891=Texte!$A$27,F1891,0)","v":0},{"$f":"IF('Anhang Grundstücksverzeichnis'!G1891=Texte!$A$28,F1891,0)","v":0}]
[1882,{"$f":"IF(C1892<>\"\",IF(ISNA(VLOOKUP(C1892,Katastralgemeinden!$A$2:$B$3041,2,FALSE)),\"Ungültige KG-Nummer!\",VLOOKUP(C1892,Katastralgemeinden!A$2:$B$3041,2,\"falsch\")),\"\")","v":""},null,null,null,null,null,null,null,null,"",0,{"$f":"IF('Anhang Grundstücksverzeichnis'!G1892=Texte!$A$25,F1892,0)","v":0},{"$f":"IF('Anhang Grundstücksverzeichnis'!G1892=Texte!$A$26,F1892,0)","v":0},{"$f":"IF('Anhang Grundstücksverzeichnis'!G1892=Texte!$A$27,F1892,0)","v":0},{"$f":"IF('Anhang Grundstücksverzeichnis'!G1892=Texte!$A$28,F1892,0)","v":0}]
[1883,{"$f":"IF(C1893<>\"\",IF(ISNA(VLOOKUP(C1893,Katastralgemeinden!$A$2:$B$3041,2,FALSE)),\"Ungültige KG-Nummer!\",VLOOKUP(C1893,Katastralgemeinden!A$2:$B$3041,2,\"falsch\")),\"\")","v":""},null,null,null,null,null,null,null,null,"",0,{"$f":"IF('Anhang Grundstücksverzeichnis'!G1893=Texte!$A$25,F1893,0)","v":0},{"$f":"IF('Anhang Grundstücksverzeichnis'!G1893=Texte!$A$26,F1893,0)","v":0},{"$f":"IF('Anhang Grundstücksverzeichnis'!G1893=Texte!$A$27,F1893,0)","v":0},{"$f":"IF('Anhang Grundstücksverzeichnis'!G1893=Texte!$A$28,F1893,0)","v":0}]
[1884,{"$f":"IF(C1894<>\"\",IF(ISNA(VLOOKUP(C1894,Katastralgemeinden!$A$2:$B$3041,2,FALSE)),\"Ungültige KG-Nummer!\",VLOOKUP(C1894,Katastralgemeinden!A$2:$B$3041,2,\"falsch\")),\"\")","v":""},null,null,null,null,null,null,null,null,"",0,{"$f":"IF('Anhang Grundstücksverzeichnis'!G1894=Texte!$A$25,F1894,0)","v":0},{"$f":"IF('Anhang Grundstücksverzeichnis'!G1894=Texte!$A$26,F1894,0)","v":0},{"$f":"IF('Anhang Grundstücksverzeichnis'!G1894=Texte!$A$27,F1894,0)","v":0},{"$f":"IF('Anhang Grundstücksverzeichnis'!G1894=Texte!$A$28,F1894,0)","v":0}]
[1885,{"$f":"IF(C1895<>\"\",IF(ISNA(VLOOKUP(C1895,Katastralgemeinden!$A$2:$B$3041,2,FALSE)),\"Ungültige KG-Nummer!\",VLOOKUP(C1895,Katastralgemeinden!A$2:$B$3041,2,\"falsch\")),\"\")","v":""},null,null,null,null,null,null,null,null,"",0,{"$f":"IF('Anhang Grundstücksverzeichnis'!G1895=Texte!$A$25,F1895,0)","v":0},{"$f":"IF('Anhang Grundstücksverzeichnis'!G1895=Texte!$A$26,F1895,0)","v":0},{"$f":"IF('Anhang Grundstücksverzeichnis'!G1895=Texte!$A$27,F1895,0)","v":0},{"$f":"IF('Anhang Grundstücksverzeichnis'!G1895=Texte!$A$28,F1895,0)","v":0}]
[1886,{"$f":"IF(C1896<>\"\",IF(ISNA(VLOOKUP(C1896,Katastralgemeinden!$A$2:$B$3041,2,FALSE)),\"Ungültige KG-Nummer!\",VLOOKUP(C1896,Katastralgemeinden!A$2:$B$3041,2,\"falsch\")),\"\")","v":""},null,null,null,null,null,null,null,null,"",0,{"$f":"IF('Anhang Grundstücksverzeichnis'!G1896=Texte!$A$25,F1896,0)","v":0},{"$f":"IF('Anhang Grundstücksverzeichnis'!G1896=Texte!$A$26,F1896,0)","v":0},{"$f":"IF('Anhang Grundstücksverzeichnis'!G1896=Texte!$A$27,F1896,0)","v":0},{"$f":"IF('Anhang Grundstücksverzeichnis'!G1896=Texte!$A$28,F1896,0)","v":0}]
[1887,{"$f":"IF(C1897<>\"\",IF(ISNA(VLOOKUP(C1897,Katastralgemeinden!$A$2:$B$3041,2,FALSE)),\"Ungültige KG-Nummer!\",VLOOKUP(C1897,Katastralgemeinden!A$2:$B$3041,2,\"falsch\")),\"\")","v":""},null,null,null,null,null,null,null,null,"",0,{"$f":"IF('Anhang Grundstücksverzeichnis'!G1897=Texte!$A$25,F1897,0)","v":0},{"$f":"IF('Anhang Grundstücksverzeichnis'!G1897=Texte!$A$26,F1897,0)","v":0},{"$f":"IF('Anhang Grundstücksverzeichnis'!G1897=Texte!$A$27,F1897,0)","v":0},{"$f":"IF('Anhang Grundstücksverzeichnis'!G1897=Texte!$A$28,F1897,0)","v":0}]
[1888,{"$f":"IF(C1898<>\"\",IF(ISNA(VLOOKUP(C1898,Katastralgemeinden!$A$2:$B$3041,2,FALSE)),\"Ungültige KG-Nummer!\",VLOOKUP(C1898,Katastralgemeinden!A$2:$B$3041,2,\"falsch\")),\"\")","v":""},null,null,null,null,null,null,null,null,"",0,{"$f":"IF('Anhang Grundstücksverzeichnis'!G1898=Texte!$A$25,F1898,0)","v":0},{"$f":"IF('Anhang Grundstücksverzeichnis'!G1898=Texte!$A$26,F1898,0)","v":0},{"$f":"IF('Anhang Grundstücksverzeichnis'!G1898=Texte!$A$27,F1898,0)","v":0},{"$f":"IF('Anhang Grundstücksverzeichnis'!G1898=Texte!$A$28,F1898,0)","v":0}]
[1889,{"$f":"IF(C1899<>\"\",IF(ISNA(VLOOKUP(C1899,Katastralgemeinden!$A$2:$B$3041,2,FALSE)),\"Ungültige KG-Nummer!\",VLOOKUP(C1899,Katastralgemeinden!A$2:$B$3041,2,\"falsch\")),\"\")","v":""},null,null,null,null,null,null,null,null,"",0,{"$f":"IF('Anhang Grundstücksverzeichnis'!G1899=Texte!$A$25,F1899,0)","v":0},{"$f":"IF('Anhang Grundstücksverzeichnis'!G1899=Texte!$A$26,F1899,0)","v":0},{"$f":"IF('Anhang Grundstücksverzeichnis'!G1899=Texte!$A$27,F1899,0)","v":0},{"$f":"IF('Anhang Grundstücksverzeichnis'!G1899=Texte!$A$28,F1899,0)","v":0}]
[1890,{"$f":"IF(C1900<>\"\",IF(ISNA(VLOOKUP(C1900,Katastralgemeinden!$A$2:$B$3041,2,FALSE)),\"Ungültige KG-Nummer!\",VLOOKUP(C1900,Katastralgemeinden!A$2:$B$3041,2,\"falsch\")),\"\")","v":""},null,null,null,null,null,null,null,null,"",0,{"$f":"IF('Anhang Grundstücksverzeichnis'!G1900=Texte!$A$25,F1900,0)","v":0},{"$f":"IF('Anhang Grundstücksverzeichnis'!G1900=Texte!$A$26,F1900,0)","v":0},{"$f":"IF('Anhang Grundstücksverzeichnis'!G1900=Texte!$A$27,F1900,0)","v":0},{"$f":"IF('Anhang Grundstücksverzeichnis'!G1900=Texte!$A$28,F1900,0)","v":0}]
[1891,{"$f":"IF(C1901<>\"\",IF(ISNA(VLOOKUP(C1901,Katastralgemeinden!$A$2:$B$3041,2,FALSE)),\"Ungültige KG-Nummer!\",VLOOKUP(C1901,Katastralgemeinden!A$2:$B$3041,2,\"falsch\")),\"\")","v":""},null,null,null,null,null,null,null,null,"",0,{"$f":"IF('Anhang Grundstücksverzeichnis'!G1901=Texte!$A$25,F1901,0)","v":0},{"$f":"IF('Anhang Grundstücksverzeichnis'!G1901=Texte!$A$26,F1901,0)","v":0},{"$f":"IF('Anhang Grundstücksverzeichnis'!G1901=Texte!$A$27,F1901,0)","v":0},{"$f":"IF('Anhang Grundstücksverzeichnis'!G1901=Texte!$A$28,F1901,0)","v":0}]
[1892,{"$f":"IF(C1902<>\"\",IF(ISNA(VLOOKUP(C1902,Katastralgemeinden!$A$2:$B$3041,2,FALSE)),\"Ungültige KG-Nummer!\",VLOOKUP(C1902,Katastralgemeinden!A$2:$B$3041,2,\"falsch\")),\"\")","v":""},null,null,null,null,null,null,null,null,"",0,{"$f":"IF('Anhang Grundstücksverzeichnis'!G1902=Texte!$A$25,F1902,0)","v":0},{"$f":"IF('Anhang Grundstücksverzeichnis'!G1902=Texte!$A$26,F1902,0)","v":0},{"$f":"IF('Anhang Grundstücksverzeichnis'!G1902=Texte!$A$27,F1902,0)","v":0},{"$f":"IF('Anhang Grundstücksverzeichnis'!G1902=Texte!$A$28,F1902,0)","v":0}]
[1893,{"$f":"IF(C1903<>\"\",IF(ISNA(VLOOKUP(C1903,Katastralgemeinden!$A$2:$B$3041,2,FALSE)),\"Ungültige KG-Nummer!\",VLOOKUP(C1903,Katastralgemeinden!A$2:$B$3041,2,\"falsch\")),\"\")","v":""},null,null,null,null,null,null,null,null,"",0,{"$f":"IF('Anhang Grundstücksverzeichnis'!G1903=Texte!$A$25,F1903,0)","v":0},{"$f":"IF('Anhang Grundstücksverzeichnis'!G1903=Texte!$A$26,F1903,0)","v":0},{"$f":"IF('Anhang Grundstücksverzeichnis'!G1903=Texte!$A$27,F1903,0)","v":0},{"$f":"IF('Anhang Grundstücksverzeichnis'!G1903=Texte!$A$28,F1903,0)","v":0}]
[1894,{"$f":"IF(C1904<>\"\",IF(ISNA(VLOOKUP(C1904,Katastralgemeinden!$A$2:$B$3041,2,FALSE)),\"Ungültige KG-Nummer!\",VLOOKUP(C1904,Katastralgemeinden!A$2:$B$3041,2,\"falsch\")),\"\")","v":""},null,null,null,null,null,null,null,null,"",0,{"$f":"IF('Anhang Grundstücksverzeichnis'!G1904=Texte!$A$25,F1904,0)","v":0},{"$f":"IF('Anhang Grundstücksverzeichnis'!G1904=Texte!$A$26,F1904,0)","v":0},{"$f":"IF('Anhang Grundstücksverzeichnis'!G1904=Texte!$A$27,F1904,0)","v":0},{"$f":"IF('Anhang Grundstücksverzeichnis'!G1904=Texte!$A$28,F1904,0)","v":0}]
[1895,{"$f":"IF(C1905<>\"\",IF(ISNA(VLOOKUP(C1905,Katastralgemeinden!$A$2:$B$3041,2,FALSE)),\"Ungültige KG-Nummer!\",VLOOKUP(C1905,Katastralgemeinden!A$2:$B$3041,2,\"falsch\")),\"\")","v":""},null,null,null,null,null,null,null,null,"",0,{"$f":"IF('Anhang Grundstücksverzeichnis'!G1905=Texte!$A$25,F1905,0)","v":0},{"$f":"IF('Anhang Grundstücksverzeichnis'!G1905=Texte!$A$26,F1905,0)","v":0},{"$f":"IF('Anhang Grundstücksverzeichnis'!G1905=Texte!$A$27,F1905,0)","v":0},{"$f":"IF('Anhang Grundstücksverzeichnis'!G1905=Texte!$A$28,F1905,0)","v":0}]
[1896,{"$f":"IF(C1906<>\"\",IF(ISNA(VLOOKUP(C1906,Katastralgemeinden!$A$2:$B$3041,2,FALSE)),\"Ungültige KG-Nummer!\",VLOOKUP(C1906,Katastralgemeinden!A$2:$B$3041,2,\"falsch\")),\"\")","v":""},null,null,null,null,null,null,null,null,"",0,{"$f":"IF('Anhang Grundstücksverzeichnis'!G1906=Texte!$A$25,F1906,0)","v":0},{"$f":"IF('Anhang Grundstücksverzeichnis'!G1906=Texte!$A$26,F1906,0)","v":0},{"$f":"IF('Anhang Grundstücksverzeichnis'!G1906=Texte!$A$27,F1906,0)","v":0},{"$f":"IF('Anhang Grundstücksverzeichnis'!G1906=Texte!$A$28,F1906,0)","v":0}]
[1897,{"$f":"IF(C1907<>\"\",IF(ISNA(VLOOKUP(C1907,Katastralgemeinden!$A$2:$B$3041,2,FALSE)),\"Ungültige KG-Nummer!\",VLOOKUP(C1907,Katastralgemeinden!A$2:$B$3041,2,\"falsch\")),\"\")","v":""},null,null,null,null,null,null,null,null,"",0,{"$f":"IF('Anhang Grundstücksverzeichnis'!G1907=Texte!$A$25,F1907,0)","v":0},{"$f":"IF('Anhang Grundstücksverzeichnis'!G1907=Texte!$A$26,F1907,0)","v":0},{"$f":"IF('Anhang Grundstücksverzeichnis'!G1907=Texte!$A$27,F1907,0)","v":0},{"$f":"IF('Anhang Grundstücksverzeichnis'!G1907=Texte!$A$28,F1907,0)","v":0}]
[1898,{"$f":"IF(C1908<>\"\",IF(ISNA(VLOOKUP(C1908,Katastralgemeinden!$A$2:$B$3041,2,FALSE)),\"Ungültige KG-Nummer!\",VLOOKUP(C1908,Katastralgemeinden!A$2:$B$3041,2,\"falsch\")),\"\")","v":""},null,null,null,null,null,null,null,null,"",0,{"$f":"IF('Anhang Grundstücksverzeichnis'!G1908=Texte!$A$25,F1908,0)","v":0},{"$f":"IF('Anhang Grundstücksverzeichnis'!G1908=Texte!$A$26,F1908,0)","v":0},{"$f":"IF('Anhang Grundstücksverzeichnis'!G1908=Texte!$A$27,F1908,0)","v":0},{"$f":"IF('Anhang Grundstücksverzeichnis'!G1908=Texte!$A$28,F1908,0)","v":0}]
[1899,{"$f":"IF(C1909<>\"\",IF(ISNA(VLOOKUP(C1909,Katastralgemeinden!$A$2:$B$3041,2,FALSE)),\"Ungültige KG-Nummer!\",VLOOKUP(C1909,Katastralgemeinden!A$2:$B$3041,2,\"falsch\")),\"\")","v":""},null,null,null,null,null,null,null,null,"",0,{"$f":"IF('Anhang Grundstücksverzeichnis'!G1909=Texte!$A$25,F1909,0)","v":0},{"$f":"IF('Anhang Grundstücksverzeichnis'!G1909=Texte!$A$26,F1909,0)","v":0},{"$f":"IF('Anhang Grundstücksverzeichnis'!G1909=Texte!$A$27,F1909,0)","v":0},{"$f":"IF('Anhang Grundstücksverzeichnis'!G1909=Texte!$A$28,F1909,0)","v":0}]
[1900,{"$f":"IF(C1910<>\"\",IF(ISNA(VLOOKUP(C1910,Katastralgemeinden!$A$2:$B$3041,2,FALSE)),\"Ungültige KG-Nummer!\",VLOOKUP(C1910,Katastralgemeinden!A$2:$B$3041,2,\"falsch\")),\"\")","v":""},null,null,null,null,null,null,null,null,"",0,{"$f":"IF('Anhang Grundstücksverzeichnis'!G1910=Texte!$A$25,F1910,0)","v":0},{"$f":"IF('Anhang Grundstücksverzeichnis'!G1910=Texte!$A$26,F1910,0)","v":0},{"$f":"IF('Anhang Grundstücksverzeichnis'!G1910=Texte!$A$27,F1910,0)","v":0},{"$f":"IF('Anhang Grundstücksverzeichnis'!G1910=Texte!$A$28,F1910,0)","v":0}]
[1901,{"$f":"IF(C1911<>\"\",IF(ISNA(VLOOKUP(C1911,Katastralgemeinden!$A$2:$B$3041,2,FALSE)),\"Ungültige KG-Nummer!\",VLOOKUP(C1911,Katastralgemeinden!A$2:$B$3041,2,\"falsch\")),\"\")","v":""},null,null,null,null,null,null,null,null,"",0,{"$f":"IF('Anhang Grundstücksverzeichnis'!G1911=Texte!$A$25,F1911,0)","v":0},{"$f":"IF('Anhang Grundstücksverzeichnis'!G1911=Texte!$A$26,F1911,0)","v":0},{"$f":"IF('Anhang Grundstücksverzeichnis'!G1911=Texte!$A$27,F1911,0)","v":0},{"$f":"IF('Anhang Grundstücksverzeichnis'!G1911=Texte!$A$28,F1911,0)","v":0}]
[1902,{"$f":"IF(C1912<>\"\",IF(ISNA(VLOOKUP(C1912,Katastralgemeinden!$A$2:$B$3041,2,FALSE)),\"Ungültige KG-Nummer!\",VLOOKUP(C1912,Katastralgemeinden!A$2:$B$3041,2,\"falsch\")),\"\")","v":""},null,null,null,null,null,null,null,null,"",0,{"$f":"IF('Anhang Grundstücksverzeichnis'!G1912=Texte!$A$25,F1912,0)","v":0},{"$f":"IF('Anhang Grundstücksverzeichnis'!G1912=Texte!$A$26,F1912,0)","v":0},{"$f":"IF('Anhang Grundstücksverzeichnis'!G1912=Texte!$A$27,F1912,0)","v":0},{"$f":"IF('Anhang Grundstücksverzeichnis'!G1912=Texte!$A$28,F1912,0)","v":0}]
[1903,{"$f":"IF(C1913<>\"\",IF(ISNA(VLOOKUP(C1913,Katastralgemeinden!$A$2:$B$3041,2,FALSE)),\"Ungültige KG-Nummer!\",VLOOKUP(C1913,Katastralgemeinden!A$2:$B$3041,2,\"falsch\")),\"\")","v":""},null,null,null,null,null,null,null,null,"",0,{"$f":"IF('Anhang Grundstücksverzeichnis'!G1913=Texte!$A$25,F1913,0)","v":0},{"$f":"IF('Anhang Grundstücksverzeichnis'!G1913=Texte!$A$26,F1913,0)","v":0},{"$f":"IF('Anhang Grundstücksverzeichnis'!G1913=Texte!$A$27,F1913,0)","v":0},{"$f":"IF('Anhang Grundstücksverzeichnis'!G1913=Texte!$A$28,F1913,0)","v":0}]
[1904,{"$f":"IF(C1914<>\"\",IF(ISNA(VLOOKUP(C1914,Katastralgemeinden!$A$2:$B$3041,2,FALSE)),\"Ungültige KG-Nummer!\",VLOOKUP(C1914,Katastralgemeinden!A$2:$B$3041,2,\"falsch\")),\"\")","v":""},null,null,null,null,null,null,null,null,"",0,{"$f":"IF('Anhang Grundstücksverzeichnis'!G1914=Texte!$A$25,F1914,0)","v":0},{"$f":"IF('Anhang Grundstücksverzeichnis'!G1914=Texte!$A$26,F1914,0)","v":0},{"$f":"IF('Anhang Grundstücksverzeichnis'!G1914=Texte!$A$27,F1914,0)","v":0},{"$f":"IF('Anhang Grundstücksverzeichnis'!G1914=Texte!$A$28,F1914,0)","v":0}]
[1905,{"$f":"IF(C1915<>\"\",IF(ISNA(VLOOKUP(C1915,Katastralgemeinden!$A$2:$B$3041,2,FALSE)),\"Ungültige KG-Nummer!\",VLOOKUP(C1915,Katastralgemeinden!A$2:$B$3041,2,\"falsch\")),\"\")","v":""},null,null,null,null,null,null,null,null,"",0,{"$f":"IF('Anhang Grundstücksverzeichnis'!G1915=Texte!$A$25,F1915,0)","v":0},{"$f":"IF('Anhang Grundstücksverzeichnis'!G1915=Texte!$A$26,F1915,0)","v":0},{"$f":"IF('Anhang Grundstücksverzeichnis'!G1915=Texte!$A$27,F1915,0)","v":0},{"$f":"IF('Anhang Grundstücksverzeichnis'!G1915=Texte!$A$28,F1915,0)","v":0}]
[1906,{"$f":"IF(C1916<>\"\",IF(ISNA(VLOOKUP(C1916,Katastralgemeinden!$A$2:$B$3041,2,FALSE)),\"Ungültige KG-Nummer!\",VLOOKUP(C1916,Katastralgemeinden!A$2:$B$3041,2,\"falsch\")),\"\")","v":""},null,null,null,null,null,null,null,null,"",0,{"$f":"IF('Anhang Grundstücksverzeichnis'!G1916=Texte!$A$25,F1916,0)","v":0},{"$f":"IF('Anhang Grundstücksverzeichnis'!G1916=Texte!$A$26,F1916,0)","v":0},{"$f":"IF('Anhang Grundstücksverzeichnis'!G1916=Texte!$A$27,F1916,0)","v":0},{"$f":"IF('Anhang Grundstücksverzeichnis'!G1916=Texte!$A$28,F1916,0)","v":0}]
[1907,{"$f":"IF(C1917<>\"\",IF(ISNA(VLOOKUP(C1917,Katastralgemeinden!$A$2:$B$3041,2,FALSE)),\"Ungültige KG-Nummer!\",VLOOKUP(C1917,Katastralgemeinden!A$2:$B$3041,2,\"falsch\")),\"\")","v":""},null,null,null,null,null,null,null,null,"",0,{"$f":"IF('Anhang Grundstücksverzeichnis'!G1917=Texte!$A$25,F1917,0)","v":0},{"$f":"IF('Anhang Grundstücksverzeichnis'!G1917=Texte!$A$26,F1917,0)","v":0},{"$f":"IF('Anhang Grundstücksverzeichnis'!G1917=Texte!$A$27,F1917,0)","v":0},{"$f":"IF('Anhang Grundstücksverzeichnis'!G1917=Texte!$A$28,F1917,0)","v":0}]
[1908,{"$f":"IF(C1918<>\"\",IF(ISNA(VLOOKUP(C1918,Katastralgemeinden!$A$2:$B$3041,2,FALSE)),\"Ungültige KG-Nummer!\",VLOOKUP(C1918,Katastralgemeinden!A$2:$B$3041,2,\"falsch\")),\"\")","v":""},null,null,null,null,null,null,null,null,"",0,{"$f":"IF('Anhang Grundstücksverzeichnis'!G1918=Texte!$A$25,F1918,0)","v":0},{"$f":"IF('Anhang Grundstücksverzeichnis'!G1918=Texte!$A$26,F1918,0)","v":0},{"$f":"IF('Anhang Grundstücksverzeichnis'!G1918=Texte!$A$27,F1918,0)","v":0},{"$f":"IF('Anhang Grundstücksverzeichnis'!G1918=Texte!$A$28,F1918,0)","v":0}]
[1909,{"$f":"IF(C1919<>\"\",IF(ISNA(VLOOKUP(C1919,Katastralgemeinden!$A$2:$B$3041,2,FALSE)),\"Ungültige KG-Nummer!\",VLOOKUP(C1919,Katastralgemeinden!A$2:$B$3041,2,\"falsch\")),\"\")","v":""},null,null,null,null,null,null,null,null,"",0,{"$f":"IF('Anhang Grundstücksverzeichnis'!G1919=Texte!$A$25,F1919,0)","v":0},{"$f":"IF('Anhang Grundstücksverzeichnis'!G1919=Texte!$A$26,F1919,0)","v":0},{"$f":"IF('Anhang Grundstücksverzeichnis'!G1919=Texte!$A$27,F1919,0)","v":0},{"$f":"IF('Anhang Grundstücksverzeichnis'!G1919=Texte!$A$28,F1919,0)","v":0}]
[1910,{"$f":"IF(C1920<>\"\",IF(ISNA(VLOOKUP(C1920,Katastralgemeinden!$A$2:$B$3041,2,FALSE)),\"Ungültige KG-Nummer!\",VLOOKUP(C1920,Katastralgemeinden!A$2:$B$3041,2,\"falsch\")),\"\")","v":""},null,null,null,null,null,null,null,null,"",0,{"$f":"IF('Anhang Grundstücksverzeichnis'!G1920=Texte!$A$25,F1920,0)","v":0},{"$f":"IF('Anhang Grundstücksverzeichnis'!G1920=Texte!$A$26,F1920,0)","v":0},{"$f":"IF('Anhang Grundstücksverzeichnis'!G1920=Texte!$A$27,F1920,0)","v":0},{"$f":"IF('Anhang Grundstücksverzeichnis'!G1920=Texte!$A$28,F1920,0)","v":0}]
[1911,{"$f":"IF(C1921<>\"\",IF(ISNA(VLOOKUP(C1921,Katastralgemeinden!$A$2:$B$3041,2,FALSE)),\"Ungültige KG-Nummer!\",VLOOKUP(C1921,Katastralgemeinden!A$2:$B$3041,2,\"falsch\")),\"\")","v":""},null,null,null,null,null,null,null,null,"",0,{"$f":"IF('Anhang Grundstücksverzeichnis'!G1921=Texte!$A$25,F1921,0)","v":0},{"$f":"IF('Anhang Grundstücksverzeichnis'!G1921=Texte!$A$26,F1921,0)","v":0},{"$f":"IF('Anhang Grundstücksverzeichnis'!G1921=Texte!$A$27,F1921,0)","v":0},{"$f":"IF('Anhang Grundstücksverzeichnis'!G1921=Texte!$A$28,F1921,0)","v":0}]
[1912,{"$f":"IF(C1922<>\"\",IF(ISNA(VLOOKUP(C1922,Katastralgemeinden!$A$2:$B$3041,2,FALSE)),\"Ungültige KG-Nummer!\",VLOOKUP(C1922,Katastralgemeinden!A$2:$B$3041,2,\"falsch\")),\"\")","v":""},null,null,null,null,null,null,null,null,"",0,{"$f":"IF('Anhang Grundstücksverzeichnis'!G1922=Texte!$A$25,F1922,0)","v":0},{"$f":"IF('Anhang Grundstücksverzeichnis'!G1922=Texte!$A$26,F1922,0)","v":0},{"$f":"IF('Anhang Grundstücksverzeichnis'!G1922=Texte!$A$27,F1922,0)","v":0},{"$f":"IF('Anhang Grundstücksverzeichnis'!G1922=Texte!$A$28,F1922,0)","v":0}]
[1913,{"$f":"IF(C1923<>\"\",IF(ISNA(VLOOKUP(C1923,Katastralgemeinden!$A$2:$B$3041,2,FALSE)),\"Ungültige KG-Nummer!\",VLOOKUP(C1923,Katastralgemeinden!A$2:$B$3041,2,\"falsch\")),\"\")","v":""},null,null,null,null,null,null,null,null,"",0,{"$f":"IF('Anhang Grundstücksverzeichnis'!G1923=Texte!$A$25,F1923,0)","v":0},{"$f":"IF('Anhang Grundstücksverzeichnis'!G1923=Texte!$A$26,F1923,0)","v":0},{"$f":"IF('Anhang Grundstücksverzeichnis'!G1923=Texte!$A$27,F1923,0)","v":0},{"$f":"IF('Anhang Grundstücksverzeichnis'!G1923=Texte!$A$28,F1923,0)","v":0}]
[1914,{"$f":"IF(C1924<>\"\",IF(ISNA(VLOOKUP(C1924,Katastralgemeinden!$A$2:$B$3041,2,FALSE)),\"Ungültige KG-Nummer!\",VLOOKUP(C1924,Katastralgemeinden!A$2:$B$3041,2,\"falsch\")),\"\")","v":""},null,null,null,null,null,null,null,null,"",0,{"$f":"IF('Anhang Grundstücksverzeichnis'!G1924=Texte!$A$25,F1924,0)","v":0},{"$f":"IF('Anhang Grundstücksverzeichnis'!G1924=Texte!$A$26,F1924,0)","v":0},{"$f":"IF('Anhang Grundstücksverzeichnis'!G1924=Texte!$A$27,F1924,0)","v":0},{"$f":"IF('Anhang Grundstücksverzeichnis'!G1924=Texte!$A$28,F1924,0)","v":0}]
[1915,{"$f":"IF(C1925<>\"\",IF(ISNA(VLOOKUP(C1925,Katastralgemeinden!$A$2:$B$3041,2,FALSE)),\"Ungültige KG-Nummer!\",VLOOKUP(C1925,Katastralgemeinden!A$2:$B$3041,2,\"falsch\")),\"\")","v":""},null,null,null,null,null,null,null,null,"",0,{"$f":"IF('Anhang Grundstücksverzeichnis'!G1925=Texte!$A$25,F1925,0)","v":0},{"$f":"IF('Anhang Grundstücksverzeichnis'!G1925=Texte!$A$26,F1925,0)","v":0},{"$f":"IF('Anhang Grundstücksverzeichnis'!G1925=Texte!$A$27,F1925,0)","v":0},{"$f":"IF('Anhang Grundstücksverzeichnis'!G1925=Texte!$A$28,F1925,0)","v":0}]
[1916,{"$f":"IF(C1926<>\"\",IF(ISNA(VLOOKUP(C1926,Katastralgemeinden!$A$2:$B$3041,2,FALSE)),\"Ungültige KG-Nummer!\",VLOOKUP(C1926,Katastralgemeinden!A$2:$B$3041,2,\"falsch\")),\"\")","v":""},null,null,null,null,null,null,null,null,"",0,{"$f":"IF('Anhang Grundstücksverzeichnis'!G1926=Texte!$A$25,F1926,0)","v":0},{"$f":"IF('Anhang Grundstücksverzeichnis'!G1926=Texte!$A$26,F1926,0)","v":0},{"$f":"IF('Anhang Grundstücksverzeichnis'!G1926=Texte!$A$27,F1926,0)","v":0},{"$f":"IF('Anhang Grundstücksverzeichnis'!G1926=Texte!$A$28,F1926,0)","v":0}]
[1917,{"$f":"IF(C1927<>\"\",IF(ISNA(VLOOKUP(C1927,Katastralgemeinden!$A$2:$B$3041,2,FALSE)),\"Ungültige KG-Nummer!\",VLOOKUP(C1927,Katastralgemeinden!A$2:$B$3041,2,\"falsch\")),\"\")","v":""},null,null,null,null,null,null,null,null,"",0,{"$f":"IF('Anhang Grundstücksverzeichnis'!G1927=Texte!$A$25,F1927,0)","v":0},{"$f":"IF('Anhang Grundstücksverzeichnis'!G1927=Texte!$A$26,F1927,0)","v":0},{"$f":"IF('Anhang Grundstücksverzeichnis'!G1927=Texte!$A$27,F1927,0)","v":0},{"$f":"IF('Anhang Grundstücksverzeichnis'!G1927=Texte!$A$28,F1927,0)","v":0}]
[1918,{"$f":"IF(C1928<>\"\",IF(ISNA(VLOOKUP(C1928,Katastralgemeinden!$A$2:$B$3041,2,FALSE)),\"Ungültige KG-Nummer!\",VLOOKUP(C1928,Katastralgemeinden!A$2:$B$3041,2,\"falsch\")),\"\")","v":""},null,null,null,null,null,null,null,null,"",0,{"$f":"IF('Anhang Grundstücksverzeichnis'!G1928=Texte!$A$25,F1928,0)","v":0},{"$f":"IF('Anhang Grundstücksverzeichnis'!G1928=Texte!$A$26,F1928,0)","v":0},{"$f":"IF('Anhang Grundstücksverzeichnis'!G1928=Texte!$A$27,F1928,0)","v":0},{"$f":"IF('Anhang Grundstücksverzeichnis'!G1928=Texte!$A$28,F1928,0)","v":0}]
[1919,{"$f":"IF(C1929<>\"\",IF(ISNA(VLOOKUP(C1929,Katastralgemeinden!$A$2:$B$3041,2,FALSE)),\"Ungültige KG-Nummer!\",VLOOKUP(C1929,Katastralgemeinden!A$2:$B$3041,2,\"falsch\")),\"\")","v":""},null,null,null,null,null,null,null,null,"",0,{"$f":"IF('Anhang Grundstücksverzeichnis'!G1929=Texte!$A$25,F1929,0)","v":0},{"$f":"IF('Anhang Grundstücksverzeichnis'!G1929=Texte!$A$26,F1929,0)","v":0},{"$f":"IF('Anhang Grundstücksverzeichnis'!G1929=Texte!$A$27,F1929,0)","v":0},{"$f":"IF('Anhang Grundstücksverzeichnis'!G1929=Texte!$A$28,F1929,0)","v":0}]
[1920,{"$f":"IF(C1930<>\"\",IF(ISNA(VLOOKUP(C1930,Katastralgemeinden!$A$2:$B$3041,2,FALSE)),\"Ungültige KG-Nummer!\",VLOOKUP(C1930,Katastralgemeinden!A$2:$B$3041,2,\"falsch\")),\"\")","v":""},null,null,null,null,null,null,null,null,"",0,{"$f":"IF('Anhang Grundstücksverzeichnis'!G1930=Texte!$A$25,F1930,0)","v":0},{"$f":"IF('Anhang Grundstücksverzeichnis'!G1930=Texte!$A$26,F1930,0)","v":0},{"$f":"IF('Anhang Grundstücksverzeichnis'!G1930=Texte!$A$27,F1930,0)","v":0},{"$f":"IF('Anhang Grundstücksverzeichnis'!G1930=Texte!$A$28,F1930,0)","v":0}]
[1921,{"$f":"IF(C1931<>\"\",IF(ISNA(VLOOKUP(C1931,Katastralgemeinden!$A$2:$B$3041,2,FALSE)),\"Ungültige KG-Nummer!\",VLOOKUP(C1931,Katastralgemeinden!A$2:$B$3041,2,\"falsch\")),\"\")","v":""},null,null,null,null,null,null,null,null,"",0,{"$f":"IF('Anhang Grundstücksverzeichnis'!G1931=Texte!$A$25,F1931,0)","v":0},{"$f":"IF('Anhang Grundstücksverzeichnis'!G1931=Texte!$A$26,F1931,0)","v":0},{"$f":"IF('Anhang Grundstücksverzeichnis'!G1931=Texte!$A$27,F1931,0)","v":0},{"$f":"IF('Anhang Grundstücksverzeichnis'!G1931=Texte!$A$28,F1931,0)","v":0}]
[1922,{"$f":"IF(C1932<>\"\",IF(ISNA(VLOOKUP(C1932,Katastralgemeinden!$A$2:$B$3041,2,FALSE)),\"Ungültige KG-Nummer!\",VLOOKUP(C1932,Katastralgemeinden!A$2:$B$3041,2,\"falsch\")),\"\")","v":""},null,null,null,null,null,null,null,null,{"$f":"IF(G1932<>\"\",IF(G1932=\"Eigengrundfläche\",0,IF(G1932=\"Vorpachtfläche\",1,IF(G1932=\"Abrundung +\",3,IF(G1932=\"Abrundung -\",4,5)))),\"\")","v":""},{"$f":"IF(OR(LOWER(H1932)=\"x\",LOWER(H1932)=\"j\"),1,0)","v":0},{"$f":"IF('Anhang Grundstücksverzeichnis'!G1932=Texte!$A$25,F1932,0)","v":0},{"$f":"IF('Anhang Grundstücksverzeichnis'!G1932=Texte!$A$26,F1932,0)","v":0},{"$f":"IF('Anhang Grundstücksverzeichnis'!G1932=Texte!$A$27,F1932,0)","v":0},{"$f":"IF('Anhang Grundstücksverzeichnis'!G1932=Texte!$A$28,F1932,0)","v":0}]
[1923,{"$f":"IF(C1933<>\"\",IF(ISNA(VLOOKUP(C1933,Katastralgemeinden!$A$2:$B$3041,2,FALSE)),\"Ungültige KG-Nummer!\",VLOOKUP(C1933,Katastralgemeinden!A$2:$B$3041,2,\"falsch\")),\"\")","v":""},null,null,null,null,null,null,null,null,"",0,{"$f":"IF('Anhang Grundstücksverzeichnis'!G1933=Texte!$A$25,F1933,0)","v":0},{"$f":"IF('Anhang Grundstücksverzeichnis'!G1933=Texte!$A$26,F1933,0)","v":0},{"$f":"IF('Anhang Grundstücksverzeichnis'!G1933=Texte!$A$27,F1933,0)","v":0},{"$f":"IF('Anhang Grundstücksverzeichnis'!G1933=Texte!$A$28,F1933,0)","v":0}]
[1924,{"$f":"IF(C1934<>\"\",IF(ISNA(VLOOKUP(C1934,Katastralgemeinden!$A$2:$B$3041,2,FALSE)),\"Ungültige KG-Nummer!\",VLOOKUP(C1934,Katastralgemeinden!A$2:$B$3041,2,\"falsch\")),\"\")","v":""},null,null,null,null,null,null,null,null,"",0,{"$f":"IF('Anhang Grundstücksverzeichnis'!G1934=Texte!$A$25,F1934,0)","v":0},{"$f":"IF('Anhang Grundstücksverzeichnis'!G1934=Texte!$A$26,F1934,0)","v":0},{"$f":"IF('Anhang Grundstücksverzeichnis'!G1934=Texte!$A$27,F1934,0)","v":0},{"$f":"IF('Anhang Grundstücksverzeichnis'!G1934=Texte!$A$28,F1934,0)","v":0}]
[1925,{"$f":"IF(C1935<>\"\",IF(ISNA(VLOOKUP(C1935,Katastralgemeinden!$A$2:$B$3041,2,FALSE)),\"Ungültige KG-Nummer!\",VLOOKUP(C1935,Katastralgemeinden!A$2:$B$3041,2,\"falsch\")),\"\")","v":""},null,null,null,null,null,null,null,null,"",0,{"$f":"IF('Anhang Grundstücksverzeichnis'!G1935=Texte!$A$25,F1935,0)","v":0},{"$f":"IF('Anhang Grundstücksverzeichnis'!G1935=Texte!$A$26,F1935,0)","v":0},{"$f":"IF('Anhang Grundstücksverzeichnis'!G1935=Texte!$A$27,F1935,0)","v":0},{"$f":"IF('Anhang Grundstücksverzeichnis'!G1935=Texte!$A$28,F1935,0)","v":0}]
[1926,{"$f":"IF(C1936<>\"\",IF(ISNA(VLOOKUP(C1936,Katastralgemeinden!$A$2:$B$3041,2,FALSE)),\"Ungültige KG-Nummer!\",VLOOKUP(C1936,Katastralgemeinden!A$2:$B$3041,2,\"falsch\")),\"\")","v":""},null,null,null,null,null,null,null,null,"",0,{"$f":"IF('Anhang Grundstücksverzeichnis'!G1936=Texte!$A$25,F1936,0)","v":0},{"$f":"IF('Anhang Grundstücksverzeichnis'!G1936=Texte!$A$26,F1936,0)","v":0},{"$f":"IF('Anhang Grundstücksverzeichnis'!G1936=Texte!$A$27,F1936,0)","v":0},{"$f":"IF('Anhang Grundstücksverzeichnis'!G1936=Texte!$A$28,F1936,0)","v":0}]
[1927,{"$f":"IF(C1937<>\"\",IF(ISNA(VLOOKUP(C1937,Katastralgemeinden!$A$2:$B$3041,2,FALSE)),\"Ungültige KG-Nummer!\",VLOOKUP(C1937,Katastralgemeinden!A$2:$B$3041,2,\"falsch\")),\"\")","v":""},null,null,null,null,null,null,null,null,"",0,{"$f":"IF('Anhang Grundstücksverzeichnis'!G1937=Texte!$A$25,F1937,0)","v":0},{"$f":"IF('Anhang Grundstücksverzeichnis'!G1937=Texte!$A$26,F1937,0)","v":0},{"$f":"IF('Anhang Grundstücksverzeichnis'!G1937=Texte!$A$27,F1937,0)","v":0},{"$f":"IF('Anhang Grundstücksverzeichnis'!G1937=Texte!$A$28,F1937,0)","v":0}]
[1928,{"$f":"IF(C1938<>\"\",IF(ISNA(VLOOKUP(C1938,Katastralgemeinden!$A$2:$B$3041,2,FALSE)),\"Ungültige KG-Nummer!\",VLOOKUP(C1938,Katastralgemeinden!A$2:$B$3041,2,\"falsch\")),\"\")","v":""},null,null,null,null,null,null,null,null,"",0,{"$f":"IF('Anhang Grundstücksverzeichnis'!G1938=Texte!$A$25,F1938,0)","v":0},{"$f":"IF('Anhang Grundstücksverzeichnis'!G1938=Texte!$A$26,F1938,0)","v":0},{"$f":"IF('Anhang Grundstücksverzeichnis'!G1938=Texte!$A$27,F1938,0)","v":0},{"$f":"IF('Anhang Grundstücksverzeichnis'!G1938=Texte!$A$28,F1938,0)","v":0}]
[1929,{"$f":"IF(C1939<>\"\",IF(ISNA(VLOOKUP(C1939,Katastralgemeinden!$A$2:$B$3041,2,FALSE)),\"Ungültige KG-Nummer!\",VLOOKUP(C1939,Katastralgemeinden!A$2:$B$3041,2,\"falsch\")),\"\")","v":""},null,null,null,null,null,null,null,null,"",0,{"$f":"IF('Anhang Grundstücksverzeichnis'!G1939=Texte!$A$25,F1939,0)","v":0},{"$f":"IF('Anhang Grundstücksverzeichnis'!G1939=Texte!$A$26,F1939,0)","v":0},{"$f":"IF('Anhang Grundstücksverzeichnis'!G1939=Texte!$A$27,F1939,0)","v":0},{"$f":"IF('Anhang Grundstücksverzeichnis'!G1939=Texte!$A$28,F1939,0)","v":0}]
[1930,{"$f":"IF(C1940<>\"\",IF(ISNA(VLOOKUP(C1940,Katastralgemeinden!$A$2:$B$3041,2,FALSE)),\"Ungültige KG-Nummer!\",VLOOKUP(C1940,Katastralgemeinden!A$2:$B$3041,2,\"falsch\")),\"\")","v":""},null,null,null,null,null,null,null,null,"",0,{"$f":"IF('Anhang Grundstücksverzeichnis'!G1940=Texte!$A$25,F1940,0)","v":0},{"$f":"IF('Anhang Grundstücksverzeichnis'!G1940=Texte!$A$26,F1940,0)","v":0},{"$f":"IF('Anhang Grundstücksverzeichnis'!G1940=Texte!$A$27,F1940,0)","v":0},{"$f":"IF('Anhang Grundstücksverzeichnis'!G1940=Texte!$A$28,F1940,0)","v":0}]
[1931,{"$f":"IF(C1941<>\"\",IF(ISNA(VLOOKUP(C1941,Katastralgemeinden!$A$2:$B$3041,2,FALSE)),\"Ungültige KG-Nummer!\",VLOOKUP(C1941,Katastralgemeinden!A$2:$B$3041,2,\"falsch\")),\"\")","v":""},null,null,null,null,null,null,null,null,"",0,{"$f":"IF('Anhang Grundstücksverzeichnis'!G1941=Texte!$A$25,F1941,0)","v":0},{"$f":"IF('Anhang Grundstücksverzeichnis'!G1941=Texte!$A$26,F1941,0)","v":0},{"$f":"IF('Anhang Grundstücksverzeichnis'!G1941=Texte!$A$27,F1941,0)","v":0},{"$f":"IF('Anhang Grundstücksverzeichnis'!G1941=Texte!$A$28,F1941,0)","v":0}]
[1932,{"$f":"IF(C1942<>\"\",IF(ISNA(VLOOKUP(C1942,Katastralgemeinden!$A$2:$B$3041,2,FALSE)),\"Ungültige KG-Nummer!\",VLOOKUP(C1942,Katastralgemeinden!A$2:$B$3041,2,\"falsch\")),\"\")","v":""},null,null,null,null,null,null,null,null,"",0,{"$f":"IF('Anhang Grundstücksverzeichnis'!G1942=Texte!$A$25,F1942,0)","v":0},{"$f":"IF('Anhang Grundstücksverzeichnis'!G1942=Texte!$A$26,F1942,0)","v":0},{"$f":"IF('Anhang Grundstücksverzeichnis'!G1942=Texte!$A$27,F1942,0)","v":0},{"$f":"IF('Anhang Grundstücksverzeichnis'!G1942=Texte!$A$28,F1942,0)","v":0}]
[1933,{"$f":"IF(C1943<>\"\",IF(ISNA(VLOOKUP(C1943,Katastralgemeinden!$A$2:$B$3041,2,FALSE)),\"Ungültige KG-Nummer!\",VLOOKUP(C1943,Katastralgemeinden!A$2:$B$3041,2,\"falsch\")),\"\")","v":""},null,null,null,null,null,null,null,null,"",0,{"$f":"IF('Anhang Grundstücksverzeichnis'!G1943=Texte!$A$25,F1943,0)","v":0},{"$f":"IF('Anhang Grundstücksverzeichnis'!G1943=Texte!$A$26,F1943,0)","v":0},{"$f":"IF('Anhang Grundstücksverzeichnis'!G1943=Texte!$A$27,F1943,0)","v":0},{"$f":"IF('Anhang Grundstücksverzeichnis'!G1943=Texte!$A$28,F1943,0)","v":0}]
[1934,{"$f":"IF(C1944<>\"\",IF(ISNA(VLOOKUP(C1944,Katastralgemeinden!$A$2:$B$3041,2,FALSE)),\"Ungültige KG-Nummer!\",VLOOKUP(C1944,Katastralgemeinden!A$2:$B$3041,2,\"falsch\")),\"\")","v":""},null,null,null,null,null,null,null,null,"",0,{"$f":"IF('Anhang Grundstücksverzeichnis'!G1944=Texte!$A$25,F1944,0)","v":0},{"$f":"IF('Anhang Grundstücksverzeichnis'!G1944=Texte!$A$26,F1944,0)","v":0},{"$f":"IF('Anhang Grundstücksverzeichnis'!G1944=Texte!$A$27,F1944,0)","v":0},{"$f":"IF('Anhang Grundstücksverzeichnis'!G1944=Texte!$A$28,F1944,0)","v":0}]
[1935,{"$f":"IF(C1945<>\"\",IF(ISNA(VLOOKUP(C1945,Katastralgemeinden!$A$2:$B$3041,2,FALSE)),\"Ungültige KG-Nummer!\",VLOOKUP(C1945,Katastralgemeinden!A$2:$B$3041,2,\"falsch\")),\"\")","v":""},null,null,null,null,null,null,null,null,"",0,{"$f":"IF('Anhang Grundstücksverzeichnis'!G1945=Texte!$A$25,F1945,0)","v":0},{"$f":"IF('Anhang Grundstücksverzeichnis'!G1945=Texte!$A$26,F1945,0)","v":0},{"$f":"IF('Anhang Grundstücksverzeichnis'!G1945=Texte!$A$27,F1945,0)","v":0},{"$f":"IF('Anhang Grundstücksverzeichnis'!G1945=Texte!$A$28,F1945,0)","v":0}]
[1936,{"$f":"IF(C1946<>\"\",IF(ISNA(VLOOKUP(C1946,Katastralgemeinden!$A$2:$B$3041,2,FALSE)),\"Ungültige KG-Nummer!\",VLOOKUP(C1946,Katastralgemeinden!A$2:$B$3041,2,\"falsch\")),\"\")","v":""},null,null,null,null,null,null,null,null,"",0,{"$f":"IF('Anhang Grundstücksverzeichnis'!G1946=Texte!$A$25,F1946,0)","v":0},{"$f":"IF('Anhang Grundstücksverzeichnis'!G1946=Texte!$A$26,F1946,0)","v":0},{"$f":"IF('Anhang Grundstücksverzeichnis'!G1946=Texte!$A$27,F1946,0)","v":0},{"$f":"IF('Anhang Grundstücksverzeichnis'!G1946=Texte!$A$28,F1946,0)","v":0}]
[1937,{"$f":"IF(C1947<>\"\",IF(ISNA(VLOOKUP(C1947,Katastralgemeinden!$A$2:$B$3041,2,FALSE)),\"Ungültige KG-Nummer!\",VLOOKUP(C1947,Katastralgemeinden!A$2:$B$3041,2,\"falsch\")),\"\")","v":""},null,null,null,null,null,null,null,null,"",0,{"$f":"IF('Anhang Grundstücksverzeichnis'!G1947=Texte!$A$25,F1947,0)","v":0},{"$f":"IF('Anhang Grundstücksverzeichnis'!G1947=Texte!$A$26,F1947,0)","v":0},{"$f":"IF('Anhang Grundstücksverzeichnis'!G1947=Texte!$A$27,F1947,0)","v":0},{"$f":"IF('Anhang Grundstücksverzeichnis'!G1947=Texte!$A$28,F1947,0)","v":0}]
[1938,{"$f":"IF(C1948<>\"\",IF(ISNA(VLOOKUP(C1948,Katastralgemeinden!$A$2:$B$3041,2,FALSE)),\"Ungültige KG-Nummer!\",VLOOKUP(C1948,Katastralgemeinden!A$2:$B$3041,2,\"falsch\")),\"\")","v":""},null,null,null,null,null,null,null,null,"",0,{"$f":"IF('Anhang Grundstücksverzeichnis'!G1948=Texte!$A$25,F1948,0)","v":0},{"$f":"IF('Anhang Grundstücksverzeichnis'!G1948=Texte!$A$26,F1948,0)","v":0},{"$f":"IF('Anhang Grundstücksverzeichnis'!G1948=Texte!$A$27,F1948,0)","v":0},{"$f":"IF('Anhang Grundstücksverzeichnis'!G1948=Texte!$A$28,F1948,0)","v":0}]
[1939,{"$f":"IF(C1949<>\"\",IF(ISNA(VLOOKUP(C1949,Katastralgemeinden!$A$2:$B$3041,2,FALSE)),\"Ungültige KG-Nummer!\",VLOOKUP(C1949,Katastralgemeinden!A$2:$B$3041,2,\"falsch\")),\"\")","v":""},null,null,null,null,null,null,null,null,"",0,{"$f":"IF('Anhang Grundstücksverzeichnis'!G1949=Texte!$A$25,F1949,0)","v":0},{"$f":"IF('Anhang Grundstücksverzeichnis'!G1949=Texte!$A$26,F1949,0)","v":0},{"$f":"IF('Anhang Grundstücksverzeichnis'!G1949=Texte!$A$27,F1949,0)","v":0},{"$f":"IF('Anhang Grundstücksverzeichnis'!G1949=Texte!$A$28,F1949,0)","v":0}]
[1940,{"$f":"IF(C1950<>\"\",IF(ISNA(VLOOKUP(C1950,Katastralgemeinden!$A$2:$B$3041,2,FALSE)),\"Ungültige KG-Nummer!\",VLOOKUP(C1950,Katastralgemeinden!A$2:$B$3041,2,\"falsch\")),\"\")","v":""},null,null,null,null,null,null,null,null,"",0,{"$f":"IF('Anhang Grundstücksverzeichnis'!G1950=Texte!$A$25,F1950,0)","v":0},{"$f":"IF('Anhang Grundstücksverzeichnis'!G1950=Texte!$A$26,F1950,0)","v":0},{"$f":"IF('Anhang Grundstücksverzeichnis'!G1950=Texte!$A$27,F1950,0)","v":0},{"$f":"IF('Anhang Grundstücksverzeichnis'!G1950=Texte!$A$28,F1950,0)","v":0}]
[1941,{"$f":"IF(C1951<>\"\",IF(ISNA(VLOOKUP(C1951,Katastralgemeinden!$A$2:$B$3041,2,FALSE)),\"Ungültige KG-Nummer!\",VLOOKUP(C1951,Katastralgemeinden!A$2:$B$3041,2,\"falsch\")),\"\")","v":""},null,null,null,null,null,null,null,null,"",0,{"$f":"IF('Anhang Grundstücksverzeichnis'!G1951=Texte!$A$25,F1951,0)","v":0},{"$f":"IF('Anhang Grundstücksverzeichnis'!G1951=Texte!$A$26,F1951,0)","v":0},{"$f":"IF('Anhang Grundstücksverzeichnis'!G1951=Texte!$A$27,F1951,0)","v":0},{"$f":"IF('Anhang Grundstücksverzeichnis'!G1951=Texte!$A$28,F1951,0)","v":0}]
[1942,{"$f":"IF(C1952<>\"\",IF(ISNA(VLOOKUP(C1952,Katastralgemeinden!$A$2:$B$3041,2,FALSE)),\"Ungültige KG-Nummer!\",VLOOKUP(C1952,Katastralgemeinden!A$2:$B$3041,2,\"falsch\")),\"\")","v":""},null,null,null,null,null,null,null,null,"",0,{"$f":"IF('Anhang Grundstücksverzeichnis'!G1952=Texte!$A$25,F1952,0)","v":0},{"$f":"IF('Anhang Grundstücksverzeichnis'!G1952=Texte!$A$26,F1952,0)","v":0},{"$f":"IF('Anhang Grundstücksverzeichnis'!G1952=Texte!$A$27,F1952,0)","v":0},{"$f":"IF('Anhang Grundstücksverzeichnis'!G1952=Texte!$A$28,F1952,0)","v":0}]
[1943,{"$f":"IF(C1953<>\"\",IF(ISNA(VLOOKUP(C1953,Katastralgemeinden!$A$2:$B$3041,2,FALSE)),\"Ungültige KG-Nummer!\",VLOOKUP(C1953,Katastralgemeinden!A$2:$B$3041,2,\"falsch\")),\"\")","v":""},null,null,null,null,null,null,null,null,"",0,{"$f":"IF('Anhang Grundstücksverzeichnis'!G1953=Texte!$A$25,F1953,0)","v":0},{"$f":"IF('Anhang Grundstücksverzeichnis'!G1953=Texte!$A$26,F1953,0)","v":0},{"$f":"IF('Anhang Grundstücksverzeichnis'!G1953=Texte!$A$27,F1953,0)","v":0},{"$f":"IF('Anhang Grundstücksverzeichnis'!G1953=Texte!$A$28,F1953,0)","v":0}]
[1944,{"$f":"IF(C1954<>\"\",IF(ISNA(VLOOKUP(C1954,Katastralgemeinden!$A$2:$B$3041,2,FALSE)),\"Ungültige KG-Nummer!\",VLOOKUP(C1954,Katastralgemeinden!A$2:$B$3041,2,\"falsch\")),\"\")","v":""},null,null,null,null,null,null,null,null,"",0,{"$f":"IF('Anhang Grundstücksverzeichnis'!G1954=Texte!$A$25,F1954,0)","v":0},{"$f":"IF('Anhang Grundstücksverzeichnis'!G1954=Texte!$A$26,F1954,0)","v":0},{"$f":"IF('Anhang Grundstücksverzeichnis'!G1954=Texte!$A$27,F1954,0)","v":0},{"$f":"IF('Anhang Grundstücksverzeichnis'!G1954=Texte!$A$28,F1954,0)","v":0}]
[1945,{"$f":"IF(C1955<>\"\",IF(ISNA(VLOOKUP(C1955,Katastralgemeinden!$A$2:$B$3041,2,FALSE)),\"Ungültige KG-Nummer!\",VLOOKUP(C1955,Katastralgemeinden!A$2:$B$3041,2,\"falsch\")),\"\")","v":""},null,null,null,null,null,null,null,null,"",0,{"$f":"IF('Anhang Grundstücksverzeichnis'!G1955=Texte!$A$25,F1955,0)","v":0},{"$f":"IF('Anhang Grundstücksverzeichnis'!G1955=Texte!$A$26,F1955,0)","v":0},{"$f":"IF('Anhang Grundstücksverzeichnis'!G1955=Texte!$A$27,F1955,0)","v":0},{"$f":"IF('Anhang Grundstücksverzeichnis'!G1955=Texte!$A$28,F1955,0)","v":0}]
[1946,{"$f":"IF(C1956<>\"\",IF(ISNA(VLOOKUP(C1956,Katastralgemeinden!$A$2:$B$3041,2,FALSE)),\"Ungültige KG-Nummer!\",VLOOKUP(C1956,Katastralgemeinden!A$2:$B$3041,2,\"falsch\")),\"\")","v":""},null,null,null,null,null,null,null,null,"",0,{"$f":"IF('Anhang Grundstücksverzeichnis'!G1956=Texte!$A$25,F1956,0)","v":0},{"$f":"IF('Anhang Grundstücksverzeichnis'!G1956=Texte!$A$26,F1956,0)","v":0},{"$f":"IF('Anhang Grundstücksverzeichnis'!G1956=Texte!$A$27,F1956,0)","v":0},{"$f":"IF('Anhang Grundstücksverzeichnis'!G1956=Texte!$A$28,F1956,0)","v":0}]
[1947,{"$f":"IF(C1957<>\"\",IF(ISNA(VLOOKUP(C1957,Katastralgemeinden!$A$2:$B$3041,2,FALSE)),\"Ungültige KG-Nummer!\",VLOOKUP(C1957,Katastralgemeinden!A$2:$B$3041,2,\"falsch\")),\"\")","v":""},null,null,null,null,null,null,null,null,"",0,{"$f":"IF('Anhang Grundstücksverzeichnis'!G1957=Texte!$A$25,F1957,0)","v":0},{"$f":"IF('Anhang Grundstücksverzeichnis'!G1957=Texte!$A$26,F1957,0)","v":0},{"$f":"IF('Anhang Grundstücksverzeichnis'!G1957=Texte!$A$27,F1957,0)","v":0},{"$f":"IF('Anhang Grundstücksverzeichnis'!G1957=Texte!$A$28,F1957,0)","v":0}]
[1948,{"$f":"IF(C1958<>\"\",IF(ISNA(VLOOKUP(C1958,Katastralgemeinden!$A$2:$B$3041,2,FALSE)),\"Ungültige KG-Nummer!\",VLOOKUP(C1958,Katastralgemeinden!A$2:$B$3041,2,\"falsch\")),\"\")","v":""},null,null,null,null,null,null,null,null,"",0,{"$f":"IF('Anhang Grundstücksverzeichnis'!G1958=Texte!$A$25,F1958,0)","v":0},{"$f":"IF('Anhang Grundstücksverzeichnis'!G1958=Texte!$A$26,F1958,0)","v":0},{"$f":"IF('Anhang Grundstücksverzeichnis'!G1958=Texte!$A$27,F1958,0)","v":0},{"$f":"IF('Anhang Grundstücksverzeichnis'!G1958=Texte!$A$28,F1958,0)","v":0}]
[1949,{"$f":"IF(C1959<>\"\",IF(ISNA(VLOOKUP(C1959,Katastralgemeinden!$A$2:$B$3041,2,FALSE)),\"Ungültige KG-Nummer!\",VLOOKUP(C1959,Katastralgemeinden!A$2:$B$3041,2,\"falsch\")),\"\")","v":""},null,null,null,null,null,null,null,null,"",0,{"$f":"IF('Anhang Grundstücksverzeichnis'!G1959=Texte!$A$25,F1959,0)","v":0},{"$f":"IF('Anhang Grundstücksverzeichnis'!G1959=Texte!$A$26,F1959,0)","v":0},{"$f":"IF('Anhang Grundstücksverzeichnis'!G1959=Texte!$A$27,F1959,0)","v":0},{"$f":"IF('Anhang Grundstücksverzeichnis'!G1959=Texte!$A$28,F1959,0)","v":0}]
[1950,{"$f":"IF(C1960<>\"\",IF(ISNA(VLOOKUP(C1960,Katastralgemeinden!$A$2:$B$3041,2,FALSE)),\"Ungültige KG-Nummer!\",VLOOKUP(C1960,Katastralgemeinden!A$2:$B$3041,2,\"falsch\")),\"\")","v":""},null,null,null,null,null,null,null,null,"",0,{"$f":"IF('Anhang Grundstücksverzeichnis'!G1960=Texte!$A$25,F1960,0)","v":0},{"$f":"IF('Anhang Grundstücksverzeichnis'!G1960=Texte!$A$26,F1960,0)","v":0},{"$f":"IF('Anhang Grundstücksverzeichnis'!G1960=Texte!$A$27,F1960,0)","v":0},{"$f":"IF('Anhang Grundstücksverzeichnis'!G1960=Texte!$A$28,F1960,0)","v":0}]
[1951,{"$f":"IF(C1961<>\"\",IF(ISNA(VLOOKUP(C1961,Katastralgemeinden!$A$2:$B$3041,2,FALSE)),\"Ungültige KG-Nummer!\",VLOOKUP(C1961,Katastralgemeinden!A$2:$B$3041,2,\"falsch\")),\"\")","v":""},null,null,null,null,null,null,null,null,"",0,{"$f":"IF('Anhang Grundstücksverzeichnis'!G1961=Texte!$A$25,F1961,0)","v":0},{"$f":"IF('Anhang Grundstücksverzeichnis'!G1961=Texte!$A$26,F1961,0)","v":0},{"$f":"IF('Anhang Grundstücksverzeichnis'!G1961=Texte!$A$27,F1961,0)","v":0},{"$f":"IF('Anhang Grundstücksverzeichnis'!G1961=Texte!$A$28,F1961,0)","v":0}]
[1952,{"$f":"IF(C1962<>\"\",IF(ISNA(VLOOKUP(C1962,Katastralgemeinden!$A$2:$B$3041,2,FALSE)),\"Ungültige KG-Nummer!\",VLOOKUP(C1962,Katastralgemeinden!A$2:$B$3041,2,\"falsch\")),\"\")","v":""},null,null,null,null,null,null,null,null,"",0,{"$f":"IF('Anhang Grundstücksverzeichnis'!G1962=Texte!$A$25,F1962,0)","v":0},{"$f":"IF('Anhang Grundstücksverzeichnis'!G1962=Texte!$A$26,F1962,0)","v":0},{"$f":"IF('Anhang Grundstücksverzeichnis'!G1962=Texte!$A$27,F1962,0)","v":0},{"$f":"IF('Anhang Grundstücksverzeichnis'!G1962=Texte!$A$28,F1962,0)","v":0}]
[1953,{"$f":"IF(C1963<>\"\",IF(ISNA(VLOOKUP(C1963,Katastralgemeinden!$A$2:$B$3041,2,FALSE)),\"Ungültige KG-Nummer!\",VLOOKUP(C1963,Katastralgemeinden!A$2:$B$3041,2,\"falsch\")),\"\")","v":""},null,null,null,null,null,null,null,null,"",0,{"$f":"IF('Anhang Grundstücksverzeichnis'!G1963=Texte!$A$25,F1963,0)","v":0},{"$f":"IF('Anhang Grundstücksverzeichnis'!G1963=Texte!$A$26,F1963,0)","v":0},{"$f":"IF('Anhang Grundstücksverzeichnis'!G1963=Texte!$A$27,F1963,0)","v":0},{"$f":"IF('Anhang Grundstücksverzeichnis'!G1963=Texte!$A$28,F1963,0)","v":0}]
[1954,{"$f":"IF(C1964<>\"\",IF(ISNA(VLOOKUP(C1964,Katastralgemeinden!$A$2:$B$3041,2,FALSE)),\"Ungültige KG-Nummer!\",VLOOKUP(C1964,Katastralgemeinden!A$2:$B$3041,2,\"falsch\")),\"\")","v":""},null,null,null,null,null,null,null,null,"",0,{"$f":"IF('Anhang Grundstücksverzeichnis'!G1964=Texte!$A$25,F1964,0)","v":0},{"$f":"IF('Anhang Grundstücksverzeichnis'!G1964=Texte!$A$26,F1964,0)","v":0},{"$f":"IF('Anhang Grundstücksverzeichnis'!G1964=Texte!$A$27,F1964,0)","v":0},{"$f":"IF('Anhang Grundstücksverzeichnis'!G1964=Texte!$A$28,F1964,0)","v":0}]
[1955,{"$f":"IF(C1965<>\"\",IF(ISNA(VLOOKUP(C1965,Katastralgemeinden!$A$2:$B$3041,2,FALSE)),\"Ungültige KG-Nummer!\",VLOOKUP(C1965,Katastralgemeinden!A$2:$B$3041,2,\"falsch\")),\"\")","v":""},null,null,null,null,null,null,null,null,"",0,{"$f":"IF('Anhang Grundstücksverzeichnis'!G1965=Texte!$A$25,F1965,0)","v":0},{"$f":"IF('Anhang Grundstücksverzeichnis'!G1965=Texte!$A$26,F1965,0)","v":0},{"$f":"IF('Anhang Grundstücksverzeichnis'!G1965=Texte!$A$27,F1965,0)","v":0},{"$f":"IF('Anhang Grundstücksverzeichnis'!G1965=Texte!$A$28,F1965,0)","v":0}]
[1956,{"$f":"IF(C1966<>\"\",IF(ISNA(VLOOKUP(C1966,Katastralgemeinden!$A$2:$B$3041,2,FALSE)),\"Ungültige KG-Nummer!\",VLOOKUP(C1966,Katastralgemeinden!A$2:$B$3041,2,\"falsch\")),\"\")","v":""},null,null,null,null,null,null,null,null,"",0,{"$f":"IF('Anhang Grundstücksverzeichnis'!G1966=Texte!$A$25,F1966,0)","v":0},{"$f":"IF('Anhang Grundstücksverzeichnis'!G1966=Texte!$A$26,F1966,0)","v":0},{"$f":"IF('Anhang Grundstücksverzeichnis'!G1966=Texte!$A$27,F1966,0)","v":0},{"$f":"IF('Anhang Grundstücksverzeichnis'!G1966=Texte!$A$28,F1966,0)","v":0}]
[1957,{"$f":"IF(C1967<>\"\",IF(ISNA(VLOOKUP(C1967,Katastralgemeinden!$A$2:$B$3041,2,FALSE)),\"Ungültige KG-Nummer!\",VLOOKUP(C1967,Katastralgemeinden!A$2:$B$3041,2,\"falsch\")),\"\")","v":""},null,null,null,null,null,null,null,null,"",0,{"$f":"IF('Anhang Grundstücksverzeichnis'!G1967=Texte!$A$25,F1967,0)","v":0},{"$f":"IF('Anhang Grundstücksverzeichnis'!G1967=Texte!$A$26,F1967,0)","v":0},{"$f":"IF('Anhang Grundstücksverzeichnis'!G1967=Texte!$A$27,F1967,0)","v":0},{"$f":"IF('Anhang Grundstücksverzeichnis'!G1967=Texte!$A$28,F1967,0)","v":0}]
[1958,{"$f":"IF(C1968<>\"\",IF(ISNA(VLOOKUP(C1968,Katastralgemeinden!$A$2:$B$3041,2,FALSE)),\"Ungültige KG-Nummer!\",VLOOKUP(C1968,Katastralgemeinden!A$2:$B$3041,2,\"falsch\")),\"\")","v":""},null,null,null,null,null,null,null,null,"",0,{"$f":"IF('Anhang Grundstücksverzeichnis'!G1968=Texte!$A$25,F1968,0)","v":0},{"$f":"IF('Anhang Grundstücksverzeichnis'!G1968=Texte!$A$26,F1968,0)","v":0},{"$f":"IF('Anhang Grundstücksverzeichnis'!G1968=Texte!$A$27,F1968,0)","v":0},{"$f":"IF('Anhang Grundstücksverzeichnis'!G1968=Texte!$A$28,F1968,0)","v":0}]
[1959,{"$f":"IF(C1969<>\"\",IF(ISNA(VLOOKUP(C1969,Katastralgemeinden!$A$2:$B$3041,2,FALSE)),\"Ungültige KG-Nummer!\",VLOOKUP(C1969,Katastralgemeinden!A$2:$B$3041,2,\"falsch\")),\"\")","v":""},null,null,null,null,null,null,null,null,"",0,{"$f":"IF('Anhang Grundstücksverzeichnis'!G1969=Texte!$A$25,F1969,0)","v":0},{"$f":"IF('Anhang Grundstücksverzeichnis'!G1969=Texte!$A$26,F1969,0)","v":0},{"$f":"IF('Anhang Grundstücksverzeichnis'!G1969=Texte!$A$27,F1969,0)","v":0},{"$f":"IF('Anhang Grundstücksverzeichnis'!G1969=Texte!$A$28,F1969,0)","v":0}]
[1960,{"$f":"IF(C1970<>\"\",IF(ISNA(VLOOKUP(C1970,Katastralgemeinden!$A$2:$B$3041,2,FALSE)),\"Ungültige KG-Nummer!\",VLOOKUP(C1970,Katastralgemeinden!A$2:$B$3041,2,\"falsch\")),\"\")","v":""},null,null,null,null,null,null,null,null,"",0,{"$f":"IF('Anhang Grundstücksverzeichnis'!G1970=Texte!$A$25,F1970,0)","v":0},{"$f":"IF('Anhang Grundstücksverzeichnis'!G1970=Texte!$A$26,F1970,0)","v":0},{"$f":"IF('Anhang Grundstücksverzeichnis'!G1970=Texte!$A$27,F1970,0)","v":0},{"$f":"IF('Anhang Grundstücksverzeichnis'!G1970=Texte!$A$28,F1970,0)","v":0}]
[1961,{"$f":"IF(C1971<>\"\",IF(ISNA(VLOOKUP(C1971,Katastralgemeinden!$A$2:$B$3041,2,FALSE)),\"Ungültige KG-Nummer!\",VLOOKUP(C1971,Katastralgemeinden!A$2:$B$3041,2,\"falsch\")),\"\")","v":""},null,null,null,null,null,null,null,null,"",0,{"$f":"IF('Anhang Grundstücksverzeichnis'!G1971=Texte!$A$25,F1971,0)","v":0},{"$f":"IF('Anhang Grundstücksverzeichnis'!G1971=Texte!$A$26,F1971,0)","v":0},{"$f":"IF('Anhang Grundstücksverzeichnis'!G1971=Texte!$A$27,F1971,0)","v":0},{"$f":"IF('Anhang Grundstücksverzeichnis'!G1971=Texte!$A$28,F1971,0)","v":0}]
[1962,{"$f":"IF(C1972<>\"\",IF(ISNA(VLOOKUP(C1972,Katastralgemeinden!$A$2:$B$3041,2,FALSE)),\"Ungültige KG-Nummer!\",VLOOKUP(C1972,Katastralgemeinden!A$2:$B$3041,2,\"falsch\")),\"\")","v":""},null,null,null,null,null,null,null,null,"",0,{"$f":"IF('Anhang Grundstücksverzeichnis'!G1972=Texte!$A$25,F1972,0)","v":0},{"$f":"IF('Anhang Grundstücksverzeichnis'!G1972=Texte!$A$26,F1972,0)","v":0},{"$f":"IF('Anhang Grundstücksverzeichnis'!G1972=Texte!$A$27,F1972,0)","v":0},{"$f":"IF('Anhang Grundstücksverzeichnis'!G1972=Texte!$A$28,F1972,0)","v":0}]
[1963,{"$f":"IF(C1973<>\"\",IF(ISNA(VLOOKUP(C1973,Katastralgemeinden!$A$2:$B$3041,2,FALSE)),\"Ungültige KG-Nummer!\",VLOOKUP(C1973,Katastralgemeinden!A$2:$B$3041,2,\"falsch\")),\"\")","v":""},null,null,null,null,null,null,null,null,"",0,{"$f":"IF('Anhang Grundstücksverzeichnis'!G1973=Texte!$A$25,F1973,0)","v":0},{"$f":"IF('Anhang Grundstücksverzeichnis'!G1973=Texte!$A$26,F1973,0)","v":0},{"$f":"IF('Anhang Grundstücksverzeichnis'!G1973=Texte!$A$27,F1973,0)","v":0},{"$f":"IF('Anhang Grundstücksverzeichnis'!G1973=Texte!$A$28,F1973,0)","v":0}]
[1964,{"$f":"IF(C1974<>\"\",IF(ISNA(VLOOKUP(C1974,Katastralgemeinden!$A$2:$B$3041,2,FALSE)),\"Ungültige KG-Nummer!\",VLOOKUP(C1974,Katastralgemeinden!A$2:$B$3041,2,\"falsch\")),\"\")","v":""},null,null,null,null,null,null,null,null,"",0,{"$f":"IF('Anhang Grundstücksverzeichnis'!G1974=Texte!$A$25,F1974,0)","v":0},{"$f":"IF('Anhang Grundstücksverzeichnis'!G1974=Texte!$A$26,F1974,0)","v":0},{"$f":"IF('Anhang Grundstücksverzeichnis'!G1974=Texte!$A$27,F1974,0)","v":0},{"$f":"IF('Anhang Grundstücksverzeichnis'!G1974=Texte!$A$28,F1974,0)","v":0}]
[1965,{"$f":"IF(C1975<>\"\",IF(ISNA(VLOOKUP(C1975,Katastralgemeinden!$A$2:$B$3041,2,FALSE)),\"Ungültige KG-Nummer!\",VLOOKUP(C1975,Katastralgemeinden!A$2:$B$3041,2,\"falsch\")),\"\")","v":""},null,null,null,null,null,null,null,null,"",0,{"$f":"IF('Anhang Grundstücksverzeichnis'!G1975=Texte!$A$25,F1975,0)","v":0},{"$f":"IF('Anhang Grundstücksverzeichnis'!G1975=Texte!$A$26,F1975,0)","v":0},{"$f":"IF('Anhang Grundstücksverzeichnis'!G1975=Texte!$A$27,F1975,0)","v":0},{"$f":"IF('Anhang Grundstücksverzeichnis'!G1975=Texte!$A$28,F1975,0)","v":0}]
[1966,{"$f":"IF(C1976<>\"\",IF(ISNA(VLOOKUP(C1976,Katastralgemeinden!$A$2:$B$3041,2,FALSE)),\"Ungültige KG-Nummer!\",VLOOKUP(C1976,Katastralgemeinden!A$2:$B$3041,2,\"falsch\")),\"\")","v":""},null,null,null,null,null,null,null,null,"",0,{"$f":"IF('Anhang Grundstücksverzeichnis'!G1976=Texte!$A$25,F1976,0)","v":0},{"$f":"IF('Anhang Grundstücksverzeichnis'!G1976=Texte!$A$26,F1976,0)","v":0},{"$f":"IF('Anhang Grundstücksverzeichnis'!G1976=Texte!$A$27,F1976,0)","v":0},{"$f":"IF('Anhang Grundstücksverzeichnis'!G1976=Texte!$A$28,F1976,0)","v":0}]
[1967,{"$f":"IF(C1977<>\"\",IF(ISNA(VLOOKUP(C1977,Katastralgemeinden!$A$2:$B$3041,2,FALSE)),\"Ungültige KG-Nummer!\",VLOOKUP(C1977,Katastralgemeinden!A$2:$B$3041,2,\"falsch\")),\"\")","v":""},null,null,null,null,null,null,null,null,"",0,{"$f":"IF('Anhang Grundstücksverzeichnis'!G1977=Texte!$A$25,F1977,0)","v":0},{"$f":"IF('Anhang Grundstücksverzeichnis'!G1977=Texte!$A$26,F1977,0)","v":0},{"$f":"IF('Anhang Grundstücksverzeichnis'!G1977=Texte!$A$27,F1977,0)","v":0},{"$f":"IF('Anhang Grundstücksverzeichnis'!G1977=Texte!$A$28,F1977,0)","v":0}]
[1968,{"$f":"IF(C1978<>\"\",IF(ISNA(VLOOKUP(C1978,Katastralgemeinden!$A$2:$B$3041,2,FALSE)),\"Ungültige KG-Nummer!\",VLOOKUP(C1978,Katastralgemeinden!A$2:$B$3041,2,\"falsch\")),\"\")","v":""},null,null,null,null,null,null,null,null,"",0,{"$f":"IF('Anhang Grundstücksverzeichnis'!G1978=Texte!$A$25,F1978,0)","v":0},{"$f":"IF('Anhang Grundstücksverzeichnis'!G1978=Texte!$A$26,F1978,0)","v":0},{"$f":"IF('Anhang Grundstücksverzeichnis'!G1978=Texte!$A$27,F1978,0)","v":0},{"$f":"IF('Anhang Grundstücksverzeichnis'!G1978=Texte!$A$28,F1978,0)","v":0}]
[1969,{"$f":"IF(C1979<>\"\",IF(ISNA(VLOOKUP(C1979,Katastralgemeinden!$A$2:$B$3041,2,FALSE)),\"Ungültige KG-Nummer!\",VLOOKUP(C1979,Katastralgemeinden!A$2:$B$3041,2,\"falsch\")),\"\")","v":""},null,null,null,null,null,null,null,null,"",0,{"$f":"IF('Anhang Grundstücksverzeichnis'!G1979=Texte!$A$25,F1979,0)","v":0},{"$f":"IF('Anhang Grundstücksverzeichnis'!G1979=Texte!$A$26,F1979,0)","v":0},{"$f":"IF('Anhang Grundstücksverzeichnis'!G1979=Texte!$A$27,F1979,0)","v":0},{"$f":"IF('Anhang Grundstücksverzeichnis'!G1979=Texte!$A$28,F1979,0)","v":0}]
[1970,{"$f":"IF(C1980<>\"\",IF(ISNA(VLOOKUP(C1980,Katastralgemeinden!$A$2:$B$3041,2,FALSE)),\"Ungültige KG-Nummer!\",VLOOKUP(C1980,Katastralgemeinden!A$2:$B$3041,2,\"falsch\")),\"\")","v":""},null,null,null,null,null,null,null,null,"",0,{"$f":"IF('Anhang Grundstücksverzeichnis'!G1980=Texte!$A$25,F1980,0)","v":0},{"$f":"IF('Anhang Grundstücksverzeichnis'!G1980=Texte!$A$26,F1980,0)","v":0},{"$f":"IF('Anhang Grundstücksverzeichnis'!G1980=Texte!$A$27,F1980,0)","v":0},{"$f":"IF('Anhang Grundstücksverzeichnis'!G1980=Texte!$A$28,F1980,0)","v":0}]
[1971,{"$f":"IF(C1981<>\"\",IF(ISNA(VLOOKUP(C1981,Katastralgemeinden!$A$2:$B$3041,2,FALSE)),\"Ungültige KG-Nummer!\",VLOOKUP(C1981,Katastralgemeinden!A$2:$B$3041,2,\"falsch\")),\"\")","v":""},null,null,null,null,null,null,null,null,"",0,{"$f":"IF('Anhang Grundstücksverzeichnis'!G1981=Texte!$A$25,F1981,0)","v":0},{"$f":"IF('Anhang Grundstücksverzeichnis'!G1981=Texte!$A$26,F1981,0)","v":0},{"$f":"IF('Anhang Grundstücksverzeichnis'!G1981=Texte!$A$27,F1981,0)","v":0},{"$f":"IF('Anhang Grundstücksverzeichnis'!G1981=Texte!$A$28,F1981,0)","v":0}]
[1972,{"$f":"IF(C1982<>\"\",IF(ISNA(VLOOKUP(C1982,Katastralgemeinden!$A$2:$B$3041,2,FALSE)),\"Ungültige KG-Nummer!\",VLOOKUP(C1982,Katastralgemeinden!A$2:$B$3041,2,\"falsch\")),\"\")","v":""},null,null,null,null,null,null,null,null,"",0,{"$f":"IF('Anhang Grundstücksverzeichnis'!G1982=Texte!$A$25,F1982,0)","v":0},{"$f":"IF('Anhang Grundstücksverzeichnis'!G1982=Texte!$A$26,F1982,0)","v":0},{"$f":"IF('Anhang Grundstücksverzeichnis'!G1982=Texte!$A$27,F1982,0)","v":0},{"$f":"IF('Anhang Grundstücksverzeichnis'!G1982=Texte!$A$28,F1982,0)","v":0}]
[1973,{"$f":"IF(C1983<>\"\",IF(ISNA(VLOOKUP(C1983,Katastralgemeinden!$A$2:$B$3041,2,FALSE)),\"Ungültige KG-Nummer!\",VLOOKUP(C1983,Katastralgemeinden!A$2:$B$3041,2,\"falsch\")),\"\")","v":""},null,null,null,null,null,null,null,null,"",0,{"$f":"IF('Anhang Grundstücksverzeichnis'!G1983=Texte!$A$25,F1983,0)","v":0},{"$f":"IF('Anhang Grundstücksverzeichnis'!G1983=Texte!$A$26,F1983,0)","v":0},{"$f":"IF('Anhang Grundstücksverzeichnis'!G1983=Texte!$A$27,F1983,0)","v":0},{"$f":"IF('Anhang Grundstücksverzeichnis'!G1983=Texte!$A$28,F1983,0)","v":0}]
[1974,{"$f":"IF(C1984<>\"\",IF(ISNA(VLOOKUP(C1984,Katastralgemeinden!$A$2:$B$3041,2,FALSE)),\"Ungültige KG-Nummer!\",VLOOKUP(C1984,Katastralgemeinden!A$2:$B$3041,2,\"falsch\")),\"\")","v":""},null,null,null,null,null,null,null,null,"",0,{"$f":"IF('Anhang Grundstücksverzeichnis'!G1984=Texte!$A$25,F1984,0)","v":0},{"$f":"IF('Anhang Grundstücksverzeichnis'!G1984=Texte!$A$26,F1984,0)","v":0},{"$f":"IF('Anhang Grundstücksverzeichnis'!G1984=Texte!$A$27,F1984,0)","v":0},{"$f":"IF('Anhang Grundstücksverzeichnis'!G1984=Texte!$A$28,F1984,0)","v":0}]
[1975,{"$f":"IF(C1985<>\"\",IF(ISNA(VLOOKUP(C1985,Katastralgemeinden!$A$2:$B$3041,2,FALSE)),\"Ungültige KG-Nummer!\",VLOOKUP(C1985,Katastralgemeinden!A$2:$B$3041,2,\"falsch\")),\"\")","v":""},null,null,null,null,null,null,null,null,"",0,{"$f":"IF('Anhang Grundstücksverzeichnis'!G1985=Texte!$A$25,F1985,0)","v":0},{"$f":"IF('Anhang Grundstücksverzeichnis'!G1985=Texte!$A$26,F1985,0)","v":0},{"$f":"IF('Anhang Grundstücksverzeichnis'!G1985=Texte!$A$27,F1985,0)","v":0},{"$f":"IF('Anhang Grundstücksverzeichnis'!G1985=Texte!$A$28,F1985,0)","v":0}]
[1976,{"$f":"IF(C1986<>\"\",IF(ISNA(VLOOKUP(C1986,Katastralgemeinden!$A$2:$B$3041,2,FALSE)),\"Ungültige KG-Nummer!\",VLOOKUP(C1986,Katastralgemeinden!A$2:$B$3041,2,\"falsch\")),\"\")","v":""},null,null,null,null,null,null,null,null,"",0,{"$f":"IF('Anhang Grundstücksverzeichnis'!G1986=Texte!$A$25,F1986,0)","v":0},{"$f":"IF('Anhang Grundstücksverzeichnis'!G1986=Texte!$A$26,F1986,0)","v":0},{"$f":"IF('Anhang Grundstücksverzeichnis'!G1986=Texte!$A$27,F1986,0)","v":0},{"$f":"IF('Anhang Grundstücksverzeichnis'!G1986=Texte!$A$28,F1986,0)","v":0}]
[1977,{"$f":"IF(C1987<>\"\",IF(ISNA(VLOOKUP(C1987,Katastralgemeinden!$A$2:$B$3041,2,FALSE)),\"Ungültige KG-Nummer!\",VLOOKUP(C1987,Katastralgemeinden!A$2:$B$3041,2,\"falsch\")),\"\")","v":""},null,null,null,null,null,null,null,null,"",0,{"$f":"IF('Anhang Grundstücksverzeichnis'!G1987=Texte!$A$25,F1987,0)","v":0},{"$f":"IF('Anhang Grundstücksverzeichnis'!G1987=Texte!$A$26,F1987,0)","v":0},{"$f":"IF('Anhang Grundstücksverzeichnis'!G1987=Texte!$A$27,F1987,0)","v":0},{"$f":"IF('Anhang Grundstücksverzeichnis'!G1987=Texte!$A$28,F1987,0)","v":0}]
[1978,{"$f":"IF(C1988<>\"\",IF(ISNA(VLOOKUP(C1988,Katastralgemeinden!$A$2:$B$3041,2,FALSE)),\"Ungültige KG-Nummer!\",VLOOKUP(C1988,Katastralgemeinden!A$2:$B$3041,2,\"falsch\")),\"\")","v":""},null,null,null,null,null,null,null,null,"",0,{"$f":"IF('Anhang Grundstücksverzeichnis'!G1988=Texte!$A$25,F1988,0)","v":0},{"$f":"IF('Anhang Grundstücksverzeichnis'!G1988=Texte!$A$26,F1988,0)","v":0},{"$f":"IF('Anhang Grundstücksverzeichnis'!G1988=Texte!$A$27,F1988,0)","v":0},{"$f":"IF('Anhang Grundstücksverzeichnis'!G1988=Texte!$A$28,F1988,0)","v":0}]
[1979,{"$f":"IF(C1989<>\"\",IF(ISNA(VLOOKUP(C1989,Katastralgemeinden!$A$2:$B$3041,2,FALSE)),\"Ungültige KG-Nummer!\",VLOOKUP(C1989,Katastralgemeinden!A$2:$B$3041,2,\"falsch\")),\"\")","v":""},null,null,null,null,null,null,null,null,"",0,{"$f":"IF('Anhang Grundstücksverzeichnis'!G1989=Texte!$A$25,F1989,0)","v":0},{"$f":"IF('Anhang Grundstücksverzeichnis'!G1989=Texte!$A$26,F1989,0)","v":0},{"$f":"IF('Anhang Grundstücksverzeichnis'!G1989=Texte!$A$27,F1989,0)","v":0},{"$f":"IF('Anhang Grundstücksverzeichnis'!G1989=Texte!$A$28,F1989,0)","v":0}]
[1980,{"$f":"IF(C1990<>\"\",IF(ISNA(VLOOKUP(C1990,Katastralgemeinden!$A$2:$B$3041,2,FALSE)),\"Ungültige KG-Nummer!\",VLOOKUP(C1990,Katastralgemeinden!A$2:$B$3041,2,\"falsch\")),\"\")","v":""},null,null,null,null,null,null,null,null,"",0,{"$f":"IF('Anhang Grundstücksverzeichnis'!G1990=Texte!$A$25,F1990,0)","v":0},{"$f":"IF('Anhang Grundstücksverzeichnis'!G1990=Texte!$A$26,F1990,0)","v":0},{"$f":"IF('Anhang Grundstücksverzeichnis'!G1990=Texte!$A$27,F1990,0)","v":0},{"$f":"IF('Anhang Grundstücksverzeichnis'!G1990=Texte!$A$28,F1990,0)","v":0}]
[1981,{"$f":"IF(C1991<>\"\",IF(ISNA(VLOOKUP(C1991,Katastralgemeinden!$A$2:$B$3041,2,FALSE)),\"Ungültige KG-Nummer!\",VLOOKUP(C1991,Katastralgemeinden!A$2:$B$3041,2,\"falsch\")),\"\")","v":""},null,null,null,null,null,null,null,null,"",0,{"$f":"IF('Anhang Grundstücksverzeichnis'!G1991=Texte!$A$25,F1991,0)","v":0},{"$f":"IF('Anhang Grundstücksverzeichnis'!G1991=Texte!$A$26,F1991,0)","v":0},{"$f":"IF('Anhang Grundstücksverzeichnis'!G1991=Texte!$A$27,F1991,0)","v":0},{"$f":"IF('Anhang Grundstücksverzeichnis'!G1991=Texte!$A$28,F1991,0)","v":0}]
[1982,{"$f":"IF(C1992<>\"\",IF(ISNA(VLOOKUP(C1992,Katastralgemeinden!$A$2:$B$3041,2,FALSE)),\"Ungültige KG-Nummer!\",VLOOKUP(C1992,Katastralgemeinden!A$2:$B$3041,2,\"falsch\")),\"\")","v":""},null,null,null,null,null,null,null,null,"",0,{"$f":"IF('Anhang Grundstücksverzeichnis'!G1992=Texte!$A$25,F1992,0)","v":0},{"$f":"IF('Anhang Grundstücksverzeichnis'!G1992=Texte!$A$26,F1992,0)","v":0},{"$f":"IF('Anhang Grundstücksverzeichnis'!G1992=Texte!$A$27,F1992,0)","v":0},{"$f":"IF('Anhang Grundstücksverzeichnis'!G1992=Texte!$A$28,F1992,0)","v":0}]
[1983,{"$f":"IF(C1993<>\"\",IF(ISNA(VLOOKUP(C1993,Katastralgemeinden!$A$2:$B$3041,2,FALSE)),\"Ungültige KG-Nummer!\",VLOOKUP(C1993,Katastralgemeinden!A$2:$B$3041,2,\"falsch\")),\"\")","v":""},null,null,null,null,null,null,null,null,"",0,{"$f":"IF('Anhang Grundstücksverzeichnis'!G1993=Texte!$A$25,F1993,0)","v":0},{"$f":"IF('Anhang Grundstücksverzeichnis'!G1993=Texte!$A$26,F1993,0)","v":0},{"$f":"IF('Anhang Grundstücksverzeichnis'!G1993=Texte!$A$27,F1993,0)","v":0},{"$f":"IF('Anhang Grundstücksverzeichnis'!G1993=Texte!$A$28,F1993,0)","v":0}]
[1984,{"$f":"IF(C1994<>\"\",IF(ISNA(VLOOKUP(C1994,Katastralgemeinden!$A$2:$B$3041,2,FALSE)),\"Ungültige KG-Nummer!\",VLOOKUP(C1994,Katastralgemeinden!A$2:$B$3041,2,\"falsch\")),\"\")","v":""},null,null,null,null,null,null,null,null,"",0,{"$f":"IF('Anhang Grundstücksverzeichnis'!G1994=Texte!$A$25,F1994,0)","v":0},{"$f":"IF('Anhang Grundstücksverzeichnis'!G1994=Texte!$A$26,F1994,0)","v":0},{"$f":"IF('Anhang Grundstücksverzeichnis'!G1994=Texte!$A$27,F1994,0)","v":0},{"$f":"IF('Anhang Grundstücksverzeichnis'!G1994=Texte!$A$28,F1994,0)","v":0}]
[1985,{"$f":"IF(C1995<>\"\",IF(ISNA(VLOOKUP(C1995,Katastralgemeinden!$A$2:$B$3041,2,FALSE)),\"Ungültige KG-Nummer!\",VLOOKUP(C1995,Katastralgemeinden!A$2:$B$3041,2,\"falsch\")),\"\")","v":""},null,null,null,null,null,null,null,null,"",0,{"$f":"IF('Anhang Grundstücksverzeichnis'!G1995=Texte!$A$25,F1995,0)","v":0},{"$f":"IF('Anhang Grundstücksverzeichnis'!G1995=Texte!$A$26,F1995,0)","v":0},{"$f":"IF('Anhang Grundstücksverzeichnis'!G1995=Texte!$A$27,F1995,0)","v":0},{"$f":"IF('Anhang Grundstücksverzeichnis'!G1995=Texte!$A$28,F1995,0)","v":0}]
[1986,{"$f":"IF(C1996<>\"\",IF(ISNA(VLOOKUP(C1996,Katastralgemeinden!$A$2:$B$3041,2,FALSE)),\"Ungültige KG-Nummer!\",VLOOKUP(C1996,Katastralgemeinden!A$2:$B$3041,2,\"falsch\")),\"\")","v":""},null,null,null,null,null,null,null,null,{"$f":"IF(G1996<>\"\",IF(G1996=\"Eigengrundfläche\",0,IF(G1996=\"Vorpachtfläche\",1,IF(G1996=\"Abrundung +\",3,IF(G1996=\"Abrundung -\",4,5)))),\"\")","v":""},{"$f":"IF(OR(LOWER(H1996)=\"x\",LOWER(H1996)=\"j\"),1,0)","v":0},{"$f":"IF('Anhang Grundstücksverzeichnis'!G1996=Texte!$A$25,F1996,0)","v":0},{"$f":"IF('Anhang Grundstücksverzeichnis'!G1996=Texte!$A$26,F1996,0)","v":0},{"$f":"IF('Anhang Grundstücksverzeichnis'!G1996=Texte!$A$27,F1996,0)","v":0},{"$f":"IF('Anhang Grundstücksverzeichnis'!G1996=Texte!$A$28,F1996,0)","v":0}]
[1987,{"$f":"IF(C1997<>\"\",IF(ISNA(VLOOKUP(C1997,Katastralgemeinden!$A$2:$B$3041,2,FALSE)),\"Ungültige KG-Nummer!\",VLOOKUP(C1997,Katastralgemeinden!A$2:$B$3041,2,\"falsch\")),\"\")","v":""},null,null,null,null,null,null,null,null,"",0,{"$f":"IF('Anhang Grundstücksverzeichnis'!G1997=Texte!$A$25,F1997,0)","v":0},{"$f":"IF('Anhang Grundstücksverzeichnis'!G1997=Texte!$A$26,F1997,0)","v":0},{"$f":"IF('Anhang Grundstücksverzeichnis'!G1997=Texte!$A$27,F1997,0)","v":0},{"$f":"IF('Anhang Grundstücksverzeichnis'!G1997=Texte!$A$28,F1997,0)","v":0}]
[1988,{"$f":"IF(C1998<>\"\",IF(ISNA(VLOOKUP(C1998,Katastralgemeinden!$A$2:$B$3041,2,FALSE)),\"Ungültige KG-Nummer!\",VLOOKUP(C1998,Katastralgemeinden!A$2:$B$3041,2,\"falsch\")),\"\")","v":""},null,null,null,null,null,null,null,null,"",0,{"$f":"IF('Anhang Grundstücksverzeichnis'!G1998=Texte!$A$25,F1998,0)","v":0},{"$f":"IF('Anhang Grundstücksverzeichnis'!G1998=Texte!$A$26,F1998,0)","v":0},{"$f":"IF('Anhang Grundstücksverzeichnis'!G1998=Texte!$A$27,F1998,0)","v":0},{"$f":"IF('Anhang Grundstücksverzeichnis'!G1998=Texte!$A$28,F1998,0)","v":0}]
[1989,{"$f":"IF(C1999<>\"\",IF(ISNA(VLOOKUP(C1999,Katastralgemeinden!$A$2:$B$3041,2,FALSE)),\"Ungültige KG-Nummer!\",VLOOKUP(C1999,Katastralgemeinden!A$2:$B$3041,2,\"falsch\")),\"\")","v":""},null,null,null,null,null,null,null,null,"",0,{"$f":"IF('Anhang Grundstücksverzeichnis'!G1999=Texte!$A$25,F1999,0)","v":0},{"$f":"IF('Anhang Grundstücksverzeichnis'!G1999=Texte!$A$26,F1999,0)","v":0},{"$f":"IF('Anhang Grundstücksverzeichnis'!G1999=Texte!$A$27,F1999,0)","v":0},{"$f":"IF('Anhang Grundstücksverzeichnis'!G1999=Texte!$A$28,F1999,0)","v":0}]
[1990,{"$f":"IF(C2000<>\"\",IF(ISNA(VLOOKUP(C2000,Katastralgemeinden!$A$2:$B$3041,2,FALSE)),\"Ungültige KG-Nummer!\",VLOOKUP(C2000,Katastralgemeinden!A$2:$B$3041,2,\"falsch\")),\"\")","v":""},null,null,null,null,null,null,null,null,"",0,{"$f":"IF('Anhang Grundstücksverzeichnis'!G2000=Texte!$A$25,F2000,0)","v":0},{"$f":"IF('Anhang Grundstücksverzeichnis'!G2000=Texte!$A$26,F2000,0)","v":0},{"$f":"IF('Anhang Grundstücksverzeichnis'!G2000=Texte!$A$27,F2000,0)","v":0},{"$f":"IF('Anhang Grundstücksverzeichnis'!G2000=Texte!$A$28,F2000,0)","v":0}]
[1991,{"$f":"IF(C2001<>\"\",IF(ISNA(VLOOKUP(C2001,Katastralgemeinden!$A$2:$B$3041,2,FALSE)),\"Ungültige KG-Nummer!\",VLOOKUP(C2001,Katastralgemeinden!A$2:$B$3041,2,\"falsch\")),\"\")","v":""},null,null,null,null,null,null,null,null,"",0,{"$f":"IF('Anhang Grundstücksverzeichnis'!G2001=Texte!$A$25,F2001,0)","v":0},{"$f":"IF('Anhang Grundstücksverzeichnis'!G2001=Texte!$A$26,F2001,0)","v":0},{"$f":"IF('Anhang Grundstücksverzeichnis'!G2001=Texte!$A$27,F2001,0)","v":0},{"$f":"IF('Anhang Grundstücksverzeichnis'!G2001=Texte!$A$28,F2001,0)","v":0}]
[1992,{"$f":"IF(C2002<>\"\",IF(ISNA(VLOOKUP(C2002,Katastralgemeinden!$A$2:$B$3041,2,FALSE)),\"Ungültige KG-Nummer!\",VLOOKUP(C2002,Katastralgemeinden!A$2:$B$3041,2,\"falsch\")),\"\")","v":""},null,null,null,null,null,null,null,null,"",0,{"$f":"IF('Anhang Grundstücksverzeichnis'!G2002=Texte!$A$25,F2002,0)","v":0},{"$f":"IF('Anhang Grundstücksverzeichnis'!G2002=Texte!$A$26,F2002,0)","v":0},{"$f":"IF('Anhang Grundstücksverzeichnis'!G2002=Texte!$A$27,F2002,0)","v":0},{"$f":"IF('Anhang Grundstücksverzeichnis'!G2002=Texte!$A$28,F2002,0)","v":0}]
[1993,{"$f":"IF(C2003<>\"\",IF(ISNA(VLOOKUP(C2003,Katastralgemeinden!$A$2:$B$3041,2,FALSE)),\"Ungültige KG-Nummer!\",VLOOKUP(C2003,Katastralgemeinden!A$2:$B$3041,2,\"falsch\")),\"\")","v":""},null,null,null,null,null,null,null,null,"",0,{"$f":"IF('Anhang Grundstücksverzeichnis'!G2003=Texte!$A$25,F2003,0)","v":0},{"$f":"IF('Anhang Grundstücksverzeichnis'!G2003=Texte!$A$26,F2003,0)","v":0},{"$f":"IF('Anhang Grundstücksverzeichnis'!G2003=Texte!$A$27,F2003,0)","v":0},{"$f":"IF('Anhang Grundstücksverzeichnis'!G2003=Texte!$A$28,F2003,0)","v":0}]
[1994,{"$f":"IF(C2004<>\"\",IF(ISNA(VLOOKUP(C2004,Katastralgemeinden!$A$2:$B$3041,2,FALSE)),\"Ungültige KG-Nummer!\",VLOOKUP(C2004,Katastralgemeinden!A$2:$B$3041,2,\"falsch\")),\"\")","v":""},null,null,null,null,null,null,null,null,"",0,{"$f":"IF('Anhang Grundstücksverzeichnis'!G2004=Texte!$A$25,F2004,0)","v":0},{"$f":"IF('Anhang Grundstücksverzeichnis'!G2004=Texte!$A$26,F2004,0)","v":0},{"$f":"IF('Anhang Grundstücksverzeichnis'!G2004=Texte!$A$27,F2004,0)","v":0},{"$f":"IF('Anhang Grundstücksverzeichnis'!G2004=Texte!$A$28,F2004,0)","v":0}]
[1995,{"$f":"IF(C2005<>\"\",IF(ISNA(VLOOKUP(C2005,Katastralgemeinden!$A$2:$B$3041,2,FALSE)),\"Ungültige KG-Nummer!\",VLOOKUP(C2005,Katastralgemeinden!A$2:$B$3041,2,\"falsch\")),\"\")","v":""},null,null,null,null,null,null,null,null,"",0,{"$f":"IF('Anhang Grundstücksverzeichnis'!G2005=Texte!$A$25,F2005,0)","v":0},{"$f":"IF('Anhang Grundstücksverzeichnis'!G2005=Texte!$A$26,F2005,0)","v":0},{"$f":"IF('Anhang Grundstücksverzeichnis'!G2005=Texte!$A$27,F2005,0)","v":0},{"$f":"IF('Anhang Grundstücksverzeichnis'!G2005=Texte!$A$28,F2005,0)","v":0}]
[1996,{"$f":"IF(C2006<>\"\",IF(ISNA(VLOOKUP(C2006,Katastralgemeinden!$A$2:$B$3041,2,FALSE)),\"Ungültige KG-Nummer!\",VLOOKUP(C2006,Katastralgemeinden!A$2:$B$3041,2,\"falsch\")),\"\")","v":""},null,null,null,null,null,null,null,null,"",0,{"$f":"IF('Anhang Grundstücksverzeichnis'!G2006=Texte!$A$25,F2006,0)","v":0},{"$f":"IF('Anhang Grundstücksverzeichnis'!G2006=Texte!$A$26,F2006,0)","v":0},{"$f":"IF('Anhang Grundstücksverzeichnis'!G2006=Texte!$A$27,F2006,0)","v":0},{"$f":"IF('Anhang Grundstücksverzeichnis'!G2006=Texte!$A$28,F2006,0)","v":0}]
[1997,{"$f":"IF(C2007<>\"\",IF(ISNA(VLOOKUP(C2007,Katastralgemeinden!$A$2:$B$3041,2,FALSE)),\"Ungültige KG-Nummer!\",VLOOKUP(C2007,Katastralgemeinden!A$2:$B$3041,2,\"falsch\")),\"\")","v":""},null,null,null,null,null,null,null,null,"",0,{"$f":"IF('Anhang Grundstücksverzeichnis'!G2007=Texte!$A$25,F2007,0)","v":0},{"$f":"IF('Anhang Grundstücksverzeichnis'!G2007=Texte!$A$26,F2007,0)","v":0},{"$f":"IF('Anhang Grundstücksverzeichnis'!G2007=Texte!$A$27,F2007,0)","v":0},{"$f":"IF('Anhang Grundstücksverzeichnis'!G2007=Texte!$A$28,F2007,0)","v":0}]
[1998,{"$f":"IF(C2008<>\"\",IF(ISNA(VLOOKUP(C2008,Katastralgemeinden!$A$2:$B$3041,2,FALSE)),\"Ungültige KG-Nummer!\",VLOOKUP(C2008,Katastralgemeinden!A$2:$B$3041,2,\"falsch\")),\"\")","v":""},null,null,null,null,null,null,null,null,"",0,{"$f":"IF('Anhang Grundstücksverzeichnis'!G2008=Texte!$A$25,F2008,0)","v":0},{"$f":"IF('Anhang Grundstücksverzeichnis'!G2008=Texte!$A$26,F2008,0)","v":0},{"$f":"IF('Anhang Grundstücksverzeichnis'!G2008=Texte!$A$27,F2008,0)","v":0},{"$f":"IF('Anhang Grundstücksverzeichnis'!G2008=Texte!$A$28,F2008,0)","v":0}]
[1999,{"$f":"IF(C2009<>\"\",IF(ISNA(VLOOKUP(C2009,Katastralgemeinden!$A$2:$B$3041,2,FALSE)),\"Ungültige KG-Nummer!\",VLOOKUP(C2009,Katastralgemeinden!A$2:$B$3041,2,\"falsch\")),\"\")","v":""},null,null,null,null,null,null,null,null,"",0,{"$f":"IF('Anhang Grundstücksverzeichnis'!G2009=Texte!$A$25,F2009,0)","v":0},{"$f":"IF('Anhang Grundstücksverzeichnis'!G2009=Texte!$A$26,F2009,0)","v":0},{"$f":"IF('Anhang Grundstücksverzeichnis'!G2009=Texte!$A$27,F2009,0)","v":0},{"$f":"IF('Anhang Grundstücksverzeichnis'!G2009=Texte!$A$28,F2009,0)","v":0}]
[2000,{"$f":"IF(C2010<>\"\",IF(ISNA(VLOOKUP(C2010,Katastralgemeinden!$A$2:$B$3041,2,FALSE)),\"Ungültige KG-Nummer!\",VLOOKUP(C2010,Katastralgemeinden!A$2:$B$3041,2,\"falsch\")),\"\")","v":""},null,null,null,null,null,null,null,null,"",0,{"$f":"IF('Anhang Grundstücksverzeichnis'!G2010=Texte!$A$25,F2010,0)","v":0},{"$f":"IF('Anhang Grundstücksverzeichnis'!G2010=Texte!$A$26,F2010,0)","v":0},{"$f":"IF('Anhang Grundstücksverzeichnis'!G2010=Texte!$A$27,F2010,0)","v":0},{"$f":"IF('Anhang Grundstücksverzeichnis'!G2010=Texte!$A$28,F2010,0)","v":0}]

{"sheet":"Adressen","index":2,"n_rows":27,"n_cols":4,"rows_kept":27,"cut":false,"hidden":true,"merged":[]}
["Behörde","Straße","PLZ Ort","Anrede"]
["Bitte zuständige Behörde auswählen","Adresse wird autom. eingetragen","PLZ und Ort wird autom. eingetragen"]
["Bezirkshauptmannschaft Amstetten","Preinsbacher Straße 11","3300 Amstetten","die"]
["Bezirkshauptmannschaft Baden","Schwartzstraße 50","2500 Baden","die"]
["Bezirkshauptmannschaft Bruck an der Leitha","Fischamender Straße 10","2460 Bruck an der Leitha","die"]
["Bezirkshauptmannschaft Gänserndorf","Schönkirchner Straße 1","2230 Gänserndorf","die"]
["Bezirkshauptmannschaft Gmünd","Schremser Straße 8","3950 Gmünd","die"]
["Bezirkshauptmannschaft Hollabrunn","Mühlgasse 24","2020 Hollabrunn","die"]
["Bezirkshauptmannschaft Horn","Frauenhofnerstraße 2","3580 Horn","die"]
["Bezirkshauptmannschaft Korneuburg","Bankmannring 5","2100 Korneuburg","die"]
["Bezirkshauptmannschaft Krems","Körnermarkt 1","3500 Krems an der Donau","die"]
["Bezirkshauptmannschaft Lilienfeld","Am Anger 2","3180 Lilienfeld","die"]
["Bezirkshauptmannschaft Melk","Abt Karlstraße 25a","3390 Melk","die"]
["Bezirkshauptmannschaft Mistelbach","Hauptplatz 4-5 ","2130 Mistelbach","die"]
["Bezirkshauptmannschaft Mödling","Bahnstraße 2","2340 Mödling","die"]
["Bezirkshauptmannschaft Neunkirchen","Peischingerstraße 17","2620 Neunkirchen","die"]
["Bezirkshauptmannschaft Scheibbs","Rathausplatz 5","3270 Scheibbs","die"]
["Bezirkshauptmannschaft St. Pölten","Am Bischofteich 1","3100 St. Pölten","die"]
["Bezirkshauptmannschaft Tulln","Hauptplatz 33","3430 Tulln an der Donau","die"]
["Bezirkshauptmannschaft Waidhofen an der Thaya","Aignerstraße 1","3830 Waidhofen an der Thaya","die"]
["Bezirkshauptmannschaft Wiener Neustadt","Ungargasse 33","2700 Wr.Neustadt","die"]
["Bezirkshauptmannschaft Wien-Umgebung","Leopoldstraße 21","3400 Klosterneuburg","die"]
["Bezirkshauptmannschaft Zwettl","Am Statzenberg 1","3910 Zwettl","die"]
["Magistrat der Stadt Krems","Obere Landstraße 4","3500 Krems an der Donau","den"]
["Magistrat der Landeshauptstadt St. Pölten","Rathausplatz 1","3100 St. Pölten","den"]
["Magistrat der Stadt Waidhofen an der Ybbs","Oberer Stadtplatz 28","3340 Waidhofen/Ybbs","den"]
["Magistrat der Stadt Wiener Neustadt","Altes Rathaus, Hauptplatz 1 - 3","2700 Wr.Neustadt","den"]

{"sheet":"Anhang Vorpachtflächen","index":3,"n_rows":8,"n_cols":1,"rows_kept":8,"cut":false,"hidden":false,"merged":[]}
[{"$f":"IF(Antrag!C28=TRUE,\"Antrag auf Einräumung von Vorpachtrechten:\",\"Es wird kein Antrag auf Einräumung von Vorpachtflächen gestellt.\")","v":"Es wird kein Antrag auf Einräumung von Vorpachtflächen gestellt."}]
[{"$f":"IF(Antrag!C28=TRUE,IF(Texte!A1=2,Texte!A9,Texte!A10),\" \")","v":" "}]
[{"$f":"IF(Antrag!C28=TRUE,\"Begründung:\",\" \")","v":" "}]
[{"$f":"IF(Antrag!C28=TRUE,\"Die Grundstücke der Vorpachtflächen werden von Eigenjagdgebieten (bzw. der Landesgrenze) vollständig umschlossen und liegen unter 115 ha.\",\" \")","v":" "}]
[{"$f":"IF(Antrag!C28=TRUE,\"Beweise:\",\" \")","v":" "}]
[{"$f":"IF(Antrag!C28=TRUE,\"Katasterpläne, denen die Grundstücksnummern deutlich lesbar entnommen werden können und in denen die beantragten Vorpachtflächen (-grenzen) farblich ausgewiesen sind.\",\" \")","v":" "}]
[{"$f":"IF(Antrag!C28=TRUE,\"Rechtsgrundlagen:\",\" \")","v":" "}]
[{"$f":"IF(Antrag!C28=TRUE,\"§§ 14 und 16 in Verbindung mit § 12 NÖ Jagdgesetz 1974\",\" \")","v":" "}]

{"sheet":"Anhang Abrundungen","index":4,"n_rows":8,"n_cols":1,"rows_kept":8,"cut":false,"hidden":false,"merged":[]}
[{"$f":"IF(Antrag!C29=TRUE,\"Antrag auf Abrundungen\",\"Es wird kein Antrag auf Abrundungen gestellt.\")","v":"Es wird kein Antrag auf Abrundungen gestellt."}]
[{"$f":"IF(Antrag!C29=TRUE,IF(Texte!A1=2,Texte!A12,Texte!A13),\" \")","v":" "}]
[{"$f":"IF(Antrag!C29=TRUE,\"Begründung:\",\" \")","v":" "}]
[{"$f":"IF(Antrag!C29=TRUE,\"Die beantragten Abrundungen sind aus Gründen der Jagdwirtschaft erforderlich, um wesentliche Beeinträchtigungen des Jagdbetriebes zu beseitigen.\",\" \")","v":" "}]
[{"$f":"IF(Antrag!C29=TRUE,\"Beweise:\",\" \")","v":" "}]
[{"$f":"IF(Antrag!C29=TRUE,\"Katasterpläne, denen die Abrundungsflächen deutlich entnommen werden können und farblich ausgewiesen sind.\",\" \")","v":" "}]
[{"$f":"IF(Antrag!C29=TRUE,\"Rechtsgrundlagen:\",\" \")","v":" "}]
[{"$f":"IF(Antrag!C29=TRUE,\"§§ 15 und 16 in Verbindung mit § 12 NÖ Jagdgesetz 1974\",\" \")","v":" "}]

{"sheet":"Texte","index":5,"n_rows":37,"n_cols":3,"rows_kept":37,"cut":false,"hidden":true,"merged":[]}
[{"$f":"IF(Antrag!A11=Texte!A3,1,IF(Antrag!A11=Texte!A4,2,0))","v":0}]
["Bitte Auswählen, ob Antrag von einzelner Person oder mehreren Personen gestellt wird:"]
["Antragstellende(r) (einzelne(r)) Grundeigentümer/in (Miteigentümer/in):"]
["Antragstellende (mehrere) Grundeigentümer/innen (Miteigentümer/innen):"]
[]
["Wir, die oben angeführten Grundeigentümer (-vertreter) beantragen, dass uns die Befugnis zur Eigenjagd auf den Grundstücken zuerkannt wird, die in der im Anhang ersichtlichen Tabelle (Grundstücksverzeichnis) als \"Eigengrundflächen\" ausgewiesen sind und der auch die jeweiligen Grundstücksgrößen entnommen werden können.",{"$f":"Antrag!A2","v":0},"die Befugnis zur Eigenjagd auf den Grundstücken zuerkannt wird, die in der im Anhang ersichtlichen Tabelle (Grundstücksverzeichnis) als „Eigengrundflächen“ ausgewiesen sind und der auch die jeweiligen Grundstücksgrößen entnommen werden können. "]
["Ich, der/die oben angeführte Grundeigentümer/in (-vertreter/in) beantrage, dass mir die Befugnis zur Eigenjagd auf den Grundstücken zuerkannt wird, die in der im Anhang ersichtlichen Tabelle (Grundstücksverzeichnis) als \"Eigengrundflächen\" ausgewiesen sind und der auch die jeweiligen Grundstücksgrößen entnommen werden können.",{"$f":"Antrag!A2","v":0},"die Befugnis zur Eigenjagd auf den Grundstücken zuerkannt wird, die in der im Anhang ersichtlichen Tabelle (Grundstücksverzeichnis) als „Eigengrundflächen“ ausgewiesen sind und der auch die jeweiligen Grundstücksgrößen entnommen werden können. "]
[]
["Wir beantragen weiters die Einräumung von Vorpachtrechten an den in der im Anhang ersichtlichen Tabelle (Grundstücksverzeichnis) als „Vorpachtflächen“ ausgewiesenen Grundstücken. Die Grundstücksgrößen und die Gesamtvorpachtfläche können ebenfalls der Tabelle entnommen werden."]
["Ich beantrage weiters die Einräumung von Vorpachtrechten an den in der im Anhang ersichtlichen Tabelle (Grundstücksverzeichnis) als „Vorpachtflächen“ ausgewiesenen Grundstücken. Die Grundstücksgrößen und die Gesamtvorpachtfläche können ebenfalls der Tabelle entnommen werden."]
[]
["Wir beantragen Abrundungen von Grundstücken bzw. Grundstücksteilen, die in der im Anhang ersichtlichen Tabelle (Grundstücksverzeichnis) als „Abrundung plus“ bzw. „Abrundung minus“ ausgewiesen sind. Aus dem beiliegenden Katasterplan ist ersichtlich, von welchem benachbarten Jagdgebiet Grundstücke oder Grundstücksteile zu unserem Eigenjagdgebiet abgerundet werden sollen („Abrundung plus“), bzw. zu welchem benachbarten Jagdgebiet die in unserem Eigentum befindlichen Grundstücke oder Grundstücksteile abgerundet werden sollen („Abrundung minus“)."]
["Ich beantrage Abrundungen von Grundstücken bzw. Grundstücksteilen, die in der im Anhang ersichtlichen Tabelle (Grundstücksverzeichnis) als „Abrundung plus“ bzw. „Abrundung minus“ ausgewiesen sind. Aus dem beiliegenden Katasterplan ist ersichtlich, von welchem benachbarten Jagdgebiet Grundstücke oder Grundstücksteile zu meinem Eigenjagdgebiet abgerundet werden sollen („Abrundung plus“), bzw. zu welchem benachbarten Jagdgebiet die in meinem Eigentum befindlichen Grundstücke oder Grundstücksteile abgerundet werden sollen („Abrundung minus“)."]
[]
["Die Grundeigentümer"]
["Der/Die Grundeigentümer/in"]
[]
["Jagdperiode auswählen:"]
["2011 - 2019","1. Jänner 2011 - 31. Dezember 2019"]
["2020 - 2028","1. Jänner 2020 - 31. Dezember 2028"]
["2029 - 2037","1. Jänner 2029 - 31. Dezember 2037"]
[{"$f":"IF(ISNUMBER(FIND(\",\",Antrag!#REF!,1)),2,1)","v":1}]
[]
[]
["Eigengrundfläche"]
["Vorpachtfläche"]
["Abrundung +",{"$f":"IF(Antrag!C21=1,1,2)","v":2}]
["Abrundung -"]
[]
["Bitte Auswählen:"]
["Der schalenwilddichte Abschluss wurde bereits errichtet."]
["Der schalenwilddichte Abschluss wird bis zu "]
["fertig gestellt und die Behörde darüber in Kenntnis gesetzt"]
[]
["Neue Eigenjagd/Erweiterung Eigenjagd - Bitte Auswählen und darunter Namen eintragen!"]
["Die Eigenjagd soll folgenden Namen erhalten:"]
["Die Flächen sollen folgendem Eigenjagdgebiet angeschlossen werden:"]

{"sheet":"Katastralgemeinden","index":6,"n_rows":3041,"n_cols":2,"rows_kept":3041,"cut":false,"hidden":true,"merged":[]}
["KG-Nr.","Katastralgemeindenamen"]
[1701,"Gugging"]
[1702,"Höflein an der Donau"]
[1703,"Kierling"]
[1704,"Klosterneuburg"]
[1705,"Kritzendorf"]
[1706,"Weidling"]
[1707,"Weidlingbach"]
[1708,"Gerasdorf"]
[1709,"Kapellerfeld"]
[1710,"Seyring"]
[1901,"Au am Kraking"]
[1902,"Gablitz"]
[1903,"Mauerbach"]
[1904,"Pfalzau"]
[1905,"Pressbaum"]
[1906,"Purkersdorf"]
[1907,"Rekawinkel"]
[1908,"Tullnerbach"]
[1909,"Wolfsgraben"]
[3001,"Großaigen"]
[3002,"Amesleithen"]
[3003,"Amstetten"]
[3004,"Ardagger Markt"]
[3005,"Ardagger Stift"]
[3006,"Berghof"]
[3007,"Edla"]
[3008,"Euratsfeld"]
[3009,"Ferschnitz"]
[3010,"Freienstein"]
[3011,"Gafring"]
[3012,"St. Georgen am Ybbsfelde"]
[3013,"Haag Dorf"]
[3014,"Hainstetten"]
[3015,"Hausmening"]
[3016,"Hermannsdorf"]
[3017,"Hößgang"]
[3018,"Igelschwang"]
[3019,"Kollmitzberg"]
[3020,"Kornberg"]
[3021,"Krahof"]
[3022,"Leutzmannsdorf"]
[3023,"Mauer bei Amstetten"]
[3024,"Nabegg"]
[3025,"Neuhofen an der Ybbs"]
[3026,"Neustadtl"]
[3027,"Innerochsenbach"]
[3028,"Oed Markt"]
[3029,"Öhling"]
[3030,"Perbersdorf"]
[3031,"Preinsbach"]
[3032,"Ried"]
[3033,"Schaltberg"]
[3034,"Scherbling"]
[3035,"Schindau"]
[3036,"Schönbichl"]
[3037,"Schweinberg"]
[3038,"Seisenegg"]
[3039,"Stefanshart"]
[3040,"Toberstetten"]
[3042,"Ulmerfeld"]
[3043,"Viehdorf"]
[3044,"Wallsee"]
[3045,"Windpassing"]
[3046,"Winklarn"]
[3047,"Kleinwolfstein"]
[3048,"Zeillern"]
[3101,"Aigenfließen"]
[3102,"Altenhofen"]
[3103,"Au"]
[3104,"Badhof"]
[3105,"Brunnhof"]
[3106,"Dorf an der Enns"]
[3107,"Edelhof"]
[3108,"Endholz"]
[3109,"Ennsdorf"]
[3110,"Erla"]
[3111,"Gstetten"]
[3112,"Haag Stadt"]
[3113,"Haidershofen"]
[3114,"Heimberg"]
[3115,"Hofkirchen"]
[3116,"Holzleiten"]
[3117,"Knillhof"]
[3118,"Krottendorf"]
[3119,"Limbach"]
[3120,"Ottendorf"]
[3121,"St. Pantaleon"]
[3122,"Penz"]
[3123,"Porstenberg"]
[3124,"Radhof"]
[3125,"Ramingdorf"]
[3126,"Oberramsau"]
[3127,"Reichhub"]
[3128,"Rems"]
[3129,"Rubring"]
[3130,"Salaberg"]
[3131,"Schudutz"]
[3132,"Sträußl"]
[3133,"Strengberg"]
[3134,"Thürnbuch"]
[3135,"Thurnstorf"]
[3136,"Tröstelberg"]
[3137,"St. Valentin"]
[3138,"Vestenthal"]
[3139,"Wanzenöd"]
[3201,"Abetzberg"]
[3202,"Aschbach Dorf"]
[3203,"Aschbach Markt"]
[3204,"Oberaschbach"]
[3205,"Biberbach"]
[3206,"Bubendorf"]
[3207,"Ertl"]
[3208,"Grub"]
[3209,"Hartlmühl"]
[3210,"Hohenreith"]
[3211,"Holzschachen"]
[3212,"St. Johann in Engstetten"]
[3213,"Krenstetten"]
[3214,"Kirnberg"]
[3215,"Meilersdorf"]
[3216,"St. Michael am Bruckbach"]
[3217,"Mitterhausleiten"]
[3218,"St. Peter in der Au Dorf"]
[3219,"St. Peter in der Au Markt"]
[3220,"Rohrbach"]
[3221,"Schwaig"]
[3222,"Seitenstetten Dorf"]
[3223,"Seitenstetten Markt"]
[3224,"Weistrach"]
[3225,"Wolfsbach"]
[3301,"Allhartsberg"]
[3302,"Böhlerwerk"]
[3303,"Garnberg"]
[3304,"Großhollenstein"]
[3305,"Haselgraben"]
[3306,"Hochau"]
[3307,"Kogelsbach"]
[3308,"Konradsheim"]
[3309,"Königsbergau"]
[3310,"Kreilhof"]
[3311,"Krengraben"]
[3312,"Kröllendorf"]
[3313,"Maisberg"]
[3314,"Oberkirchen"]
[3315,"Ofenberg"]
[3316,"Oisberg"]
[3317,"Opponitz"]
[3318,"Prochenberg"]
[3319,"Prolling"]
[3320,"Rien"]
[3321,"Schwarzenbach"]
[3322,"Schwarzenberg"]
[3323,"Schwarzois"]
[3324,"Sonntagberg"]
[3325,"St. Georgen in der Klaus"]
[3326,"St. Georgen am Reith"]
[3327,"St. Leonhard am Walde"]
[3328,"Thann"]
[3329,"Waidhofen an der Ybbs"]
[3330,"Waldamt"]
[3331,"Windhag"]
[3332,"Wirts"]
[3333,"Ybbsitz"]
[3334,"Zell Arzberg"]
[3335,"Zell Markt"]
[3336,"Kematen"]
[3337,"Niederhausleiten"]
[4001,"Alland"]
[4002,"Baden"]
[4003,"Braiten"]
[4004,"Dornau"]
[4005,"Gainfarn"]
[4006,"Gamingerhof"]
[4007,"Glashütten"]
[4008,"Groisbach"]
[4009,"Großau"]
[4010,"Günselsdorf"]
[4012,"Heiligenkreuz"]
[4013,"Äußerer Kaltenbergerforst"]
[4014,"Innerer Kaltenbergerforst"]
[4015,"Klausenleopoldsdorf"]
[4016,"Kottingbrunn"]
[4017,"Leesdorf"]
[4018,"Leobersdorf"]
[4019,"Mayerling"]
[4020,"Mitterberg"]
[4021,"Möllersdorf"]
[4022,"Oeynhausen"]
[4023,"Pfaffstätten"]
[4024,"Pöllerhof"]
[4025,"Rauhenstein"]
[4026,"Raisenmarkt"]
[4027,"Rohrbach"]
[4028,"Schönau an der Triesting"]
[4029,"Schwechatbach"]
[4030,"Siegenfeld"]
[4031,"Sooß"]
[4032,"Teesdorf"]
[4033,"Traiskirchen"]
[4034,"Tribuswinkel"]
[4035,"Vöslau"]
[4036,"Weikersdorf"]
[4037,"Weißenweg"]
[4038,"Wienersdorf"]
[4039,"Windhaag"]
[4040,"Tattendorf"]
[4041,"Kleinmariazellerforst"]
[4042,"Blumau-Neurißhof"]
[4101,"Deutsch Brodersdorf"]
[4102,"Ebreichsdorf"]
[4103,"Landegg"]
[4104,"Mitterndorf"]
[4105,"Oberwaltersdorf"]
[4106,"Pottendorf"]
[4107,"Reisenberg"]
[4108,"Schranawand"]
[4109,"Seibersdorf"]
[4110,"Siegersdorf"]
[4112,"Trumau"]
[4113,"Unterwaltersdorf"]
[4114,"Wampersdorf"]
[4115,"Weigelsdorf"]
[4301,"Altenmarkt"]
[4302,"Berndorf I"]
[4303,"Berndorf II"]
[4304,"Berndorf III"]
[4305,"Berndorf IV"]
[4306,"St. Corona"]
[4307,"Enzesfeld"]
[4308,"Fahrafeld"]
[4309,"Furth"]
[4310,"Gadenweith"]
[4311,"Grillenberg"]
[4312,"Hirtenberg"]
[4313,"Hernstein"]
[4314,"Kleinfeld"]
[4315,"Lindabrunn"]
[4316,"Kleinmariazell"]
[4318,"Neuhaus"]
[4319,"Neusiedl bei Grillenberg"]
[4320,"Nöstach"]
[4321,"Pottenstein"]
[4322,"Pöllau"]
[4323,"Schwarzensee"]
[4324,"Steinhof"]
[4325,"Thenneberg"]
[4326,"Veitsau"]
[4327,"Weissenbach an der Triesting"]
[5001,"Arbesthal"]
[5002,"Au am Leithagebirge"]
[5003,"Bruck an der Leitha"]
[5005,"Enzersdorf an der Fischa"]
[5006,"Gallbrunn"]
[5007,"Gerhaus"]
[5008,"Göttlesbrunn"]
[5009,"Götzendorf"]
[5010,"Hof am Leithagebirge"]
[5011,"Höflein"]
[5012,"Mannersdorf am Leithagebirge"]
[5013,"Margarethen am Moos"]
[5014,"Pachfurth"]
[5015,"Pischelsdorf"]
[5016,"Prugg Schloß"]
[5017,"Rohrau"]
[5018,"Sarasdorf"]
[5019,"Sommerein"]
[5020,"Stixneusiedl"]
[5021,"Trautmannsdorf"]
[5022,"Wilfleinsdorf"]
[5023,"Hollern"]
[5024,"Unterwald"]
[5101,"Bad Deutsch Altenburg"]
[5102,"Berg"]
[5103,"Deutsch Haslau"]
[5104,"Hainburg an der Donau"]
[5105,"Haslau an der Donau"]
[5107,"Hundsheim"]
[5108,"Maria Ellend"]
[5109,"Petronell"]
[5110,"Prellenkirchen"]
[5111,"Regelsbrunn"]
[5112,"Scharndorf"]
[5113,"Schönabrunn"]
[5114,"Wangheim"]
[5115,"Wildungsmauer"]
[5116,"Wolfsthal"]
[5202,"Ebergassing"]
[5203,"Fischamend Dorf"]
[5204,"Fischamend Markt"]
[5205,"Gramatneusiedl"]
[5206,"Gutenhof"]
[5207,"Himberg"]
[5208,"Kledering"]
[5209,"Klein-Neusiedl"]
[5210,"Leopoldsdorf"]
[5211,"Mannswörth"]
[5212,"Maria-Lanzendorf"]
[5213,"Moosbrunn"]
[5215,"Oberlanzendorf"]
[5216,"Pellendorf"]
[5217,"Rannersdorf"]
[5218,"Rauchenwarth"]
[5219,"Schwadorf"]
[5220,"Schwechat"]
[5221,"Unterlanzendorf"]
[5222,"Velm"]
[5223,"Wienerherberg"]
[5224,"Zwölfaxing"]
[5225,"Rustenfeld"]
[6001,"Angern"]
[6002,"Aspacherfeld"]
[6003,"Auersthal"]
[6004,"Dörfles"]
[6005,"Ebenthal"]
[6006,"Gänserndorf"]
[6007,"Götzendorf"]
[6008,"Grub an der March"]
[6009,"Kleinharras"]
[6010,"Kollnbrunn"]
[6011,"Mannersdorf"]
[6013,"Matzen"]
[6014,"Ollersdorf"]
[6015,"Pirawarth"]
[6016,"Prottes"]
[6017,"Raggendorf"]
[6018,"Reyersdorf"]
[6019,"Hohenruppersdorf"]
[6020,"Schönkirchen"]
[6021,"Großschweinbarth"]
[6022,"Spannberg"]
[6023,"Stillfried"]
[6024,"Strasserfeld"]
[6025,"Stripfing"]
[6026,"Tallesbrunn"]
[6027,"Velm"]
[6029,"Weikendorf"]
[6030,"Aderklaa"]
[6031,"Deutsch-Wagram"]
[6032,"Helmahof"]
[6033,"Stallingerfeld"]
[6101,"Niederabsdorf"]
[6102,"Windisch Baumgarten"]
[6103,"Blumenthal"]
[6104,"Dobermannsdorf"]
[6105,"Drösing"]
[6106,"Dürnkrut"]
[6107,"Eichhorn"]
[6108,"Erdpress"]
[6109,"Gaiselberg"]
[6110,"Gösting"]
[6111,"Hauskirchen"]
[6112,"Hohenau"]
[6113,"Großinzersdorf"]
[6114,"Jedenspeigen"]
[6115,"Loidesthal"]
[6116,"Maustrenk"]
[6117,"Neusiedl an der Zaya"]
[6118,"Nexing"]
[6119,"Palterndorf"]
[6120,"Prinzendorf"]
[6121,"Rannersdorf"]
[6122,"Ringelsdorf"]
[6123,"Sierndorf an der March"]
[6124,"Niedersulz"]
[6125,"Obersulz"]
[6126,"St. Ulrich"]
[6127,"Waltersdorf an der March"]
[6128,"Zistersdorf"]
[6129,"Waidendorf"]
[6201,"Andlersdorf"]
[6202,"Breitstetten"]
[6203,"Eckartsau"]
[6204,"Franzensdorf"]
[6205,"Fuchsenbigl"]
[6206,"Glinzendorf"]
[6207,"Großenzersdorf"]
[6208,"Großhofen"]
[6209,"Haringsee"]
[6210,"Kopfstetten"]
[6211,"Leopoldsdorf im Marchfelde"]
[6212,"Mannsdorf"]
[6213,"Markgrafneusiedl"]
[6214,"Matzneusiedl"]
[6215,"Mühlleiten"]
[6216,"Oberhausen"]
[6217,"Obersiebenbrunn"]
[6218,"Orth an der Donau"]
[6219,"Parbasdorf"]
[6220,"Pframa"]
[6221,"Probstdorf"]
[6222,"Pysdorf"]
[6223,"Raasdorf"]
[6224,"Rutzendorf"]
[6225,"Schönau an der Donau"]
[6226,"Straudorf"]
[6227,"Wagram an der Donau"]
[6228,"Wittau"]
[6229,"Witzelsdorf"]
[6301,"Baumgarten an der March"]
[6302,"Breitensee"]
[6303,"Engelhartstetten"]
[6304,"Groißenbrunn"]
[6305,"Lassee"]
[6306,"Loimersdorf"]
[6307,"Marchegg"]
[6308,"Markthof"]
[6309,"Neuhof"]
[6310,"Oberweiden"]
[6311,"Schönfeld"]
[6312,"Stopfenreuth"]
[6313,"Untersiebenbrunn"]
[6315,"Zwerndorf"]
[7001,"Albrechts"]
[7002,"Böhmzeil"]
[7003,"Breitensee"]
[7004,"Dietmanns"]
[7005,"Ehrendorf"]
[7006,"Eibenstein"]
[7007,"Gmünd"]
[7009,"Grillenstein"]
[7010,"Großhöbarten"]
[7011,"Hoheneich"]
[7012,"Großneusiedl"]
[7013,"Nondorf"]
[7014,"Kleinruprechts"]
[7015,"Waldenstein"]
[7016,"Wielands"]
[7017,"Eichberg"]
[7018,"Hörmanns"]
[7019,"Grünbach"]
[7020,"Zehenthöf"]
[7021,"Höhenberg"]
[7022,"Reinpolz"]
[7023,"Unterlembach"]
[7101,"Altmanns"]
[7102,"Dietweis"]
[7103,"Eberweis"]
[7104,"Eggern"]
[7105,"Eisgarn"]
[7107,"Gopprechts"]
[7108,"Grametten"]
[7109,"Griesbach"]
[7110,"Haugschlag"]
[7111,"Heidenreichstein"]
[7112,"Hirschenschlag"]
[7113,"Hörmanns"]
[7114,"Illmanns"]
[7115,"Leopoldsdorf"]
[7117,"Litschau"]
[7118,"Loimanns"]
[7119,"Motten"]
[7120,"Kleinpertholz"]
[7121,"Großradischen"]
[7122,"Kleinradischen"]
[7123,"Reichenbach"]
[7124,"Reinberg-Heidenreichstein"]
[7125,"Reinberg-Litschau"]
[7126,"Reingers"]
[7127,"Reitzenschlag"]
[7129,"Rottal"]
[7130,"Saaß"]
[7131,"Schandachen"]
[7132,"Schlag"]
[7133,"Schönau"]
[7134,"Thaures"]
[7135,"Türnau"]
[7136,"Wielandsberg"]
[7137,"Willings"]
[7138,"Guttenbrunn"]
[7139,"Haslau"]
[7140,"Seyfrieds"]
[7141,"Wolfsegg"]
[7201,"Aalfang"]
[7202,"Amaliendorf"]
[7203,"Brand"]
[7204,"Ehrenhöbarten"]
[7206,"Falkendorf"]
[7208,"Frommberg"]
[7209,"Gebharts"]
[7215,"Hirschbach"]
[7216,"Hollenstein"]
[7217,"Kiensaß"]
[7218,"Kirchberg am Walde"]
[7219,"Kottinghörmanns"]
[7220,"Langegg"]
[7221,"Nagelberg"]
[7223,"Pürbach"]
[7226,"Schrems"]
[7227,"Niederschrems"]
[7228,"Langschwarza"]
[7229,"Kurzschwarza"]
[7231,"Steinbach"]
[7232,"Stölzles"]
[7233,"Süßenbach"]
[7234,"Ullrichs"]
[7236,"Weißenalbern"]
[7238,"Finsternau"]
[7301,"Abschlag"]
[7302,"Angelbach"]
[7304,"Brühl"]
[7306,"Engelstein"]
[7307,"Friedreichs"]
[7308,"Harbach"]
[7309,"Harmannschlag"]
[7310,"Harmannstein"]
[7311,"Heinreichs bei Weitra"]
[7312,"Hirschenwies"]
[7315,"Karlstift"]
[7316,"Langfeld"]
[7317,"Lauterbach"]
[7318,"Oberlembach"]
[7320,"St. Martin"]
[7321,"Mistelbach"]
[7322,"Mühlbach"]
[7323,"Großotten"]
[7324,"Großpertholz"]
[7325,"Pyhrabruck"]
[7326,"Reichenau"]
[7330,"Reinprechts"]
[7331,"Rothfarn"]
[7332,"Schagges"]
[7333,"Großschönau"]
[7334,"Schroffen"]
[7335,"Seifritz"]
[7337,"Spital"]
[7338,"Steinbach"]
[7339,"Sulz"]
[7340,"Thaures"]
[7341,"Ulrichs"]
[7342,"Unserfrau"]
[7344,"Wachtberg"]
[7345,"Walterschlag"]
[7346,"Watzmanns"]
[7347,"Weikertschlag"]
[7348,"Weitra"]
[7349,"Altweitra"]
[7350,"Wetzles"]
[7351,"Oberwindhag"]
[7352,"St. Wolfgang"]
[7353,"Großwolfgers"]
[7354,"Wörnharts"]
[7355,"Wultschau"]
[7357,"Zweres"]
[9001,"Altenmarkt im Thale"]
[9002,"Aschendorf"]
[9003,"Aspersdorf"]
[9004,"Bergau"]
[9005,"Braunsdorf"]
[9006,"Breitenwaida"]
[9007,"Dietersdorf"]
[9008,"Dürnleis"]
[9009,"Eggendorf im Thale"]
[9010,"Eitzersthal"]
[9011,"Enzersdorf im Thale"]
[9013,"Oberfellabrunn"]
[9014,"Furth"]
[9015,"Gaisberg"]
[9016,"Goggendorf"]
[9017,"Göllersdorf"]
[9018,"Mittergrabern"]
[9019,"Obergrabern"]
[9020,"Groß"]
[9021,"Obergrub"]
[9022,"Untergrub"]
[9023,"Grund"]
[9024,"Guntersdorf"]
[9025,"Hart"]
[9026,"Haslach"]
[9027,"Hetzmannsdorf"]
[9028,"Hollabrunn"]
[9029,"Immendorf"]
[9030,"Kleinkadolz"]
[9031,"Kalladorf"]
[9032,"Kammersdorf"]
[9033,"Kleinkirchberg"]
[9034,"Kleedorf"]
[9035,"Magersdorf"]
[9036,"Mariathal"]
[9037,"Nappersdorf"]
[9038,"Großnondorf"]
[9039,"Oberparschenbrunn"]
[9040,"Porrau"]
[9041,"Pranhartsberg"]
[9042,"Puch"]
[9043,"Raffelhof"]
[9044,"Raschala"]
[9045,"Roggendorf"]
[9046,"Roseldorf"]
[9047,"Schalladorf"]
[9048,"Schönborn"]
[9049,"Schöngrabern"]
[9051,"Kleinsierndorf"]
[9052,"Sitzendorf"]
[9053,"Sitzenhart"]
[9054,"Sonnberg"]
[9055,"Obersteinabrunn"]
[9056,"Großstelzendorf"]
[9057,"Kleinstelzendorf"]
[9058,"Kleinstetteldorf"]
[9059,"Oberstinkenbrunn"]
[9061,"Suttenbrunn"]
[9064,"Viendorf"]
[9065,"Viendorf Weingebirge"]
[9066,"Weyerburg"]
[9067,"Kleinweikersdorf"]
[9068,"Wieselsfeld"]
[9069,"Windpassing"]
[9070,"Wischathal"]
[9071,"Wolfsbrunn"]
[9072,"Wullersdorf"]
[9073,"Frauendorf"]
[9074,"Niederschleinz"]
[9101,"Baierdorf"]
[9102,"Bösendürnbach"]
[9103,"Burgfrieden"]
[9104,"Dippersdorf"]
[9105,"Oberdürnbach"]
[9106,"Unterdürnbach"]
[9107,"Ebersbrunn"]
[9108,"Eggendorf am Walde"]
[9110,"Gaindorf"]
[9111,"Gettsdorf"]
[9112,"Glaubendorf"]
[9113,"Grübern"]
[9114,"Hohenwarth"]
[9115,"Hollenstein"]
[9116,"Kiblitz"]
[9117,"Limberg"]
[9118,"Maissau"]
[9119,"Großmeiseldorf"]
[9120,"Minichhofen"]
[9121,"Mühlbach am Manhartsberg"]
[9122,"Olbersdorf"]
[9123,"Parisdorf"]
[9124,"Pfaffstetten"]
[9125,"Radlbrunn"]
[9126,"Oberravelsbach"]
[9127,"Ravelsbach"]
[9128,"Rohrbach"]
[9129,"Ronthal"]
[9131,"Großwetzdorf"]
[9132,"Kleinwetzdorf"]
[9133,"Wilhelmsdorf"]
[9134,"Zemling"]
[9135,"Ziersdorf"]
[9136,"Gumping"]
[9137,"Kleinburgstall"]
[9138,"Reikersdorf"]
[9139,"Fahndorf"]
[9140,"Oberthern"]
[9141,"Unterthern"]
[10001,"Altenburg"]
[10002,"Atzelsdorf"]
[10003,"St. Bernhard"]
[10004,"Breiteneich"]
[10005,"Brunn an der Wild"]
[10006,"Buchberg"]
[10007,"Burgerwiesen"]
[10008,"Burgholz"]
[10009,"Großburgstall"]
[10010,"Dappach"]
[10011,"Dietmannsdorf"]
[10012,"Doberndorf"]
[10013,"Dorna"]
[10014,"Etzelsreith"]
[10015,"Etzmannsdorf am Kamp"]
[10016,"Feinfeld"]
[10017,"Frankenreith"]
[10018,"Frauenhofen"]
[10019,"Fuglau"]
[10020,"Fürwald"]
[10021,"Gars am Kamp"]
[10022,"Gobelsdorf"]
[10023,"Greillenstein"]
[10024,"Grub"]
[10025,"Grünberg"]
[10026,"Haselberg"]
[10027,"Horn"]
[10028,"Irnfritz"]
[10029,"Kamegg"]
[10030,"Kotzendorf"]
[10031,"Lehndorf"]
[10032,"Loibersdorf"]
[10033,"Ludweishofen"]
[10034,"Mahrersdorf"]
[10035,"St. Marein"]
[10036,"Maiersch"]
[10037,"Messern"]
[10038,"Mödring"]
[10039,"Mold"]
[10040,"Mörtersdorf"]
[10041,"Mühlfeld"]
[10042,"Neubau"]
[10043,"Neukirchen"]
[10044,"Nödersdorf"]
[10045,"Nondorf bei Gars"]
[10046,"Nonndorf an der Wild"]
[10047,"Pernegg"]
[10048,"Poigen"]
[10049,"Posselsdorf"]
[10050,"Raisdorf"]
[10051,"Reichharts"]
[10053,"Röhrenbach"]
[10054,"Rosenburg"]
[10055,"Rothweinsdorf"]
[10056,"Sitzendorf"]
[10057,"Stallegg"]
[10058,"Staningersdorf"]
[10059,"Steinegg"]
[10060,"Strögen"]
[10061,"Tautendorf bei Röhrenbach"]
[10062,"Thunau am Kamp"]
[10063,"Trabenreith"]
[10064,"Waiden"]
[10065,"Wanzenau"]
[10066,"Wappoltenreith"]
[10067,"Winkl"]
[10068,"Wolfshof"]
[10069,"Wutzendorf"]
[10070,"Zaingrub"]
[10071,"Zitternberg"]
[10072,"Germanns"]
[10073,"Kleinullrichschlag"]
[10074,"Tautendorf bei Gars"]
[10101,"Amelsdorf"]
[10102,"Brugg"]
[10103,"Burgschleinitz"]
[10105,"Buttendorf"]
[10106,"Eggenburg"]
[10107,"Engelsdorf"]
[10108,"Etzmannsdorf bei Straning"]
[10109,"Gauderndorf"]
[10110,"Geiersdorf"]
[10111,"Grafenberg"]
[10113,"Harmannsdorf"]
[10114,"Kleinjetzelsdorf"]
[10115,"Kainreith"]
[10116,"Kattau"]
[10117,"Kühnring"]
[10118,"Maigen"]
[10119,"Matzelsdorf"]
[10120,"Kleinmeiseldorf"]
[10121,"Missingdorf"]
[10127,"Kleinreinprechtsdorf"]
[10128,"Reinprechtspölla"]
[10130,"Röhrawiesen"]
[10131,"Röschitz"]
[10132,"Roggendorf"]
[10133,"Sachsendorf"]
[10134,"Sigmundsherberg"]
[10135,"Sonndorf"]
[10136,"Stockern"]
[10137,"Stoitzendorf"]
[10138,"Straning"]
[10139,"Theras"]
[10140,"Walkenstein"]
[10141,"Wartberg"]
[10142,"Zogelsdorf"]
[10143,"Rodingersdorf"]
[10144,"Stoitzendorf Heide"]
[10201,"Autendorf"]
[10202,"Dallein"]
[10203,"Drosendorf Altstadt"]
[10204,"Drosendorf Stadt"]
[10205,"Elsern"]
[10206,"Fronsburg"]
[10207,"Fugnitz"]
[10208,"Geras"]
[10209,"Goggitsch"]
[10210,"Goslarn"]
[10212,"Harth"]
[10213,"Heinrichsdorf"]
[10214,"Heinrichsreith"]
[10215,"Hessendorf"]
[10216,"Oberhöflein"]
[10217,"Hötzelsdorf"]
[10218,"Japons"]
[10219,"Kottaun"]
[10220,"Langau"]
[10221,"Nonnersdorf"]
[10222,"Pfaffenreith"]
[10223,"Pingendorf"]
[10224,"Prutzendorf"]
[10225,"Purgstall"]
[10226,"Rassingdorf"]
[10227,"Sallapulka"]
[10228,"Schiermannsreith"]
[10229,"Sieghartsreith"]
[10230,"Starrein"]
[10231,"Oberthumeritz"]
[10232,"Unterthumeritz"]
[10233,"Thumeritzer Saßwald"]
[10234,"Oberthürnau"]
[10235,"Unterthürnau"]
[10236,"Trautmannsdorf"]
[10238,"Weitersfeld"]
[10239,"Wolfsbach"]
[10240,"Wollmersdorf"]
[10241,"Zettenreith"]
[10242,"Zettlitz"]
[10243,"Zissersdorf"]
[10244,"Sabatenreith"]
[10245,"Schweinburg"]
[10246,"Wenjapons"]
[10247,"Obermixnitz"]
[10248,"Untermixnitz"]
[10249,"Oberfladnitz"]
[11001,"Kleinebersdorf"]
[11002,"Obergänserndorf"]
[11003,"Hetzmannsdorf"]
[11004,"Hipples"]
[11005,"Karnabrunn"]
[11006,"Korneuburg"]
[11007,"Lachsfeld"]
[11008,"Leobendorf"]
[11009,"Mollmannsdorf"]
[11010,"Naglern"]
[11011,"Oberrohrbach"]
[11012,"Unterrohrbach"]
[11013,"Rückersdorf"]
[11014,"Kleinrötz"]
[11015,"Großrußbach"]
[11016,"Seebarn"]
[11017,"Simonsfeld"]
[11018,"Stetten"]
[11019,"Tresdorf"]
[11020,"Weinsteig"]
[11021,"Wetzleinsdorf"]
[11022,"Würnitz"]
[11023,"Bisamberg"]
[11024,"Enzersfeld"]
[11025,"Flandorf"]
[11026,"Hagenbrunn"]
[11027,"Kleinengersdorf"]
[11028,"Königsbrunn"]
[11029,"Langenzersdorf"]
[11030,"Au"]
[11031,"Dörfles"]
[11032,"Ernstbrunn"]
[11033,"Ernstbrunnerwald"]
[11034,"Göbmanns"]
[11035,"Klement"]
[11036,"Merkersdorf"]
[11037,"Oberleis"]
[11038,"Steinbach"]
[11039,"Thomasl"]
[11040,"Maisbirbaum"]
[11101,"Bruderndorf"]
[11102,"Eggendorf am Wagram"]
[11103,"Niederfellabrunn"]
[11104,"Füllersdorf"]
[11105,"Gaisruck"]
[11106,"Geitzendorf"]
[11107,"Glasweiner Wald"]
[11108,"Goldgeben"]
[11109,"Haselbach"]
[11110,"Hatzenbach"]
[11111,"Hausleithen"]
[11112,"Oberhautzental"]
[11113,"Unterhautzental"]
[11114,"Herzogbirbaum"]
[11115,"Höbersdorf"]
[11116,"Niederhollabrunn"]
[11117,"Inkersdorf"]
[11118,"Leitzersdorf"]
[11120,"Obermallebarn"]
[11121,"Untermallebarn"]
[11123,"Großmugl"]
[11124,"Nursch"]
[11125,"Oberolberndorf"]
[11126,"Ottendorf"]
[11127,"Unterparschenbrunn"]
[11128,"Perzendorf"]
[11129,"Pettendorf"]
[11130,"Ringendorf"]
[11131,"Roseldorf"]
[11132,"Oberrußbach"]
[11133,"Niederrußbach"]
[11134,"Schmida"]
[11135,"Seitzersdorf-Wolfpassing"]
[11136,"Senning"]
[11137,"Sierndorf"]
[11138,"Spillern"]
[11139,"Starnwörth"]
[11140,"Steinabrunn"]
[11141,"Stetteldorf am Wagram"]
[11142,"Stockerau"]
[11143,"Streitdorf"]
[11144,"Trübenseer Auanteil"]
[11145,"Wiesen"]
[11146,"Kleinwilfersdorf"]
[11147,"Wollmannsberg"]
[11148,"Zaina"]
[11149,"Zissersdorf"]
[11150,"Oberzögersdorf"]
[11151,"Unterzögersdorf"]
[11152,"Stranzendorf"]
[12001,"Allentsgschwendt"]
[12002,"Brunn am Walde"]
[12003,"Dobra"]
[12004,"Ebergersch"]
[12005,"Eisenberg"]
[12006,"Eisenbergeramt"]
[12007,"Eisengraben"]
[12008,"Eisengraberamt"]
[12009,"Erdweis"]
[12010,"Felling"]
[12011,"Garmanns"]
[12012,"Gföhl"]
[12013,"Gföhleramt"]
[12014,"Grottendorf"]
[12015,"Niedergrünbach"]
[12016,"Obergrünbach"]
[12017,"Hohenstein"]
[12018,"St. Leonhard am Hornerwalde"]
[12019,"Jaidhof"]
[12020,"Jeitendorf"]
[12021,"Idolsberg"]
[12022,"Krumau am Kamp"]
[12023,"Ladings"]
[12024,"Lengenfelderamt"]
[12025,"Lichtenau"]
[12026,"Litsch und Wurfenthalgraben"]
[12027,"Loiwein"]
[12028,"Marbach im Felde"]
[12029,"Obermeisling"]
[12030,"Untermeisling"]
[12032,"Mittelbergeramt"]
[12033,"Moritzreith"]
[12034,"Großmotten"]
[12035,"Mottingeramt"]
[12036,"Neubau"]
[12037,"Pallweis"]
[12038,"Peygarten"]
[12039,"Preinreichs"]
[12040,"Rastbach"]
[12041,"Rastenberg"]
[12042,"Rastenfeld"]
[12043,"Reisling"]
[12044,"Reittern"]
[12045,"Scheitz"]
[12046,"Schiltingeramt"]
[12047,"Seeb"]
[12049,"Sperkenthal"]
[12050,"Taubitz"]
[12052,"Obertautendorferamt"]
[12053,"Thurnberg"]
[12054,"Wietzen"]
[12055,"Wilhalm"]
[12056,"Wolfshoferamt"]
[12057,"Wurschenaigen"]
[12058,"Untertautendorferamt"]
[12059,"Zierings"]
[12060,"Engelschalks"]
[12061,"Gloden"]
[12062,"Großreinprechts"]
[12063,"Kornberg"]
[12064,"Tiefenbach"]
[12101,"Brunn im Felde"]
[12102,"Donaudorf"]
[12103,"Droß"]
[12104,"Drosseramt"]
[12105,"Dürnstein"]
[12106,"Egelsee"]
[12108,"Gedersdorf"]
[12109,"Gneixendorf"]
[12112,"Imbach"]
[12114,"Krems"]
[12115,"Landersdorf"]
[12116,"Oberloiben"]
[12117,"Unterloiben"]
[12118,"Maigen"]
[12119,"Neustift an der Donau"]
[12120,"Nöhagen"]
[12121,"Ostra"]
[12122,"Priel"]
[12123,"Rehberg"]
[12124,"Reichau"]
[12125,"Reichaueramt"]
[12126,"Oberrohrendorf"]
[12127,"Unterrohrendorf"]
[12128,"Scheibenhof"]
[12129,"Schlickendorf"]
[12130,"Senftenberg"]
[12132,"Stein"]
[12133,"Stixendorf"]
[12134,"Stratzdorf"]
[12135,"Stratzing"]
[12136,"Theiß"]
[12137,"Altweidling"]
[12138,"Weinzierl bei Krems"]
[12139,"Weinzierl am Walde"]
[12140,"Weißenkirchen"]
[12141,"Albrechtsberg"]
[12142,"Attenreith"]
[12143,"Eppenberg"]
[12144,"Gillaus"]
[12145,"Aigen"]
[12146,"Angern"]
[12147,"Paudorf"]
[12148,"Baumgarten"]
[12149,"Oberbergern"]
[12150,"Unterbergern"]
[12151,"Eggendorf"]
[12152,"Oberfucha"]
[12153,"Tiefenfucha"]
[12154,"Furth"]
[12155,"Geyersberg"]
[12156,"Göttweig"]
[12157,"Höbenbach"]
[12158,"Hollenburg"]
[12159,"Hörfarth"]
[12160,"Krustetten"]
[12161,"Maria Langegg"]
[12162,"Mautern"]
[12163,"Mauternbach"]
[12164,"Meidling"]
[12165,"Nesselstauden"]
[12166,"Palt"]
[12167,"Rossatz"]
[12168,"Rührsdorf"]
[12169,"Scheiblwies"]
[12170,"Schenkenbrunn"]
[12171,"Steinaweg"]
[12172,"Thallern"]
[12173,"Wolfenreith"]
[12174,"Meislingeramt"]
[12175,"Senftenbergeramt"]
[12176,"Arzwiesen"]
[12177,"Els"]
[12178,"Harrau"]
[12179,"Kleinheinrichschlag"]
[12180,"Marbach an der Kleinen Krems"]
[12181,"Purkersdorf"]
[12182,"Großheinrichschlag"]
[12183,"Habruck"]
[12184,"Himberg"]
[12185,"Joching"]
[12186,"Lobendorf"]
[12187,"Mitterarnsdorf"]
[12188,"Neusiedl bei Habruck"]
[12189,"Oberarnsdorf"]
[12190,"St. Michael"]
[12191,"Wolfenreith bei Habruck"]
[12192,"Wösendorf"]
[12201,"Altenhof"]
[12202,"Buchberger Waldhütten"]
[12203,"Diendorf am Kamp"]
[12204,"Diendorf am Walde"]
[12205,"Elsarn"]
[12206,"Engabrunn"]
[12207,"Etsdorf"]
[12208,"Fernitz"]
[12209,"Freischling"]
[12210,"Gobelsburg"]
[12211,"Hadersdorf am Kamp"]
[12212,"Haindorf"]
[12213,"Kammern"]
[12214,"Kriegenreith"]
[12215,"Langenlois"]
[12216,"Lengenfeld"]
[12217,"Mittelberg"]
[12218,"Mollands"]
[12219,"Neustift bei Schönberg"]
[12220,"Oberholz"]
[12221,"Oberplank"]
[12222,"Plank am Kamp"]
[12223,"Raan"]
[12224,"Oberreith"]
[12225,"Unterreith"]
[12226,"Schiltern"]
[12227,"Schönberg"]
[12228,"Stiefern"]
[12229,"Straß"]
[12230,"Thürneustift"]
[12231,"Walkersdorf"]
[12232,"Wiedendorf"]
[12233,"Zöbing"]
[12234,"Grunddorf"]
[12235,"Haitzendorf"]
[12236,"Kamp"]
[12237,"Sittendorf"]
[12301,"Aggsbach"]
[12302,"Amstall"]
[12304,"Benking"]
[12307,"Elsarn am Jauerling"]
[12310,"Felbring"]
[12312,"Friedersdorf"]
[12314,"Gießhübl"]
[12317,"Groisbach"]
[12319,"Gut am Steg"]
[12323,"Haslarn"]
[12327,"Hinterkogl"]
[12328,"Hof"]
[12331,"Köfering"]
[12332,"Kuffarn"]
[12333,"Maria Laach am Jauerling"]
[12334,"Litzendorf"]
[12336,"Loitzendorf"]
[12339,"Mitterndorf"]
[12341,"Mühldorf"]
[12343,"Nonnersdorf"]
[12344,"Oberndorf"]
[12345,"Ötz"]
[12346,"Ötzbach"]
[12348,"Povat"]
[12350,"Niederranna"]
[12351,"Oberranna"]
[12355,"Schlaubing"]
[12357,"Schwallenbach"]
[12358,"Spitz"]
[12359,"Thalham"]
[12360,"Trandorf"]
[12362,"Vießling"]
[12363,"Weinberg"]
[12365,"Wiesmannsreith"]
[12366,"Willendorf"]
[12369,"Zeißing"]
[12370,"Zintring"]
[13001,"Altenmarkt"]
[13004,"Kleinbaumgarten"]
[13005,"Pernhofen"]
[13006,"Blaustaudnerhof"]
[13007,"Diepolz"]
[13008,"Ernsdorf"]
[13009,"Eichenbrunn"]
[13010,"Enzersdorf bei Staatz"]
[13011,"Fallbach"]
[13012,"Friebritz"]
[13013,"Gaubitsch"]
[13014,"Geiselbrechtshof"]
[13015,"Gnadendorf"]
[13016,"Hagenberg"]
[13017,"Hagendorf"]
[13018,"Hanfthal"]
[13019,"Großharras"]
[13021,"Hausleitnerwald"]
[13022,"Kirchstetten"]
[13024,"Laa an der Thaya"]
[13025,"Laaer Herrengüter"]
[13026,"Laaer Klafter"]
[13027,"Loosdorf"]
[13028,"Mitterhof"]
[13029,"Neudorf"]
[13030,"Kottingneusiedl"]
[13032,"Ödenkirchenwald"]
[13033,"Patzenthal"]
[13034,"Patzmannsdorf"]
[13035,"Pottenhofen"]
[13036,"Altprerau"]
[13037,"Pyhra"]
[13038,"Röhrabrunn"]
[13040,"Ruhhof"]
[13041,"Neuruppersdorf"]
[13042,"Oberschoderlee"]
[13043,"Unterschoderlee"]
[13044,"Staatz-Kautendorf"]
[13045,"Unterstinkenbrunn"]
[13046,"Stronegg"]
[13047,"Stronsdorf"]
[13048,"Ungerndorf"]
[13049,"Waltersdorf"]
[13050,"Wenzersdorf"]
[13051,"Wildendürnbach"]
[13052,"Wultendorf"]
[13053,"Wulzeshofen"]
[13054,"Zlabern"]
[13055,"Zwentendorf"]
[13056,"Zwingendorf"]
[13057,"Ameis"]
[14001,"Aichbach"]
[14002,"Arnersdorf"]
[14003,"Atzing"]
[14005,"Bischofstetten"]
[14008,"Diendorf"]
[14011,"Fischbach"]
[14012,"Furth"]
[14014,"Grabenegg"]
[14016,"Grimmegg"]
[14017,"Großaigen"]
[14020,"Hainberg"]
[14021,"Harmersdorf"]
[14022,"Hauersdorf"]
[14023,"Heinrichsberg"]
[14026,"Hürm"]
[14027,"Inning"]
[14028,"Kälberhart"]
[14029,"Kettenreith"]
[14030,"Kilb"]
[14031,"Kirnberg"]
[14033,"Kronaberg"]
[14035,"Loitsdorf"]
[14038,"Mank"]
[14039,"Mayerhöfen"]
[14040,"Mitterradl"]
[14041,"Murschratten"]
[14042,"Neustift bei Sooß"]
[14043,"Oberradl"]
[14044,"Obersiegendorf"]
[14045,"Oberthurnhofen"]
[14046,"Ockert"]
[14048,"Plankenstein"]
[14050,"Pöttendorf"]
[14052,"Rainberg"]
[14053,"Rametzberg"]
[14056,"Riegers"]
[14057,"Ritzengrub"]
[14058,"Ruprechtshofen"]
[14060,"St. Gotthard"]
[14061,"St. Leonhard am Forst"]
[14062,"Scharagraben"]
[14067,"Sonnleithen"]
[14068,"Sooß"]
[14071,"Steingrub"]
[14072,"Strannersdorf"]
[14074,"Texing"]
[14075,"Teufelsdorf"]
[14076,"Umbach"]
[14077,"Untersiegendorf"]
[14078,"Unterthurnhofen"]
[14081,"Weißenbach"]
[14082,"Wolkersdorf"]
[14083,"Zwerbach"]
[14101,"Aggsbach"]
[14102,"Aggstein"]
[14103,"Albrechtsberg"]
[14104,"Anzendorf"]
[14105,"Artstetten"]
[14106,"Bergern - Maierhöfen"]
[14107,"Berging"]
[14108,"Brunn"]
[14109,"Ebersdorf"]
[14110,"Eckartsberg"]
[14111,"Erlauf"]
[14112,"Frainingau"]
[14113,"Gansbach"]
[14114,"Gerolding"]
[14115,"Geroldinger Wald"]
[14116,"Golling"]
[14117,"Großpriel"]
[14118,"Harlanden"]
[14119,"Häusling"]
[14120,"Heitzing"]
[14121,"Hessendorf"]
[14122,"Himberg"]
[14123,"Hohenwarth"]
[14124,"Hub"]
[14125,"Klein-Pöchlarn"]
[14126,"Kicking"]
[14127,"Knocking"]
[14128,"Kochholz"]
[14129,"Kollapriel"]
[14130,"Krapfenberg"]
[14131,"Krumnußbaum"]
[14132,"Lanzing"]
[14133,"Lehen"]
[14134,"Leiben"]
[14135,"Lerchfeld"]
[14136,"Loosdorf"]
[14137,"Losau"]
[14138,"Lottersberg"]
[14139,"Mampasberg"]
[14140,"Mannersdorf bei Zelking"]
[14141,"Matzleinsdorf"]
[14142,"Mauer"]
[14143,"Melk"]
[14144,"Merkendorf"]
[14145,"Neubach"]
[14146,"Neuhofen"]
[14147,"Nölling"]
[14148,"Ohnreith"]
[14149,"Ornding"]
[14150,"Pfaffing"]
[14151,"Pielach"]
[14152,"Pielachberg"]
[14153,"Pöchlarn"]
[14154,"Pöverding"]
[14155,"Rampersdorf"]
[14156,"Roggendorf"]
[14157,"Rohr"]
[14158,"Röhrapoint"]
[14159,"Rosenfeld"]
[14160,"Schallaburg"]
[14161,"Schollach"]
[14162,"Schönbühel an der Donau"]
[14163,"Schrattenbruck"]
[14164,"Sitzenthal"]
[14165,"Spielberg"]
[14166,"Steinwand"]
[14167,"Thal"]
[14168,"Umbach"]
[14169,"Ursprung"]
[14170,"Weitenegg"]
[14171,"Winden"]
[14172,"Wolfstein"]
[14173,"Wörth"]
[14174,"Zelking"]
[14175,"Fritzelsdorf"]
[14176,"Hart"]
[14177,"Hasling"]
[14178,"Nussendorf"]
[14179,"Unterbierbaum"]
[14180,"Emmersdorf"]
[14181,"Fahnsdorf"]
[14182,"St. Georgen"]
[14183,"Gossam"]
[14184,"Grimsing"]
[14185,"Hain"]
[14186,"Hofamt"]
[14187,"Mödelsdorf"]
[14188,"Pömling"]
[14189,"Rantenberg"]
[14190,"Reith"]
[14191,"Schallemmersdorf"]
[14192,"Diedersdorf"]
[14201,"Altenmarkt"]
[14202,"Artneramt"]
[14203,"Auratsberg"]
[14205,"Dorfstetten"]
[14208,"Fünfling"]
[14209,"Gottsdorf"]
[14210,"Granz"]
[14211,"Hagsdorf"]
[14214,"Priel Hofamt"]
[14215,"Ysper"]
[14216,"Kapelleramt"]
[14219,"Krummnußbaum"]
[14220,"Marbach"]
[14221,"Maria Taferl"]
[14223,"Mitterndorf"]
[14225,"Nöchling"]
[14227,"Obererla"]
[14228,"Oberthalheim"]
[14230,"Persenbeug"]
[14232,"Reitern"]
[14233,"Rottenhof"]
[14234,"St. Oswald"]
[14235,"Stiegeramt"]
[14237,"Untererla"]
[14238,"Unterthalheim"]
[14239,"Weins"]
[14240,"Wimm"]
[14241,"Wimberg"]
[14301,"Afterbach"]
[14302,"Aichau"]
[14303,"Arndorf"]
[14304,"Aschelberg"]
[14305,"Bergern bei Pöggstall"]
[14306,"Braunegg"]
[14307,"Bruck am Ostrong"]
[14308,"Dietsam"]
[14309,"Dölla"]
[14310,"Eibetsberg bei Raxendorf"]
[14311,"Eibetsberg bei Weiten"]
[14312,"Eitenthal"]
[14313,"Feistritz"]
[14314,"Filsendorf"]
[14315,"Gerersdorf"]
[14316,"Gmaining"]
[14317,"Jasenegg"]
[14318,"Klebing"]
[14319,"Krempersbach"]
[14320,"Krumling"]
[14321,"Laas"]
[14322,"Laimbach"]
[14323,"Landstetten"]
[14324,"Lauffenegg"]
[14325,"Lehsdorf"]
[14326,"Lohsdorf an der Schwarza"]
[14327,"Loibersdorf"]
[14328,"Mannersdorf bei Heiligenblut"]
[14329,"Mollendorf"]
[14330,"Moos"]
[14331,"Mörenz"]
[14332,"Muckendorf"]
[14333,"Mürfelndorf"]
[14334,"Nasting"]
[14335,"Neudorf"]
[14336,"Neukirchen"]
[14337,"Neusiedl am Feldstein"]
[14338,"Neusiedl bei Pfaffenhof"]
[14339,"Oberbierbaum"]
[14340,"Oberhohenau"]
[14341,"Oberndorf"]
[14342,"Oed"]
[14343,"Ottenberg"]
[14344,"Payerstetten"]
[14345,"Pfaffenhof"]
[14346,"Pöbring"]
[14347,"Pöggstall"]
[14348,"Pölla"]
[14349,"Pömmerstall"]
[14350,"Prinzelndorf"]
[14351,"Rafles"]
[14352,"Raxendorf"]
[14353,"Robans"]
[14354,"Schwarzau"]
[14355,"Seiterndorf"]
[14356,"Steinbach"]
[14357,"Straßreith"]
[14358,"Streitwiesen"]
[14359,"Tottendorf"]
[14360,"Trennegg"]
[14361,"Troibetsberg"]
[14362,"Unterhohenau"]
[14363,"Wachtberg"]
[14364,"Walkersdorf"]
[14365,"Weinling"]
[14366,"Weißpyhra"]
[14367,"Weiten"]
[14368,"Weiterndorf"]
[14370,"Würnsdorf"]
[14371,"Zehentegg"]
[14372,"Zeining"]
[14373,"Zöbring"]
[14374,"Zogelsdorf"]
[14375,"Bachones"]
[14376,"Edelsreith"]
[14377,"Kehrbach"]
[14378,"Kollnitz"]
[14379,"Mayerhofen"]
[14380,"Münichreith"]
[14381,"Pargatstetten"]
[14382,"Rappoltenreith"]
[14401,"Blindenmarkt"]
[14403,"Donaudorf"]
[14404,"Göttsbach"]
[14405,"Gumprechtsberg"]
[14406,"Holzing"]
[14407,"Karlsbach"]
[14408,"Kemmelbach"]
[14409,"Kottingburgstall"]
[14410,"Landfriedstetten"]
[14411,"Neumarkt"]
[14412,"Petzenkirchen"]
[14413,"Plaika"]
[14414,"Ratzenberg"]
[14415,"Sarling"]
[14416,"Säusenstein"]
[14417,"St. Martin"]
[14418,"Weitgraben"]
[14419,"Wohlfahrtsbrunn"]
[14420,"Ybbs"]
[15001,"Asparn an der Zaya"]
[15002,"Atzelsdorf"]
[15003,"Bullendorf"]
[15005,"Ebendorf"]
[15006,"Ebersdorf an der Zaya"]
[15007,"Eggersdorf"]
[15008,"Eibesthal"]
[15011,"Frättingsdorf"]
[15012,"Garmanns"]
[15013,"Gaweinstal"]
[15015,"Grafensulz"]
[15016,"Helfens"]
[15017,"Herrnleis"]
[15018,"Hobersdorf"]
[15019,"Höbersbrunn"]
[15020,"Hörersdorf"]
[15022,"Hüttendorf"]
[15023,"Kettlasbrunn"]
[15024,"Kleinsitzendorf"]
[15025,"Ladendorf"]
[15026,"Lanzendorf"]
[15027,"Michelstetten"]
[15028,"Mistelbach"]
[15029,"Neubau"]
[15030,"Niederleis"]
[15031,"Nodendorf"]
[15033,"Olgersdorf"]
[15034,"Paasdorf"]
[15035,"Pellendorf"]
[15036,"Pürstendorf"]
[15037,"Schletz"]
[15038,"Schrick"]
[15039,"Siebenhirten"]
[15042,"Wilfersdorf"]
[15043,"Altmanns"]
[15044,"Martinsdorf"]
[15101,"Althöflein"]
[15102,"Altlichtenwarth"]
[15103,"Altruppersdorf"]
[15105,"Bernhardsthal"]
[15106,"Drasenhofen"]
[15107,"Erdberg"]
[15108,"Falkenstein"]
[15109,"Föllim"]
[15110,"Ginzersdorf"]
[15111,"Großkrut"]
[15112,"Guttenbrunn"]
[15113,"Harrersdorf"]
[15114,"Hausbrunn"]
[15115,"Herrnbaumgarten"]
[15116,"Höbertsgrub"]
[15117,"Katzelsdorf"]
[15118,"Ketzelsdorf"]
[15119,"Kleinhadersdorf"]
[15120,"Kleinschweinbarth"]
[15121,"Ottenthal"]
[15122,"Passauerhof"]
[15123,"Poysbrunn"]
[15124,"Poysdorf"]
[15125,"Rabensburg"]
[15126,"Reinthal"]
[15127,"Schrattenberg"]
[15128,"Steinebrunn"]
[15129,"Stützenhofen"]
[15130,"Walterskirchen"]
[15131,"Wetzelsdorf"]
[15132,"Wilhelmsdorf"]
[15201,"Bockfließ"]
[15202,"Bogenneusiedl"]
[15203,"Eibesbrunn"]
[15204,"Großebersdorf"]
[15205,"Großengersdorf"]
[15206,"Hautzendorf"]
[15207,"Kronberg"]
[15208,"Manhartsbrunn"]
[15209,"Münichsthal"]
[15210,"Niederkreuzstetten"]
[15211,"Obersdorf"]
[15212,"Pfösing"]
[15213,"Pillichsdorf"]
[15214,"Putzing"]
[15215,"Reuhof"]
[15216,"Riedenthal"]
[15217,"Schleinbach"]
[15218,"Streifing"]
[15219,"Traunfeld"]
[15220,"Ulrichskirchen"]
[15221,"Unterolberndorf"]
[15222,"Wendlingerhof"]
[15223,"Wolfpassing an der Hochleithen"]
[15224,"Wolkersdorf"]
[15225,"Oberkreuzstetten"]
[15226,"Hornsburg"]
[16101,"Achau"]
[16102,"Anningerforst"]
[16103,"Biedermannsdorf"]
[16104,"Breitenfurt"]
[16105,"Brunn am Gebirge"]
[16106,"Dornbach"]
[16107,"Gaaden"]
[16108,"Gießhübl"]
[16109,"Grub"]
[16110,"Gumpoldskirchen"]
[16111,"Guntramsdorf"]
[16112,"Hennersdorf"]
[16113,"Hinterbrühl"]
[16114,"Hochroterd"]
[16115,"Kaltenleutgeben"]
[16116,"Laab im Walde"]
[16117,"Laxenburg"]
[16118,"Maria Enzersdorf"]
[16119,"Mödling"]
[16120,"Münchendorf"]
[16121,"Perchtoldsdorf"]
[16122,"Sittendorf"]
[16123,"Sparbach"]
[16124,"Stangau"]
[16125,"Sulz im Wienerwald"]
[16126,"Vösendorf"]
[16127,"Weißenbach bei Mödling"]
[16128,"Wiener Neudorf"]
[18001,"Alberndorf"]
[18002,"Augenthal"]
[18003,"Großkadolz"]
[18004,"Hadres"]
[18005,"Haugsdorf"]
[18006,"Jetzelsdorf"]
[18007,"Mailberg"]
[18008,"Obritz"]
[18009,"Peigarten"]
[18010,"Pernersdorf"]
[18011,"Pfaffendorf"]
[18012,"Ragelsdorf"]
[18013,"Seefeld"]
[18014,"Untermarkersdorf"]
[18101,"Deinzendorf"]
[18102,"Dietmannsdorf"]
[18103,"Felling"]
[18104,"Hardegg"]
[18105,"Heufurth"]
[18106,"Hofern"]
[18107,"Kleinhöflein"]
[18108,"Kleinriedenthal"]
[18109,"Leodagger"]
[18110,"Mallersbach"]
[18111,"Merkersdorf"]
[18112,"Mitterretzbach"]
[18113,"Niederfladnitz"]
[18115,"Obermarkersdorf"]
[18116,"Obernalb"]
[18117,"Oberretzbach"]
[18118,"Pillersdorf"]
[18119,"Platt"]
[18120,"Pleißing"]
[18121,"Pulkau"]
[18122,"Retz Altstadt"]
[18123,"Retz Stadt"]
[18124,"Riegersburg"]
[18125,"Rohrendorf"]
[18126,"Schrattenthal"]
[18127,"Umlauf"]
[18128,"Unternalb"]
[18129,"Unterretzbach"]
[18130,"Waitzendorf"]
[18131,"Waschbach"]
[18132,"Watzelsdorf"]
[18133,"Zellerndorf"]
[18134,"Großreipersdorf"]
[18135,"Passendorf"]
[18136,"Rafing"]
[19001,"Bernreit"]
[19002,"Durlaß"]
[19003,"Ebenwald"]
[19004,"Fahrabach"]
[19005,"Gaupmannsgraben"]
[19006,"Gegend Eck"]
[19007,"Obergegend"]
[19008,"Gölsen"]
[19009,"Hainfeld"]
[19010,"Hinterhallbach"]
[19011,"Haraseck"]
[19012,"Heugraben"]
[19013,"Höfnergraben"]
[19014,"Oberhöhe"]
[19015,"Kasberg"]
[19016,"Kaumberg"]
[19017,"Kerschenbach"]
[19018,"Kieneck"]
[19019,"Ob der Kirche"]
[19020,"Kropfsdorf"]
[19021,"Laabach"]
[19022,"Landsthal"]
[19023,"Mayerhöfen"]
[19024,"Pfenningbach"]
[19025,"Prünst"]
[19026,"Rainfeld"]
[19027,"Ramsau"]
[19028,"Oberried"]
[19029,"Unterried"]
[19030,"Oberrohrbach"]
[19031,"Unterrohrbach"]
[19032,"Saugraben"]
[19033,"Schneidbach"]
[19034,"Schwarzenbach"]
[19035,"Steinbachthal"]
[19036,"Steinwandleithen"]
[19037,"Traisenort"]
[19038,"Obertriesting"]
[19039,"Untertriesting"]
[19040,"St. Veit an der Gölsen"]
[19041,"Vollberg"]
[19042,"Außerwiesenbach"]
[19043,"Innerwiesenbach"]
[19044,"Wiesenfeld"]
[19045,"Wobach"]
[19046,"Kleinzell"]
[19101,"Absdorf"]
[19102,"Adletzberg"]
[19103,"Ambach"]
[19104,"St. Andrä an der Traisen"]
[19105,"Angern"]
[19106,"Anzenberg"]
[19107,"Anzenhof"]
[19108,"Diendorf"]
[19109,"Doppel"]
[19110,"Ederding"]
[19111,"Einöd"]
[19112,"Eitzendorf"]
[19113,"Etzersdorf"]
[19114,"Flinsdorf"]
[19115,"Franzhausen"]
[19116,"Frauendorf"]
[19117,"Fugging"]
[19118,"Gemeinlebarn"]
[19119,"St. Georgen bei Wagram"]
[19120,"Getzersdorf"]
[19121,"Greiling"]
[19122,"Grunddorf"]
[19123,"Grünz"]
[19124,"Gutenbrunn"]
[19125,"Hain"]
[19126,"Hameten"]
[19127,"Haselbach"]
[19128,"Hausheim"]
[19129,"Heinigstetten"]
[19130,"Herzogenburg"]
[19131,"Hilpersdorf"]
[19132,"Inzersdorf an der Traisen"]
[19133,"Kapelln"]
[19134,"Katzenberg"]
[19135,"Killing"]
[19136,"Kuffern"]
[19137,"Landersdorf"]
[19138,"Landhausen"]
[19139,"Langmannersdorf"]
[19140,"Obermerking"]
[19141,"Untermerking"]
[19142,"Neusiedl"]
[19143,"Noppendorf"]
[19144,"Nußdorf an der Traisen"]
[19145,"Oberndorf in der Ebene"]
[19146,"Oberndorf am Gebirge"]
[19147,"Obritzberg"]
[19148,"Ossarn"]
[19149,"Panzing und Miesting"]
[19150,"Perschling"]
[19151,"Pfaffing"]
[19152,"Pönning"]
[19153,"Pottschal"]
[19154,"Rassing"]
[19155,"Rapoltendorf"]
[19156,"Ratzersdorf"]
[19157,"Reichersdorf"]
[19158,"Ried"]
[19159,"Rottersdorf"]
[19160,"Großrust"]
[19161,"Kleinrust"]
[19162,"Schweinern"]
[19163,"Statzendorf"]
[19164,"Stollhofen"]
[19165,"Theyern"]
[19166,"Traismauer"]
[19167,"Walpersdorf"]
[19168,"Waldletzberg"]
[19169,"Weidling"]
[19170,"Weißenkirchen an der Perschling"]
[19171,"Wetzmannsthal"]
[19172,"Wieselbruck"]
[19173,"Wielandsthal"]
[19174,"Oberwinden"]
[19175,"Unterwinden"]
[19176,"Winzing"]
[19177,"Oberwölbling"]
[19178,"Unterwölbling"]
[19179,"Zagging"]
[19180,"Wagram an der Traisen"]
[19181,"Thalheim"]
[19182,"Gunnersdorf"]
[19183,"Murstetten"]
[19184,"Obermoos"]
[19185,"Winkling"]
[19201,"Aigelsbach"]
[19202,"Frankenfels"]
[19203,"Grünau"]
[19204,"Grünsbach"]
[19205,"Hofstetten"]
[19206,"Kammerhof"]
[19207,"Kirchberg an der Pielach"]
[19208,"Loich"]
[19209,"Mainburg"]
[19210,"Plambach"]
[19211,"Plambacheck"]
[19212,"Rabenstein"]
[19213,"Schwarzenbach"]
[19301,"St. Aegyd am Neuwalde"]
[19302,"Annarotte"]
[19303,"Anthofrotte"]
[19304,"Dörfl"]
[19305,"Hintereben"]
[19306,"Vordereben"]
[19307,"Eschenau"]
[19308,"Außerfahrafeld"]
[19309,"Innerfahrafeld"]
[19310,"Herrschaftsgründe"]
[19311,"Hohenberg"]
[19312,"Josefsrotte"]
[19313,"Jungherrnthal"]
[19314,"Keeramt"]
[19315,"Langseitenrotte"]
[19316,"Lassingrotte"]
[19317,"Lehenrotte"]
[19318,"Lilienfeld"]
[19319,"Marktl"]
[19320,"Mitterbachamt"]
[19321,"Mitterbachseerotte"]
[19322,"Moosbachrotte"]
[19323,"Pichelrotte"]
[19324,"Rachsenbachrotte"]
[19325,"Schildbachrotte"]
[19326,"Schrambach"]
[19327,"Stangenthal"]
[19328,"Steinbachrotte"]
[19329,"Traisen"]
[19330,"Traisenbachrotte"]
[19331,"Türnitz"]
[19332,"Haupttürnitzrotte"]
[19333,"Unrecht Traisen"]
[19334,"Wehrabach"]
[19335,"Weidenaurotte"]
[19336,"Weißenbachamt"]
[19337,"Zögersbach"]
[19338,"Gscheid"]
[19401,"Adeldorf"]
[19402,"Afing"]
[19403,"Altenburg"]
[19404,"Altmannsdorf"]
[19405,"Atzling"]
[19406,"Auern"]
[19407,"Badendorf"]
[19408,"Baumgarten bei Grafendorf"]
[19409,"Baumgarten bei Kasten"]
[19410,"Berg"]
[19411,"Blindorf"]
[19412,"Böheimkirchen"]
[19413,"Bonnleiten"]
[19414,"Braunsberg"]
[19415,"Brunn"]
[19416,"Buchbach"]
[19417,"Dachsbach"]
[19418,"Damberg"]
[19419,"Diemannsberg"]
[19420,"Dietersberg"]
[19421,"Distelburg"]
[19422,"Dietmannsdorf"]
[19423,"Doppel bei Rannersdorf"]
[19424,"Dorfern"]
[19425,"Dörfl bei Kasten"]
[19426,"Dörfl bei Ochsenburg"]
[19427,"Dürnerhof"]
[19428,"Dürnhag"]
[19429,"Ebersdorf"]
[19430,"Ebersreith"]
[19431,"Eck"]
[19432,"Edlitz"]
[19433,"Egelsee"]
[19434,"Eggendorf"]
[19435,"Eggsdorf"]
[19436,"Eibelsau"]
[19437,"Eigendorf"]
[19438,"Engelsdorf"]
[19439,"Enikelberg"]
[19440,"Fahra"]
[19441,"Fahrafeld"]
[19442,"Feilendorf"]
[19443,"Flinsbach"]
[19444,"Freiling"]
[19445,"Fridau"]
[19446,"Friesing"]
[19447,"Furth bei Außerkasten"]
[19448,"Gabersdorf"]
[19449,"Ganzendorf"]
[19450,"Gasten"]
[19451,"Gattmannsdorf"]
[19452,"Gemersdorf"]
[19453,"St. Georgen am Steinfelde"]
[19454,"Gerersdorf"]
[19455,"Getzersdorf"]
[19456,"Göblasbruck"]
[19457,"Goldegg"]
[19458,"Ober- und Untergraben"]
[19459,"Obergrafendorf"]
[19460,"Untergrafendorf"]
[19461,"Griechenberg"]
[19462,"Grillenhöf"]
[19463,"Gröben"]
[19464,"Grub bei Obergrafendorf"]
[19465,"Grub bei Weinburg"]
[19466,"Obergrub"]
[19467,"Gwörth"]
[19468,"Hafing"]
[19469,"Hafnerbach"]
[19470,"Haindorf"]
[19471,"Handelberg"]
[19472,"Harland"]
[19473,"Hart"]
[19474,"Haunoldstein"]
[19475,"Hausenbach"]
[19476,"Heitzing"]
[19477,"Hendelgraben"]
[19478,"Hengstberg"]
[19479,"Hetzersdorf"]
[19480,"Heuberg"]
[19481,"Hinterberg"]
[19482,"Hinterholz"]
[19483,"Hochgschaid"]
[19484,"Hochstraß"]
[19485,"Hof"]
[19486,"Hofing"]
[19487,"Hoheneggerwald"]
[19488,"Hub und Grub"]
[19489,"Hummelberg bei Kasten"]
[19490,"Hummelberg bei Pyhra"]
[19491,"Jeutendorf"]
[19492,"Kainradsdorf"]
[19493,"Kanzling"]
[19494,"Karlstetten"]
[19495,"Kasten"]
[19496,"Außerkasten"]
[19497,"Kirchsteig"]
[19498,"Klangen"]
[19499,"Knetzersdorf"]
[19500,"Korning"]
[19501,"Kotting"]
[19502,"Kreisbach"]
[19503,"Kreisberg"]
[19504,"Kronberg"]
[19505,"Kunning"]
[19506,"Lanzendorf bei Böheimkirchen"]
[19507,"Lanzendorf bei Kasten"]
[19508,"Lauterbach"]
[19509,"Lielach"]
[19510,"Linsberg"]
[19511,"Loipersdorf"]
[19512,"Loitzenberg"]
[19513,"Luberg"]
[19514,"Obermamau"]
[19515,"Untermamau"]
[19516,"Mannersdorf"]
[19517,"Margarethen"]
[19518,"Markersdorf"]
[19519,"Matzersdorf"]
[19520,"Mauterheim"]
[19521,"Mayerhöfen"]
[19522,"Mechters"]
[19523,"Michelbach Dorf"]
[19524,"Michelbach Markt"]
[19525,"Mitterau"]
[19526,"Mitterfeld"]
[19527,"Mitterndorf"]
[19528,"Mühlgang"]
[19529,"Mühlhofen"]
[19530,"Nadelbach"]
[19531,"Neidling"]
[19532,"Nenndorf"]
[19533,"Neustift bei Gasten"]
[19534,"Nützling"]
[19535,"Oberhofen"]
[19536,"Ochsenburg"]
[19537,"Öd bei Korning"]
[19538,"Öd bei Weinburg"]
[19539,"Osterburg"]
[19540,"Pengersdorf"]
[19541,"Perersdorf"]
[19542,"Pfaffing"]
[19543,"Pielachhaag"]
[19544,"St. Pölten"]
[19545,"Pömmern"]
[19546,"Poppendorf"]
[19547,"Pottenbrunn"]
[19548,"Prinzersdorf"]
[19549,"Probstwald"]
[19550,"Pultendorf"]
[19551,"Pummersdorf"]
[19552,"Pyhra"]
[19553,"Unterradl"]
[19554,"Oberradlberg"]
[19555,"Unterradlberg"]
[19556,"Ragelsdorf"]
[19557,"Reitzersdorf"]
[19558,"Rammersdorf"]
[19559,"Rannersdorf"]
[19560,"Ratzersdorf an der Traisen"]
[19561,"Reichenhag"]
[19562,"Reichgrüben"]
[19563,"Reith"]
[19564,"Reitzing"]
[19565,"Rennersdorf"]
[19566,"Ritzersdorf"]
[19567,"Röhrenbach"]
[19568,"Salau"]
[19569,"Sasendorf"]
[19570,"Saudorf"]
[19571,"Schaubing"]
[19572,"Schauching"]
[19573,"Schildberg"]
[19574,"Schnabling"]
[19575,"Schwadorf"]
[19576,"Siebenhirten"]
[19577,"Großsierning"]
[19578,"Kleinsierning"]
[19579,"Sonnleiten"]
[19580,"Spratzern"]
[19581,"Stainingsdorf"]
[19582,"Stallbach"]
[19583,"Stattersdorf"]
[19584,"Steinabruck"]
[19585,"Stein-Eichberg"]
[19586,"Steinfeld"]
[19587,"Stössing"]
[19588,"Teufelhof"]
[19589,"Thal"]
[19590,"Obertiefenbach"]
[19591,"Untertiefenbach"]
[19592,"Türnau"]
[19593,"Uttendorf"]
[19594,"Viehofen"]
[19595,"Völlerndorf"]
[19596,"Völtendorf"]
[19597,"Waasen"]
[19598,"Oberwagram"]
[19599,"Unterwagram"]
[19600,"Waitzendorf"]
[19601,"Wald"]
[19602,"Wallenreith"]
[19603,"Wantendorf"]
[19604,"Wasserburg"]
[19605,"Watzelsdorf"]
[19606,"Wegbach"]
[19607,"Weghof"]
[19608,"Weinburg"]
[19609,"Weinzettl"]
[19610,"Weinzierl"]
[19611,"Weisching"]
[19612,"Weitendorf"]
[19613,"Weitern"]
[19614,"Wernersdorf"]
[19615,"Wetzersdorf"]
[19616,"Weyersdorf"]
[19617,"Wieden bei Margarethen"]
[19618,"Wieden bei Pyhra"]
[19619,"Wielandsberg"]
[19620,"Wiesen"]
[19621,"Wilhelmsburg"]
[19622,"Wilhersdorf bei Margarethen"]
[19623,"Willersdorf bei Wantendorf"]
[19624,"Wimpassing an der Pielach"]
[19625,"Windpassing"]
[19626,"Winkel"]
[19627,"Witzendorf"]
[19628,"Wolfenberg"]
[19629,"Wolkersberg"]
[19630,"Wörth"]
[19631,"Wultendorf"]
[19632,"Würmling"]
[19633,"Zell"]
[19634,"Zendorf"]
[19635,"Zuleithen"]
[19636,"Zwerndorf"]
[19637,"Oberzwischenbrunn"]
[19638,"Unterzwischenbrunn"]
[19701,"Almersberg"]
[19702,"Altlengbach"]
[19703,"Asperhofen"]
[19704,"Brand"]
[19705,"Diesendorf"]
[19706,"Dörfl"]
[19707,"Doppel"]
[19708,"Dornberg"]
[19709,"Eck"]
[19710,"Eichgraben"]
[19711,"Emmersdorf"]
[19712,"Erla"]
[19713,"Geigelberg"]
[19714,"Gern"]
[19715,"Getzwiesen"]
[19716,"Gföhl"]
[19718,"Grabensee"]
[19719,"Großgraben"]
[19720,"Großrassberg"]
[19721,"Großweinberg"]
[19724,"Haag"]
[19725,"Habersdorf"]
[19726,"Hagenau"]
[19727,"Inprugg"]
[19728,"Johannesberg"]
[19729,"Kerschenberg"]
[19730,"Kirchstetten"]
[19731,"Klamm"]
[19732,"Kleingraben"]
[19733,"Laaben"]
[19734,"Maria-Anzbach"]
[19735,"Markersdorf"]
[19737,"Neulengbach"]
[19738,"Neustift-Innermanzing"]
[19740,"Oberwolfsbach"]
[19741,"Ollersbach"]
[19742,"Paisling"]
[19743,"Paltram"]
[19744,"Pettenau"]
[19745,"Pyrath"]
[19746,"Raipoltenbach"]
[19747,"St. Christophen"]
[19748,"Senning"]
[19749,"Sichelbach"]
[19750,"Siegersdorf"]
[19751,"Starzing"]
[19752,"Stollberg"]
[19753,"Tausendblum"]
[19755,"Totzenbach"]
[19756,"Umsee"]
[19757,"Unteroberndorf"]
[19758,"Unterwolfsbach"]
[19759,"Waasen"]
[19760,"Wimmersdorf"]
[19762,"Wolfersdorf"]
[19763,"Wöllersdorf"]
[20001,"Absdorf"]
[20003,"Altenwörth"]
[20004,"Ameisthal"]
[20005,"Baumgarten am Wagram"]
[20006,"Bierbaum am Kleebigl"]
[20007,"Dörfl"]
[20008,"Engelmannsbrunn"]
[20009,"Fels am Wagram"]
[20010,"Feuersbrunn"]
[20011,"Frauendorf"]
[20012,"Gigging"]
[20013,"Gösing"]
[20014,"Grafenwörth"]
[20015,"Hippersdorf"]
[20016,"Jettsdorf"]
[20017,"St. Johann"]
[20018,"Kirchberg am Wagram"]
[20019,"Kollersdorf"]
[20020,"Königsbrunn"]
[20021,"Mallon"]
[20022,"Neudegg"]
[20023,"Neustift im Felde"]
[20024,"Ottenthal"]
[20025,"Großriedenthal"]
[20026,"Ruppersthal"]
[20027,"Seebarn am Wagram"]
[20029,"Stettenhof"]
[20030,"Mitterstockstall"]
[20031,"Oberstockstall"]
[20032,"Unterstockstall"]
[20033,"Thürnthal"]
[20034,"Tiefenthal"]
[20035,"Utzenlaa"]
[20036,"Wagram am Wagram"]
[20037,"Großweikersdorf"]
[20038,"Großwiesendorf"]
[20039,"Kleinwiesendorf"]
[20040,"Winkl"]
[20041,"Zaußenberg"]
[20101,"Abstetten"]
[20102,"Ahrenberg"]
[20103,"Altenberg"]
[20104,"St. Andrä"]
[20105,"Anzing"]
[20106,"Asparn"]
[20107,"Atzelsdorf"]
[20108,"Atzenbrugg"]
[20109,"Bärndorf"]
[20110,"Baumgarten am Tullnerfeld"]
[20111,"Baumgarten bei Reidling"]
[20112,"Chorherrn"]
[20113,"Diendorf"]
[20114,"Dietersdorf"]
[20115,"Dürnrohr"]
[20116,"Ebersdorf"]
[20117,"Eggendorf"]
[20118,"Egelsee"]
[20119,"Einsiedl"]
[20120,"Elsbach"]
[20121,"Erpersdorf"]
[20122,"Flachberg"]
[20123,"Frauenhofen"]
[20124,"Freundorf"]
[20125,"Gerersdorf"]
[20126,"Gollarn"]
[20127,"Greifenstein"]
[20128,"Grub bei Saladorf"]
[20129,"Hadersfeld"]
[20130,"Hasendorf"]
[20131,"Henzing"]
[20132,"Hintersdorf"]
[20133,"Holzleiten"]
[20134,"Hütteldorf"]
[20135,"Jetzing"]
[20136,"Judenau"]
[20137,"Kaindorf"]
[20138,"Katzelsdorf im Dorf"]
[20139,"Katzelsdorf an der Zeil"]
[20140,"Kirchbach"]
[20141,"Kogl"]
[20142,"Königstetten"]
[20143,"Kraking"]
[20144,"Kronau"]
[20145,"Kreuth"]
[20146,"Langenrohr"]
[20147,"Langenlebarn-Oberaigen"]
[20148,"Langenlebarn-Unteraigen"]
[20149,"Michelhausen"]
[20150,"Michelndorf"]
[20151,"Mitterndorf"]
[20152,"Mollersdorf"]
[20153,"Mittermoos"]
[20154,"Untermoos"]
[20155,"Moosbierbaum"]
[20156,"Muckendorf"]
[20157,"Neuaigen"]
[20158,"Neusiedl"]
[20159,"Nitzing"]
[20160,"Ollern"]
[20161,"Oepping"]
[20162,"Penzing"]
[20163,"Pischelsdorf"]
[20164,"Pixendorf"]
[20165,"Plankenberg"]
[20166,"Pöding"]
[20167,"Maria Ponsee"]
[20168,"Preuwitz"]
[20169,"Ranzelsdorf"]
[20170,"Rappoltenkirchen"]
[20171,"Reidling"]
[20172,"Reichersberg"]
[20173,"Ried am Riederberg"]
[20174,"Röhrenbach"]
[20175,"Rust"]
[20176,"Saladorf"]
[20177,"Langenschönbichl"]
[20178,"Kleinschönbichl"]
[20179,"Sieghartskirchen"]
[20180,"Sitzenberg"]
[20181,"Spital"]
[20182,"Staasdorf"]
[20183,"Streithofen"]
[20184,"Tautendorf"]
[20185,"Thallern"]
[20186,"Trasdorf"]
[20187,"Trübensee"]
[20188,"Tulbing"]
[20189,"Tulln"]
[20190,"Wagendorf"]
[20191,"Waltendorf"]
[20192,"Weinzierl bei Atzenbrugg"]
[20193,"Weinzierl bei Ollern"]
[20194,"Wilfersdorf"]
[20195,"Wipfing"]
[20196,"Wolfpassing"]
[20197,"Wördern"]
[20198,"Würmla"]
[20199,"Zeiselmauer"]
[20200,"Zöfing"]
[20201,"Zwentendorf"]
[20202,"Gotthardsberg"]
[20203,"Gumperding"]
[20204,"Kronstein"]
[21001,"Aigen"]
[21002,"Alberndorf"]
[21003,"Blumau an der Wild"]
[21004,"Diemschlag"]
[21005,"Dietmanns"]
[21006,"Drösiedl"]
[21007,"Eggersdorf"]
[21008,"Eibenstein"]
[21009,"Ellends"]
[21010,"Fistritz"]
[21011,"Goschenreith"]
[21012,"Großau"]
[21013,"Großsiegharts"]
[21014,"Karlstein"]
[21016,"Koggendorf"]
[21017,"Kollmitzdörfl"]
[21018,"Kollmitzgraben"]
[21019,"Liebenberg"]
[21020,"Liebnitz"]
[21021,"Lindau"]
[21022,"Loibes"]
[21023,"Luden"]
[21024,"Ludweis"]
[21025,"Modsiedl"]
[21026,"Mostbach"]
[21027,"Neuriegers"]
[21028,"Nondorf"]
[21029,"Obergrünbach"]
[21030,"Oberndorf bei Raabs"]
[21031,"Oberndorf bei Weikertschlag"]
[21032,"Oberpfaffendorf"]
[21033,"Ober- und Unterreith"]
[21034,"Oedt an der Wild"]
[21035,"Pfaffenschlag"]
[21036,"Pommersdorf"]
[21037,"Primmersdorf"]
[21038,"Raabs an der Thaya"]
[21039,"Rabesreith"]
[21040,"Radessen"]
[21041,"Radl"]
[21042,"Rossa"]
[21044,"Sauggern"]
[21045,"Schaditz"]
[21046,"Schlader"]
[21048,"Seebs"]
[21049,"Sieghartsles"]
[21050,"Speisendorf"]
[21051,"Süßenbach"]
[21052,"Thuma"]
[21053,"Thures"]
[21054,"Trabersdorf"]
[21055,"Tröbings"]
[21056,"Unterpertholz"]
[21057,"Unterpfaffendorf"]
[21058,"Waldreichs"]
[21059,"Weikertschlag"]
[21060,"Weinern"]
[21062,"Wetzles"]
[21063,"Wienings"]
[21064,"Wilhelmshof"]
[21065,"Zabernreith"]
[21066,"Zemmendorf"]
[21067,"Ziernreith"]
[21068,"Hohenwarth"]
[21069,"Münichreith an der Thaya"]
[21070,"Göpfritzschlag"]
[21071,"Griesbach bei Dobersberg"]
[21101,"Altwaidhofen"]
[21102,"Altwaidhofen Grosser Wald"]
[21103,"Arnolz"]
[21104,"Artolz"]
[21105,"Brunn bei Dobersberg"]
[21106,"Brunn bei Waidhofen"]
[21107,"Buchbach"]
[21108,"Dobersberg"]
[21109,"Edelprinz"]
[21110,"Edengans"]
[21111,"Eggmanns"]
[21112,"Eisenreichs"]
[21113,"Engelbrechts"]
[21114,"Eschenau"]
[21115,"Fratres"]
[21116,"Frühwärts"]
[21117,"Garolden"]
[21118,"Gastern"]
[21119,"Gilgenberg"]
[21121,"Goschenreith"]
[21122,"Götzles"]
[21123,"Götzweis"]
[21124,"Grafenschlag"]
[21126,"Griesbach bei Waidhofen"]
[21127,"Großeberharts"]
[21128,"Großgerharts"]
[21129,"Großharmanns"]
[21130,"Großtaxen"]
[21131,"Grünau"]
[21132,"Hohenau"]
[21134,"Hollenbach"]
[21135,"Illmau"]
[21136,"Immenschlag"]
[21137,"Jarolden"]
[21138,"Jaudling"]
[21139,"Jetzles"]
[21140,"Jetzleser Wald"]
[21141,"Kainraths"]
[21142,"Kaltenbach"]
[21143,"Kautzen"]
[21144,"Kleineberharts"]
[21145,"Kleingerharts"]
[21146,"Kleingöpfritz"]
[21147,"Kleinharmanns"]
[21148,"Kleinmotten"]
[21149,"Kleinreichenbach"]
[21150,"Kleintaxen"]
[21151,"Kleinzwettl"]
[21152,"Kottschallings"]
[21153,"Lexnitz"]
[21154,"Lichtenberg"]
[21155,"Meires"]
[21156,"Markl"]
[21157,"Matzles"]
[21158,"Matzlesschlag"]
[21159,"Merkengersch"]
[21161,"Niederedlitz"]
[21162,"Nonndorf"]
[21163,"Oberedlitz"]
[21164,"Peigarten"]
[21165,"Pfaffenschlag"]
[21166,"Pleßberg"]
[21167,"Puch"]
[21168,"Pyhra"]
[21169,"Rafings"]
[21170,"Ranzles"]
[21171,"Rappolz"]
[21172,"Reibers"]
[21173,"Reinberg-Dobersberg"]
[21174,"Reinolz"]
[21175,"Riegers"]
[21176,"Rüders"]
[21177,"Rudolz"]
[21178,"Sarning"]
[21179,"Schirnes"]
[21180,"Schlagles"]
[21181,"Schönfeld"]
[21182,"Schuppertholz"]
[21183,"Schwarzenberg"]
[21184,"Seyfrieds Wald"]
[21185,"Sparbach"]
[21186,"Stoyes"]
[21187,"Thaya"]
[21188,"Tiefenbach"]
[21189,"Triglas"]
[21190,"Ulrichschlag"]
[21191,"Vestenötting"]
[21192,"Vestenpoppen"]
[21193,"Vitis"]
[21194,"Waidhofen an der Thaya"]
[21195,"Waldberg"]
[21196,"Waldhers"]
[21197,"Waldkirchen"]
[21198,"Weißenbach"]
[21199,"Wiederfeld"]
[21200,"Wiesmaden"]
[21201,"Willings"]
[21202,"Windigsteig"]
[21203,"Wohlfarts"]
[21204,"Eulenbach"]
[21205,"Großrupprechts"]
[21206,"Kleingloms"]
[21207,"Kleinschönau"]
[21208,"Heinreichs"]
[21209,"Rohrbach"]
[21210,"Warnungs"]
[22001,"Ahorn"]
[22002,"Altenreith"]
[22003,"Bodingbach"]
[22004,"Brettl"]
[22005,"Buchberg"]
[22006,"Franzenreith"]
[22007,"Gaming"]
[22008,"Göstling"]
[22009,"Gresten"]
[22010,"Hochkoglberg"]
[22011,"Hochreith"]
[22012,"Hohenberg"]
[22013,"Kerschenberg"]
[22014,"Kienberg"]
[22015,"Königsberg"]
[22016,"Lackenhof"]
[22017,"Lassing"]
[22018,"Lunzamt"]
[22019,"Lunzdorf"]
[22020,"Mitterau"]
[22021,"Nestelberg"]
[22022,"Neuhaus"]
[22023,"Oberamt"]
[22024,"Perwarth"]
[22025,"Polzberg"]
[22026,"Puchberg bei Randegg"]
[22027,"Randegg"]
[22028,"Reinsberg"]
[22029,"Robitzboden"]
[22030,"Schadneramt"]
[22031,"Seekopf"]
[22032,"Steinbachmauer"]
[22033,"Steinholz"]
[22034,"Unteramt"]
[22035,"Weißenbach"]
[22036,"Ybbsbachamt"]
[22037,"Ybbssteinbach"]
[22101,"Anger"]
[22102,"Außerochsenbach"]
[22103,"Brandstatt"]
[22104,"Buch"]
[22105,"Dachsberg"]
[22106,"Ernegg"]
[22107,"Etzerstetten"]
[22108,"Feichsen"]
[22109,"Fürteben"]
[22110,"Gärtenberg"]
[22111,"Ginning"]
[22112,"Grafenmühl"]
[22113,"Gries"]
[22114,"Gumprechtsfelden"]
[22115,"Hochriess"]
[22116,"Hub"]
[22117,"Lehen bei Oberndorf"]
[22118,"Lonitzberg"]
[22119,"Marbach"]
[22120,"Mühling"]
[22121,"Neustift bei Scheibbs"]
[22122,"Oberndorf an der Melk"]
[22123,"Petzelsdorf"]
[22124,"Puchenstuben"]
[22125,"Purgstall"]
[22126,"Pyhrafeld"]
[22127,"Reidlingberg"]
[22128,"Rogatsboden"]
[22129,"Schachau"]
[22130,"Schadendorf"]
[22131,"Schauboden"]
[22132,"Scheibbs"]
[22133,"Scheibbsbach"]
[22134,"Sölling"]
[22135,"Söllingerwald"]
[22136,"St. Anton an der Jessnitz"]
[22137,"St. Georgen an der Leys"]
[22138,"Steinakirchen am Forst"]
[22139,"Wang"]
[22140,"Waasen"]
[22141,"Wechling"]
[22142,"Weinzierl"]
[22143,"Wieselburg"]
[22144,"Wohlfahrtsschlag"]
[22145,"Wolfpassing"]
[22146,"Zarnsdorf"]
[22147,"Zehetgrub"]
[22148,"Zehnbach"]
[23001,"Aspang Markt"]
[23002,"Edlitz"]
[23003,"Feistritz"]
[23004,"Grimmenstein"]
[23005,"Großes Amt"]
[23006,"Grottendorf"]
[23007,"Hochegg"]
[23008,"Kirchberg am Wechsel"]
[23009,"Kleines Amt"]
[23010,"Lehen"]
[23011,"Molzegg"]
[23012,"Mönichkirchen"]
[23013,"Neustift am Alpenwald"]
[23014,"Neuwald"]
[23015,"Ofenbach"]
[23016,"St. Corona am Wechsel"]
[23017,"Sauerbüchl"]
[23018,"Alpeltal"]
[23019,"Thomasberg"]
[23020,"Zöbern"]
[23021,"Kranichberg"]
[23101,"Altendorf"]
[23102,"Abfaltersbach"]
[23103,"Aue"]
[23104,"Berglach"]
[23105,"Breitenstein"]
[23106,"Buchbach"]
[23107,"Eichberg"]
[23108,"Enzenreith"]
[23109,"Gloggnitz"]
[23110,"Graben"]
[23111,"Grafenbach"]
[23112,"Grünsting"]
[23113,"Hart"]
[23114,"Heufeld"]
[23115,"Hilzmannsdorf"]
[23116,"Hirschwang"]
[23117,"Hirschwanger Forst"]
[23119,"Klein- und Großau"]
[23120,"Köttlach"]
[23122,"Kreuzberg"]
[23123,"Küb"]
[23124,"Kurort Semmering"]
[23125,"Liesling"]
[23126,"Loitzmannsdorf"]
[23127,"Oberdanegg"]
[23128,"Otterthal"]
[23129,"Payerbach"]
[23130,"Penk"]
[23131,"Pettenbach"]
[23133,"Prein"]
[23134,"Prigglitz"]
[23136,"Raach"]
[23137,"Reichenau"]
[23138,"Salloder"]
[23139,"St. Valentin-Landschach"]
[23140,"Schmidsdorf"]
[23141,"Schönstadl"]
[23142,"Schottwien"]
[23143,"Sonnleiten"]
[23144,"Stuppach"]
[23145,"Tachenberg"]
[23146,"Thiermannsdorf"]
[23147,"Trattenbach"]
[23148,"Vöstenhof"]
[23149,"Wartenstein"]
[23150,"Weißenbach"]
[23151,"Wimpassing"]
[23152,"Wörth"]
[23153,"Schwarzau im Gebirge"]
[23201,"Aigen"]
[23202,"Gschaidt"]
[23203,"Hochneukirchen"]
[23204,"Hollenthon"]
[23205,"Kirchschlag"]
[23206,"Krumbach"]
[23207,"Lembach"]
[23208,"Lichtenegg"]
[23209,"Schönau im Gebirge"]
[23210,"Stang"]
[23211,"Ungerbach"]
[23301,"Breitenau"]
[23302,"Diepolz"]
[23303,"Dunkelstein"]
[23304,"Flatz"]
[23305,"Gerasdorf am Steinfelde"]
[23306,"Gleißenfeld"]
[23307,"Grünbach am Schneeberg"]
[23308,"Guntrams"]
[23309,"Hafning"]
[23310,"Haßbach"]
[23311,"Hettmannsdorf"]
[23312,"Inzenhof"]
[23313,"Kirchau"]
[23314,"Kulm"]
[23315,"Leiding"]
[23316,"Lindgrub"]
[23317,"Loipersbach"]
[23318,"Mahrersdorf"]
[23319,"Mollram"]
[23320,"Natschbach"]
[23321,"Neunkirchen"]
[23323,"Neusiedl am Steinfelde"]
[23324,"Neusiedl am Walde"]
[23325,"Oberhöflein"]
[23326,"Peisching"]
[23327,"Pitten"]
[23328,"Puchberg am Schneeberg"]
[23329,"Raglitz"]
[23330,"Ramplach"]
[23331,"Reitersberg"]
[23332,"Rohrbach am Steinfelde"]
[23333,"Rohrbachgraben"]
[23334,"Rothengrub"]
[23335,"St. Johann am Steinfelde"]
[23336,"Saubersdorf"]
[23337,"Sautern"]
[23338,"Scheiblingkirchen"]
[23339,"Schiltern"]
[23340,"Schrattenbach"]
[23341,"Schwarzau am Steinfeld"]
[23342,"Seebenstein"]
[23343,"Sieding"]
[23344,"Steyersberg"]
[23345,"Stolzenwörth"]
[23346,"Straßhof"]
[23347,"Thann"]
[23348,"Thernberg"]
[23349,"Unterdanegg"]
[23350,"Unterhöflein"]
[23351,"Urschendorf"]
[23352,"Warth"]
[23353,"Wartmannstetten"]
[23354,"Willendorf"]
[23355,"Wolfsohl"]
[23356,"Würflach"]
[23357,"Zweiersdorf"]
[23358,"Zweierwald"]
[23359,"Holzweg"]
[23360,"Pottschach"]
[23361,"Putzmannsdorf"]
[23401,"Bad Fischau"]
[23402,"Brunn an der Schneebergbahn"]
[23403,"Brunn bei Pitten"]
[23404,"Dreistetten"]
[23405,"Ebenfurth"]
[23406,"Emmerberg"]
[23407,"Erlach"]
[23408,"Felixdorf"]
[23409,"Frohsdorf"]
[23410,"Gaaden"]
[23411,"Haderswörth"]
[23412,"Haschendorf"]
[23413,"Hochwolkersdorf"]
[23414,"Hölles"]
[23415,"Katzelsdorf"]
[23416,"Kleinwolkersdorf"]
[23417,"Klingfurth"]
[23418,"Lanzenkirchen"]
[23419,"Lichtenwörth"]
[23420,"Linsberg"]
[23421,"Maiersdorf"]
[23422,"Matzendorf"]
[23423,"Muthmannsdorf"]
[23425,"Netting"]
[23426,"Obereggendorf"]
[23427,"Oberpiesting"]
[23428,"Ofenbach"]
[23429,"Piesting"]
[23430,"Schlatten"]
[23431,"Schleinz"]
[23432,"Schwarzenbach"]
[23433,"Sollenau"]
[23434,"Steinabrückl"]
[23435,"Stollhof"]
[23436,"Theresienfeld"]
[23437,"Untereggendorf"]
[23438,"Walpersbach"]
[23439,"Weikersdorf"]
[23440,"Winzendorf"]
[23441,"Wöllersdorf"]
[23442,"Zillingdorf"]
[23443,"Wiener Neustadt"]
[23444,"Wiesmath"]
[23445,"Dürnbach"]
[23446,"Feichtenbach"]
[23447,"Gutenstein"]
[23448,"Miesenbach"]
[23449,"Muggendorf"]
[23450,"Neusiedl bei Pernitz"]
[23451,"Oed"]
[23452,"Peisching"]
[23453,"Pernitz"]
[23454,"Rohr im Gebirge"]
[23455,"Waidmannsfeld"]
[23456,"Waldegg"]
[23457,"Wopfing"]
[24001,"Äpfelgschwendt"]
[24002,"Allentsteig"]
[24003,"Almosen"]
[24004,"Altpölla"]
[24005,"Bernschlag"]
[24006,"Breitenfeld"]
[24007,"Brugg"]
[24008,"Dietreichs"]
[24009,"Dobra"]
[24010,"Döllersheim"]
[24011,"Echsenbach"]
[24012,"Edelbach"]
[24013,"Eichhorns"]
[24014,"Felsenberg"]
[24016,"Franzen"]
[24017,"Ganz"]
[24019,"Gerweis"]
[24020,"Göpfritz an der Wild"]
[24021,"Großhaselbach"]
[24022,"Großkainraths"]
[24023,"Großpoppen"]
[24024,"Hausbach"]
[24025,"Heimschlag"]
[24026,"Heinreichs"]
[24027,"Kienberg"]
[24028,"Kirchberg an der Wild"]
[24029,"Kleinenzersdorf"]
[24030,"Kleinhaselbach"]
[24031,"Kleinkainraths"]
[24032,"Kleinmotten"]
[24033,"Kleinpoppen"]
[24034,"Kleinraabs"]
[24035,"Krug"]
[24036,"Limpfings"]
[24037,"Loibenreith"]
[24038,"Mannshalm"]
[24039,"Merkenbrechts"]
[24040,"Mestreichs"]
[24041,"Modlitsch"]
[24042,"Neupölla"]
[24043,"Niederplöttbach"]
[24044,"Nondorf"]
[24045,"Ramsau"]
[24046,"Rausmanns"]
[24047,"Reichhalms"]
[24048,"Reinsbach"]
[24049,"Riegers"]
[24050,"Rieweis"]
[24051,"Scheideldorf"]
[24052,"Schlag"]
[24053,"Schlagles"]
[24054,"Schmerbach"]
[24055,"Schönfeld"]
[24056,"Schwarzenau"]
[24057,"Schwarzenreith"]
[24058,"Söllitz"]
[24059,"Steinbach"]
[24060,"Stögersbach"]
[24061,"Strones"]
[24062,"Thaua"]
[24063,"Thaures"]
[24065,"Waldreichs"]
[24066,"Wegscheid"]
[24067,"Weinpolz"]
[24068,"Wetzlas"]
[24069,"Wolfenstein"]
[24070,"Wurmbach"]
[24072,"Zwinzen"]
[24101,"Aigen"]
[24102,"Albern"]
[24103,"Altmelon"]
[24104,"Arbesbach"]
[24105,"Blumau"]
[24106,"Böhmsdorf"]
[24107,"Bruderndorf"]
[24108,"Bruderndorferwaldhäuser"]
[24109,"Brunn"]
[24110,"Dietmanns"]
[24111,"Dietrichsbach"]
[24112,"Eggress"]
[24113,"Etlas"]
[24114,"Etlasamt"]
[24115,"Etzen"]
[24116,"Fichtenbach"]
[24117,"Fraberg"]
[24118,"Frauendorf"]
[24119,"Freitzenschlag"]
[24120,"Gretschen"]
[24121,"Griesbach"]
[24122,"Großgerungs"]
[24123,"Großgundholz"]
[24124,"Großmeinharts"]
[24125,"Großpertenschlag"]
[24126,"Grünbach"]
[24127,"Haid"]
[24128,"Harruck"]
[24129,"Haselbach"]
[24130,"Häuslern"]
[24131,"Hausbach"]
[24132,"Heinreichs"]
[24133,"Hypolts"]
[24134,"Josefsdorf"]
[24135,"Kainrathschlag"]
[24136,"Kamp"]
[24137,"Kasbach"]
[24138,"Kehrbach"]
[24139,"Kirchbach"]
[24140,"Kleingundholz"]
[24141,"Kleinnondorf"]
[24142,"Kleinpertenschlag"]
[24143,"Kleinpertholz"]
[24144,"Kleinreinprechts"]
[24145,"Kleinwetzles"]
[24146,"Koggschlag"]
[24147,"Kottingnondorf"]
[24148,"Lamberg"]
[24149,"Langschlag"]
[24150,"Langschlägerwaldhäuser"]
[24151,"Lembach"]
[24152,"Marharts"]
[24153,"Mittelberg"]
[24154,"Mitterschlag"]
[24155,"Mühlbach"]
[24156,"Münzbach"]
[24157,"Neumelon"]
[24158,"Neustift"]
[24159,"Nonndorf"]
[24160,"Oberkirchen"]
[24161,"Oberneustift"]
[24162,"Oberrabenthan"]
[24163,"Oberrosenauerwaldhäuser"]
[24164,"Pehendorf"]
[24165,"Perwolfs"]
[24166,"Pfaffendorf"]
[24167,"Preinreichs"]
[24168,"Pretrobruck"]
[24169,"Purrat"]
[24170,"Rammelhof"]
[24171,"Rappottenstein"]
[24172,"Reichenbach"]
[24173,"Riebeis"]
[24174,"Ritterkamp"]
[24175,"Schmerbach"]
[24176,"Schönbichl"]
[24177,"Schönfeld"]
[24178,"Schwarzauamt"]
[24179,"Selbitz"]
[24180,"Siebenberg"]
[24181,"Siebenhöf"]
[24182,"Sitzmanns"]
[24183,"Stierberg"]
[24184,"Streith"]
[24185,"Thail"]
[24186,"Wendelgraben"]
[24187,"Wiesensfeld"]
[24188,"Wurmbrand"]
[24189,"Dietharts"]
[24190,"Höhendorf"]
[24191,"Roiten"]
[24201,"Armschlag"]
[24202,"Aschen"]
[24203,"Bärnkopf"]
[24204,"Bernhards"]
[24205,"Bernhardshof"]
[24206,"Bernreith"]
[24207,"Bernton"]
[24208,"Biberschlag"]
[24209,"Bromberg"]
[24210,"Dankholz"]
[24211,"Dietmanns"]
[24212,"Dorfstadt"]
[24213,"Eck"]
[24214,"Edlesberg"]
[24215,"Elsenreith"]
[24216,"Endlas"]
[24218,"Ensberg"]
[24219,"Ernst"]
[24220,"Felles"]
[24221,"Gastles"]
[24223,"Gotthardschlag"]
[24224,"Grafenschlag"]
[24225,"Großnondorf"]
[24227,"Günzles"]
[24228,"Gürtlberg"]
[24229,"Gutenbrunn"]
[24230,"Haselberg"]
[24231,"Heitzles"]
[24232,"Heubach"]
[24233,"Hörans"]
[24234,"Hummelberg Amt"]
[24235,"Jungschlag"]
[24236,"Kalkgrub"]
[24237,"Kaltenbach"]
[24238,"Kaltenbrunn"]
[24239,"Kamles"]
[24240,"Kienings"]
[24241,"Kirchschlag"]
[24242,"Kleingerungs"]
[24243,"Kleingöttfritz"]
[24244,"Kleinhaslau"]
[24245,"Kleinnondorf"]
[24246,"Kleinpertholz"]
[24248,"Kottes"]
[24249,"Langschlag"]
[24250,"Leopolds"]
[24251,"Lohn"]
[24252,"Lugendorf"]
[24253,"Martinsberg"]
[24254,"Merkengerst"]
[24255,"Mitterndorf"]
[24256,"Moderberg Amt"]
[24257,"Moniholz"]
[24258,"Münichreith"]
[24259,"Neuhof"]
[24260,"Oed"]
[24261,"Ottenschlag"]
[24262,"Pfaffenschlag"]
[24263,"Pfaffings"]
[24264,"Plessberg"]
[24265,"Pötzles"]
[24266,"Purk"]
[24267,"Rabenhof"]
[24268,"Reichpolds"]
[24269,"Reitzendorf"]
[24270,"Richterhof"]
[24271,"Roggenreith"]
[24272,"Runds"]
[24273,"Sallingberg"]
[24274,"Schafberg"]
[24275,"Scheibb"]
[24276,"Schneeberg"]
[24277,"Schönau Amt"]
[24278,"Schönbach"]
[24279,"Singenreith"]
[24280,"Spielberg"]
[24281,"Spielleithen"]
[24282,"Stein"]
[24283,"Teichmanns"]
[24284,"Thumling"]
[24285,"Traunstein"]
[24286,"Loitzenreith"]
[24287,"Voirans"]
[24288,"Voitsau"]
[24289,"Voitschlag"]
[24290,"Walpersdorf"]
[24291,"Walterschlag"]
[24292,"Weikartsschlag"]
[24293,"Weixelberg"]
[24294,"Wiehalm"]
[24295,"Wielands"]
[24296,"Doppl"]
[24297,"Fohra"]
[24298,"Gschwendt"]
[24299,"Schoberhof"]
[24301,"Annatsberg"]
[24302,"Bernhards"]
[24303,"Böhmhöf"]
[24304,"Bösenneunzen"]
[24305,"Brand"]
[24307,"Rosenau Dorf"]
[24308,"Edelhof"]
[24309,"Engelbrechts"]
[24310,"Eschabruck"]
[24311,"Frankenreith"]
[24312,"Friedersbach"]
[24313,"Gerlas"]
[24314,"Germanns"]
[24315,"Gerotten"]
[24316,"Gradnitz"]
[24317,"Großglobnitz"]
[24318,"Großgöttfritz"]
[24319,"Großhaslau"]
[24320,"Großweißenbach"]
[24321,"Gschwendt"]
[24322,"Guttenbrunn"]
[24323,"Hirschenschlag"]
[24325,"Hörmanns"]
[24326,"Hörweix"]
[24327,"Jagenbach"]
[24328,"Jahrings"]
[24329,"Kleehof"]
[24330,"Kleinmeinharts"]
[24331,"Kleinotten"]
[24332,"Kleinschönau"]
[24333,"Kleinweißenbach"]
[24334,"Kleinwolfgers"]
[24335,"Koblhof"]
[24336,"Königsbach"]
[24337,"Koppenzeil"]
[24338,"Kühbach"]
[24339,"Limbach"]
[24340,"Loschberg"]
[24341,"Mannshalm"]
[24342,"Marbach am Walde"]
[24343,"Mayerhöfen"]
[24344,"Meinhartschlag"]
[24345,"Merzenstein"]
[24346,"Mitterreith"]
[24347,"Moidrams"]
[24348,"Negers"]
[24349,"Neusiedl"]
[24350,"Niederglobnitz"]
[24351,"Niederneustift"]
[24352,"Niedernondorf"]
[24353,"Niederstrahlbach"]
[24354,"Niederwaltenreith"]
[24355,"Oberhof"]
[24356,"Oberndorf"]
[24357,"Obernondorf"]
[24358,"Oberplöttbach"]
[24359,"Oberstrahlbach"]
[24360,"Perndorf"]
[24361,"Pötzles"]
[24362,"Purken"]
[24363,"Rappoltschlag"]
[24364,"Ratschenhof"]
[24365,"Reichers"]
[24366,"Rieggers"]
[24367,"Ritzmannshof"]
[24368,"Rohrenreith"]
[24370,"Rottenbach"]
[24371,"Rudmanns"]
[24372,"Sallingstadt"]
[24373,"Schickenhof"]
[24374,"Rosenau Schloß"]
[24375,"Schwarzenbach"]
[24376,"Schweiggers"]
[24377,"Sprögnitz"]
[24378,"Streitbach"]
[24379,"Syrafeld"]
[24380,"Unterrabenthan"]
[24381,"Unterrosenauerwaldhäuser"]
[24382,"Unterwindhag"]
[24383,"Uttissenbach"]
[24384,"Waldhams"]
[24385,"Waldhausen"]
[24386,"Walterschlag"]
[24387,"Werschenschlag"]
[24388,"Wiesenreith"]
[24389,"Wildings"]
[24390,"Windhof"]
[24391,"Wolfsberg"]
[24392,"Zwettl Stadt"]
[24393,"Zwettl Stift"]
[24394,"Flachau"]
[24395,"Brunnhöf"]
[24396,"Großreichenbach"]
[24397,"Reinbolden"]
[24398,"Siebenlinden"]
[24399,"Vierlings"]
[24400,"Ottenschlag"]
[24501,"Trittings"]
[24502,"Wernhies"]